| Back to Multiple platform build/check report for BioC 3.22: simplified long |
|
This page was generated on 2025-11-12 11:58 -0500 (Wed, 12 Nov 2025).
| Hostname | OS | Arch (*) | R version | Installed pkgs |
|---|---|---|---|---|
| nebbiolo2 | Linux (Ubuntu 24.04.3 LTS) | x86_64 | 4.5.1 Patched (2025-08-23 r88802) -- "Great Square Root" | 4902 |
| taishan | Linux (openEuler 24.03 LTS) | aarch64 | 4.5.0 (2025-04-11) -- "How About a Twenty-Six" | 4668 |
| Click on any hostname to see more info about the system (e.g. compilers) (*) as reported by 'uname -p', except on Windows and Mac OS X | ||||
| Package 2078/2361 | Hostname | OS / Arch | INSTALL | BUILD | CHECK | BUILD BIN | ||||||||
| spatialDE 1.16.0 (landing page) Gabriele Sales
| nebbiolo2 | Linux (Ubuntu 24.04.3 LTS) / x86_64 | OK | OK | OK | |||||||||
| taishan | Linux (openEuler 24.03 LTS) / aarch64 | OK | OK | OK | ||||||||||
|
To the developers/maintainers of the spatialDE package: - Allow up to 24 hours (and sometimes 48 hours) for your latest push to git@git.bioconductor.org:packages/spatialDE.git to reflect on this report. See Troubleshooting Build Report for more information. - Use the following Renviron settings to reproduce errors and warnings. - If 'R CMD check' started to fail recently on the Linux builder(s) over a missing dependency, add the missing dependency to 'Suggests:' in your DESCRIPTION file. See Renviron.bioc for more information. - See Martin Grigorov's blog post for how to debug Linux ARM64 related issues on a x86_64 host. |
| Package: spatialDE |
| Version: 1.16.0 |
| Command: /home/biocbuild/R/R/bin/R CMD check --install=check:spatialDE.install-out.txt --library=/home/biocbuild/R/R/site-library --no-vignettes --timings spatialDE_1.16.0.tar.gz |
| StartedAt: 2025-11-11 15:10:35 -0000 (Tue, 11 Nov 2025) |
| EndedAt: 2025-11-11 15:16:59 -0000 (Tue, 11 Nov 2025) |
| EllapsedTime: 383.6 seconds |
| RetCode: 0 |
| Status: OK |
| CheckDir: spatialDE.Rcheck |
| Warnings: 0 |
##############################################################################
##############################################################################
###
### Running command:
###
### /home/biocbuild/R/R/bin/R CMD check --install=check:spatialDE.install-out.txt --library=/home/biocbuild/R/R/site-library --no-vignettes --timings spatialDE_1.16.0.tar.gz
###
##############################################################################
##############################################################################
* using log directory ‘/home/biocbuild/bbs-3.22-bioc/meat/spatialDE.Rcheck’
* using R version 4.5.0 (2025-04-11)
* using platform: aarch64-unknown-linux-gnu
* R was compiled by
aarch64-unknown-linux-gnu-gcc (GCC) 14.2.0
GNU Fortran (GCC) 14.2.0
* running under: openEuler 24.03 (LTS)
* using session charset: UTF-8
* using option ‘--no-vignettes’
* checking for file ‘spatialDE/DESCRIPTION’ ... OK
* this is package ‘spatialDE’ version ‘1.16.0’
* package encoding: UTF-8
* checking package namespace information ... OK
* checking package dependencies ... OK
* checking if this is a source package ... OK
* checking if there is a namespace ... OK
* checking for hidden files and directories ... OK
* checking for portable file names ... OK
* checking for sufficient/correct file permissions ... OK
* checking whether package ‘spatialDE’ can be installed ... NOTE
Found the following notes/warnings:
Non-staged installation was used
See ‘/home/biocbuild/bbs-3.22-bioc/meat/spatialDE.Rcheck/00install.out’ for details.
* checking installed package size ... OK
* checking package directory ... OK
* checking ‘build’ directory ... OK
* checking DESCRIPTION meta-information ... OK
* checking top-level files ... OK
* checking for left-over files ... OK
* checking index information ... OK
* checking package subdirectories ... OK
* checking code files for non-ASCII characters ... OK
* checking R files for syntax errors ... OK
* checking whether the package can be loaded ... OK
* checking whether the package can be loaded with stated dependencies ... OK
* checking whether the package can be unloaded cleanly ... OK
* checking whether the namespace can be loaded with stated dependencies ... OK
* checking whether the namespace can be unloaded cleanly ... OK
* checking loading without being on the library search path ... OK
* checking dependencies in R code ... OK
* checking S3 generic/method consistency ... OK
* checking replacement functions ... OK
* checking foreign function calls ... OK
* checking R code for possible problems ... OK
* checking Rd files ... OK
* checking Rd metadata ... OK
* checking Rd cross-references ... NOTE
Found the following Rd file(s) with Rd \link{} targets missing package
anchors:
mockSVG.Rd: SpatialExperiment-class
modelSearch.Rd: SpatialExperiment-class
multiGenePlots.Rd: SpatialExperiment-class
spatialDE.Rd: SpatialExperiment-class
spatialPatterns.Rd: SpatialExperiment-class
Please provide package anchors for all Rd \link{} targets not in the
package itself and the base packages.
* checking for missing documentation entries ... OK
* checking for code/documentation mismatches ... OK
* checking Rd \usage sections ... OK
* checking Rd contents ... OK
* checking for unstated dependencies in examples ... OK
* checking contents of ‘data’ directory ... OK
* checking data for non-ASCII characters ... OK
* checking data for ASCII and uncompressed saves ... OK
* checking line endings in shell scripts ... OK
* checking files in ‘vignettes’ ... OK
* checking examples ... OK
Examples with CPU (user + system) or elapsed time > 5s
user system elapsed
spatial_patterns 42.774 0.014 27.095
FSV_sig 8.148 0.175 14.723
multiGenePlots 4.436 0.144 5.384
* checking for unstated dependencies in ‘tests’ ... OK
* checking tests ...
Running ‘testthat.R’
OK
* checking for unstated dependencies in vignettes ... OK
* checking package vignettes ... OK
* checking running R code from vignettes ... SKIPPED
* checking re-building of vignette outputs ... SKIPPED
* checking PDF version of manual ... OK
* DONE
Status: 2 NOTEs
See
‘/home/biocbuild/bbs-3.22-bioc/meat/spatialDE.Rcheck/00check.log’
for details.
spatialDE.Rcheck/00install.out
############################################################################## ############################################################################## ### ### Running command: ### ### /home/biocbuild/R/R/bin/R CMD INSTALL spatialDE ### ############################################################################## ############################################################################## * installing to library ‘/home/biocbuild/R/R-4.5.0/site-library’ * installing *source* package ‘spatialDE’ ... ** this is package ‘spatialDE’ version ‘1.16.0’ ** using non-staged installation via StagedInstall field ** R ** data ** inst ** byte-compile and prepare package for lazy loading ** help *** installing help indices ** building package indices ** installing vignettes ** testing if installed package can be loaded * DONE (spatialDE)
spatialDE.Rcheck/tests/testthat.Rout
R version 4.5.0 (2025-04-11) -- "How About a Twenty-Six"
Copyright (C) 2025 The R Foundation for Statistical Computing
Platform: aarch64-unknown-linux-gnu
R is free software and comes with ABSOLUTELY NO WARRANTY.
You are welcome to redistribute it under certain conditions.
Type 'license()' or 'licence()' for distribution details.
R is a collaborative project with many contributors.
Type 'contributors()' for more information and
'citation()' on how to cite R or R packages in publications.
Type 'demo()' for some demos, 'help()' for on-line help, or
'help.start()' for an HTML browser interface to help.
Type 'q()' to quit R.
> library(testthat)
> library(spatialDE)
>
> test_check("spatialDE")
Loading required package: SingleCellExperiment
Loading required package: SummarizedExperiment
Loading required package: MatrixGenerics
Loading required package: matrixStats
Attaching package: 'MatrixGenerics'
The following objects are masked from 'package:matrixStats':
colAlls, colAnyNAs, colAnys, colAvgsPerRowSet, colCollapse,
colCounts, colCummaxs, colCummins, colCumprods, colCumsums,
colDiffs, colIQRDiffs, colIQRs, colLogSumExps, colMadDiffs,
colMads, colMaxs, colMeans2, colMedians, colMins, colOrderStats,
colProds, colQuantiles, colRanges, colRanks, colSdDiffs, colSds,
colSums2, colTabulates, colVarDiffs, colVars, colWeightedMads,
colWeightedMeans, colWeightedMedians, colWeightedSds,
colWeightedVars, rowAlls, rowAnyNAs, rowAnys, rowAvgsPerColSet,
rowCollapse, rowCounts, rowCummaxs, rowCummins, rowCumprods,
rowCumsums, rowDiffs, rowIQRDiffs, rowIQRs, rowLogSumExps,
rowMadDiffs, rowMads, rowMaxs, rowMeans2, rowMedians, rowMins,
rowOrderStats, rowProds, rowQuantiles, rowRanges, rowRanks,
rowSdDiffs, rowSds, rowSums2, rowTabulates, rowVarDiffs, rowVars,
rowWeightedMads, rowWeightedMeans, rowWeightedMedians,
rowWeightedSds, rowWeightedVars
Loading required package: GenomicRanges
Loading required package: stats4
Loading required package: BiocGenerics
Loading required package: generics
Attaching package: 'generics'
The following objects are masked from 'package:base':
as.difftime, as.factor, as.ordered, intersect, is.element, setdiff,
setequal, union
Attaching package: 'BiocGenerics'
The following objects are masked from 'package:stats':
IQR, mad, sd, var, xtabs
The following objects are masked from 'package:base':
Filter, Find, Map, Position, Reduce, anyDuplicated, aperm, append,
as.data.frame, basename, cbind, colnames, dirname, do.call,
duplicated, eval, evalq, get, grep, grepl, is.unsorted, lapply,
mapply, match, mget, order, paste, pmax, pmax.int, pmin, pmin.int,
rank, rbind, rownames, sapply, saveRDS, table, tapply, unique,
unsplit, which.max, which.min
Loading required package: S4Vectors
Attaching package: 'S4Vectors'
The following object is masked from 'package:utils':
findMatches
The following objects are masked from 'package:base':
I, expand.grid, unname
Loading required package: IRanges
Loading required package: Seqinfo
Loading required package: Biobase
Welcome to Bioconductor
Vignettes contain introductory material; view with
'browseVignettes()'. To cite Bioconductor, see
'citation("Biobase")', and for packages 'citation("pkgname")'.
Attaching package: 'Biobase'
The following object is masked from 'package:MatrixGenerics':
rowMedians
The following objects are masked from 'package:matrixStats':
anyMissing, rowMedians
Models: 0%| | 0/10 [00:00<?, ?it/s]
0%| | 0/100 [00:00<?, ?it/s][A
19%|█▉ | 19/100 [00:00<00:00, 180.10it/s][A
38%|███▊ | 38/100 [00:00<00:00, 157.48it/s][A
55%|█████▌ | 55/100 [00:00<00:00, 160.93it/s][A
74%|███████▍ | 74/100 [00:00<00:00, 169.15it/s][A
[A
Models: 10%|█ | 1/10 [00:00<00:04, 1.88it/s]
0%| | 0/100 [00:00<?, ?it/s][A
24%|██▍ | 24/100 [00:00<00:00, 235.22it/s][A
48%|████▊ | 48/100 [00:00<00:00, 227.24it/s][A
73%|███████▎ | 73/100 [00:00<00:00, 236.84it/s][A
98%|█████████▊| 98/100 [00:00<00:00, 240.61it/s][A
[A
Models: 20%|██ | 2/10 [00:00<00:03, 2.13it/s]
0%| | 0/100 [00:00<?, ?it/s][A
22%|██▏ | 22/100 [00:00<00:00, 217.86it/s][A
44%|████▍ | 44/100 [00:00<00:00, 205.17it/s][A
67%|██████▋ | 67/100 [00:00<00:00, 214.95it/s][A
91%|█████████ | 91/100 [00:00<00:00, 224.15it/s][A
[A
Models: 30%|███ | 3/10 [00:01<00:03, 2.15it/s]
0%| | 0/100 [00:00<?, ?it/s][A
22%|██▏ | 22/100 [00:00<00:00, 210.09it/s][A
44%|████▍ | 44/100 [00:00<00:00, 177.67it/s][A
67%|██████▋ | 67/100 [00:00<00:00, 195.03it/s][A
90%|█████████ | 90/100 [00:00<00:00, 207.02it/s][A
[A
Models: 40%|████ | 4/10 [00:01<00:02, 2.07it/s]
0%| | 0/100 [00:00<?, ?it/s][A
22%|██▏ | 22/100 [00:00<00:00, 207.55it/s][A
43%|████▎ | 43/100 [00:00<00:00, 204.95it/s][A
65%|██████▌ | 65/100 [00:00<00:00, 211.45it/s][A
87%|████████▋ | 87/100 [00:00<00:00, 212.42it/s][A
[A
Models: 50%|█████ | 5/10 [00:02<00:02, 2.08it/s]
0%| | 0/100 [00:00<?, ?it/s][A
22%|██▏ | 22/100 [00:00<00:00, 217.11it/s][A
44%|████▍ | 44/100 [00:00<00:00, 210.69it/s][A
66%|██████▌ | 66/100 [00:00<00:00, 213.73it/s][A
88%|████████▊ | 88/100 [00:00<00:00, 213.30it/s][A
[A
Models: 60%|██████ | 6/10 [00:02<00:01, 2.08it/s]
0%| | 0/100 [00:00<?, ?it/s][A
22%|██▏ | 22/100 [00:00<00:00, 215.07it/s][A
44%|████▍ | 44/100 [00:00<00:00, 209.63it/s][A
67%|██████▋ | 67/100 [00:00<00:00, 215.80it/s][A
89%|████████▉ | 89/100 [00:00<00:00, 215.78it/s][A
[A
Models: 70%|███████ | 7/10 [00:03<00:01, 2.10it/s]
0%| | 0/100 [00:00<?, ?it/s][A
23%|██▎ | 23/100 [00:00<00:00, 220.77it/s][A
46%|████▌ | 46/100 [00:00<00:00, 214.00it/s][A
68%|██████▊ | 68/100 [00:00<00:00, 213.61it/s][A
91%|█████████ | 91/100 [00:00<00:00, 218.11it/s][A
[A
Models: 80%|████████ | 8/10 [00:03<00:00, 2.09it/s]
0%| | 0/100 [00:00<?, ?it/s][A
15%|█▌ | 15/100 [00:00<00:00, 143.81it/s][A
38%|███▊ | 38/100 [00:00<00:00, 189.99it/s][A
61%|██████ | 61/100 [00:00<00:00, 204.03it/s][A
82%|████████▏ | 82/100 [00:00<00:00, 183.63it/s][A
[A
Models: 90%|█████████ | 9/10 [00:04<00:00, 2.03it/s]
0%| | 0/100 [00:00<?, ?it/s][A
27%|██▋ | 27/100 [00:00<00:00, 257.78it/s][A
53%|█████▎ | 53/100 [00:00<00:00, 246.79it/s][A
78%|███████▊ | 78/100 [00:00<00:00, 188.29it/s][A
99%|█████████▉| 99/100 [00:00<00:00, 189.57it/s][A
[A
Models: 100%|██████████| 10/10 [00:04<00:00, 2.02it/s]
Models: 100%|██████████| 10/10 [00:04<00:00, 2.06it/s]
Models: 0%| | 0/10 [00:00<?, ?it/s]
0%| | 0/100 [00:00<?, ?it/s][A
35%|███▌ | 35/100 [00:00<00:00, 342.60it/s][A
70%|███████ | 70/100 [00:00<00:00, 191.18it/s][A
93%|█████████▎| 93/100 [00:00<00:00, 179.73it/s][A
[A
Models: 10%|█ | 1/10 [00:00<00:04, 1.88it/s]
0%| | 0/100 [00:00<?, ?it/s][A
15%|█▌ | 15/100 [00:00<00:00, 145.19it/s][A
30%|███ | 30/100 [00:00<00:00, 127.98it/s][A
43%|████▎ | 43/100 [00:00<00:00, 119.34it/s][A
56%|█████▌ | 56/100 [00:00<00:00, 118.15it/s][A
68%|██████▊ | 68/100 [00:00<00:00, 116.93it/s][A
80%|████████ | 80/100 [00:00<00:00, 116.38it/s][A
92%|█████████▏| 92/100 [00:00<00:00, 115.76it/s][A
[A
Models: 20%|██ | 2/10 [00:01<00:05, 1.39it/s]
0%| | 0/100 [00:00<?, ?it/s][A
16%|█▌ | 16/100 [00:00<00:00, 150.88it/s][A
32%|███▏ | 32/100 [00:00<00:00, 120.97it/s][A
45%|████▌ | 45/100 [00:00<00:00, 121.20it/s][A
68%|██████▊ | 68/100 [00:00<00:00, 156.97it/s][A
90%|█████████ | 90/100 [00:00<00:00, 174.94it/s][A
[A
Models: 30%|███ | 3/10 [00:02<00:04, 1.48it/s]
0%| | 0/100 [00:00<?, ?it/s][A
26%|██▌ | 26/100 [00:00<00:00, 254.23it/s][A
52%|█████▏ | 52/100 [00:00<00:00, 220.20it/s][A
75%|███████▌ | 75/100 [00:00<00:00, 217.87it/s][A
97%|█████████▋| 97/100 [00:00<00:00, 215.63it/s][A
[A
Models: 40%|████ | 4/10 [00:02<00:03, 1.69it/s]
0%| | 0/100 [00:00<?, ?it/s][A
26%|██▌ | 26/100 [00:00<00:00, 246.48it/s][A
51%|█████ | 51/100 [00:00<00:00, 219.04it/s][A
74%|███████▍ | 74/100 [00:00<00:00, 198.76it/s][A
95%|█████████▌| 95/100 [00:00<00:00, 199.39it/s][A
[A
Models: 50%|█████ | 5/10 [00:02<00:02, 1.80it/s]
0%| | 0/100 [00:00<?, ?it/s][A
23%|██▎ | 23/100 [00:00<00:00, 228.22it/s][A
46%|████▌ | 46/100 [00:00<00:00, 203.55it/s][A
67%|██████▋ | 67/100 [00:00<00:00, 189.96it/s][A
87%|████████▋ | 87/100 [00:00<00:00, 179.80it/s][A
[A
Models: 60%|██████ | 6/10 [00:03<00:02, 1.82it/s]
0%| | 0/100 [00:00<?, ?it/s][A
26%|██▌ | 26/100 [00:00<00:00, 246.40it/s][A
51%|█████ | 51/100 [00:00<00:00, 221.84it/s][A
74%|███████▍ | 74/100 [00:00<00:00, 212.21it/s][A
96%|█████████▌| 96/100 [00:00<00:00, 211.89it/s][A
[A
Models: 70%|███████ | 7/10 [00:03<00:01, 1.91it/s]
0%| | 0/100 [00:00<?, ?it/s][A
25%|██▌ | 25/100 [00:00<00:00, 246.61it/s][A
50%|█████ | 50/100 [00:00<00:00, 222.04it/s][A
73%|███████▎ | 73/100 [00:00<00:00, 197.82it/s][A
94%|█████████▍| 94/100 [00:00<00:00, 193.65it/s][A
[A
Models: 80%|████████ | 8/10 [00:04<00:01, 1.94it/s]
0%| | 0/100 [00:00<?, ?it/s][A
23%|██▎ | 23/100 [00:00<00:00, 223.54it/s][A
46%|████▌ | 46/100 [00:00<00:00, 210.87it/s][A
68%|██████▊ | 68/100 [00:00<00:00, 208.87it/s][A
91%|█████████ | 91/100 [00:00<00:00, 215.70it/s][A
[A
Models: 90%|█████████ | 9/10 [00:04<00:00, 2.00it/s]
0%| | 0/100 [00:00<?, ?it/s][A
27%|██▋ | 27/100 [00:00<00:00, 258.34it/s][A
53%|█████▎ | 53/100 [00:00<00:00, 238.03it/s][A
77%|███████▋ | 77/100 [00:00<00:00, 231.46it/s][A
[A
Models: 100%|██████████| 10/10 [00:05<00:00, 2.09it/s]
Models: 100%|██████████| 10/10 [00:05<00:00, 1.87it/s]
/home/biocbuild/.cache/R/basilisk/1.22.0/spatialDE/1.16.0/env/lib/python3.11/site-packages/pandas/core/internals/blocks.py:351: RuntimeWarning: invalid value encountered in log
result = func(self.values, **kwargs)
Models: 0%| | 0/10 [00:00<?, ?it/s]
0%| | 0/100 [00:00<?, ?it/s][A
19%|█▉ | 19/100 [00:00<00:00, 181.36it/s][A
38%|███▊ | 38/100 [00:00<00:00, 160.49it/s][A
57%|█████▋ | 57/100 [00:00<00:00, 170.05it/s][A
75%|███████▌ | 75/100 [00:00<00:00, 171.42it/s][A
94%|█████████▍| 94/100 [00:00<00:00, 177.09it/s][A
[A
Models: 10%|█ | 1/10 [00:00<00:05, 1.70it/s]
0%| | 0/100 [00:00<?, ?it/s][A
18%|█▊ | 18/100 [00:00<00:00, 168.35it/s][A
35%|███▌ | 35/100 [00:00<00:00, 128.49it/s][A
55%|█████▌ | 55/100 [00:00<00:00, 154.77it/s][A
80%|████████ | 80/100 [00:00<00:00, 187.38it/s][A
[A
Models: 20%|██ | 2/10 [00:01<00:04, 1.78it/s]
0%| | 0/100 [00:00<?, ?it/s][A
27%|██▋ | 27/100 [00:00<00:00, 264.52it/s][A
54%|█████▍ | 54/100 [00:00<00:00, 247.21it/s][A
79%|███████▉ | 79/100 [00:00<00:00, 241.40it/s][A
[A
Models: 30%|███ | 3/10 [00:01<00:03, 2.03it/s]
0%| | 0/100 [00:00<?, ?it/s][A
26%|██▌ | 26/100 [00:00<00:00, 253.22it/s][A
52%|█████▏ | 52/100 [00:00<00:00, 231.86it/s][A
76%|███████▌ | 76/100 [00:00<00:00, 212.52it/s][A
98%|█████████▊| 98/100 [00:00<00:00, 171.97it/s][A
[A
Models: 40%|████ | 4/10 [00:02<00:03, 1.97it/s]
0%| | 0/100 [00:00<?, ?it/s][A
24%|██▍ | 24/100 [00:00<00:00, 235.10it/s][A
48%|████▊ | 48/100 [00:00<00:00, 218.48it/s][A
70%|███████ | 70/100 [00:00<00:00, 213.37it/s][A
92%|█████████▏| 92/100 [00:00<00:00, 209.84it/s][A
[A
Models: 50%|█████ | 5/10 [00:02<00:02, 2.02it/s]
0%| | 0/100 [00:00<?, ?it/s][A
24%|██▍ | 24/100 [00:00<00:00, 237.83it/s][A
48%|████▊ | 48/100 [00:00<00:00, 221.46it/s][A
71%|███████ | 71/100 [00:00<00:00, 215.93it/s][A
93%|█████████▎| 93/100 [00:00<00:00, 214.57it/s][A
[A
Models: 60%|██████ | 6/10 [00:03<00:01, 2.07it/s]
0%| | 0/100 [00:00<?, ?it/s][A
25%|██▌ | 25/100 [00:00<00:00, 238.99it/s][A
49%|████▉ | 49/100 [00:00<00:00, 226.60it/s][A
72%|███████▏ | 72/100 [00:00<00:00, 227.81it/s][A
96%|█████████▌| 96/100 [00:00<00:00, 230.19it/s][A
[A
Models: 70%|███████ | 7/10 [00:03<00:01, 2.13it/s]
0%| | 0/100 [00:00<?, ?it/s][A
26%|██▌ | 26/100 [00:00<00:00, 256.78it/s][A
52%|█████▏ | 52/100 [00:00<00:00, 242.66it/s][A
77%|███████▋ | 77/100 [00:00<00:00, 237.68it/s][A
[A
Models: 80%|████████ | 8/10 [00:03<00:00, 2.21it/s]
0%| | 0/100 [00:00<?, ?it/s][A
27%|██▋ | 27/100 [00:00<00:00, 264.35it/s][A
54%|█████▍ | 54/100 [00:00<00:00, 248.63it/s][A
79%|███████▉ | 79/100 [00:00<00:00, 245.84it/s][A
[A
Models: 90%|█████████ | 9/10 [00:04<00:00, 2.28it/s]
0%| | 0/100 [00:00<?, ?it/s][A
28%|██▊ | 28/100 [00:00<00:00, 275.99it/s][A
56%|█████▌ | 56/100 [00:00<00:00, 268.59it/s][A
83%|████████▎ | 83/100 [00:00<00:00, 263.50it/s][A
[A
Models: 100%|██████████| 10/10 [00:04<00:00, 2.38it/s]
Models: 100%|██████████| 10/10 [00:04<00:00, 2.15it/s]
Models: 0%| | 0/10 [00:00<?, ?it/s]
0%| | 0/100 [00:00<?, ?it/s][A
36%|███▌ | 36/100 [00:00<00:00, 349.33it/s][A
74%|███████▍ | 74/100 [00:00<00:00, 363.05it/s][A
[A
Models: 10%|█ | 1/10 [00:00<00:02, 3.62it/s]
0%| | 0/100 [00:00<?, ?it/s][A
31%|███ | 31/100 [00:00<00:00, 297.83it/s][A
61%|██████ | 61/100 [00:00<00:00, 268.46it/s][A
89%|████████▉ | 89/100 [00:00<00:00, 265.07it/s][A
[A
Models: 20%|██ | 2/10 [00:00<00:02, 2.98it/s]
0%| | 0/100 [00:00<?, ?it/s][A
27%|██▋ | 27/100 [00:00<00:00, 264.61it/s][A
54%|█████▍ | 54/100 [00:00<00:00, 245.11it/s][A
79%|███████▉ | 79/100 [00:00<00:00, 240.39it/s][A
[A
Models: 30%|███ | 3/10 [00:01<00:02, 2.70it/s]
0%| | 0/100 [00:00<?, ?it/s][A
22%|██▏ | 22/100 [00:00<00:00, 211.34it/s][A
44%|████▍ | 44/100 [00:00<00:00, 157.64it/s][A
67%|██████▋ | 67/100 [00:00<00:00, 182.50it/s][A
89%|████████▉ | 89/100 [00:00<00:00, 194.27it/s][A
[A
Models: 40%|████ | 4/10 [00:01<00:02, 2.33it/s]
0%| | 0/100 [00:00<?, ?it/s][A
25%|██▌ | 25/100 [00:00<00:00, 249.76it/s][A
50%|█████ | 50/100 [00:00<00:00, 236.13it/s][A
74%|███████▍ | 74/100 [00:00<00:00, 231.51it/s][A
98%|█████████▊| 98/100 [00:00<00:00, 231.40it/s][A
[A
Models: 50%|█████ | 5/10 [00:02<00:02, 2.32it/s]
0%| | 0/100 [00:00<?, ?it/s][A
26%|██▌ | 26/100 [00:00<00:00, 250.26it/s][A
52%|█████▏ | 52/100 [00:00<00:00, 239.59it/s][A
76%|███████▌ | 76/100 [00:00<00:00, 216.48it/s][A
100%|██████████| 100/100 [00:00<00:00, 224.44it/s][A
[A
Models: 60%|██████ | 6/10 [00:02<00:01, 2.30it/s]
0%| | 0/100 [00:00<?, ?it/s][A
26%|██▌ | 26/100 [00:00<00:00, 259.34it/s][A
52%|█████▏ | 52/100 [00:00<00:00, 247.95it/s][A
77%|███████▋ | 77/100 [00:00<00:00, 239.21it/s][A
[A
Models: 70%|███████ | 7/10 [00:02<00:01, 2.33it/s]
0%| | 0/100 [00:00<?, ?it/s][A
26%|██▌ | 26/100 [00:00<00:00, 259.96it/s][A
52%|█████▏ | 52/100 [00:00<00:00, 244.35it/s][A
77%|███████▋ | 77/100 [00:00<00:00, 239.27it/s][A
[A
Models: 80%|████████ | 8/10 [00:03<00:00, 2.36it/s]
0%| | 0/100 [00:00<?, ?it/s][A
28%|██▊ | 28/100 [00:00<00:00, 273.96it/s][A
56%|█████▌ | 56/100 [00:00<00:00, 248.43it/s][A
81%|████████ | 81/100 [00:00<00:00, 246.35it/s][A
[A
Models: 90%|█████████ | 9/10 [00:03<00:00, 2.39it/s]
0%| | 0/100 [00:00<?, ?it/s][A
28%|██▊ | 28/100 [00:00<00:00, 273.64it/s][A
56%|█████▌ | 56/100 [00:00<00:00, 266.48it/s][A
83%|████████▎ | 83/100 [00:00<00:00, 262.91it/s][A
[A
Models: 100%|██████████| 10/10 [00:04<00:00, 2.37it/s]
Models: 100%|██████████| 10/10 [00:04<00:00, 2.42it/s]
Models: 0%| | 0/10 [00:00<?, ?it/s]
0%| | 0/100 [00:00<?, ?it/s][A
35%|███▌ | 35/100 [00:00<00:00, 340.40it/s][A
70%|███████ | 70/100 [00:00<00:00, 241.13it/s][A
96%|█████████▌| 96/100 [00:00<00:00, 203.55it/s][A
[A
Models: 10%|█ | 1/10 [00:00<00:04, 2.13it/s]
0%| | 0/100 [00:00<?, ?it/s][A
15%|█▌ | 15/100 [00:00<00:00, 147.49it/s][A
30%|███ | 30/100 [00:00<00:00, 131.93it/s][A
44%|████▍ | 44/100 [00:00<00:00, 121.89it/s][A
57%|█████▋ | 57/100 [00:00<00:00, 117.70it/s][A
82%|████████▏ | 82/100 [00:00<00:00, 158.84it/s][A
[A
Models: 20%|██ | 2/10 [00:01<00:04, 1.75it/s]
0%| | 0/100 [00:00<?, ?it/s][A
27%|██▋ | 27/100 [00:00<00:00, 263.12it/s][A
54%|█████▍ | 54/100 [00:00<00:00, 243.58it/s][A
79%|███████▉ | 79/100 [00:00<00:00, 236.65it/s][A
[A
Models: 30%|███ | 3/10 [00:01<00:03, 2.00it/s]
0%| | 0/100 [00:00<?, ?it/s][A
25%|██▌ | 25/100 [00:00<00:00, 246.34it/s][A
50%|█████ | 50/100 [00:00<00:00, 230.00it/s][A
74%|███████▍ | 74/100 [00:00<00:00, 228.22it/s][A
97%|█████████▋| 97/100 [00:00<00:00, 226.76it/s][A
[A
Models: 40%|████ | 4/10 [00:01<00:02, 2.10it/s]
0%| | 0/100 [00:00<?, ?it/s][A
25%|██▌ | 25/100 [00:00<00:00, 242.67it/s][A
50%|█████ | 50/100 [00:00<00:00, 229.24it/s][A
73%|███████▎ | 73/100 [00:00<00:00, 218.10it/s][A
96%|█████████▌| 96/100 [00:00<00:00, 218.77it/s][A
[A
Models: 50%|█████ | 5/10 [00:02<00:02, 2.14it/s]
0%| | 0/100 [00:00<?, ?it/s][A
25%|██▌ | 25/100 [00:00<00:00, 241.82it/s][A
50%|█████ | 50/100 [00:00<00:00, 229.49it/s][A
73%|███████▎ | 73/100 [00:00<00:00, 226.03it/s][A
96%|█████████▌| 96/100 [00:00<00:00, 226.01it/s][A
[A
Models: 60%|██████ | 6/10 [00:02<00:01, 2.18it/s]
0%| | 0/100 [00:00<?, ?it/s][A
26%|██▌ | 26/100 [00:00<00:00, 248.72it/s][A
51%|█████ | 51/100 [00:00<00:00, 237.98it/s][A
75%|███████▌ | 75/100 [00:00<00:00, 232.19it/s][A
99%|█████████▉| 99/100 [00:00<00:00, 232.83it/s][A
[A
Models: 70%|███████ | 7/10 [00:03<00:01, 2.22it/s]
0%| | 0/100 [00:00<?, ?it/s][A
27%|██▋ | 27/100 [00:00<00:00, 261.00it/s][A
54%|█████▍ | 54/100 [00:00<00:00, 246.75it/s][A
79%|███████▉ | 79/100 [00:00<00:00, 241.75it/s][A
[A
Models: 80%|████████ | 8/10 [00:03<00:00, 2.29it/s]
0%| | 0/100 [00:00<?, ?it/s][A
27%|██▋ | 27/100 [00:00<00:00, 261.70it/s][A
54%|█████▍ | 54/100 [00:00<00:00, 247.74it/s][A
79%|███████▉ | 79/100 [00:00<00:00, 245.85it/s][A
[A
Models: 90%|█████████ | 9/10 [00:04<00:00, 2.34it/s]
0%| | 0/100 [00:00<?, ?it/s][A
29%|██▉ | 29/100 [00:00<00:00, 279.16it/s][A
57%|█████▋ | 57/100 [00:00<00:00, 270.63it/s][A
85%|████████▌ | 85/100 [00:00<00:00, 267.34it/s][A
[A
Models: 100%|██████████| 10/10 [00:04<00:00, 2.43it/s]
Models: 100%|██████████| 10/10 [00:04<00:00, 2.23it/s]
[ FAIL 0 | WARN 0 | SKIP 0 | PASS 29 ]
>
> proc.time()
user system elapsed
69.860 0.838 69.583
spatialDE.Rcheck/spatialDE-Ex.timings
| name | user | system | elapsed | |
| FSV_sig | 8.148 | 0.175 | 14.723 | |
| mockSVG | 0.188 | 0.000 | 0.189 | |
| modelSearch | 3.564 | 0.012 | 2.555 | |
| model_search | 3.721 | 0.015 | 2.977 | |
| multiGenePlots | 4.436 | 0.144 | 5.384 | |
| regress_out | 0.144 | 0.001 | 0.150 | |
| run | 1.449 | 0.010 | 0.887 | |
| spatialDE | 2.720 | 0.007 | 2.080 | |
| spatialPatterns | 2.717 | 0.007 | 2.156 | |
| spatial_patterns | 42.774 | 0.014 | 27.095 | |
| stabilize | 0.105 | 0.000 | 0.074 | |