| Back to Multiple platform build/check report for BioC 3.21: simplified long |
|
This page was generated on 2025-04-22 13:17 -0400 (Tue, 22 Apr 2025).
| Hostname | OS | Arch (*) | R version | Installed pkgs |
|---|---|---|---|---|
| nebbiolo1 | Linux (Ubuntu 24.04.1 LTS) | x86_64 | 4.5.0 RC (2025-04-04 r88126) -- "How About a Twenty-Six" | 4831 |
| palomino7 | Windows Server 2022 Datacenter | x64 | 4.5.0 RC (2025-04-04 r88126 ucrt) -- "How About a Twenty-Six" | 4573 |
| lconway | macOS 12.7.1 Monterey | x86_64 | 4.5.0 RC (2025-04-04 r88126) -- "How About a Twenty-Six" | 4599 |
| kjohnson3 | macOS 13.7.1 Ventura | arm64 | 4.5.0 RC (2025-04-04 r88126) -- "How About a Twenty-Six" | 4553 |
| kunpeng2 | Linux (openEuler 24.03 LTS) | aarch64 | R Under development (unstable) (2025-02-19 r87757) -- "Unsuffered Consequences" | 4570 |
| Click on any hostname to see more info about the system (e.g. compilers) (*) as reported by 'uname -p', except on Windows and Mac OS X | ||||
| Package 1974/2341 | Hostname | OS / Arch | INSTALL | BUILD | CHECK | BUILD BIN | ||||||||
| sesame 1.26.0 (landing page) Wanding Zhou
| nebbiolo1 | Linux (Ubuntu 24.04.1 LTS) / x86_64 | OK | OK | OK | |||||||||
| palomino7 | Windows Server 2022 Datacenter / x64 | OK | OK | OK | OK | |||||||||
| lconway | macOS 12.7.1 Monterey / x86_64 | OK | OK | OK | OK | |||||||||
| kjohnson3 | macOS 13.7.1 Ventura / arm64 | OK | OK | OK | OK | |||||||||
| kunpeng2 | Linux (openEuler 24.03 LTS) / aarch64 | OK | OK | OK | ||||||||||
|
To the developers/maintainers of the sesame package: - Allow up to 24 hours (and sometimes 48 hours) for your latest push to git@git.bioconductor.org:packages/sesame.git to reflect on this report. See Troubleshooting Build Report for more information. - Use the following Renviron settings to reproduce errors and warnings. - If 'R CMD check' started to fail recently on the Linux builder(s) over a missing dependency, add the missing dependency to 'Suggests:' in your DESCRIPTION file. See Renviron.bioc for more information. |
| Package: sesame |
| Version: 1.26.0 |
| Command: /Library/Frameworks/R.framework/Resources/bin/R CMD check --install=check:sesame.install-out.txt --library=/Library/Frameworks/R.framework/Resources/library --no-vignettes --timings sesame_1.26.0.tar.gz |
| StartedAt: 2025-04-21 23:32:12 -0400 (Mon, 21 Apr 2025) |
| EndedAt: 2025-04-21 23:44:52 -0400 (Mon, 21 Apr 2025) |
| EllapsedTime: 760.7 seconds |
| RetCode: 0 |
| Status: OK |
| CheckDir: sesame.Rcheck |
| Warnings: 0 |
##############################################################################
##############################################################################
###
### Running command:
###
### /Library/Frameworks/R.framework/Resources/bin/R CMD check --install=check:sesame.install-out.txt --library=/Library/Frameworks/R.framework/Resources/library --no-vignettes --timings sesame_1.26.0.tar.gz
###
##############################################################################
##############################################################################
* using log directory ‘/Users/biocbuild/bbs-3.21-bioc/meat/sesame.Rcheck’
* using R version 4.5.0 RC (2025-04-04 r88126)
* using platform: x86_64-apple-darwin20
* R was compiled by
Apple clang version 14.0.0 (clang-1400.0.29.202)
GNU Fortran (GCC) 14.2.0
* running under: macOS Monterey 12.7.6
* using session charset: UTF-8
* using option ‘--no-vignettes’
* checking for file ‘sesame/DESCRIPTION’ ... OK
* checking extension type ... Package
* this is package ‘sesame’ version ‘1.26.0’
* package encoding: UTF-8
* checking package namespace information ... OK
* checking package dependencies ... OK
* checking if this is a source package ... OK
* checking if there is a namespace ... OK
* checking for hidden files and directories ... OK
* checking for portable file names ... OK
* checking for sufficient/correct file permissions ... OK
* checking whether package ‘sesame’ can be installed ... OK
* checking installed package size ... OK
* checking package directory ... OK
* checking ‘build’ directory ... OK
* checking DESCRIPTION meta-information ... OK
* checking top-level files ... OK
* checking for left-over files ... OK
* checking index information ... OK
* checking package subdirectories ... OK
* checking code files for non-ASCII characters ... OK
* checking R files for syntax errors ... OK
* checking whether the package can be loaded ... OK
* checking whether the package can be loaded with stated dependencies ... OK
* checking whether the package can be unloaded cleanly ... OK
* checking whether the namespace can be loaded with stated dependencies ... OK
* checking whether the namespace can be unloaded cleanly ... OK
* checking whether startup messages can be suppressed ... OK
* checking dependencies in R code ... OK
* checking S3 generic/method consistency ... OK
* checking replacement functions ... OK
* checking foreign function calls ... OK
* checking R code for possible problems ... OK
* checking Rd files ... OK
* checking Rd metadata ... OK
* checking Rd cross-references ... OK
* checking for missing documentation entries ... OK
* checking for code/documentation mismatches ... OK
* checking Rd \usage sections ... OK
* checking Rd contents ... OK
* checking for unstated dependencies in examples ... OK
* checking files in ‘vignettes’ ... OK
* checking examples ... OK
Examples with CPU (user + system) or elapsed time > 5s
user system elapsed
imputeBetasByGenomicNeighbors 35.950 1.349 37.529
inferSex 24.043 1.162 25.320
sesameQC_calcStats 23.068 1.590 24.846
sesameQC_plotHeatSNPs 19.075 1.474 20.715
imputeBetas 18.366 1.377 19.893
ELBAR 15.891 2.689 18.756
diffRefSet 15.003 0.607 15.720
compareMouseStrainReference 13.966 0.429 14.525
inferSpecies 13.497 0.682 14.260
sesameQC_plotBar 13.604 0.420 14.140
sesameQC_plotBetaByDesign 11.728 1.553 13.403
getRefSet 12.375 0.440 12.890
compareReference 11.340 0.467 11.896
matchDesign 10.947 0.685 11.705
DML 9.012 1.266 10.386
sdf_read_table 9.601 0.503 10.211
visualizeGene 9.315 0.571 9.952
DMR 9.149 0.282 9.504
inferTissue 7.587 1.424 9.080
estimateLeukocyte 8.039 0.523 8.632
inferStrain 7.950 0.585 8.577
getMask 6.765 0.616 7.444
dyeBiasCorrMostBalanced 6.920 0.301 7.278
dyeBiasNL 5.993 0.434 6.478
deidentify 6.017 0.298 6.366
createUCSCtrack 5.829 0.314 6.188
probeSuccessRate 5.526 0.441 6.017
openSesame 5.168 0.576 5.792
reIdentify 4.951 0.225 5.304
bisConversionControl 4.911 0.250 5.214
prepSesame 4.547 0.555 5.157
* checking for unstated dependencies in ‘tests’ ... OK
* checking tests ...
Running ‘testthat.R’
OK
* checking for unstated dependencies in vignettes ... OK
* checking package vignettes ... OK
* checking running R code from vignettes ... SKIPPED
* checking re-building of vignette outputs ... SKIPPED
* checking PDF version of manual ... OK
* DONE
Status: OK
sesame.Rcheck/00install.out
############################################################################## ############################################################################## ### ### Running command: ### ### /Library/Frameworks/R.framework/Resources/bin/R CMD INSTALL sesame ### ############################################################################## ############################################################################## * installing to library ‘/Library/Frameworks/R.framework/Versions/4.5-x86_64/Resources/library’ * installing *source* package ‘sesame’ ... ** this is package ‘sesame’ version ‘1.26.0’ ** using staged installation ** R ** inst ** byte-compile and prepare package for lazy loading ** help *** installing help indices ** building package indices ** installing vignettes ** testing if installed package can be loaded from temporary location ** testing if installed package can be loaded from final location ** testing if installed package keeps a record of temporary installation path * DONE (sesame)
sesame.Rcheck/tests/testthat.Rout
R version 4.5.0 RC (2025-04-04 r88126) -- "How About a Twenty-Six"
Copyright (C) 2025 The R Foundation for Statistical Computing
Platform: x86_64-apple-darwin20
R is free software and comes with ABSOLUTELY NO WARRANTY.
You are welcome to redistribute it under certain conditions.
Type 'license()' or 'licence()' for distribution details.
R is a collaborative project with many contributors.
Type 'contributors()' for more information and
'citation()' on how to cite R or R packages in publications.
Type 'demo()' for some demos, 'help()' for on-line help, or
'help.start()' for an HTML browser interface to help.
Type 'q()' to quit R.
> library(testthat)
> library(sesame)
Loading required package: sesameData
Loading required package: ExperimentHub
Loading required package: BiocGenerics
Loading required package: generics
Attaching package: 'generics'
The following objects are masked from 'package:base':
as.difftime, as.factor, as.ordered, intersect, is.element, setdiff,
setequal, union
Attaching package: 'BiocGenerics'
The following objects are masked from 'package:stats':
IQR, mad, sd, var, xtabs
The following objects are masked from 'package:base':
Filter, Find, Map, Position, Reduce, anyDuplicated, aperm, append,
as.data.frame, basename, cbind, colnames, dirname, do.call,
duplicated, eval, evalq, get, grep, grepl, is.unsorted, lapply,
mapply, match, mget, order, paste, pmax, pmax.int, pmin, pmin.int,
rank, rbind, rownames, sapply, saveRDS, table, tapply, unique,
unsplit, which.max, which.min
Loading required package: AnnotationHub
Loading required package: BiocFileCache
Loading required package: dbplyr
Loading sesameData.
----------------------------------------------------------
| SEnsible Step-wise Analysis of DNA MEthylation (SeSAMe)
| --------------------------------------------------------
| Please cache auxiliary data by "sesameDataCache()".
| This needs to be done only once per SeSAMe installation.
----------------------------------------------------------
>
> test_check("sesame")
[ FAIL 0 | WARN 0 | SKIP 0 | PASS 5 ]
>
> proc.time()
user system elapsed
22.209 1.965 24.346
sesame.Rcheck/sesame-Ex.timings
| name | user | system | elapsed | |
| BetaValueToMValue | 0.000 | 0.001 | 0.001 | |
| DML | 9.012 | 1.266 | 10.386 | |
| DMLpredict | 1.296 | 0.110 | 1.415 | |
| DMR | 9.149 | 0.282 | 9.504 | |
| ELBAR | 15.891 | 2.689 | 18.756 | |
| MValueToBetaValue | 0.000 | 0.000 | 0.001 | |
| SigDF | 0.305 | 0.062 | 0.370 | |
| addMask | 0.103 | 0.001 | 0.104 | |
| betasCollapseToPfx | 0.012 | 0.000 | 0.012 | |
| bisConversionControl | 4.911 | 0.250 | 5.214 | |
| calcEffectSize | 1.246 | 0.137 | 1.402 | |
| checkLevels | 4.042 | 0.262 | 4.375 | |
| cnSegmentation | 0.304 | 0.063 | 0.372 | |
| compareMouseStrainReference | 13.966 | 0.429 | 14.525 | |
| compareMouseTissueReference | 0.000 | 0.001 | 0.001 | |
| compareReference | 11.340 | 0.467 | 11.896 | |
| controls | 2.171 | 0.212 | 2.409 | |
| createUCSCtrack | 5.829 | 0.314 | 6.188 | |
| deidentify | 6.017 | 0.298 | 6.366 | |
| detectionPnegEcdf | 1.186 | 0.007 | 1.199 | |
| diffRefSet | 15.003 | 0.607 | 15.720 | |
| dmContrasts | 2.085 | 0.199 | 2.302 | |
| dyeBiasCorr | 3.018 | 0.228 | 3.272 | |
| dyeBiasCorrMostBalanced | 6.920 | 0.301 | 7.278 | |
| dyeBiasL | 2.373 | 0.163 | 2.544 | |
| dyeBiasNL | 5.993 | 0.434 | 6.478 | |
| estimateLeukocyte | 8.039 | 0.523 | 8.632 | |
| formatVCF | 2.245 | 0.220 | 2.488 | |
| getAFTypeIbySumAlleles | 1.853 | 0.200 | 2.070 | |
| getAFs | 0.910 | 0.052 | 0.971 | |
| getBetas | 0.921 | 0.145 | 1.078 | |
| getMask | 6.765 | 0.616 | 7.444 | |
| getRefSet | 12.375 | 0.440 | 12.890 | |
| imputeBetas | 18.366 | 1.377 | 19.893 | |
| imputeBetasByGenomicNeighbors | 35.950 | 1.349 | 37.529 | |
| imputeBetasMatrixByMean | 0.001 | 0.001 | 0.002 | |
| inferEthnicity | 0.001 | 0.000 | 0.000 | |
| inferInfiniumIChannel | 0.391 | 0.501 | 0.909 | |
| inferSex | 24.043 | 1.162 | 25.320 | |
| inferSpecies | 13.497 | 0.682 | 14.260 | |
| inferStrain | 7.950 | 0.585 | 8.577 | |
| inferTissue | 7.587 | 1.424 | 9.080 | |
| initFileSet | 1.280 | 0.245 | 1.541 | |
| listAvailableMasks | 1.288 | 0.182 | 1.487 | |
| mLiftOver | 0.000 | 0.001 | 0.001 | |
| mapFileSet | 0.038 | 0.003 | 0.040 | |
| mapToMammal40 | 3.130 | 0.381 | 3.550 | |
| matchDesign | 10.947 | 0.685 | 11.705 | |
| meanIntensity | 2.828 | 0.220 | 3.077 | |
| medianTotalIntensity | 0.938 | 0.061 | 1.007 | |
| noMasked | 3.894 | 0.218 | 4.147 | |
| noob | 2.242 | 0.553 | 2.815 | |
| openSesame | 5.168 | 0.576 | 5.792 | |
| openSesameToFile | 1.704 | 0.217 | 1.934 | |
| pOOBAH | 1.501 | 0.011 | 1.524 | |
| palgen | 0.049 | 0.009 | 0.059 | |
| parseGEOsignalMU | 3.189 | 0.164 | 3.386 | |
| predictAge | 2.667 | 0.153 | 2.850 | |
| predictAgeHorvath353 | 0 | 0 | 0 | |
| predictAgeSkinBlood | 0 | 0 | 0 | |
| predictMouseAgeInMonth | 0.000 | 0.001 | 0.000 | |
| prefixMask | 0.651 | 0.003 | 0.657 | |
| prefixMaskButC | 0.188 | 0.002 | 0.189 | |
| prefixMaskButCG | 0.076 | 0.000 | 0.077 | |
| prepSesame | 4.547 | 0.555 | 5.157 | |
| prepSesameList | 0.002 | 0.001 | 0.002 | |
| print.DMLSummary | 3.050 | 0.873 | 3.980 | |
| print.fileSet | 1.188 | 0.230 | 1.441 | |
| probeID_designType | 0.000 | 0.000 | 0.001 | |
| probeSuccessRate | 5.526 | 0.441 | 6.017 | |
| qualityMask | 2.159 | 0.365 | 2.553 | |
| reIdentify | 4.951 | 0.225 | 5.304 | |
| readFileSet | 0.066 | 0.012 | 0.078 | |
| readIDATpair | 0.133 | 0.003 | 0.137 | |
| recommendedMaskNames | 0.000 | 0.002 | 0.001 | |
| resetMask | 0.418 | 0.061 | 0.483 | |
| scrub | 2.438 | 0.023 | 2.473 | |
| scrubSoft | 3.472 | 1.121 | 4.644 | |
| sdfPlatform | 0.286 | 0.080 | 0.371 | |
| sdf_read_table | 9.601 | 0.503 | 10.211 | |
| sdf_write_table | 2.839 | 0.216 | 3.282 | |
| searchIDATprefixes | 0.004 | 0.004 | 0.010 | |
| sesame-package | 2.659 | 0.486 | 3.172 | |
| sesameAnno_attachManifest | 0.000 | 0.001 | 0.001 | |
| sesameAnno_buildAddressFile | 0.000 | 0.001 | 0.001 | |
| sesameAnno_buildManifestGRanges | 0.001 | 0.001 | 0.001 | |
| sesameAnno_download | 0.000 | 0.000 | 0.001 | |
| sesameAnno_readManifestTSV | 0.000 | 0.001 | 0.001 | |
| sesameQC_calcStats | 23.068 | 1.590 | 24.846 | |
| sesameQC_getStats | 2.066 | 0.012 | 2.088 | |
| sesameQC_plotBar | 13.604 | 0.420 | 14.140 | |
| sesameQC_plotBetaByDesign | 11.728 | 1.553 | 13.403 | |
| sesameQC_plotHeatSNPs | 19.075 | 1.474 | 20.715 | |
| sesameQC_plotIntensVsBetas | 2.040 | 0.203 | 2.256 | |
| sesameQC_plotRedGrnQQ | 1.347 | 0.203 | 1.565 | |
| sesameQC_rankStats | 3.609 | 0.280 | 3.937 | |
| sesameQCtoDF | 2.281 | 0.057 | 2.346 | |
| sesame_checkVersion | 0.003 | 0.001 | 0.004 | |
| sesamize | 0 | 0 | 0 | |
| setMask | 0.106 | 0.003 | 0.109 | |
| signalMU | 1.044 | 0.086 | 1.141 | |
| sliceFileSet | 0.037 | 0.005 | 0.043 | |
| summaryExtractTest | 3.064 | 1.056 | 4.168 | |
| totalIntensities | 2.588 | 0.397 | 3.023 | |
| updateSigDF | 3.477 | 0.444 | 3.977 | |
| visualizeGene | 9.315 | 0.571 | 9.952 | |
| visualizeProbes | 1.322 | 0.044 | 1.371 | |
| visualizeRegion | 0.353 | 0.003 | 0.359 | |
| visualizeSegments | 1.728 | 0.383 | 2.126 | |