| Back to Multiple platform build/check report for BioC 3.22: simplified long |
|
This page was generated on 2025-11-11 12:03 -0500 (Tue, 11 Nov 2025).
| Hostname | OS | Arch (*) | R version | Installed pkgs |
|---|---|---|---|---|
| nebbiolo2 | Linux (Ubuntu 24.04.3 LTS) | x86_64 | 4.5.1 Patched (2025-08-23 r88802) -- "Great Square Root" | 4902 |
| kjohnson3 | macOS 13.7.7 Ventura | arm64 | 4.5.1 Patched (2025-09-10 r88807) -- "Great Square Root" | 4638 |
| Click on any hostname to see more info about the system (e.g. compilers) (*) as reported by 'uname -p', except on Windows and Mac OS X | ||||
| Package 1992/2361 | Hostname | OS / Arch | INSTALL | BUILD | CHECK | BUILD BIN | ||||||||
| sesame 1.28.0 (landing page) Wanding Zhou
| nebbiolo2 | Linux (Ubuntu 24.04.3 LTS) / x86_64 | OK | OK | OK | |||||||||
| kjohnson3 | macOS 13.7.7 Ventura / arm64 | OK | OK | OK | OK | |||||||||
|
To the developers/maintainers of the sesame package: - Allow up to 24 hours (and sometimes 48 hours) for your latest push to git@git.bioconductor.org:packages/sesame.git to reflect on this report. See Troubleshooting Build Report for more information. - Use the following Renviron settings to reproduce errors and warnings. - If 'R CMD check' started to fail recently on the Linux builder(s) over a missing dependency, add the missing dependency to 'Suggests:' in your DESCRIPTION file. See Renviron.bioc for more information. |
| Package: sesame |
| Version: 1.28.0 |
| Command: /Library/Frameworks/R.framework/Resources/bin/R CMD check --install=check:sesame.install-out.txt --library=/Library/Frameworks/R.framework/Resources/library --no-vignettes --timings sesame_1.28.0.tar.gz |
| StartedAt: 2025-11-10 22:21:05 -0500 (Mon, 10 Nov 2025) |
| EndedAt: 2025-11-10 22:25:42 -0500 (Mon, 10 Nov 2025) |
| EllapsedTime: 277.4 seconds |
| RetCode: 0 |
| Status: OK |
| CheckDir: sesame.Rcheck |
| Warnings: 0 |
##############################################################################
##############################################################################
###
### Running command:
###
### /Library/Frameworks/R.framework/Resources/bin/R CMD check --install=check:sesame.install-out.txt --library=/Library/Frameworks/R.framework/Resources/library --no-vignettes --timings sesame_1.28.0.tar.gz
###
##############################################################################
##############################################################################
* using log directory ‘/Users/biocbuild/bbs-3.22-bioc/meat/sesame.Rcheck’
* using R version 4.5.1 Patched (2025-09-10 r88807)
* using platform: aarch64-apple-darwin20
* R was compiled by
Apple clang version 16.0.0 (clang-1600.0.26.6)
GNU Fortran (GCC) 14.2.0
* running under: macOS Ventura 13.7.7
* using session charset: UTF-8
* using option ‘--no-vignettes’
* checking for file ‘sesame/DESCRIPTION’ ... OK
* checking extension type ... Package
* this is package ‘sesame’ version ‘1.28.0’
* package encoding: UTF-8
* checking package namespace information ... OK
* checking package dependencies ... OK
* checking if this is a source package ... OK
* checking if there is a namespace ... OK
* checking for hidden files and directories ... OK
* checking for portable file names ... OK
* checking for sufficient/correct file permissions ... OK
* checking whether package ‘sesame’ can be installed ... OK
* checking installed package size ... OK
* checking package directory ... OK
* checking ‘build’ directory ... OK
* checking DESCRIPTION meta-information ... OK
* checking top-level files ... OK
* checking for left-over files ... OK
* checking index information ... OK
* checking package subdirectories ... OK
* checking code files for non-ASCII characters ... OK
* checking R files for syntax errors ... OK
* checking whether the package can be loaded ... OK
* checking whether the package can be loaded with stated dependencies ... OK
* checking whether the package can be unloaded cleanly ... OK
* checking whether the namespace can be loaded with stated dependencies ... OK
* checking whether the namespace can be unloaded cleanly ... OK
* checking whether startup messages can be suppressed ... OK
* checking dependencies in R code ... OK
* checking S3 generic/method consistency ... OK
* checking replacement functions ... OK
* checking foreign function calls ... OK
* checking R code for possible problems ... OK
* checking Rd files ... OK
* checking Rd metadata ... OK
* checking Rd cross-references ... OK
* checking for missing documentation entries ... OK
* checking for code/documentation mismatches ... OK
* checking Rd \usage sections ... OK
* checking Rd contents ... OK
* checking for unstated dependencies in examples ... OK
* checking files in ‘vignettes’ ... OK
* checking examples ... OK
Examples with CPU (user + system) or elapsed time > 5s
user system elapsed
imputeBetasByGenomicNeighbors 13.681 0.528 14.248
sesameQC_calcStats 8.282 0.774 9.194
inferSex 8.493 0.551 9.064
sesameQC_plotHeatSNPs 7.608 0.699 8.310
imputeBetas 7.373 0.611 8.021
ELBAR 5.601 1.249 6.905
sesameQC_plotBar 6.631 0.168 6.860
inferSpecies 6.379 0.306 6.706
diffRefSet 5.712 0.229 6.047
getRefSet 5.465 0.166 5.635
* checking for unstated dependencies in ‘tests’ ... OK
* checking tests ...
Running ‘testthat.R’
OK
* checking for unstated dependencies in vignettes ... OK
* checking package vignettes ... OK
* checking running R code from vignettes ... SKIPPED
* checking re-building of vignette outputs ... SKIPPED
* checking PDF version of manual ... OK
* DONE
Status: OK
sesame.Rcheck/00install.out
############################################################################## ############################################################################## ### ### Running command: ### ### /Library/Frameworks/R.framework/Resources/bin/R CMD INSTALL sesame ### ############################################################################## ############################################################################## * installing to library ‘/Library/Frameworks/R.framework/Versions/4.5-arm64/Resources/library’ * installing *source* package ‘sesame’ ... ** this is package ‘sesame’ version ‘1.28.0’ ** using staged installation ** R ** inst ** byte-compile and prepare package for lazy loading ** help *** installing help indices ** building package indices ** installing vignettes ** testing if installed package can be loaded from temporary location ** testing if installed package can be loaded from final location ** testing if installed package keeps a record of temporary installation path * DONE (sesame)
sesame.Rcheck/tests/testthat.Rout
R version 4.5.1 Patched (2025-09-10 r88807) -- "Great Square Root"
Copyright (C) 2025 The R Foundation for Statistical Computing
Platform: aarch64-apple-darwin20
R is free software and comes with ABSOLUTELY NO WARRANTY.
You are welcome to redistribute it under certain conditions.
Type 'license()' or 'licence()' for distribution details.
R is a collaborative project with many contributors.
Type 'contributors()' for more information and
'citation()' on how to cite R or R packages in publications.
Type 'demo()' for some demos, 'help()' for on-line help, or
'help.start()' for an HTML browser interface to help.
Type 'q()' to quit R.
> library(testthat)
> library(sesame)
Loading required package: sesameData
Loading required package: ExperimentHub
Loading required package: BiocGenerics
Loading required package: generics
Attaching package: 'generics'
The following objects are masked from 'package:base':
as.difftime, as.factor, as.ordered, intersect, is.element, setdiff,
setequal, union
Attaching package: 'BiocGenerics'
The following objects are masked from 'package:stats':
IQR, mad, sd, var, xtabs
The following objects are masked from 'package:base':
Filter, Find, Map, Position, Reduce, anyDuplicated, aperm, append,
as.data.frame, basename, cbind, colnames, dirname, do.call,
duplicated, eval, evalq, get, grep, grepl, is.unsorted, lapply,
mapply, match, mget, order, paste, pmax, pmax.int, pmin, pmin.int,
rank, rbind, rownames, sapply, saveRDS, table, tapply, unique,
unsplit, which.max, which.min
Loading required package: AnnotationHub
Loading required package: BiocFileCache
Loading required package: dbplyr
Loading sesameData.
----------------------------------------------------------
| SEnsible Step-wise Analysis of DNA MEthylation (SeSAMe)
| --------------------------------------------------------
| Please cache auxiliary data by "sesameDataCache()".
| This needs to be done only once per SeSAMe installation.
----------------------------------------------------------
>
> test_check("sesame")
[ FAIL 0 | WARN 0 | SKIP 0 | PASS 5 ]
>
> proc.time()
user system elapsed
7.792 0.266 8.080
sesame.Rcheck/sesame-Ex.timings
| name | user | system | elapsed | |
| BetaValueToMValue | 0.000 | 0.000 | 0.001 | |
| DML | 2.153 | 0.089 | 2.397 | |
| DMLpredict | 0.390 | 0.038 | 0.479 | |
| DMR | 3.103 | 0.082 | 3.309 | |
| ELBAR | 5.601 | 1.249 | 6.905 | |
| MValueToBetaValue | 0.001 | 0.000 | 0.000 | |
| SigDF | 0.127 | 0.027 | 0.195 | |
| addMask | 0.020 | 0.001 | 0.024 | |
| betasCollapseToPfx | 0.004 | 0.000 | 0.006 | |
| bisConversionControl | 2.098 | 0.089 | 2.226 | |
| calcEffectSize | 0.385 | 0.032 | 0.423 | |
| checkLevels | 1.628 | 0.059 | 1.726 | |
| cnSegmentation | 0.087 | 0.020 | 0.113 | |
| compareMouseStrainReference | 3.574 | 0.235 | 4.055 | |
| compareMouseTissueReference | 0.001 | 0.000 | 0.000 | |
| compareReference | 4.051 | 0.229 | 4.591 | |
| controls | 0.720 | 0.061 | 0.799 | |
| createUCSCtrack | 2.226 | 0.094 | 2.330 | |
| deIdentify | 1.923 | 0.141 | 2.118 | |
| detectionPnegEcdf | 0.399 | 0.007 | 0.416 | |
| diffRefSet | 5.712 | 0.229 | 6.047 | |
| dmContrasts | 0.708 | 0.064 | 0.792 | |
| dyeBiasCorr | 0.969 | 0.091 | 1.088 | |
| dyeBiasCorrMostBalanced | 3.331 | 0.098 | 3.479 | |
| dyeBiasL | 0.983 | 0.056 | 1.045 | |
| dyeBiasNL | 2.014 | 0.171 | 2.195 | |
| estimateLeukocyte | 2.655 | 0.154 | 2.835 | |
| formatVCF | 0.735 | 0.067 | 0.810 | |
| getAFTypeIbySumAlleles | 0.514 | 0.075 | 0.603 | |
| getAFs | 0.390 | 0.045 | 0.439 | |
| getBetas | 0.288 | 0.037 | 0.326 | |
| getMask | 2.091 | 0.154 | 2.276 | |
| getRefSet | 5.465 | 0.166 | 5.635 | |
| imputeBetas | 7.373 | 0.611 | 8.021 | |
| imputeBetasByGenomicNeighbors | 13.681 | 0.528 | 14.248 | |
| imputeBetasMatrixByMean | 0.001 | 0.000 | 0.001 | |
| inferEthnicity | 0 | 0 | 0 | |
| inferInfiniumIChannel | 0.140 | 0.145 | 0.292 | |
| inferSex | 8.493 | 0.551 | 9.064 | |
| inferSpecies | 6.379 | 0.306 | 6.706 | |
| inferStrain | 2.701 | 0.268 | 2.986 | |
| inferTissue | 2.302 | 0.318 | 2.667 | |
| initFileSet | 0.342 | 0.078 | 0.436 | |
| listAvailableMasks | 0.369 | 0.032 | 0.433 | |
| mLiftOver | 0 | 0 | 0 | |
| mapFileSet | 0.016 | 0.002 | 0.017 | |
| mapToMammal40 | 0.789 | 0.115 | 0.913 | |
| matchDesign | 4.258 | 0.282 | 4.551 | |
| meanIntensity | 0.928 | 0.114 | 1.046 | |
| medianTotalIntensity | 0.262 | 0.048 | 0.312 | |
| noMasked | 1.211 | 0.068 | 1.293 | |
| noob | 0.996 | 0.167 | 1.163 | |
| openSesame | 1.645 | 0.204 | 1.859 | |
| openSesameToFile | 0.582 | 0.076 | 0.658 | |
| pOOBAH | 0.517 | 0.022 | 0.539 | |
| palgen | 0.015 | 0.002 | 0.017 | |
| parseGEOsignalMU | 1.217 | 0.092 | 1.310 | |
| predictAge | 0.978 | 0.066 | 1.044 | |
| predictAgeHorvath353 | 0 | 0 | 0 | |
| predictAgeSkinBlood | 0 | 0 | 0 | |
| predictMouseAgeInMonth | 0 | 0 | 0 | |
| prefixMask | 0.187 | 0.002 | 0.188 | |
| prefixMaskButC | 0.048 | 0.001 | 0.048 | |
| prefixMaskButCG | 0.017 | 0.001 | 0.018 | |
| prepSesame | 1.285 | 0.138 | 1.431 | |
| prepSesameList | 0.000 | 0.001 | 0.000 | |
| print.DMLSummary | 1.011 | 0.135 | 1.161 | |
| print.fileSet | 0.346 | 0.035 | 0.383 | |
| probeID_designType | 0 | 0 | 0 | |
| probeSuccessRate | 1.947 | 0.165 | 2.121 | |
| qualityMask | 0.509 | 0.063 | 0.573 | |
| reIdentify | 1.530 | 0.062 | 1.594 | |
| readFileSet | 0.029 | 0.003 | 0.032 | |
| readIDATpair | 0.043 | 0.003 | 0.046 | |
| recommendedMaskNames | 0.000 | 0.000 | 0.001 | |
| resetMask | 0.106 | 0.016 | 0.121 | |
| scrub | 0.965 | 0.193 | 1.162 | |
| scrubSoft | 1.342 | 0.222 | 1.609 | |
| sdfPlatform | 0.087 | 0.017 | 0.106 | |
| sdf_read_table | 3.448 | 0.182 | 3.699 | |
| sdf_write_table | 0.938 | 0.040 | 0.981 | |
| searchIDATprefixes | 0.001 | 0.000 | 0.003 | |
| sesame-package | 0.875 | 0.117 | 0.997 | |
| sesameAnno_attachManifest | 0.000 | 0.001 | 0.000 | |
| sesameAnno_buildAddressFile | 0 | 0 | 0 | |
| sesameAnno_buildManifestGRanges | 0 | 0 | 0 | |
| sesameAnno_download | 0 | 0 | 0 | |
| sesameAnno_readManifestTSV | 0 | 0 | 0 | |
| sesameQC_calcStats | 8.282 | 0.774 | 9.194 | |
| sesameQC_getStats | 0.830 | 0.031 | 0.882 | |
| sesameQC_plotBar | 6.631 | 0.168 | 6.860 | |
| sesameQC_plotBetaByDesign | 4.243 | 0.681 | 4.952 | |
| sesameQC_plotHeatSNPs | 7.608 | 0.699 | 8.310 | |
| sesameQC_plotIntensVsBetas | 0.749 | 0.115 | 0.863 | |
| sesameQC_plotRedGrnQQ | 0.540 | 0.099 | 0.649 | |
| sesameQC_rankStats | 1.220 | 0.227 | 1.461 | |
| sesameQCtoDF | 0.830 | 0.043 | 0.889 | |
| sesame_checkVersion | 0.001 | 0.000 | 0.002 | |
| sesamize | 0 | 0 | 0 | |
| setMask | 0.025 | 0.003 | 0.028 | |
| signalMU | 0.266 | 0.039 | 0.304 | |
| sliceFileSet | 0.016 | 0.001 | 0.017 | |
| summaryExtractTest | 1.212 | 0.130 | 1.355 | |
| totalIntensities | 0.874 | 0.098 | 0.973 | |
| updateSigDF | 1.045 | 0.165 | 1.212 | |
| visualizeGene | 3.456 | 0.150 | 3.617 | |
| visualizeProbes | 0.376 | 0.012 | 0.389 | |
| visualizeRegion | 0.114 | 0.008 | 0.122 | |
| visualizeSegments | 0.889 | 0.047 | 0.937 | |