Back to Multiple platform build/check report for BioC 3.22:   simplified   long
ABCDEFGHIJKLMNOPQ[R]STUVWXYZ

This page was generated on 2025-11-11 12:02 -0500 (Tue, 11 Nov 2025).

HostnameOSArch (*)R versionInstalled pkgs
nebbiolo2Linux (Ubuntu 24.04.3 LTS)x86_644.5.1 Patched (2025-08-23 r88802) -- "Great Square Root" 4902
kjohnson3macOS 13.7.7 Venturaarm644.5.1 Patched (2025-09-10 r88807) -- "Great Square Root" 4638
Click on any hostname to see more info about the system (e.g. compilers)      (*) as reported by 'uname -p', except on Windows and Mac OS X

All results for package rtracklayer


To the developers/maintainers of the rtracklayer package:
- Allow up to 24 hours (and sometimes 48 hours) for your latest push to git@git.bioconductor.org:packages/rtracklayer.git to reflect on this report. See Troubleshooting Build Report for more information.
- Use the following Renviron settings to reproduce errors and warnings.
- If 'R CMD check' started to fail recently on the Linux builder(s) over a missing dependency, add the missing dependency to 'Suggests:' in your DESCRIPTION file. See Renviron.bioc for more information.

raw results

Package 1866/2361HostnameOS / ArchINSTALLBUILDCHECKBUILD BIN
rtracklayer 1.70.0  (landing page)
Michael Lawrence
Snapshot Date: 2025-11-10 13:45 -0500 (Mon, 10 Nov 2025)
git_url: https://git.bioconductor.org/packages/rtracklayer
git_branch: RELEASE_3_22
git_last_commit: b6dc2ec
git_last_commit_date: 2025-10-29 10:00:29 -0500 (Wed, 29 Oct 2025)
nebbiolo2Linux (Ubuntu 24.04.3 LTS) / x86_64  OK    OK    WARNINGS  UNNEEDED, same version is already published
kjohnson3macOS 13.7.7 Ventura / arm64  OK    OK    WARNINGS    OK  UNNEEDED, same version is already published



Results for Bioconductor software packages that depend directly on package rtracklayer

QUICK STATSOS / ArchINSTALLBUILDCHECKBUILD BIN
nebbiolo2Linux (Ubuntu 24.04.3 LTS) / x86_64
02180
011171
0833130
kjohnson3macOS 13.7.7 Ventura / arm64
04178
013169
0930130
00169
Package 1/182HostnameOS / ArchINSTALLBUILDCHECKBUILD BIN
AnnotationHubData 1.40.0  (landing page)
Bioconductor Package Maintainer
git_last_commit: 077effd
git_last_commit_date: 2025-10-29 10:27:35 -0500
nebbiolo2Linux (Ubuntu 24.04.3 LTS) / x86_64  OK    OK    WARNINGS  UNNEEDED, same version is already published
kjohnson3macOS 13.7.7 Ventura / arm64  OK    OK    WARNINGS    OK  UNNEEDED, same version is already published
Package 2/182HostnameOS / ArchINSTALLBUILDCHECKBUILD BIN
annotatr 1.36.0  (landing page)
Raymond G. Cavalcante
git_last_commit: 6850c77
git_last_commit_date: 2025-10-29 10:35:13 -0500
nebbiolo2Linux (Ubuntu 24.04.3 LTS) / x86_64  OK    OK    OK  UNNEEDED, same version is already published
kjohnson3macOS 13.7.7 Ventura / arm64  OK    OK    OK    OK  UNNEEDED, same version is already published
Package 3/182HostnameOS / ArchINSTALLBUILDCHECKBUILD BIN
APAlyzer 1.24.0  (landing page)
Ruijia Wang
git_last_commit: d565f62
git_last_commit_date: 2025-10-29 10:53:34 -0500
nebbiolo2Linux (Ubuntu 24.04.3 LTS) / x86_64  OK    OK    ERROR  
kjohnson3macOS 13.7.7 Ventura / arm64  OK    OK    ERROR    OK  
Package 4/182HostnameOS / ArchINSTALLBUILDCHECKBUILD BIN
ATACseqQC 1.34.0  (landing page)
Jianhong Ou
git_last_commit: 9b61612
git_last_commit_date: 2025-10-29 10:38:34 -0500
nebbiolo2Linux (Ubuntu 24.04.3 LTS) / x86_64  OK    OK    OK  UNNEEDED, same version is already published
kjohnson3macOS 13.7.7 Ventura / arm64  OK    OK    OK    OK  UNNEEDED, same version is already published
Package 5/182HostnameOS / ArchINSTALLBUILDCHECKBUILD BIN
ATACseqTFEA 1.12.0  (landing page)
Jianhong Ou
git_last_commit: 77ec3ae
git_last_commit_date: 2025-10-29 11:18:13 -0500
nebbiolo2Linux (Ubuntu 24.04.3 LTS) / x86_64  OK    OK    OK  UNNEEDED, same version is already published
kjohnson3macOS 13.7.7 Ventura / arm64  OK    OK    OK    OK  UNNEEDED, same version is already published
Package 6/182HostnameOS / ArchINSTALLBUILDCHECKBUILD BIN
ballgown 2.42.0  (landing page)
Jack Fu
git_last_commit: f1b4171
git_last_commit_date: 2025-10-29 10:20:34 -0500
nebbiolo2Linux (Ubuntu 24.04.3 LTS) / x86_64  OK    OK    OK  UNNEEDED, same version is already published
kjohnson3macOS 13.7.7 Ventura / arm64  OK    OK    OK    OK  UNNEEDED, same version is already published
Package 7/182HostnameOS / ArchINSTALLBUILDCHECKBUILD BIN
bedbaser 1.2.0  (landing page)
Andres Wokaty
git_last_commit: 4ef0719
git_last_commit_date: 2025-10-29 11:34:32 -0500
nebbiolo2Linux (Ubuntu 24.04.3 LTS) / x86_64  OK    OK    OK  UNNEEDED, same version is already published
kjohnson3macOS 13.7.7 Ventura / arm64  OK    OK    OK    OK  UNNEEDED, same version is already published
Package 8/182HostnameOS / ArchINSTALLBUILDCHECKBUILD BIN
BgeeCall 1.26.0  (landing page)
Julien Wollbrett
git_last_commit: 0d3bcb0
git_last_commit_date: 2025-10-29 10:56:16 -0500
nebbiolo2Linux (Ubuntu 24.04.3 LTS) / x86_64  OK    OK    OK  UNNEEDED, same version is already published
kjohnson3macOS 13.7.7 Ventura / arm64  OK    OK    OK    OK  UNNEEDED, same version is already published
Package 9/182HostnameOS / ArchINSTALLBUILDCHECKBUILD BIN
BindingSiteFinder 2.8.0  (landing page)
Mirko Brüggemann
git_last_commit: 74a4d9c
git_last_commit_date: 2025-10-29 11:10:55 -0500
nebbiolo2Linux (Ubuntu 24.04.3 LTS) / x86_64  OK    OK    OK  UNNEEDED, same version is already published
kjohnson3macOS 13.7.7 Ventura / arm64  OK    OK    OK    OK  UNNEEDED, same version is already published
Package 10/182HostnameOS / ArchINSTALLBUILDCHECKBUILD BIN
biscuiteer 1.24.0  (landing page)
Jacob Morrison
git_last_commit: 29c89c4
git_last_commit_date: 2025-10-29 10:55:16 -0500
nebbiolo2Linux (Ubuntu 24.04.3 LTS) / x86_64  OK    OK    WARNINGS  UNNEEDED, same version is already published
kjohnson3macOS 13.7.7 Ventura / arm64  OK    OK    WARNINGS    OK  UNNEEDED, same version is already published
Package 11/182HostnameOS / ArchINSTALLBUILDCHECKBUILD BIN
BiSeq 1.50.0  (landing page)
Katja Hebestreit
git_last_commit: 626afbf
git_last_commit_date: 2025-10-29 10:14:44 -0500
nebbiolo2Linux (Ubuntu 24.04.3 LTS) / x86_64  OK    OK    OK  UNNEEDED, same version is already published
kjohnson3macOS 13.7.7 Ventura / arm64  OK    OK    OK    OK  UNNEEDED, same version is already published
Package 12/182HostnameOS / ArchINSTALLBUILDCHECKBUILD BIN
branchpointer 1.36.0  (landing page)
Beth Signal
git_last_commit: 897a60c
git_last_commit_date: 2025-10-29 10:37:20 -0500
nebbiolo2Linux (Ubuntu 24.04.3 LTS) / x86_64  OK    ERROR  skipped
kjohnson3macOS 13.7.7 Ventura / arm64  OK    ERROR  skippedskipped
Package 13/182HostnameOS / ArchINSTALLBUILDCHECKBUILD BIN
BSgenome 1.78.0  (landing page)
Hervé Pagès
git_last_commit: 8f40a31
git_last_commit_date: 2025-10-29 14:19:23 -0500
nebbiolo2Linux (Ubuntu 24.04.3 LTS) / x86_64  OK    OK    WARNINGS  UNNEEDED, same version is already published
kjohnson3macOS 13.7.7 Ventura / arm64  OK    OK    WARNINGS    OK  UNNEEDED, same version is already published
Package 14/182HostnameOS / ArchINSTALLBUILDCHECKBUILD BIN
BSgenomeForge 1.10.0  (landing page)
Hervé Pagès
git_last_commit: 5634fdd
git_last_commit_date: 2025-10-29 14:23:53 -0500
nebbiolo2Linux (Ubuntu 24.04.3 LTS) / x86_64  OK    OK    OK  UNNEEDED, same version is already published
kjohnson3macOS 13.7.7 Ventura / arm64  OK    OK    OK    OK  UNNEEDED, same version is already published
Package 15/182HostnameOS / ArchINSTALLBUILDCHECKBUILD BIN
CAGEfightR 1.30.0  (landing page)
Malte Thodberg
git_last_commit: eda75c3
git_last_commit_date: 2025-10-29 10:45:17 -0500
nebbiolo2Linux (Ubuntu 24.04.3 LTS) / x86_64  OK    OK    OK  UNNEEDED, same version is already published
kjohnson3macOS 13.7.7 Ventura / arm64  OK    OK    OK    OK  UNNEEDED, same version is already published
Package 16/182HostnameOS / ArchINSTALLBUILDCHECKBUILD BIN
CAGEr 2.16.0  (landing page)
Charles Plessy
git_last_commit: b717389
git_last_commit_date: 2025-10-29 10:13:45 -0500
nebbiolo2Linux (Ubuntu 24.04.3 LTS) / x86_64  OK    OK    OK  UNNEEDED, same version is already published
kjohnson3macOS 13.7.7 Ventura / arm64  OK    OK    OK    OK  UNNEEDED, same version is already published
Package 17/182HostnameOS / ArchINSTALLBUILDCHECKBUILD BIN
casper 2.44.0  (landing page)
David Rossell
git_last_commit: 9f5a6ac
git_last_commit_date: 2025-10-29 10:13:21 -0500
nebbiolo2Linux (Ubuntu 24.04.3 LTS) / x86_64  OK    OK    WARNINGS  UNNEEDED, same version is already published
kjohnson3macOS 13.7.7 Ventura / arm64  OK    ERROR  skippedskipped
Package 18/182HostnameOS / ArchINSTALLBUILDCHECKBUILD BIN
CexoR 1.48.0  (landing page)
Pedro Madrigal
git_last_commit: 2ba0990
git_last_commit_date: 2025-10-29 11:12:38 -0500
nebbiolo2Linux (Ubuntu 24.04.3 LTS) / x86_64  OK    OK    OK  UNNEEDED, same version is already published
kjohnson3macOS 13.7.7 Ventura / arm64  OK    OK    OK    OK  UNNEEDED, same version is already published
Package 19/182HostnameOS / ArchINSTALLBUILDCHECKBUILD BIN
ChIPanalyser 1.32.0  (landing page)
Patrick C.N. Martin
git_last_commit: 36e9429
git_last_commit_date: 2025-10-29 10:40:34 -0500
nebbiolo2Linux (Ubuntu 24.04.3 LTS) / x86_64  OK    OK    OK  UNNEEDED, same version is already published
kjohnson3macOS 13.7.7 Ventura / arm64  OK    OK    OK    OK  UNNEEDED, same version is already published
Package 20/182HostnameOS / ArchINSTALLBUILDCHECKBUILD BIN
ChIPComp 1.40.0  (landing page)
Li Chen
git_last_commit: 0b95bdf
git_last_commit_date: 2025-10-29 10:27:22 -0500
nebbiolo2Linux (Ubuntu 24.04.3 LTS) / x86_64  OK    OK    OK  UNNEEDED, same version is already published
kjohnson3macOS 13.7.7 Ventura / arm64  OK    OK    OK    OK  UNNEEDED, same version is already published
Package 21/182HostnameOS / ArchINSTALLBUILDCHECKBUILD BIN
chipenrich 2.34.0  (landing page)
Kai Wang
git_last_commit: a610787
git_last_commit_date: 2025-10-29 10:16:16 -0500
nebbiolo2Linux (Ubuntu 24.04.3 LTS) / x86_64  OK    OK    OK  UNNEEDED, same version is already published
kjohnson3macOS 13.7.7 Ventura / arm64  OK    OK    OK    OK  UNNEEDED, same version is already published
Package 22/182HostnameOS / ArchINSTALLBUILDCHECKBUILD BIN
ChIPpeakAnno 3.44.0  (landing page)
Jianhong Ou
git_last_commit: 2b855fa
git_last_commit_date: 2025-10-29 10:03:18 -0500
nebbiolo2Linux (Ubuntu 24.04.3 LTS) / x86_64  OK    OK    OK  UNNEEDED, same version is already published
kjohnson3macOS 13.7.7 Ventura / arm64  OK    OK    OK    OK  UNNEEDED, same version is already published
Package 23/182HostnameOS / ArchINSTALLBUILDCHECKBUILD BIN
ChIPseeker 1.46.1  (landing page)
Guangchuang Yu
git_last_commit: c9031f6
git_last_commit_date: 2025-11-04 09:21:39 -0500
nebbiolo2Linux (Ubuntu 24.04.3 LTS) / x86_64  OK    OK    OK  UNNEEDED, same version is already published
kjohnson3macOS 13.7.7 Ventura / arm64  OK    OK    OK    OK  UNNEEDED, same version is already published
Package 24/182HostnameOS / ArchINSTALLBUILDCHECKBUILD BIN
ChromHeatMap 1.64.0  (landing page)
Tim F. Rayner
git_last_commit: 3e0a547
git_last_commit_date: 2025-10-29 10:03:49 -0500
nebbiolo2Linux (Ubuntu 24.04.3 LTS) / x86_64  OK    OK    OK  UNNEEDED, same version is already published
kjohnson3macOS 13.7.7 Ventura / arm64  OK    OK    OK    OK  UNNEEDED, same version is already published
Package 25/182HostnameOS / ArchINSTALLBUILDCHECKBUILD BIN
ChromSCape 1.20.0  (landing page)
Pacome Prompsy
git_last_commit: a5a7bda
git_last_commit_date: 2025-10-29 11:02:56 -0500
nebbiolo2Linux (Ubuntu 24.04.3 LTS) / x86_64  OK    OK    WARNINGS  UNNEEDED, same version is already published
kjohnson3macOS 13.7.7 Ventura / arm64  OK    OK    WARNINGS    OK  UNNEEDED, same version is already published
Package 26/182HostnameOS / ArchINSTALLBUILDCHECKBUILD BIN
circRNAprofiler 1.24.0  (landing page)
Simona Aufiero
git_last_commit: 8f3c453
git_last_commit_date: 2025-10-29 10:53:06 -0500
nebbiolo2Linux (Ubuntu 24.04.3 LTS) / x86_64  OK    OK    OK  UNNEEDED, same version is already published
kjohnson3macOS 13.7.7 Ventura / arm64  OK    OK    OK    OK  UNNEEDED, same version is already published
Package 27/182HostnameOS / ArchINSTALLBUILDCHECKBUILD BIN
cliProfiler 1.16.0  (landing page)
You Zhou
git_last_commit: 3ed7cb4
git_last_commit_date: 2025-10-29 11:12:54 -0500
nebbiolo2Linux (Ubuntu 24.04.3 LTS) / x86_64  OK    OK    OK  UNNEEDED, same version is already published
kjohnson3macOS 13.7.7 Ventura / arm64  OK    OK    OK    OK  UNNEEDED, same version is already published
Package 28/182HostnameOS / ArchINSTALLBUILDCHECKBUILD BIN
CNEr 1.46.0  (landing page)
Boris Lenhard Damir Baranasic
git_last_commit: a5d64f4
git_last_commit_date: 2025-10-29 10:18:00 -0500
nebbiolo2Linux (Ubuntu 24.04.3 LTS) / x86_64  OK    OK    WARNINGS  UNNEEDED, same version is already published
kjohnson3macOS 13.7.7 Ventura / arm64  OK    OK    ERROR    OK  
Package 29/182HostnameOS / ArchINSTALLBUILDCHECKBUILD BIN
consensusSeekeR 1.38.0  (landing page)
Astrid Deschênes
git_last_commit: 0f072df
git_last_commit_date: 2025-10-29 10:28:45 -0500
nebbiolo2Linux (Ubuntu 24.04.3 LTS) / x86_64  OK    OK    OK  UNNEEDED, same version is already published
kjohnson3macOS 13.7.7 Ventura / arm64  OK    OK    OK    OK  UNNEEDED, same version is already published
Package 30/182HostnameOS / ArchINSTALLBUILDCHECKBUILD BIN
conumee 1.44.0  (landing page)
Volker Hovestadt
git_last_commit: 9d7891e
git_last_commit_date: 2025-10-29 10:25:31 -0500
nebbiolo2Linux (Ubuntu 24.04.3 LTS) / x86_64  OK    OK    OK  UNNEEDED, same version is already published
kjohnson3macOS 13.7.7 Ventura / arm64  OK    OK    OK    OK  UNNEEDED, same version is already published
Package 31/182HostnameOS / ArchINSTALLBUILDCHECKBUILD BIN
CoverageView 1.48.0  (landing page)
Ernesto Lowy
git_last_commit: 714038d
git_last_commit_date: 2025-10-29 10:19:06 -0500
nebbiolo2Linux (Ubuntu 24.04.3 LTS) / x86_64  OK    OK    WARNINGS  UNNEEDED, same version is already published
kjohnson3macOS 13.7.7 Ventura / arm64  OK    OK    WARNINGS    OK  UNNEEDED, same version is already published
Package 32/182HostnameOS / ArchINSTALLBUILDCHECKBUILD BIN
crisprDesign 1.12.0  (landing page)
Jean-Philippe Fortin
git_last_commit: 143c0ce
git_last_commit_date: 2025-10-29 11:17:54 -0500
nebbiolo2Linux (Ubuntu 24.04.3 LTS) / x86_64  OK    OK    OK  UNNEEDED, same version is already published
kjohnson3macOS 13.7.7 Ventura / arm64  OK    OK    OK    OK  UNNEEDED, same version is already published
Package 33/182HostnameOS / ArchINSTALLBUILDCHECKBUILD BIN
crupR 1.2.0  (landing page)
Persia Akbari Omgba
git_last_commit: 01667b7
git_last_commit_date: 2025-10-29 11:36:29 -0500
nebbiolo2Linux (Ubuntu 24.04.3 LTS) / x86_64  OK    OK    OK  UNNEEDED, same version is already published
kjohnson3macOS 13.7.7 Ventura / arm64  OK    OK    OK    OK  UNNEEDED, same version is already published
Package 34/182HostnameOS / ArchINSTALLBUILDCHECKBUILD BIN
CSSQ 1.22.0  (landing page)
Fan Lab at Georgia Institute of Technology
git_last_commit: 8bbe42d
git_last_commit_date: 2025-10-29 10:56:02 -0500
nebbiolo2Linux (Ubuntu 24.04.3 LTS) / x86_64  OK    OK    OK  UNNEEDED, same version is already published
kjohnson3macOS 13.7.7 Ventura / arm64  OK    OK    OK    OK  UNNEEDED, same version is already published
Package 35/182HostnameOS / ArchINSTALLBUILDCHECKBUILD BIN
cummeRbund 2.52.0  (landing page)
Loyal A. Goff
git_last_commit: e87a6c2
git_last_commit_date: 2025-10-29 10:09:10 -0500
nebbiolo2Linux (Ubuntu 24.04.3 LTS) / x86_64  OK    ERROR  skipped
kjohnson3macOS 13.7.7 Ventura / arm64  OK    ERROR  skippedskipped
Package 36/182HostnameOS / ArchINSTALLBUILDCHECKBUILD BIN
customProDB 1.50.0  (landing page)
Xiaojing Wang
git_last_commit: e4b2f17
git_last_commit_date: 2025-10-29 10:15:09 -0500
nebbiolo2Linux (Ubuntu 24.04.3 LTS) / x86_64  OK    OK    ERROR  
kjohnson3macOS 13.7.7 Ventura / arm64  OK    OK    ERROR    OK  
Package 37/182HostnameOS / ArchINSTALLBUILDCHECKBUILD BIN
derfinder 1.44.0  (landing page)
Leonardo Collado-Torres
git_last_commit: 7fd222b
git_last_commit_date: 2025-10-29 10:21:48 -0500
nebbiolo2Linux (Ubuntu 24.04.3 LTS) / x86_64  OK    OK    OK  UNNEEDED, same version is already published
kjohnson3macOS 13.7.7 Ventura / arm64  OK    OK    OK    OK  UNNEEDED, same version is already published
Package 38/182HostnameOS / ArchINSTALLBUILDCHECKBUILD BIN
DEScan2 1.30.0  (landing page)
Dario Righelli
git_last_commit: 5e4b7c2
git_last_commit_date: 2025-10-29 10:43:47 -0500
nebbiolo2Linux (Ubuntu 24.04.3 LTS) / x86_64  OK    OK    OK  UNNEEDED, same version is already published
kjohnson3macOS 13.7.7 Ventura / arm64  OK    OK    OK    OK  UNNEEDED, same version is already published
Package 39/182HostnameOS / ArchINSTALLBUILDCHECKBUILD BIN
diffHic 1.42.0  (landing page)
Aaron Lun , Gordon Smyth , Hannah Coughlin
git_last_commit: d1e2c99
git_last_commit_date: 2025-10-29 10:25:47 -0500
nebbiolo2Linux (Ubuntu 24.04.3 LTS) / x86_64  OK    OK    OK  UNNEEDED, same version is already published
kjohnson3macOS 13.7.7 Ventura / arm64  OK    OK    OK    OK  UNNEEDED, same version is already published
Package 40/182HostnameOS / ArchINSTALLBUILDCHECKBUILD BIN
diffUTR 1.18.0  (landing page)
Pierre-Luc Germain
git_last_commit: 6ffc717
git_last_commit_date: 2025-10-29 11:09:14 -0500
nebbiolo2Linux (Ubuntu 24.04.3 LTS) / x86_64  OK    OK    OK  UNNEEDED, same version is already published
kjohnson3macOS 13.7.7 Ventura / arm64  OK    OK    OK    OK  UNNEEDED, same version is already published
Package 41/182HostnameOS / ArchINSTALLBUILDCHECKBUILD BIN
DMCFB 1.24.0  (landing page)
Farhad Shokoohi
git_last_commit: 0f829bf
git_last_commit_date: 2025-10-29 10:54:42 -0500
nebbiolo2Linux (Ubuntu 24.04.3 LTS) / x86_64  OK    OK    OK  UNNEEDED, same version is already published
kjohnson3macOS 13.7.7 Ventura / arm64  OK    OK    OK    OK  UNNEEDED, same version is already published
Package 42/182HostnameOS / ArchINSTALLBUILDCHECKBUILD BIN
DMCHMM 1.32.0  (landing page)
Farhad Shokoohi
git_last_commit: 8994431
git_last_commit_date: 2025-10-29 10:40:26 -0500
nebbiolo2Linux (Ubuntu 24.04.3 LTS) / x86_64  OK    OK    OK  UNNEEDED, same version is already published
kjohnson3macOS 13.7.7 Ventura / arm64  OK    OK    OK    OK  UNNEEDED, same version is already published
Package 43/182HostnameOS / ArchINSTALLBUILDCHECKBUILD BIN
dmrseq 1.30.0  (landing page)
Keegan Korthauer
git_last_commit: 10b6432
git_last_commit_date: 2025-10-29 10:43:32 -0500
nebbiolo2Linux (Ubuntu 24.04.3 LTS) / x86_64  OK    OK    OK  UNNEEDED, same version is already published
kjohnson3macOS 13.7.7 Ventura / arm64  OK    OK    OK    OK  UNNEEDED, same version is already published
Package 44/182HostnameOS / ArchINSTALLBUILDCHECKBUILD BIN
DuplexDiscovereR 1.4.0  (landing page)
Egor Semenchenko
git_last_commit: 38c4e52
git_last_commit_date: 2025-10-29 11:32:35 -0500
nebbiolo2Linux (Ubuntu 24.04.3 LTS) / x86_64  OK    OK    OK  UNNEEDED, same version is already published
kjohnson3macOS 13.7.7 Ventura / arm64  OK    OK    OK    OK  UNNEEDED, same version is already published
Package 45/182HostnameOS / ArchINSTALLBUILDCHECKBUILD BIN
easylift 1.8.0  (landing page)
Abdullah Al Nahid
git_last_commit: 9d97c21
git_last_commit_date: 2025-10-29 11:25:08 -0500
nebbiolo2Linux (Ubuntu 24.04.3 LTS) / x86_64  OK    OK    OK  UNNEEDED, same version is already published
kjohnson3macOS 13.7.7 Ventura / arm64  OK    OK    OK    OK  UNNEEDED, same version is already published
Package 46/182HostnameOS / ArchINSTALLBUILDCHECKBUILD BIN
ELMER 2.34.0  (landing page)
Tiago Chedraoui Silva
git_last_commit: 908554d
git_last_commit_date: 2025-10-29 10:26:17 -0500
nebbiolo2Linux (Ubuntu 24.04.3 LTS) / x86_64  OK    ERROR  skipped
kjohnson3macOS 13.7.7 Ventura / arm64  OK    ERROR  skippedskipped
Package 47/182HostnameOS / ArchINSTALLBUILDCHECKBUILD BIN
enhancerHomologSearch 1.16.0  (landing page)
Jianhong Ou
git_last_commit: a7e3e8d
git_last_commit_date: 2025-10-29 11:11:19 -0500
nebbiolo2Linux (Ubuntu 24.04.3 LTS) / x86_64  OK    OK    OK  UNNEEDED, same version is already published
kjohnson3macOS 13.7.7 Ventura / arm64  OK    OK    OK    OK  UNNEEDED, same version is already published
Package 48/182HostnameOS / ArchINSTALLBUILDCHECKBUILD BIN
ensembldb 2.34.0  (landing page)
Johannes Rainer
git_last_commit: a13967b
git_last_commit_date: 2025-10-29 10:24:50 -0500
nebbiolo2Linux (Ubuntu 24.04.3 LTS) / x86_64  OK    OK    OK  UNNEEDED, same version is already published
kjohnson3macOS 13.7.7 Ventura / arm64  OK    OK    OK    OK  UNNEEDED, same version is already published
Package 49/182HostnameOS / ArchINSTALLBUILDCHECKBUILD BIN
EpiCompare 1.14.0  (landing page)
Hiranyamaya Dash
git_last_commit: c5d211a
git_last_commit_date: 2025-10-29 11:16:54 -0500
nebbiolo2Linux (Ubuntu 24.04.3 LTS) / x86_64  OK    OK    OK  UNNEEDED, same version is already published
kjohnson3macOS 13.7.7 Ventura / arm64  OK    OK    OK    OK  UNNEEDED, same version is already published
Package 50/182HostnameOS / ArchINSTALLBUILDCHECKBUILD BIN
epidecodeR 1.18.0  (landing page)
Kandarp Joshi
git_last_commit: df3fe88
git_last_commit_date: 2025-10-29 11:07:52 -0500
nebbiolo2Linux (Ubuntu 24.04.3 LTS) / x86_64  OK    OK    OK  UNNEEDED, same version is already published
kjohnson3macOS 13.7.7 Ventura / arm64  OK    OK    OK    OK  UNNEEDED, same version is already published
Package 51/182HostnameOS / ArchINSTALLBUILDCHECKBUILD BIN
epigraHMM 1.18.0  (landing page)
Pedro Baldoni
git_last_commit: d390572
git_last_commit_date: 2025-10-29 11:09:46 -0500
nebbiolo2Linux (Ubuntu 24.04.3 LTS) / x86_64  OK    OK    WARNINGS  UNNEEDED, same version is already published
kjohnson3macOS 13.7.7 Ventura / arm64  OK    OK    WARNINGS    OK  UNNEEDED, same version is already published
Package 52/182HostnameOS / ArchINSTALLBUILDCHECKBUILD BIN
epimutacions 1.14.0  (landing page)
Dolors Pelegri-Siso
git_last_commit: b56f6f9
git_last_commit_date: 2025-10-29 11:16:20 -0500
nebbiolo2Linux (Ubuntu 24.04.3 LTS) / x86_64  OK    OK    OK  UNNEEDED, same version is already published
kjohnson3macOS 13.7.7 Ventura / arm64  OK    OK    OK    OK  UNNEEDED, same version is already published
Package 53/182HostnameOS / ArchINSTALLBUILDCHECKBUILD BIN
esATAC 1.32.0  (landing page)
Zheng Wei
git_last_commit: 6d7ce39
git_last_commit_date: 2025-10-29 10:42:12 -0500
nebbiolo2Linux (Ubuntu 24.04.3 LTS) / x86_64  OK    OK    OK  UNNEEDED, same version is already published
kjohnson3macOS 13.7.7 Ventura / arm64  OK    OK    OK    OK  UNNEEDED, same version is already published
Package 54/182HostnameOS / ArchINSTALLBUILDCHECKBUILD BIN
ExCluster 1.28.0  (landing page)
R. Matthew Tanner
git_last_commit: 81bde96
git_last_commit_date: 2025-10-29 10:47:47 -0500
nebbiolo2Linux (Ubuntu 24.04.3 LTS) / x86_64  OK    OK    OK  UNNEEDED, same version is already published
kjohnson3macOS 13.7.7 Ventura / arm64  OK    OK    OK    OK  UNNEEDED, same version is already published
Package 55/182HostnameOS / ArchINSTALLBUILDCHECKBUILD BIN
extraChIPs 1.14.0  (landing page)
Stevie Pederson
git_last_commit: 9b0567a
git_last_commit_date: 2025-10-29 11:16:32 -0500
nebbiolo2Linux (Ubuntu 24.04.3 LTS) / x86_64  OK    OK    OK  UNNEEDED, same version is already published
kjohnson3macOS 13.7.7 Ventura / arm64  OK    OK    OK    OK  UNNEEDED, same version is already published
Package 56/182HostnameOS / ArchINSTALLBUILDCHECKBUILD BIN
factR 1.12.0  (landing page)
Fursham Hamid
git_last_commit: 1edd734
git_last_commit_date: 2025-10-29 11:17:33 -0500
nebbiolo2Linux (Ubuntu 24.04.3 LTS) / x86_64  OK    OK    OK  NO, package depends on 'drawProteins' which is not available
kjohnson3macOS 13.7.7 Ventura / arm64  OK    ERROR  skippedskipped
Package 57/182HostnameOS / ArchINSTALLBUILDCHECKBUILD BIN
fcScan 1.24.0  (landing page)
Pierre Khoueiry Abdullah El-Kurdi
git_last_commit: 8a15f70
git_last_commit_date: 2025-10-29 10:53:36 -0500
nebbiolo2Linux (Ubuntu 24.04.3 LTS) / x86_64  OK    OK    OK  UNNEEDED, same version is already published
kjohnson3macOS 13.7.7 Ventura / arm64  OK    OK    OK    OK  UNNEEDED, same version is already published
Package 58/182HostnameOS / ArchINSTALLBUILDCHECKBUILD BIN
FindIT2 1.16.0  (landing page)
Guandong Shang
git_last_commit: 4bef48e
git_last_commit_date: 2025-10-29 11:10:30 -0500
nebbiolo2Linux (Ubuntu 24.04.3 LTS) / x86_64  OK    OK    OK  UNNEEDED, same version is already published
kjohnson3macOS 13.7.7 Ventura / arm64  OK    OK    OK    OK  UNNEEDED, same version is already published
Package 59/182HostnameOS / ArchINSTALLBUILDCHECKBUILD BIN
FLAMES 2.4.1  (landing page)
Changqing Wang
git_last_commit: 41bbd55
git_last_commit_date: 2025-10-31 01:50:56 -0500
nebbiolo2Linux (Ubuntu 24.04.3 LTS) / x86_64  OK    OK    OK  UNNEEDED, same version is already published
kjohnson3macOS 13.7.7 Ventura / arm64  OK    OK    OK    OK  UNNEEDED, same version is already published
Package 60/182HostnameOS / ArchINSTALLBUILDCHECKBUILD BIN
geneAttribution 1.36.0  (landing page)
Arthur Wuster
git_last_commit: 3e52d75
git_last_commit_date: 2025-10-29 10:34:06 -0500
nebbiolo2Linux (Ubuntu 24.04.3 LTS) / x86_64  OK    OK    OK  UNNEEDED, same version is already published
kjohnson3macOS 13.7.7 Ventura / arm64  OK    OK    OK    OK  UNNEEDED, same version is already published
Package 61/182HostnameOS / ArchINSTALLBUILDCHECKBUILD BIN
GeneStructureTools 1.30.0  (landing page)
Beth Signal
git_last_commit: 3b1f07b
git_last_commit_date: 2025-10-29 10:43:43 -0500
nebbiolo2Linux (Ubuntu 24.04.3 LTS) / x86_64  OK    OK    OK  UNNEEDED, same version is already published
kjohnson3macOS 13.7.7 Ventura / arm64  OK    OK    OK    OK  UNNEEDED, same version is already published
Package 62/182HostnameOS / ArchINSTALLBUILDCHECKBUILD BIN
geneXtendeR 1.36.0  (landing page)
Bohdan Khomtchouk
git_last_commit: d65d2af
git_last_commit_date: 2025-10-29 10:34:47 -0500
nebbiolo2Linux (Ubuntu 24.04.3 LTS) / x86_64  OK    OK    WARNINGS  UNNEEDED, same version is already published
kjohnson3macOS 13.7.7 Ventura / arm64  OK    OK    WARNINGS    OK  UNNEEDED, same version is already published
Package 63/182HostnameOS / ArchINSTALLBUILDCHECKBUILD BIN
genomation 1.42.0  (landing page)
Altuna Akalin , Vedran Franke
git_last_commit: 01d23ac
git_last_commit_date: 2025-10-29 10:23:07 -0500
nebbiolo2Linux (Ubuntu 24.04.3 LTS) / x86_64  OK    OK    WARNINGS  UNNEEDED, same version is already published
kjohnson3macOS 13.7.7 Ventura / arm64  OK    OK    WARNINGS    OK  UNNEEDED, same version is already published
Package 64/182HostnameOS / ArchINSTALLBUILDCHECKBUILD BIN
GenomicFeatures 1.62.0  (landing page)
H. Pagès
git_last_commit: f4dfd41
git_last_commit_date: 2025-10-29 14:16:45 -0500
nebbiolo2Linux (Ubuntu 24.04.3 LTS) / x86_64  OK    OK    OK  UNNEEDED, same version is already published
kjohnson3macOS 13.7.7 Ventura / arm64  OK    OK    OK    OK  UNNEEDED, same version is already published
Package 65/182HostnameOS / ArchINSTALLBUILDCHECKBUILD BIN
GenomicFiles 1.46.0  (landing page)
Bioconductor Package Maintainer
git_last_commit: a7f3143
git_last_commit_date: 2025-10-29 10:19:18 -0500
nebbiolo2Linux (Ubuntu 24.04.3 LTS) / x86_64  OK    OK    OK  UNNEEDED, same version is already published
kjohnson3macOS 13.7.7 Ventura / arm64  OK    OK    OK    OK  UNNEEDED, same version is already published
Package 66/182HostnameOS / ArchINSTALLBUILDCHECKBUILD BIN
GenomicInteractions 1.44.0  (landing page)
Liz Ing-Simmons
git_last_commit: 7901852
git_last_commit_date: 2025-10-29 10:21:43 -0500
nebbiolo2Linux (Ubuntu 24.04.3 LTS) / x86_64  OK    OK    OK  UNNEEDED, same version is already published
kjohnson3macOS 13.7.7 Ventura / arm64  OK    OK    OK    OK  UNNEEDED, same version is already published
Package 67/182HostnameOS / ArchINSTALLBUILDCHECKBUILD BIN
GenomicPlot 1.8.0  (landing page)
Shuye Pu
git_last_commit: e9ce4a7
git_last_commit_date: 2025-10-29 11:24:51 -0500
nebbiolo2Linux (Ubuntu 24.04.3 LTS) / x86_64  OK    OK    OK  UNNEEDED, same version is already published
kjohnson3macOS 13.7.7 Ventura / arm64  OK    OK    OK    OK  UNNEEDED, same version is already published
Package 68/182HostnameOS / ArchINSTALLBUILDCHECKBUILD BIN
ggbio 1.58.0  (landing page)
Michael Lawrence
git_last_commit: 678f10e
git_last_commit_date: 2025-10-29 10:09:27 -0500
nebbiolo2Linux (Ubuntu 24.04.3 LTS) / x86_64  OK    OK    WARNINGS  UNNEEDED, same version is already published
kjohnson3macOS 13.7.7 Ventura / arm64  OK    OK    WARNINGS    OK  UNNEEDED, same version is already published
Package 69/182HostnameOS / ArchINSTALLBUILDCHECKBUILD BIN
gmapR 1.52.0  (landing page)
Michael Lawrence
git_last_commit: 10d6080
git_last_commit_date: 2025-10-29 10:11:34 -0500
nebbiolo2Linux (Ubuntu 24.04.3 LTS) / x86_64  OK    ERROR  skipped
kjohnson3macOS 13.7.7 Ventura / arm64  ERROR    ERROR  skippedskipped
Package 70/182HostnameOS / ArchINSTALLBUILDCHECKBUILD BIN
gmoviz 1.22.0  (landing page)
Kathleen Zeglinski
git_last_commit: 64c2454
git_last_commit_date: 2025-10-29 10:57:48 -0500
nebbiolo2Linux (Ubuntu 24.04.3 LTS) / x86_64  OK    OK    OK  UNNEEDED, same version is already published
kjohnson3macOS 13.7.7 Ventura / arm64  OK    OK    OK    OK  UNNEEDED, same version is already published
Package 71/182HostnameOS / ArchINSTALLBUILDCHECKBUILD BIN
goseq 1.62.0  (landing page)
Federico Marini
git_last_commit: e3ed9b9
git_last_commit_date: 2025-10-29 10:04:46 -0500
nebbiolo2Linux (Ubuntu 24.04.3 LTS) / x86_64  OK    OK    OK  UNNEEDED, same version is already published
kjohnson3macOS 13.7.7 Ventura / arm64  OK    OK    OK    OK  UNNEEDED, same version is already published
Package 72/182HostnameOS / ArchINSTALLBUILDCHECKBUILD BIN
GOTHiC 1.46.0  (landing page)
Borbala Mifsud
git_last_commit: 9a54459
git_last_commit_date: 2025-10-29 10:52:56 -0500
nebbiolo2Linux (Ubuntu 24.04.3 LTS) / x86_64  OK    OK    OK  UNNEEDED, same version is already published
kjohnson3macOS 13.7.7 Ventura / arm64  OK    OK    OK    OK  UNNEEDED, same version is already published
Package 73/182HostnameOS / ArchINSTALLBUILDCHECKBUILD BIN
GreyListChIP 1.42.0  (landing page)
Matt Eldridge
git_last_commit: df5cbdf
git_last_commit_date: 2025-10-29 10:23:48 -0500
nebbiolo2Linux (Ubuntu 24.04.3 LTS) / x86_64  OK    OK    OK  UNNEEDED, same version is already published
kjohnson3macOS 13.7.7 Ventura / arm64  OK    OK    OK    OK  UNNEEDED, same version is already published
Package 74/182HostnameOS / ArchINSTALLBUILDCHECKBUILD BIN
groHMM 1.44.0  (landing page)
Tulip Nandu
git_last_commit: 28ddd37
git_last_commit_date: 2025-10-29 10:22:29 -0500
nebbiolo2Linux (Ubuntu 24.04.3 LTS) / x86_64  OK    OK    WARNINGS  UNNEEDED, same version is already published
kjohnson3macOS 13.7.7 Ventura / arm64  OK    OK    WARNINGS    OK  UNNEEDED, same version is already published
Package 75/182HostnameOS / ArchINSTALLBUILDCHECKBUILD BIN
Guitar 2.26.0  (landing page)
Jia Meng
git_last_commit: 4c03ea8
git_last_commit_date: 2025-10-29 10:27:57 -0500
nebbiolo2Linux (Ubuntu 24.04.3 LTS) / x86_64  OK    OK    OK  UNNEEDED, same version is already published
kjohnson3macOS 13.7.7 Ventura / arm64  OK    OK    OK    OK  UNNEEDED, same version is already published
Package 76/182HostnameOS / ArchINSTALLBUILDCHECKBUILD BIN
gVenn 1.0.0  (landing page)
Christophe Tav
git_last_commit: 27b5dfc
git_last_commit_date: 2025-10-29 11:38:01 -0500
nebbiolo2Linux (Ubuntu 24.04.3 LTS) / x86_64  OK    OK    OK  UNNEEDED, same version is already published
kjohnson3macOS 13.7.7 Ventura / arm64  OK    OK    OK    OK  UNNEEDED, same version is already published
Package 77/182HostnameOS / ArchINSTALLBUILDCHECKBUILD BIN
Gviz 1.54.0  (landing page)
Robert Ivanek
git_last_commit: 05ebfa6
git_last_commit_date: 2025-10-29 10:10:17 -0500
nebbiolo2Linux (Ubuntu 24.04.3 LTS) / x86_64  OK    OK    OK  UNNEEDED, same version is already published
kjohnson3macOS 13.7.7 Ventura / arm64  OK    OK    OK    OK  UNNEEDED, same version is already published
Package 78/182HostnameOS / ArchINSTALLBUILDCHECKBUILD BIN
HelloRanges 1.36.0  (landing page)
Michael Lawrence
git_last_commit: 8035909
git_last_commit_date: 2025-10-29 10:35:10 -0500
nebbiolo2Linux (Ubuntu 24.04.3 LTS) / x86_64  OK    OK    OK  UNNEEDED, same version is already published
kjohnson3macOS 13.7.7 Ventura / arm64  OK    OK    OK    OK  UNNEEDED, same version is already published
Package 79/182HostnameOS / ArchINSTALLBUILDCHECKBUILD BIN
hiAnnotator 1.44.0  (landing page)
Nirav V Malani
git_last_commit: 5400e62
git_last_commit_date: 2025-10-29 10:19:32 -0500
nebbiolo2Linux (Ubuntu 24.04.3 LTS) / x86_64  OK    ERROR  skipped
kjohnson3macOS 13.7.7 Ventura / arm64  OK    ERROR  skippedskipped
Package 80/182HostnameOS / ArchINSTALLBUILDCHECKBUILD BIN
HicAggR 1.6.0  (landing page)
Olivier Cuvier
git_last_commit: 8551a70
git_last_commit_date: 2025-10-29 11:30:21 -0500
nebbiolo2Linux (Ubuntu 24.04.3 LTS) / x86_64  OK    OK    WARNINGS  UNNEEDED, same version is already published
kjohnson3macOS 13.7.7 Ventura / arm64  OK    OK    WARNINGS    OK  UNNEEDED, same version is already published
Package 81/182HostnameOS / ArchINSTALLBUILDCHECKBUILD BIN
HiCDCPlus 1.18.0  (landing page)
Merve Sahin
git_last_commit: 2c8bd39
git_last_commit_date: 2025-10-29 11:06:20 -0500
nebbiolo2Linux (Ubuntu 24.04.3 LTS) / x86_64  OK    OK    OK  UNNEEDED, same version is already published
kjohnson3macOS 13.7.7 Ventura / arm64  OK    OK    OK    OK  UNNEEDED, same version is already published
Package 82/182HostnameOS / ArchINSTALLBUILDCHECKBUILD BIN
HiCPotts 1.0.0  (landing page)
Itunu. Godwin Osuntoki
git_last_commit: d5f20b8
git_last_commit_date: 2025-10-29 11:37:09 -0500
nebbiolo2Linux (Ubuntu 24.04.3 LTS) / x86_64  OK    OK    OK  UNNEEDED, same version is already published
kjohnson3macOS 13.7.7 Ventura / arm64  OK    OK    OK    OK  UNNEEDED, same version is already published
Package 83/182HostnameOS / ArchINSTALLBUILDCHECKBUILD BIN
hicVennDiagram 1.8.0  (landing page)
Jianhong Ou
git_last_commit: 33c3f4f
git_last_commit_date: 2025-10-29 11:24:22 -0500
nebbiolo2Linux (Ubuntu 24.04.3 LTS) / x86_64  OK    OK    OK  UNNEEDED, same version is already published
kjohnson3macOS 13.7.7 Ventura / arm64  OK    OK    OK    OK  UNNEEDED, same version is already published
Package 84/182HostnameOS / ArchINSTALLBUILDCHECKBUILD BIN
HiTC 1.54.0  (landing page)
Nicolas Servant
git_last_commit: f8056e1
git_last_commit_date: 2025-10-29 10:10:49 -0500
nebbiolo2Linux (Ubuntu 24.04.3 LTS) / x86_64  OK    OK    WARNINGS  UNNEEDED, same version is already published
kjohnson3macOS 13.7.7 Ventura / arm64  OK    OK    WARNINGS    OK  UNNEEDED, same version is already published
Package 85/182HostnameOS / ArchINSTALLBUILDCHECKBUILD BIN
icetea 1.28.0  (landing page)
Vivek Bhardwaj
git_last_commit: f7f280d
git_last_commit_date: 2025-10-29 10:45:57 -0500
nebbiolo2Linux (Ubuntu 24.04.3 LTS) / x86_64  OK    OK    WARNINGS  UNNEEDED, same version is already published
kjohnson3macOS 13.7.7 Ventura / arm64  OK    OK    WARNINGS    OK  UNNEEDED, same version is already published
Package 86/182HostnameOS / ArchINSTALLBUILDCHECKBUILD BIN
IdeoViz 1.46.0  (landing page)
Shraddha Pai
git_last_commit: 917a5d0
git_last_commit_date: 2025-10-29 10:21:58 -0500
nebbiolo2Linux (Ubuntu 24.04.3 LTS) / x86_64  OK    OK    WARNINGS  UNNEEDED, same version is already published
kjohnson3macOS 13.7.7 Ventura / arm64  OK    OK    WARNINGS    OK  UNNEEDED, same version is already published
Package 87/182HostnameOS / ArchINSTALLBUILDCHECKBUILD BIN
igvR 1.30.0  (landing page)
Arkadiusz Gladki
git_last_commit: a0c5ecf
git_last_commit_date: 2025-10-29 10:45:01 -0500
nebbiolo2Linux (Ubuntu 24.04.3 LTS) / x86_64  OK    OK    OK  UNNEEDED, same version is already published
kjohnson3macOS 13.7.7 Ventura / arm64  OK    OK    OK    OK  UNNEEDED, same version is already published
Package 88/182HostnameOS / ArchINSTALLBUILDCHECKBUILD BIN
INSPEcT 1.40.0  (landing page)
Stefano de Pretis
git_last_commit: c9f5ce1
git_last_commit_date: 2025-10-29 10:26:37 -0500
nebbiolo2Linux (Ubuntu 24.04.3 LTS) / x86_64  OK    OK    OK  UNNEEDED, same version is already published
kjohnson3macOS 13.7.7 Ventura / arm64  OK    OK    OK    OK  UNNEEDED, same version is already published
Package 89/182HostnameOS / ArchINSTALLBUILDCHECKBUILD BIN
InTAD 1.30.0  (landing page)
Konstantin Okonechnikov
git_last_commit: a8e25c4
git_last_commit_date: 2025-10-29 10:44:46 -0500
nebbiolo2Linux (Ubuntu 24.04.3 LTS) / x86_64  OK    OK    OK  UNNEEDED, same version is already published
kjohnson3macOS 13.7.7 Ventura / arm64  OK    OK    OK    OK  UNNEEDED, same version is already published
Package 90/182HostnameOS / ArchINSTALLBUILDCHECKBUILD BIN
IsoformSwitchAnalyzeR 2.10.0  (landing page)
Kristoffer Vitting-Seerup
git_last_commit: 34e7c83
git_last_commit_date: 2025-10-29 10:38:58 -0500
nebbiolo2Linux (Ubuntu 24.04.3 LTS) / x86_64  OK    OK    OK  UNNEEDED, same version is already published
kjohnson3macOS 13.7.7 Ventura / arm64  OK    OK    OK    OK  UNNEEDED, same version is already published
Package 91/182HostnameOS / ArchINSTALLBUILDCHECKBUILD BIN
karyoploteR 1.36.0  (landing page)
Bernat Gel
git_last_commit: 50652ef
git_last_commit_date: 2025-10-29 10:36:38 -0500
nebbiolo2Linux (Ubuntu 24.04.3 LTS) / x86_64  OK    OK    OK  UNNEEDED, same version is already published
kjohnson3macOS 13.7.7 Ventura / arm64  OK    OK    OK    OK  UNNEEDED, same version is already published
Package 92/182HostnameOS / ArchINSTALLBUILDCHECKBUILD BIN
m6Aboost 1.16.0  (landing page)
You Zhou
git_last_commit: 97ed1dd
git_last_commit_date: 2025-10-29 11:10:16 -0500
nebbiolo2Linux (Ubuntu 24.04.3 LTS) / x86_64  OK    OK    OK  UNNEEDED, same version is already published
kjohnson3macOS 13.7.7 Ventura / arm64  OK    OK    OK    OK  UNNEEDED, same version is already published
Package 93/182HostnameOS / ArchINSTALLBUILDCHECKBUILD BIN
MADSEQ 1.36.0  (landing page)
Yu Kong
git_last_commit: 856530e
git_last_commit_date: 2025-10-29 10:32:36 -0500
nebbiolo2Linux (Ubuntu 24.04.3 LTS) / x86_64  ERROR    ERROR  skipped
kjohnson3macOS 13.7.7 Ventura / arm64  ERROR    ERROR  skippedskipped
Package 94/182HostnameOS / ArchINSTALLBUILDCHECKBUILD BIN
magpie 1.10.0  (landing page)
Daoyu Duan
git_last_commit: 0afc3bf
git_last_commit_date: 2025-10-29 11:21:48 -0500
nebbiolo2Linux (Ubuntu 24.04.3 LTS) / x86_64  OK    OK    WARNINGS  UNNEEDED, same version is already published
kjohnson3macOS 13.7.7 Ventura / arm64  OK    OK    WARNINGS    OK  UNNEEDED, same version is already published
Package 95/182HostnameOS / ArchINSTALLBUILDCHECKBUILD BIN
maser 1.28.0  (landing page)
Diogo F.T. Veiga
git_last_commit: f9a04bc
git_last_commit_date: 2025-10-29 10:45:34 -0500
nebbiolo2Linux (Ubuntu 24.04.3 LTS) / x86_64  OK    ERROR  skipped
kjohnson3macOS 13.7.7 Ventura / arm64  OK    ERROR  skippedskipped
Package 96/182HostnameOS / ArchINSTALLBUILDCHECKBUILD BIN
MEDIPS 1.62.0  (landing page)
Lukas Chavez
git_last_commit: 8748557
git_last_commit_date: 2025-10-29 10:06:09 -0500
nebbiolo2Linux (Ubuntu 24.04.3 LTS) / x86_64  OK    OK    OK  UNNEEDED, same version is already published
kjohnson3macOS 13.7.7 Ventura / arm64  OK    OK    OK    OK  UNNEEDED, same version is already published
Package 97/182HostnameOS / ArchINSTALLBUILDCHECKBUILD BIN
metagene2 1.26.0  (landing page)
Eric Fournier
git_last_commit: 6ab755a
git_last_commit_date: 2025-10-29 10:52:02 -0500
nebbiolo2Linux (Ubuntu 24.04.3 LTS) / x86_64  OK    OK    WARNINGS  UNNEEDED, same version is already published
kjohnson3macOS 13.7.7 Ventura / arm64  OK    OK    WARNINGS    OK  UNNEEDED, same version is already published
Package 98/182HostnameOS / ArchINSTALLBUILDCHECKBUILD BIN
metaseqR2 1.22.0  (landing page)
Panagiotis Moulos
git_last_commit: e5e7809
git_last_commit_date: 2025-10-29 10:59:18 -0500
nebbiolo2Linux (Ubuntu 24.04.3 LTS) / x86_64  OK    OK    ERROR  
kjohnson3macOS 13.7.7 Ventura / arm64  OK    OK    OK    OK  UNNEEDED, same version is already published
Package 99/182HostnameOS / ArchINSTALLBUILDCHECKBUILD BIN
methodical 1.6.0  (landing page)
Richard Heery
git_last_commit: ebf4ab4
git_last_commit_date: 2025-10-29 11:27:18 -0500
nebbiolo2Linux (Ubuntu 24.04.3 LTS) / x86_64  OK    OK    WARNINGS  UNNEEDED, same version is already published
kjohnson3macOS 13.7.7 Ventura / arm64  OK    OK    WARNINGS    OK  UNNEEDED, same version is already published
Package 100/182HostnameOS / ArchINSTALLBUILDCHECKBUILD BIN
methrix 1.24.0  (landing page)
Anand Mayakonda
git_last_commit: 3c2cf85
git_last_commit_date: 2025-10-29 10:55:34 -0500
nebbiolo2Linux (Ubuntu 24.04.3 LTS) / x86_64  OK    OK    OK  UNNEEDED, same version is already published
kjohnson3macOS 13.7.7 Ventura / arm64  OK    OK    OK    OK  UNNEEDED, same version is already published
Package 101/182HostnameOS / ArchINSTALLBUILDCHECKBUILD BIN
methylKit 1.36.0  (landing page)
Altuna Akalin , Alexander Blume
git_last_commit: c65437a
git_last_commit_date: 2025-10-29 10:33:14 -0500
nebbiolo2Linux (Ubuntu 24.04.3 LTS) / x86_64  OK    OK    OK  UNNEEDED, same version is already published
kjohnson3macOS 13.7.7 Ventura / arm64  OK    OK    OK    OK  UNNEEDED, same version is already published
Package 102/182HostnameOS / ArchINSTALLBUILDCHECKBUILD BIN
MethylSeekR 1.50.0  (landing page)
Lukas Burger
git_last_commit: f26dd67
git_last_commit_date: 2025-10-29 10:13:29 -0500
nebbiolo2Linux (Ubuntu 24.04.3 LTS) / x86_64  OK    OK    OK  UNNEEDED, same version is already published
kjohnson3macOS 13.7.7 Ventura / arm64  OK    OK    OK    OK  UNNEEDED, same version is already published
Package 103/182HostnameOS / ArchINSTALLBUILDCHECKBUILD BIN
mist 1.2.0  (landing page)
Daoyu Duan
git_last_commit: 2a8026a
git_last_commit_date: 2025-10-29 11:33:35 -0500
nebbiolo2Linux (Ubuntu 24.04.3 LTS) / x86_64  OK    OK    WARNINGS  UNNEEDED, same version is already published
kjohnson3macOS 13.7.7 Ventura / arm64  OK    OK    WARNINGS    OK  UNNEEDED, same version is already published
Package 104/182HostnameOS / ArchINSTALLBUILDCHECKBUILD BIN
mobileRNA 1.6.0  (landing page)
Katie Jeynes-Cupper
git_last_commit: 0497702
git_last_commit_date: 2025-10-29 11:28:04 -0500
nebbiolo2Linux (Ubuntu 24.04.3 LTS) / x86_64  OK    OK    ERROR  
kjohnson3macOS 13.7.7 Ventura / arm64  OK    OK    ERROR    OK  
Package 105/182HostnameOS / ArchINSTALLBUILDCHECKBUILD BIN
Moonlight2R 1.8.0  (landing page)
Matteo Tiberti
git_last_commit: 7f42b79
git_last_commit_date: 2025-10-29 11:25:19 -0500
nebbiolo2Linux (Ubuntu 24.04.3 LTS) / x86_64  OK    OK    OK  UNNEEDED, same version is already published
kjohnson3macOS 13.7.7 Ventura / arm64  OK    OK    OK    OK  UNNEEDED, same version is already published
Package 106/182HostnameOS / ArchINSTALLBUILDCHECKBUILD BIN
motifbreakR 2.24.0  (landing page)
Simon Gert Coetzee
git_last_commit: 79ca231
git_last_commit_date: 2025-10-29 10:27:43 -0500
nebbiolo2Linux (Ubuntu 24.04.3 LTS) / x86_64  OK    OK    WARNINGS  UNNEEDED, same version is already published
kjohnson3macOS 13.7.7 Ventura / arm64  OK    OK    WARNINGS    OK  UNNEEDED, same version is already published
Package 107/182HostnameOS / ArchINSTALLBUILDCHECKBUILD BIN
MotifDb 1.52.0  (landing page)
Paul Shannon
git_last_commit: 84d7458
git_last_commit_date: 2025-10-29 10:11:46 -0500
nebbiolo2Linux (Ubuntu 24.04.3 LTS) / x86_64  OK    OK    WARNINGS  UNNEEDED, same version is already published
kjohnson3macOS 13.7.7 Ventura / arm64  OK    OK    WARNINGS    OK  UNNEEDED, same version is already published
Package 108/182HostnameOS / ArchINSTALLBUILDCHECKBUILD BIN
MotifPeeker 1.2.0  (landing page)
Hiranyamaya Dash
git_last_commit: aee3e06
git_last_commit_date: 2025-10-29 11:33:15 -0500
nebbiolo2Linux (Ubuntu 24.04.3 LTS) / x86_64  OK    OK    OK  UNNEEDED, same version is already published
kjohnson3macOS 13.7.7 Ventura / arm64  OK    OK    OK    OK  UNNEEDED, same version is already published
Package 109/182HostnameOS / ArchINSTALLBUILDCHECKBUILD BIN
multicrispr 1.20.0  (landing page)
Aditya Bhagwat
git_last_commit: 1e84407
git_last_commit_date: 2025-10-29 10:59:55 -0500
nebbiolo2Linux (Ubuntu 24.04.3 LTS) / x86_64  OK    OK    OK  UNNEEDED, same version is already published
kjohnson3macOS 13.7.7 Ventura / arm64  OK    OK    OK    OK  UNNEEDED, same version is already published
Package 110/182HostnameOS / ArchINSTALLBUILDCHECKBUILD BIN
MungeSumstats 1.18.0  (landing page)
Alan Murphy
git_last_commit: e2c1431
git_last_commit_date: 2025-10-29 11:08:14 -0500
nebbiolo2Linux (Ubuntu 24.04.3 LTS) / x86_64  OK    OK    OK  UNNEEDED, same version is already published
kjohnson3macOS 13.7.7 Ventura / arm64  OK    OK    OK    OK  UNNEEDED, same version is already published
Package 111/182HostnameOS / ArchINSTALLBUILDCHECKBUILD BIN
NADfinder 1.34.0  (landing page)
Jianhong Ou
git_last_commit: 24bbc3f
git_last_commit_date: 2025-10-29 10:37:48 -0500
nebbiolo2Linux (Ubuntu 24.04.3 LTS) / x86_64  OK    OK    OK  UNNEEDED, same version is already published
kjohnson3macOS 13.7.7 Ventura / arm64  OK    OK    OK    OK  UNNEEDED, same version is already published
Package 112/182HostnameOS / ArchINSTALLBUILDCHECKBUILD BIN
nearBynding 1.20.0  (landing page)
Veronica Busa
git_last_commit: a5f36da
git_last_commit_date: 2025-10-29 11:02:17 -0500
nebbiolo2Linux (Ubuntu 24.04.3 LTS) / x86_64  OK    OK    OK  UNNEEDED, same version is already published
kjohnson3macOS 13.7.7 Ventura / arm64  OK    OK    OK    OK  UNNEEDED, same version is already published
Package 113/182HostnameOS / ArchINSTALLBUILDCHECKBUILD BIN
NoRCE 1.22.0  (landing page)
Gulden Olgun
git_last_commit: 355a24c
git_last_commit_date: 2025-10-29 10:57:38 -0500
nebbiolo2Linux (Ubuntu 24.04.3 LTS) / x86_64  OK    OK    OK  UNNEEDED, same version is already published
kjohnson3macOS 13.7.7 Ventura / arm64  OK    OK    OK    OK  UNNEEDED, same version is already published
Package 114/182HostnameOS / ArchINSTALLBUILDCHECKBUILD BIN
normr 1.36.0  (landing page)
Johannes Helmuth
git_last_commit: 9a5bb3a
git_last_commit_date: 2025-10-29 10:32:51 -0500
nebbiolo2Linux (Ubuntu 24.04.3 LTS) / x86_64  OK    OK    WARNINGS  UNNEEDED, same version is already published
kjohnson3macOS 13.7.7 Ventura / arm64  OK    OK    WARNINGS    OK  UNNEEDED, same version is already published
Package 115/182HostnameOS / ArchINSTALLBUILDCHECKBUILD BIN
OGRE 1.14.0  (landing page)
Sven Berres
git_last_commit: 0f074f4
git_last_commit_date: 2025-10-29 11:14:29 -0500
nebbiolo2Linux (Ubuntu 24.04.3 LTS) / x86_64  OK    OK    OK  UNNEEDED, same version is already published
kjohnson3macOS 13.7.7 Ventura / arm64  OK    OK    OK    OK  UNNEEDED, same version is already published
Package 116/182HostnameOS / ArchINSTALLBUILDCHECKBUILD BIN
OMICsPCA 1.28.0  (landing page)
Subhadeep Das
git_last_commit: 57b6111
git_last_commit_date: 2025-10-29 10:47:49 -0500
nebbiolo2Linux (Ubuntu 24.04.3 LTS) / x86_64  OK    OK    OK  UNNEEDED, same version is already published
kjohnson3macOS 13.7.7 Ventura / arm64  OK    OK    OK    OK  UNNEEDED, same version is already published
Package 117/182HostnameOS / ArchINSTALLBUILDCHECKBUILD BIN
ORFhunteR 1.18.0  (landing page)
Vasily V. Grinev
git_last_commit: 92b6d57
git_last_commit_date: 2025-10-29 11:05:57 -0500
nebbiolo2Linux (Ubuntu 24.04.3 LTS) / x86_64  OK    OK    WARNINGS  UNNEEDED, same version is already published
kjohnson3macOS 13.7.7 Ventura / arm64  OK    OK    WARNINGS    OK  UNNEEDED, same version is already published
Package 118/182HostnameOS / ArchINSTALLBUILDCHECKBUILD BIN
ORFik 1.30.0  (landing page)
Haakon Tjeldnes
git_last_commit: b860267
git_last_commit_date: 2025-10-29 10:45:22 -0500
nebbiolo2Linux (Ubuntu 24.04.3 LTS) / x86_64  OK    OK    OK  UNNEEDED, same version is already published
kjohnson3macOS 13.7.7 Ventura / arm64  OK    OK    OK    OK  UNNEEDED, same version is already published
Package 119/182HostnameOS / ArchINSTALLBUILDCHECKBUILD BIN
PAST 1.26.0  (landing page)
Thrash Adam
git_last_commit: aa1cbad
git_last_commit_date: 2025-10-29 10:52:22 -0500
nebbiolo2Linux (Ubuntu 24.04.3 LTS) / x86_64  OK    OK    WARNINGS  UNNEEDED, same version is already published
kjohnson3macOS 13.7.7 Ventura / arm64  OK    OK    WARNINGS    OK  UNNEEDED, same version is already published
Package 120/182HostnameOS / ArchINSTALLBUILDCHECKBUILD BIN
periodicDNA 1.20.0  (landing page)
Jacques Serizay
git_last_commit: 4feee90
git_last_commit_date: 2025-10-29 11:01:58 -0500
nebbiolo2Linux (Ubuntu 24.04.3 LTS) / x86_64  OK    OK    WARNINGS  UNNEEDED, same version is already published
kjohnson3macOS 13.7.7 Ventura / arm64  OK    OK    WARNINGS    OK  UNNEEDED, same version is already published
Package 121/182HostnameOS / ArchINSTALLBUILDCHECKBUILD BIN
plyranges 1.30.0  (landing page)
Michael Love
git_last_commit: 6243859
git_last_commit_date: 2025-10-29 10:44:22 -0500
nebbiolo2Linux (Ubuntu 24.04.3 LTS) / x86_64  OK    OK    OK  UNNEEDED, same version is already published
kjohnson3macOS 13.7.7 Ventura / arm64  OK    OK    ERROR    OK  
Package 122/182HostnameOS / ArchINSTALLBUILDCHECKBUILD BIN
PMScanR 1.0.0  (landing page)
Jan Pawel Jastrzebski
git_last_commit: b9f2642
git_last_commit_date: 2025-10-29 11:38:20 -0500
nebbiolo2Linux (Ubuntu 24.04.3 LTS) / x86_64  OK    OK    OK  UNNEEDED, same version is already published
kjohnson3macOS 13.7.7 Ventura / arm64  OK    OK    OK    OK  UNNEEDED, same version is already published
Package 123/182HostnameOS / ArchINSTALLBUILDCHECKBUILD BIN
pram 1.26.0  (landing page)
Peng Liu
git_last_commit: 18e4eb0
git_last_commit_date: 2025-10-29 10:50:34 -0500
nebbiolo2Linux (Ubuntu 24.04.3 LTS) / x86_64  OK    OK    OK  UNNEEDED, same version is already published
kjohnson3macOS 13.7.7 Ventura / arm64  OK    OK    OK    OK  UNNEEDED, same version is already published
Package 124/182HostnameOS / ArchINSTALLBUILDCHECKBUILD BIN
primirTSS 1.28.0  (landing page)
Pumin Li
git_last_commit: 9d01dbb
git_last_commit_date: 2025-10-29 10:47:22 -0500
nebbiolo2Linux (Ubuntu 24.04.3 LTS) / x86_64  OK    OK    WARNINGS  UNNEEDED, same version is already published
kjohnson3macOS 13.7.7 Ventura / arm64  OK    OK    WARNINGS    OK  UNNEEDED, same version is already published
Package 125/182HostnameOS / ArchINSTALLBUILDCHECKBUILD BIN
proBAMr 1.44.0  (landing page)
Xiaojing Wang
git_last_commit: 90383eb
git_last_commit_date: 2025-10-29 10:22:01 -0500
nebbiolo2Linux (Ubuntu 24.04.3 LTS) / x86_64  OK    OK    OK  UNNEEDED, same version is already published
kjohnson3macOS 13.7.7 Ventura / arm64  OK    OK    OK    OK  UNNEEDED, same version is already published
Package 126/182HostnameOS / ArchINSTALLBUILDCHECKBUILD BIN
profileplyr 1.26.0  (landing page)
Tom Carroll , Doug Barrows
git_last_commit: b8113ee
git_last_commit_date: 2025-10-29 10:51:25 -0500
nebbiolo2Linux (Ubuntu 24.04.3 LTS) / x86_64  OK    OK    OK  NO, package depends on 'soGGi' which is not available
kjohnson3macOS 13.7.7 Ventura / arm64  OK    OK    OK    OK  NO, package depends on 'soGGi' which is not available
Package 127/182HostnameOS / ArchINSTALLBUILDCHECKBUILD BIN
PureCN 2.16.0  (landing page)
Markus Riester
git_last_commit: c7ace8b
git_last_commit_date: 2025-10-29 10:31:57 -0500
nebbiolo2Linux (Ubuntu 24.04.3 LTS) / x86_64  OK    OK    OK  UNNEEDED, same version is already published
kjohnson3macOS 13.7.7 Ventura / arm64  OK    OK    OK    OK  UNNEEDED, same version is already published
Package 128/182HostnameOS / ArchINSTALLBUILDCHECKBUILD BIN
qsea 1.36.0  (landing page)
Matthias Lienhard
git_last_commit: a9ac816
git_last_commit_date: 2025-10-29 10:32:56 -0500
nebbiolo2Linux (Ubuntu 24.04.3 LTS) / x86_64  OK    OK    WARNINGS  UNNEEDED, same version is already published
kjohnson3macOS 13.7.7 Ventura / arm64  ERROR    ERROR  skippedskipped
Package 129/182HostnameOS / ArchINSTALLBUILDCHECKBUILD BIN
QuasR 1.50.0  (landing page)
Michael Stadler
git_last_commit: 3274f2d
git_last_commit_date: 2025-10-29 10:13:16 -0500
nebbiolo2Linux (Ubuntu 24.04.3 LTS) / x86_64  OK    OK    WARNINGS  UNNEEDED, same version is already published
kjohnson3macOS 13.7.7 Ventura / arm64  OK    OK    WARNINGS    OK  UNNEEDED, same version is already published
Package 130/182HostnameOS / ArchINSTALLBUILDCHECKBUILD BIN
r3Cseq 1.56.0  (landing page)
Supat Thongjuea or
git_last_commit: 4184f01
git_last_commit_date: 2025-10-29 10:09:24 -0500
nebbiolo2Linux (Ubuntu 24.04.3 LTS) / x86_64  OK    OK    OK  UNNEEDED, same version is already published
kjohnson3macOS 13.7.7 Ventura / arm64  OK    OK    OK    OK  UNNEEDED, same version is already published
Package 131/182HostnameOS / ArchINSTALLBUILDCHECKBUILD BIN
raer 1.8.0  (landing page)
Kent Riemondy
git_last_commit: 1e83c0c
git_last_commit_date: 2025-10-29 11:26:05 -0500
nebbiolo2Linux (Ubuntu 24.04.3 LTS) / x86_64  OK    OK    OK  UNNEEDED, same version is already published
kjohnson3macOS 13.7.7 Ventura / arm64  OK    OK    OK    OK  UNNEEDED, same version is already published
Package 132/182HostnameOS / ArchINSTALLBUILDCHECKBUILD BIN
RCAS 1.36.0  (landing page)
Bora Uyar
git_last_commit: 780ed18
git_last_commit_date: 2025-10-29 10:33:22 -0500
nebbiolo2Linux (Ubuntu 24.04.3 LTS) / x86_64  OK    OK    OK  UNNEEDED, same version is already published
kjohnson3macOS 13.7.7 Ventura / arm64  OK    OK    OK    OK  UNNEEDED, same version is already published
Package 133/182HostnameOS / ArchINSTALLBUILDCHECKBUILD BIN
recount 1.36.0  (landing page)
Leonardo Collado-Torres
git_last_commit: 42cbd6e
git_last_commit_date: 2025-10-29 10:33:35 -0500
nebbiolo2Linux (Ubuntu 24.04.3 LTS) / x86_64  OK    OK    OK  UNNEEDED, same version is already published
kjohnson3macOS 13.7.7 Ventura / arm64  OK    OK    OK    OK  UNNEEDED, same version is already published
Package 134/182HostnameOS / ArchINSTALLBUILDCHECKBUILD BIN
recount3 1.20.0  (landing page)
Leonardo Collado-Torres
git_last_commit: 33bfdcd
git_last_commit_date: 2025-10-29 11:03:22 -0500
nebbiolo2Linux (Ubuntu 24.04.3 LTS) / x86_64  OK    OK    OK  UNNEEDED, same version is already published
kjohnson3macOS 13.7.7 Ventura / arm64  OK    OK    OK    OK  UNNEEDED, same version is already published
Package 135/182HostnameOS / ArchINSTALLBUILDCHECKBUILD BIN
recoup 1.38.0  (landing page)
Panagiotis Moulos
git_last_commit: 7728d2d
git_last_commit_date: 2025-10-29 10:31:02 -0500
nebbiolo2Linux (Ubuntu 24.04.3 LTS) / x86_64  OK    OK    OK  UNNEEDED, same version is already published
kjohnson3macOS 13.7.7 Ventura / arm64  OK    OK    OK    OK  UNNEEDED, same version is already published
Package 136/182HostnameOS / ArchINSTALLBUILDCHECKBUILD BIN
regioneR 1.42.0  (landing page)
Bernat Gel
git_last_commit: eb018a1
git_last_commit_date: 2025-10-29 10:25:09 -0500
nebbiolo2Linux (Ubuntu 24.04.3 LTS) / x86_64  OK    OK    OK  UNNEEDED, same version is already published
kjohnson3macOS 13.7.7 Ventura / arm64  OK    OK    OK    OK  UNNEEDED, same version is already published
Package 137/182HostnameOS / ArchINSTALLBUILDCHECKBUILD BIN
REMP 1.34.0  (landing page)
Yinan Zheng
git_last_commit: 7f2a04f
git_last_commit_date: 2025-10-29 10:36:53 -0500
nebbiolo2Linux (Ubuntu 24.04.3 LTS) / x86_64  OK    OK    OK  UNNEEDED, same version is already published
kjohnson3macOS 13.7.7 Ventura / arm64  OK    OK    OK    OK  UNNEEDED, same version is already published
Package 138/182HostnameOS / ArchINSTALLBUILDCHECKBUILD BIN
Repitools 1.56.0  (landing page)
Mark Robinson
git_last_commit: e46521a
git_last_commit_date: 2025-10-29 10:08:02 -0500
nebbiolo2Linux (Ubuntu 24.04.3 LTS) / x86_64  ERROR    ERROR  skipped
kjohnson3macOS 13.7.7 Ventura / arm64  ERROR    ERROR  skippedskipped
Package 139/182HostnameOS / ArchINSTALLBUILDCHECKBUILD BIN
RiboCrypt 1.16.0  (landing page)
Michal Swirski
git_last_commit: e202b8e
git_last_commit_date: 2025-10-29 11:13:40 -0500
nebbiolo2Linux (Ubuntu 24.04.3 LTS) / x86_64  OK    OK    OK  UNNEEDED, same version is already published
kjohnson3macOS 13.7.7 Ventura / arm64  OK    OK    OK    OK  UNNEEDED, same version is already published
Package 140/182HostnameOS / ArchINSTALLBUILDCHECKBUILD BIN
RiboProfiling 1.40.0  (landing page)
A. Popa
git_last_commit: 43cc4ee
git_last_commit_date: 2025-10-29 10:28:21 -0500
nebbiolo2Linux (Ubuntu 24.04.3 LTS) / x86_64  OK    ERROR  skipped
kjohnson3macOS 13.7.7 Ventura / arm64  OK    ERROR  skippedskipped
Package 141/182HostnameOS / ArchINSTALLBUILDCHECKBUILD BIN
ribosomeProfilingQC 1.22.0  (landing page)
Jianhong Ou
git_last_commit: d8ce3bd
git_last_commit_date: 2025-10-29 10:57:03 -0500
nebbiolo2Linux (Ubuntu 24.04.3 LTS) / x86_64  OK    OK    OK  UNNEEDED, same version is already published
kjohnson3macOS 13.7.7 Ventura / arm64  OK    OK    OK    OK  UNNEEDED, same version is already published
Package 142/182HostnameOS / ArchINSTALLBUILDCHECKBUILD BIN
rifi 1.14.0  (landing page)
Jens Georg
git_last_commit: ef65993
git_last_commit_date: 2025-10-29 11:16:59 -0500
nebbiolo2Linux (Ubuntu 24.04.3 LTS) / x86_64  OK    OK    WARNINGS  UNNEEDED, same version is already published
kjohnson3macOS 13.7.7 Ventura / arm64  OK    OK    WARNINGS    OK  UNNEEDED, same version is already published
Package 143/182HostnameOS / ArchINSTALLBUILDCHECKBUILD BIN
rifiComparative 1.10.0  (landing page)
Loubna Youssar
git_last_commit: b07cf67
git_last_commit_date: 2025-10-29 11:20:47 -0500
nebbiolo2Linux (Ubuntu 24.04.3 LTS) / x86_64  OK    OK    OK  UNNEEDED, same version is already published
kjohnson3macOS 13.7.7 Ventura / arm64  OK    OK    OK    OK  UNNEEDED, same version is already published
Package 144/182HostnameOS / ArchINSTALLBUILDCHECKBUILD BIN
rmspc 1.16.0  (landing page)
Meriem Bahda
git_last_commit: 28a622e
git_last_commit_date: 2025-10-29 11:11:37 -0500
nebbiolo2Linux (Ubuntu 24.04.3 LTS) / x86_64  OK    OK    OK  UNNEEDED, same version is already published
kjohnson3macOS 13.7.7 Ventura / arm64  OK    OK    OK    OK  UNNEEDED, same version is already published
Package 145/182HostnameOS / ArchINSTALLBUILDCHECKBUILD BIN
RNAmodR 1.24.0  (landing page)
Felix G.M. Ernst
git_last_commit: 683b357
git_last_commit_date: 2025-10-29 10:52:38 -0500
nebbiolo2Linux (Ubuntu 24.04.3 LTS) / x86_64  OK    OK    OK  UNNEEDED, same version is already published
kjohnson3macOS 13.7.7 Ventura / arm64  OK    OK    OK    OK  UNNEEDED, same version is already published
Package 146/182HostnameOS / ArchINSTALLBUILDCHECKBUILD BIN
roar 1.46.0  (landing page)
Elena Grassi
git_last_commit: bb81790
git_last_commit_date: 2025-10-29 10:17:36 -0500
nebbiolo2Linux (Ubuntu 24.04.3 LTS) / x86_64  OK    OK    OK  UNNEEDED, same version is already published
kjohnson3macOS 13.7.7 Ventura / arm64  OK    OK    OK    OK  UNNEEDED, same version is already published
Package 147/182HostnameOS / ArchINSTALLBUILDCHECKBUILD BIN
scanMiRApp 1.16.0  (landing page)
Pierre-Luc Germain
git_last_commit: bd87b89
git_last_commit_date: 2025-10-29 11:11:11 -0500
nebbiolo2Linux (Ubuntu 24.04.3 LTS) / x86_64  OK    OK    OK  UNNEEDED, same version is already published
kjohnson3macOS 13.7.7 Ventura / arm64  OK    OK    OK    OK  UNNEEDED, same version is already published
Package 148/182HostnameOS / ArchINSTALLBUILDCHECKBUILD BIN
SCANVIS 1.24.0  (landing page)
Phaedra Agius
git_last_commit: 5b11f6c
git_last_commit_date: 2025-10-29 10:53:09 -0500
nebbiolo2Linux (Ubuntu 24.04.3 LTS) / x86_64  OK    OK    ERROR  
kjohnson3macOS 13.7.7 Ventura / arm64  OK    OK    OK    OK  UNNEEDED, same version is already published
Package 149/182HostnameOS / ArchINSTALLBUILDCHECKBUILD BIN
scDblFinder 1.24.0  (landing page)
Pierre-Luc Germain
git_last_commit: 0336756
git_last_commit_date: 2025-10-29 10:55:23 -0500
nebbiolo2Linux (Ubuntu 24.04.3 LTS) / x86_64  OK    OK    OK  UNNEEDED, same version is already published
kjohnson3macOS 13.7.7 Ventura / arm64  OK    OK    OK    OK  UNNEEDED, same version is already published
Package 150/182HostnameOS / ArchINSTALLBUILDCHECKBUILD BIN
scPipe 2.10.0  (landing page)
Shian Su
git_last_commit: c021029
git_last_commit_date: 2025-10-29 10:41:31 -0500
nebbiolo2Linux (Ubuntu 24.04.3 LTS) / x86_64  OK    OK    OK  UNNEEDED, same version is already published
kjohnson3macOS 13.7.7 Ventura / arm64  OK    OK    OK    OK  UNNEEDED, same version is already published
Package 151/182HostnameOS / ArchINSTALLBUILDCHECKBUILD BIN
scRNAseqApp 1.10.0  (landing page)
Jianhong Ou
git_last_commit: 799772d
git_last_commit_date: 2025-10-29 11:20:39 -0500
nebbiolo2Linux (Ubuntu 24.04.3 LTS) / x86_64  OK    OK    OK  UNNEEDED, same version is already published
kjohnson3macOS 13.7.7 Ventura / arm64  OK    OK    OK    OK  UNNEEDED, same version is already published
Package 152/182HostnameOS / ArchINSTALLBUILDCHECKBUILD BIN
scruff 1.28.0  (landing page)
Zhe Wang
git_last_commit: 085152e
git_last_commit_date: 2025-10-29 10:46:27 -0500
nebbiolo2Linux (Ubuntu 24.04.3 LTS) / x86_64  OK    OK    OK  UNNEEDED, same version is already published
kjohnson3macOS 13.7.7 Ventura / arm64  OK    OK    OK    OK  UNNEEDED, same version is already published
Package 153/182HostnameOS / ArchINSTALLBUILDCHECKBUILD BIN
seqCAT 1.32.0  (landing page)
Erik Fasterius
git_last_commit: ccf04ac
git_last_commit_date: 2025-10-29 10:40:54 -0500
nebbiolo2Linux (Ubuntu 24.04.3 LTS) / x86_64  OK    OK    OK  UNNEEDED, same version is already published
kjohnson3macOS 13.7.7 Ventura / arm64  OK    OK    OK    OK  UNNEEDED, same version is already published
Package 154/182HostnameOS / ArchINSTALLBUILDCHECKBUILD BIN
seqsetvis 1.30.0  (landing page)
Joseph R Boyd
git_last_commit: 079b602
git_last_commit_date: 2025-10-29 10:44:19 -0500
nebbiolo2Linux (Ubuntu 24.04.3 LTS) / x86_64  OK    OK    OK  UNNEEDED, same version is already published
kjohnson3macOS 13.7.7 Ventura / arm64  OK    OK    OK    OK  UNNEEDED, same version is already published
Package 155/182HostnameOS / ArchINSTALLBUILDCHECKBUILD BIN
sevenC 1.30.0  (landing page)
Jonas Ibn-Salem
git_last_commit: c38ab75
git_last_commit_date: 2025-10-29 10:45:03 -0500
nebbiolo2Linux (Ubuntu 24.04.3 LTS) / x86_64  OK    OK    OK  UNNEEDED, same version is already published
kjohnson3macOS 13.7.7 Ventura / arm64  OK    OK    OK    OK  UNNEEDED, same version is already published
Package 156/182HostnameOS / ArchINSTALLBUILDCHECKBUILD BIN
SGSeq 1.44.0  (landing page)
Leonard Goldstein
git_last_commit: 2a90d1b
git_last_commit_date: 2025-10-29 10:22:27 -0500
nebbiolo2Linux (Ubuntu 24.04.3 LTS) / x86_64  OK    OK    OK  UNNEEDED, same version is already published
kjohnson3macOS 13.7.7 Ventura / arm64  OK    OK    OK    OK  UNNEEDED, same version is already published
Package 157/182HostnameOS / ArchINSTALLBUILDCHECKBUILD BIN
shinyepico 1.18.0  (landing page)
Octavio Morante-Palacios
git_last_commit: d61e0ee
git_last_commit_date: 2025-10-29 11:04:44 -0500
nebbiolo2Linux (Ubuntu 24.04.3 LTS) / x86_64  OK    OK    OK  UNNEEDED, same version is already published
kjohnson3macOS 13.7.7 Ventura / arm64  OK    OK    OK    OK  UNNEEDED, same version is already published
Package 158/182HostnameOS / ArchINSTALLBUILDCHECKBUILD BIN
signeR 2.12.0  (landing page)
Renan Valieris
git_last_commit: 7b4a6ab
git_last_commit_date: 2025-10-29 10:34:16 -0500
nebbiolo2Linux (Ubuntu 24.04.3 LTS) / x86_64  OK    OK    OK  UNNEEDED, same version is already published
kjohnson3macOS 13.7.7 Ventura / arm64  OK    OK    OK    OK  UNNEEDED, same version is already published
Package 159/182HostnameOS / ArchINSTALLBUILDCHECKBUILD BIN
SigsPack 1.24.0  (landing page)
Franziska Schumann
git_last_commit: 13120a5
git_last_commit_date: 2025-10-29 10:53:42 -0500
nebbiolo2Linux (Ubuntu 24.04.3 LTS) / x86_64  OK    OK    OK  UNNEEDED, same version is already published
kjohnson3macOS 13.7.7 Ventura / arm64  OK    OK    OK    OK  UNNEEDED, same version is already published
Package 160/182HostnameOS / ArchINSTALLBUILDCHECKBUILD BIN
sitadela 1.18.0  (landing page)
Panagiotis Moulos
git_last_commit: 84fdb44
git_last_commit_date: 2025-10-29 11:07:04 -0500
nebbiolo2Linux (Ubuntu 24.04.3 LTS) / x86_64  OK    OK    ERROR  
kjohnson3macOS 13.7.7 Ventura / arm64  OK    OK    ERROR    OK  
Package 161/182HostnameOS / ArchINSTALLBUILDCHECKBUILD BIN
soGGi 1.42.0  (landing page)
Tom Carroll
git_last_commit: 857d021
git_last_commit_date: 2025-10-29 10:25:37 -0500
nebbiolo2Linux (Ubuntu 24.04.3 LTS) / x86_64  OK    OK    ERROR  
kjohnson3macOS 13.7.7 Ventura / arm64  OK    OK    ERROR    OK  
Package 162/182HostnameOS / ArchINSTALLBUILDCHECKBUILD BIN
SOMNiBUS 1.18.0  (landing page)
Kathleen Klein
git_last_commit: 9c4cdd6
git_last_commit_date: 2025-10-29 11:05:55 -0500
nebbiolo2Linux (Ubuntu 24.04.3 LTS) / x86_64  OK    OK    OK  UNNEEDED, same version is already published
kjohnson3macOS 13.7.7 Ventura / arm64  OK    OK    OK    OK  UNNEEDED, same version is already published
Package 163/182HostnameOS / ArchINSTALLBUILDCHECKBUILD BIN
SpliceWiz 1.12.0  (landing page)
Alex Chit Hei Wong
git_last_commit: 1767347
git_last_commit_date: 2025-10-29 11:17:35 -0500
nebbiolo2Linux (Ubuntu 24.04.3 LTS) / x86_64  OK    OK    WARNINGS  UNNEEDED, same version is already published
kjohnson3macOS 13.7.7 Ventura / arm64  OK    OK    WARNINGS    OK  UNNEEDED, same version is already published
Package 164/182HostnameOS / ArchINSTALLBUILDCHECKBUILD BIN
srnadiff 1.30.0  (landing page)
Zytnicki Matthias
git_last_commit: 809d1c9
git_last_commit_date: 2025-10-29 10:43:01 -0500
nebbiolo2Linux (Ubuntu 24.04.3 LTS) / x86_64  OK    OK    WARNINGS  UNNEEDED, same version is already published
kjohnson3macOS 13.7.7 Ventura / arm64  OK    OK    WARNINGS    OK  UNNEEDED, same version is already published
Package 165/182HostnameOS / ArchINSTALLBUILDCHECKBUILD BIN
STADyUM 1.0.0  (landing page)
Rebecca Hassett
git_last_commit: 55e9577
git_last_commit_date: 2025-10-29 11:38:40 -0500
nebbiolo2Linux (Ubuntu 24.04.3 LTS) / x86_64  OK    OK    OK  UNNEEDED, same version is already published
kjohnson3macOS 13.7.7 Ventura / arm64  OK    OK    OK    OK  UNNEEDED, same version is already published
Package 166/182HostnameOS / ArchINSTALLBUILDCHECKBUILD BIN
StructuralVariantAnnotation 1.26.0  (landing page)
Daniel Cameron
git_last_commit: 328c319
git_last_commit_date: 2025-10-29 10:52:25 -0500
nebbiolo2Linux (Ubuntu 24.04.3 LTS) / x86_64  OK    OK    OK  UNNEEDED, same version is already published
kjohnson3macOS 13.7.7 Ventura / arm64  OK    OK    OK    OK  UNNEEDED, same version is already published
Package 167/182HostnameOS / ArchINSTALLBUILDCHECKBUILD BIN
svaNUMT 1.16.0  (landing page)
Ruining Dong
git_last_commit: 87701e2
git_last_commit_date: 2025-10-29 11:10:38 -0500
nebbiolo2Linux (Ubuntu 24.04.3 LTS) / x86_64  OK    OK    OK  UNNEEDED, same version is already published
kjohnson3macOS 13.7.7 Ventura / arm64  OK    OK    OK    OK  UNNEEDED, same version is already published
Package 168/182HostnameOS / ArchINSTALLBUILDCHECKBUILD BIN
svaRetro 1.16.0  (landing page)
Ruining Dong
git_last_commit: 11afdf0
git_last_commit_date: 2025-10-29 11:11:45 -0500
nebbiolo2Linux (Ubuntu 24.04.3 LTS) / x86_64  OK    ERROR  skipped
kjohnson3macOS 13.7.7 Ventura / arm64  OK    ERROR  skippedskipped
Package 169/182HostnameOS / ArchINSTALLBUILDCHECKBUILD BIN
TEKRABber 1.14.0  (landing page)
Yao-Chung Chen
git_last_commit: 3191b35
git_last_commit_date: 2025-10-29 11:14:57 -0500
nebbiolo2Linux (Ubuntu 24.04.3 LTS) / x86_64  OK    OK    OK  UNNEEDED, same version is already published
kjohnson3macOS 13.7.7 Ventura / arm64  OK    OK    OK    OK  UNNEEDED, same version is already published
Package 170/182HostnameOS / ArchINSTALLBUILDCHECKBUILD BIN
TENET 1.2.0  (landing page)
Rhie Lab at the University of Southern California
git_last_commit: b0a4fcf
git_last_commit_date: 2025-10-29 11:34:59 -0500
nebbiolo2Linux (Ubuntu 24.04.3 LTS) / x86_64  OK    OK    OK  UNNEEDED, same version is already published
kjohnson3macOS 13.7.7 Ventura / arm64  OK    OK    OK    OK  UNNEEDED, same version is already published
Package 171/182HostnameOS / ArchINSTALLBUILDCHECKBUILD BIN
TFBSTools 1.48.0  (landing page)
Ge Tan
git_last_commit: 77e9a0e
git_last_commit_date: 2025-10-29 10:16:59 -0500
nebbiolo2Linux (Ubuntu 24.04.3 LTS) / x86_64  OK    OK    OK  UNNEEDED, same version is already published
kjohnson3macOS 13.7.7 Ventura / arm64  OK    OK    OK    OK  UNNEEDED, same version is already published
Package 172/182HostnameOS / ArchINSTALLBUILDCHECKBUILD BIN
tidyCoverage 1.6.0  (landing page)
Jacques Serizay
git_last_commit: 56ab248
git_last_commit_date: 2025-10-29 11:27:26 -0500
nebbiolo2Linux (Ubuntu 24.04.3 LTS) / x86_64  OK    OK    OK  UNNEEDED, same version is already published
kjohnson3macOS 13.7.7 Ventura / arm64  OK    OK    OK    OK  UNNEEDED, same version is already published
Package 173/182HostnameOS / ArchINSTALLBUILDCHECKBUILD BIN
trackViewer 1.46.0  (landing page)
Jianhong Ou
git_last_commit: 7f9ba3a
git_last_commit_date: 2025-10-29 10:17:52 -0500
nebbiolo2Linux (Ubuntu 24.04.3 LTS) / x86_64  OK    OK    OK  UNNEEDED, same version is already published
kjohnson3macOS 13.7.7 Ventura / arm64  OK    OK    OK    OK  UNNEEDED, same version is already published
Package 174/182HostnameOS / ArchINSTALLBUILDCHECKBUILD BIN
transcriptR 1.38.0  (landing page)
Armen R. Karapetyan
git_last_commit: 15da834
git_last_commit_date: 2025-10-29 10:29:09 -0500
nebbiolo2Linux (Ubuntu 24.04.3 LTS) / x86_64  OK    OK    ERROR  
kjohnson3macOS 13.7.7 Ventura / arm64  OK    OK    ERROR    OK  
Package 175/182HostnameOS / ArchINSTALLBUILDCHECKBUILD BIN
TRESS 1.16.0  (landing page)
Zhenxing Guo
git_last_commit: b61dd31
git_last_commit_date: 2025-10-29 11:12:49 -0500
nebbiolo2Linux (Ubuntu 24.04.3 LTS) / x86_64  OK    OK    OK  UNNEEDED, same version is already published
kjohnson3macOS 13.7.7 Ventura / arm64  OK    OK    OK    OK  UNNEEDED, same version is already published
Package 176/182HostnameOS / ArchINSTALLBUILDCHECKBUILD BIN
tRNAscanImport 1.30.0  (landing page)
Felix G.M. Ernst
git_last_commit: ac13675
git_last_commit_date: 2025-10-29 10:43:40 -0500
nebbiolo2Linux (Ubuntu 24.04.3 LTS) / x86_64  OK    OK    OK  UNNEEDED, same version is already published
kjohnson3macOS 13.7.7 Ventura / arm64  OK    OK    OK    OK  UNNEEDED, same version is already published
Package 177/182HostnameOS / ArchINSTALLBUILDCHECKBUILD BIN
txcutr 1.16.0  (landing page)
Mervin Fansler
git_last_commit: c2ea2a8
git_last_commit_date: 2025-10-29 11:13:37 -0500
nebbiolo2Linux (Ubuntu 24.04.3 LTS) / x86_64  OK    OK    OK  UNNEEDED, same version is already published
kjohnson3macOS 13.7.7 Ventura / arm64  OK    OK    OK    OK  UNNEEDED, same version is already published
Package 178/182HostnameOS / ArchINSTALLBUILDCHECKBUILD BIN
txdbmaker 1.6.0  (landing page)
H. Pagès
git_last_commit: eed71e0
git_last_commit_date: 2025-10-29 13:57:16 -0500
nebbiolo2Linux (Ubuntu 24.04.3 LTS) / x86_64  OK    OK    OK  UNNEEDED, same version is already published
kjohnson3macOS 13.7.7 Ventura / arm64  OK    OK    OK    OK  UNNEEDED, same version is already published
Package 179/182HostnameOS / ArchINSTALLBUILDCHECKBUILD BIN
VariantAnnotation 1.56.0  (landing page)
Bioconductor Package Maintainer
git_last_commit: dc8ecd1
git_last_commit_date: 2025-10-29 10:08:24 -0500
nebbiolo2Linux (Ubuntu 24.04.3 LTS) / x86_64  OK    OK    WARNINGS  UNNEEDED, same version is already published
kjohnson3macOS 13.7.7 Ventura / arm64  OK    OK    WARNINGS    OK  UNNEEDED, same version is already published
Package 180/182HostnameOS / ArchINSTALLBUILDCHECKBUILD BIN
VariantTools 1.52.0  (landing page)
Michael Lawrence
git_last_commit: a3304e5
git_last_commit_date: 2025-10-29 10:12:36 -0500
nebbiolo2Linux (Ubuntu 24.04.3 LTS) / x86_64  OK    ERROR  skipped
kjohnson3macOS 13.7.7 Ventura / arm64  OK    OK    ERROR    OK  
Package 181/182HostnameOS / ArchINSTALLBUILDCHECKBUILD BIN
wavClusteR 2.44.0  (landing page)
Federico Comoglio
git_last_commit: 767728a
git_last_commit_date: 2025-10-29 10:19:49 -0500
nebbiolo2Linux (Ubuntu 24.04.3 LTS) / x86_64  OK    OK    OK  UNNEEDED, same version is already published
kjohnson3macOS 13.7.7 Ventura / arm64  OK    OK    OK    OK  UNNEEDED, same version is already published
Package 182/182HostnameOS / ArchINSTALLBUILDCHECKBUILD BIN
wiggleplotr 1.34.0  (landing page)
Kaur Alasoo
git_last_commit: 67a899c
git_last_commit_date: 2025-10-29 10:37:42 -0500
nebbiolo2Linux (Ubuntu 24.04.3 LTS) / x86_64  OK    OK    OK  UNNEEDED, same version is already published
kjohnson3macOS 13.7.7 Ventura / arm64  OK    OK    OK    OK  UNNEEDED, same version is already published