Back to Multiple platform build/check report for BioC 3.22:   simplified   long
ABCDEFGHIJKLMNOP[Q]RSTUVWXYZ

This page was generated on 2025-11-12 11:57 -0500 (Wed, 12 Nov 2025).

HostnameOSArch (*)R versionInstalled pkgs
nebbiolo2Linux (Ubuntu 24.04.3 LTS)x86_644.5.1 Patched (2025-08-23 r88802) -- "Great Square Root" 4902
taishanLinux (openEuler 24.03 LTS)aarch644.5.0 (2025-04-11) -- "How About a Twenty-Six" 4668
Click on any hostname to see more info about the system (e.g. compilers)      (*) as reported by 'uname -p', except on Windows and Mac OS X

All results for package qvalue


To the developers/maintainers of the qvalue package:
- Allow up to 24 hours (and sometimes 48 hours) for your latest push to git@git.bioconductor.org:packages/qvalue.git to reflect on this report. See Troubleshooting Build Report for more information.
- Use the following Renviron settings to reproduce errors and warnings.
- If 'R CMD check' started to fail recently on the Linux builder(s) over a missing dependency, add the missing dependency to 'Suggests:' in your DESCRIPTION file. See Renviron.bioc for more information.

raw results

Package 1694/2361HostnameOS / ArchINSTALLBUILDCHECKBUILD BIN
qvalue 2.42.0  (landing page)
John D. Storey , Andrew J. Bass
Snapshot Date: 2025-11-11 13:45 -0500 (Tue, 11 Nov 2025)
git_url: https://git.bioconductor.org/packages/qvalue
git_branch: RELEASE_3_22
git_last_commit: 6527d7b
git_last_commit_date: 2025-10-29 09:54:23 -0500 (Wed, 29 Oct 2025)
nebbiolo2Linux (Ubuntu 24.04.3 LTS) / x86_64  OK    OK    OK  UNNEEDED, same version is already published
taishanLinux (openEuler 24.03 LTS) / aarch64  OK    OK    OK  



Results for Bioconductor software packages that depend directly on package qvalue

QUICK STATSOS / ArchINSTALLBUILDCHECKBUILD BIN
nebbiolo2Linux (Ubuntu 24.04.3 LTS) / x86_64
0040
0139
00732
taishanLinux (openEuler 24.03 LTS) / aarch64
0040
0040
01633
Package 1/40HostnameOS / ArchINSTALLBUILDCHECKBUILD BIN
Anaquin 2.34.0  (landing page)
Ted Wong
git_last_commit: d616308
git_last_commit_date: 2025-10-29 10:34:00 -0500
nebbiolo2Linux (Ubuntu 24.04.3 LTS) / x86_64  OK    OK    OK  UNNEEDED, same version is already published
taishanLinux (openEuler 24.03 LTS) / aarch64  OK    OK    OK  
Package 2/40HostnameOS / ArchINSTALLBUILDCHECKBUILD BIN
anota 1.58.0  (landing page)
Ola Larsson
git_last_commit: f642b32
git_last_commit_date: 2025-10-29 10:07:37 -0500
nebbiolo2Linux (Ubuntu 24.04.3 LTS) / x86_64  OK    OK    OK  UNNEEDED, same version is already published
taishanLinux (openEuler 24.03 LTS) / aarch64  OK    OK    OK  
Package 3/40HostnameOS / ArchINSTALLBUILDCHECKBUILD BIN
anota2seq 1.32.0  (landing page)
Christian Oertlin , Ola Larsson
git_last_commit: 8720150
git_last_commit_date: 2025-10-29 10:41:23 -0500
nebbiolo2Linux (Ubuntu 24.04.3 LTS) / x86_64  OK    OK    WARNINGS  UNNEEDED, same version is already published
taishanLinux (openEuler 24.03 LTS) / aarch64  OK    OK    OK  
Package 4/40HostnameOS / ArchINSTALLBUILDCHECKBUILD BIN
ChAMP 2.40.0  (landing page)
Yuan Tian
git_last_commit: fa068cf
git_last_commit_date: 2025-10-29 10:17:05 -0500
nebbiolo2Linux (Ubuntu 24.04.3 LTS) / x86_64  OK    OK    WARNINGS  UNNEEDED, same version is already published
taishanLinux (openEuler 24.03 LTS) / aarch64  OK    OK    WARNINGS  
Package 5/40HostnameOS / ArchINSTALLBUILDCHECKBUILD BIN
clusterProfiler 4.18.1  (landing page)
Guangchuang Yu
git_last_commit: f02a64b
git_last_commit_date: 2025-11-01 10:51:50 -0500
nebbiolo2Linux (Ubuntu 24.04.3 LTS) / x86_64  OK    OK    OK  UNNEEDED, same version is already published
taishanLinux (openEuler 24.03 LTS) / aarch64  OK    OK    OK  
Package 6/40HostnameOS / ArchINSTALLBUILDCHECKBUILD BIN
CTSV 1.12.0  (landing page)
Jinge Yu Developer
git_last_commit: 862c792
git_last_commit_date: 2025-10-29 11:17:28 -0500
nebbiolo2Linux (Ubuntu 24.04.3 LTS) / x86_64  OK    OK    OK  UNNEEDED, same version is already published
taishanLinux (openEuler 24.03 LTS) / aarch64  OK    OK    OK  
Package 7/40HostnameOS / ArchINSTALLBUILDCHECKBUILD BIN
DegCre 1.6.0  (landing page)
Brian S. Roberts
git_last_commit: b521002
git_last_commit_date: 2025-10-29 11:28:34 -0500
nebbiolo2Linux (Ubuntu 24.04.3 LTS) / x86_64  OK    OK    OK  UNNEEDED, same version is already published
taishanLinux (openEuler 24.03 LTS) / aarch64  OK    OK    OK  
Package 8/40HostnameOS / ArchINSTALLBUILDCHECKBUILD BIN
DEGseq 1.64.0  (landing page)
Likun Wang
git_last_commit: dc4cb8e
git_last_commit_date: 2025-10-29 10:03:59 -0500
nebbiolo2Linux (Ubuntu 24.04.3 LTS) / x86_64  OK    OK    WARNINGS  UNNEEDED, same version is already published
taishanLinux (openEuler 24.03 LTS) / aarch64  OK    OK    WARNINGS  
Package 9/40HostnameOS / ArchINSTALLBUILDCHECKBUILD BIN
derfinder 1.44.0  (landing page)
Leonardo Collado-Torres
git_last_commit: 7fd222b
git_last_commit_date: 2025-10-29 10:21:48 -0500
nebbiolo2Linux (Ubuntu 24.04.3 LTS) / x86_64  OK    OK    OK  UNNEEDED, same version is already published
taishanLinux (openEuler 24.03 LTS) / aarch64  OK    OK    OK  
Package 10/40HostnameOS / ArchINSTALLBUILDCHECKBUILD BIN
DOSE 4.4.0  (landing page)
Guangchuang Yu
git_last_commit: 963047a
git_last_commit_date: 2025-10-29 10:07:51 -0500
nebbiolo2Linux (Ubuntu 24.04.3 LTS) / x86_64  OK    OK    OK  UNNEEDED, same version is already published
taishanLinux (openEuler 24.03 LTS) / aarch64  OK    OK    OK  
Package 11/40HostnameOS / ArchINSTALLBUILDCHECKBUILD BIN
DrugVsDisease 2.52.0  (landing page)
j. Saez-Rodriguez
git_last_commit: 661b563
git_last_commit_date: 2025-10-29 10:13:26 -0500
nebbiolo2Linux (Ubuntu 24.04.3 LTS) / x86_64  OK    OK    OK  UNNEEDED, same version is already published
taishanLinux (openEuler 24.03 LTS) / aarch64  OK    OK    OK  
Package 12/40HostnameOS / ArchINSTALLBUILDCHECKBUILD BIN
edge 2.42.0  (landing page)
John D. Storey , Andrew J. Bass
git_last_commit: fe1a757
git_last_commit_date: 2025-10-29 10:25:58 -0500
nebbiolo2Linux (Ubuntu 24.04.3 LTS) / x86_64  OK    OK    OK  UNNEEDED, same version is already published
taishanLinux (openEuler 24.03 LTS) / aarch64  OK    OK    OK  
Package 13/40HostnameOS / ArchINSTALLBUILDCHECKBUILD BIN
erccdashboard 1.44.0  (landing page)
Sarah Munro
git_last_commit: 76c1882
git_last_commit_date: 2025-10-29 10:21:01 -0500
nebbiolo2Linux (Ubuntu 24.04.3 LTS) / x86_64  OK    OK    OK  UNNEEDED, same version is already published
taishanLinux (openEuler 24.03 LTS) / aarch64  OK    OK    OK  
Package 14/40HostnameOS / ArchINSTALLBUILDCHECKBUILD BIN
EventPointer 3.18.0  (landing page)
Juan A. Ferrer-Bonsoms
git_last_commit: 816a09d
git_last_commit_date: 2025-10-29 10:37:08 -0500
nebbiolo2Linux (Ubuntu 24.04.3 LTS) / x86_64  OK    OK    OK  UNNEEDED, same version is already published
taishanLinux (openEuler 24.03 LTS) / aarch64  OK    OK    OK  
Package 15/40HostnameOS / ArchINSTALLBUILDCHECKBUILD BIN
FindIT2 1.16.0  (landing page)
Guandong Shang
git_last_commit: 4bef48e
git_last_commit_date: 2025-10-29 11:10:30 -0500
nebbiolo2Linux (Ubuntu 24.04.3 LTS) / x86_64  OK    OK    OK  UNNEEDED, same version is already published
taishanLinux (openEuler 24.03 LTS) / aarch64  OK    OK    OK  
Package 16/40HostnameOS / ArchINSTALLBUILDCHECKBUILD BIN
fishpond 2.16.0  (landing page)
Michael Love
git_last_commit: f6a8807
git_last_commit_date: 2025-10-29 10:50:10 -0500
nebbiolo2Linux (Ubuntu 24.04.3 LTS) / x86_64  OK    OK    OK  UNNEEDED, same version is already published
taishanLinux (openEuler 24.03 LTS) / aarch64  OK    OK    OK  
Package 17/40HostnameOS / ArchINSTALLBUILDCHECKBUILD BIN
InTAD 1.30.0  (landing page)
Konstantin Okonechnikov
git_last_commit: a8e25c4
git_last_commit_date: 2025-10-29 10:44:46 -0500
nebbiolo2Linux (Ubuntu 24.04.3 LTS) / x86_64  OK    OK    OK  UNNEEDED, same version is already published
taishanLinux (openEuler 24.03 LTS) / aarch64  OK    OK    OK  
Package 18/40HostnameOS / ArchINSTALLBUILDCHECKBUILD BIN
LimROTS 1.2.0  (landing page)
Ali Mostafa Anwar
git_last_commit: a9ce432
git_last_commit_date: 2025-10-29 11:33:21 -0500
nebbiolo2Linux (Ubuntu 24.04.3 LTS) / x86_64  OK    OK    OK  UNNEEDED, same version is already published
taishanLinux (openEuler 24.03 LTS) / aarch64  OK    OK    OK  
Package 19/40HostnameOS / ArchINSTALLBUILDCHECKBUILD BIN
metaseqR2 1.22.0  (landing page)
Panagiotis Moulos
git_last_commit: e5e7809
git_last_commit_date: 2025-10-29 10:59:18 -0500
nebbiolo2Linux (Ubuntu 24.04.3 LTS) / x86_64  OK    ERROR  skipped
taishanLinux (openEuler 24.03 LTS) / aarch64  OK    OK    ERROR  
Package 20/40HostnameOS / ArchINSTALLBUILDCHECKBUILD BIN
methylKit 1.36.0  (landing page)
Altuna Akalin , Alexander Blume
git_last_commit: c65437a
git_last_commit_date: 2025-10-29 10:33:14 -0500
nebbiolo2Linux (Ubuntu 24.04.3 LTS) / x86_64  OK    OK    OK  UNNEEDED, same version is already published
taishanLinux (openEuler 24.03 LTS) / aarch64  OK    OK    OK  
Package 21/40HostnameOS / ArchINSTALLBUILDCHECKBUILD BIN
MOMA 1.22.0  (landing page)
Sunny Jones
git_last_commit: 4a7d444
git_last_commit_date: 2025-10-29 10:59:02 -0500
nebbiolo2Linux (Ubuntu 24.04.3 LTS) / x86_64  OK    OK    OK  UNNEEDED, same version is already published
taishanLinux (openEuler 24.03 LTS) / aarch64  OK    OK    OK  
Package 22/40HostnameOS / ArchINSTALLBUILDCHECKBUILD BIN
msmsTests 1.48.0  (landing page)
Josep Gregori i Font
git_last_commit: 51afab8
git_last_commit_date: 2025-10-29 10:15:47 -0500
nebbiolo2Linux (Ubuntu 24.04.3 LTS) / x86_64  OK    OK    OK  UNNEEDED, same version is already published
taishanLinux (openEuler 24.03 LTS) / aarch64  OK    OK    OK  
Package 23/40HostnameOS / ArchINSTALLBUILDCHECKBUILD BIN
MWASTools 1.34.0  (landing page)
Andrea Rodriguez-Martinez , Rafael Ayala
git_last_commit: 58721f5
git_last_commit_date: 2025-10-29 10:35:43 -0500
nebbiolo2Linux (Ubuntu 24.04.3 LTS) / x86_64  OK    OK    OK  UNNEEDED, same version is already published
taishanLinux (openEuler 24.03 LTS) / aarch64  OK    OK    OK  
Package 24/40HostnameOS / ArchINSTALLBUILDCHECKBUILD BIN
netresponse 1.70.0  (landing page)
Leo Lahti
git_last_commit: 2ffd016
git_last_commit_date: 2025-10-29 10:05:48 -0500
nebbiolo2Linux (Ubuntu 24.04.3 LTS) / x86_64  OK    OK    OK  UNNEEDED, same version is already published
taishanLinux (openEuler 24.03 LTS) / aarch64  OK    OK    OK  
Package 25/40HostnameOS / ArchINSTALLBUILDCHECKBUILD BIN
normr 1.36.0  (landing page)
Johannes Helmuth
git_last_commit: 9a5bb3a
git_last_commit_date: 2025-10-29 10:32:51 -0500
nebbiolo2Linux (Ubuntu 24.04.3 LTS) / x86_64  OK    OK    WARNINGS  UNNEEDED, same version is already published
taishanLinux (openEuler 24.03 LTS) / aarch64  OK    OK    WARNINGS  
Package 26/40HostnameOS / ArchINSTALLBUILDCHECKBUILD BIN
OPWeight 1.32.0  (landing page)
Mohamad Hasan
git_last_commit: acab1d1
git_last_commit_date: 2025-10-29 10:39:24 -0500
nebbiolo2Linux (Ubuntu 24.04.3 LTS) / x86_64  OK    OK    OK  UNNEEDED, same version is already published
taishanLinux (openEuler 24.03 LTS) / aarch64  OK    OK    OK  
Package 27/40HostnameOS / ArchINSTALLBUILDCHECKBUILD BIN
PAST 1.26.0  (landing page)
Thrash Adam
git_last_commit: aa1cbad
git_last_commit_date: 2025-10-29 10:52:22 -0500
nebbiolo2Linux (Ubuntu 24.04.3 LTS) / x86_64  OK    OK    WARNINGS  UNNEEDED, same version is already published
taishanLinux (openEuler 24.03 LTS) / aarch64  OK    OK    WARNINGS  
Package 28/40HostnameOS / ArchINSTALLBUILDCHECKBUILD BIN
PolySTest 1.4.0  (landing page)
Veit Schwämmle
git_last_commit: 2c8f878
git_last_commit_date: 2025-10-29 11:31:01 -0500
nebbiolo2Linux (Ubuntu 24.04.3 LTS) / x86_64  OK    OK    OK  UNNEEDED, same version is already published
taishanLinux (openEuler 24.03 LTS) / aarch64  OK    OK    OK  
Package 29/40HostnameOS / ArchINSTALLBUILDCHECKBUILD BIN
r3Cseq 1.56.0  (landing page)
Supat Thongjuea or
git_last_commit: 4184f01
git_last_commit_date: 2025-10-29 10:09:24 -0500
nebbiolo2Linux (Ubuntu 24.04.3 LTS) / x86_64  OK    OK    OK  UNNEEDED, same version is already published
taishanLinux (openEuler 24.03 LTS) / aarch64  OK    OK    OK  
Package 30/40HostnameOS / ArchINSTALLBUILDCHECKBUILD BIN
RiboDiPA 1.18.0  (landing page)
Ji-Ping Wang
git_last_commit: 44db22f
git_last_commit_date: 2025-10-29 11:05:49 -0500
nebbiolo2Linux (Ubuntu 24.04.3 LTS) / x86_64  OK    OK    OK  UNNEEDED, same version is already published
taishanLinux (openEuler 24.03 LTS) / aarch64  OK    OK    OK  
Package 31/40HostnameOS / ArchINSTALLBUILDCHECKBUILD BIN
RNAsense 1.24.0  (landing page)
Marcus Rosenblatt
git_last_commit: 7827d43
git_last_commit_date: 2025-10-29 10:55:39 -0500
nebbiolo2Linux (Ubuntu 24.04.3 LTS) / x86_64  OK    OK    WARNINGS  UNNEEDED, same version is already published
taishanLinux (openEuler 24.03 LTS) / aarch64  OK    OK    WARNINGS  
Package 32/40HostnameOS / ArchINSTALLBUILDCHECKBUILD BIN
Rnits 1.44.0  (landing page)
Dipen P. Sangurdekar
git_last_commit: 083d512
git_last_commit_date: 2025-10-29 10:21:15 -0500
nebbiolo2Linux (Ubuntu 24.04.3 LTS) / x86_64  OK    OK    WARNINGS  UNNEEDED, same version is already published
taishanLinux (openEuler 24.03 LTS) / aarch64  OK    OK    WARNINGS  
Package 33/40HostnameOS / ArchINSTALLBUILDCHECKBUILD BIN
RolDE 1.14.0  (landing page)
Medical Bioinformatics Centre
git_last_commit: 8121fce
git_last_commit_date: 2025-10-29 11:16:17 -0500
nebbiolo2Linux (Ubuntu 24.04.3 LTS) / x86_64  OK    OK    OK  UNNEEDED, same version is already published
taishanLinux (openEuler 24.03 LTS) / aarch64  OK    OK    OK  
Package 34/40HostnameOS / ArchINSTALLBUILDCHECKBUILD BIN
SDAMS 1.30.0  (landing page)
Yuntong Li
git_last_commit: 9d30a5b
git_last_commit_date: 2025-10-29 10:44:53 -0500
nebbiolo2Linux (Ubuntu 24.04.3 LTS) / x86_64  OK    OK    OK  UNNEEDED, same version is already published
taishanLinux (openEuler 24.03 LTS) / aarch64  OK    OK    OK  
Package 35/40HostnameOS / ArchINSTALLBUILDCHECKBUILD BIN
sights 1.36.0  (landing page)
Elika Garg
git_last_commit: 9287ac1
git_last_commit_date: 2025-10-29 10:32:44 -0500
nebbiolo2Linux (Ubuntu 24.04.3 LTS) / x86_64  OK    OK    OK  UNNEEDED, same version is already published
taishanLinux (openEuler 24.03 LTS) / aarch64  OK    OK    OK  
Package 36/40HostnameOS / ArchINSTALLBUILDCHECKBUILD BIN
signatureSearch 1.24.0  (landing page)
Brendan Gongol
git_last_commit: ce6ab95
git_last_commit_date: 2025-10-29 10:55:44 -0500
nebbiolo2Linux (Ubuntu 24.04.3 LTS) / x86_64  OK    OK    OK  UNNEEDED, same version is already published
taishanLinux (openEuler 24.03 LTS) / aarch64  OK    OK    OK  
Package 37/40HostnameOS / ArchINSTALLBUILDCHECKBUILD BIN
SpaceMarkers 2.0.0  (landing page)
Atul Deshpande
git_last_commit: 275cd1c
git_last_commit_date: 2025-10-29 11:29:19 -0500
nebbiolo2Linux (Ubuntu 24.04.3 LTS) / x86_64  OK    OK    OK  UNNEEDED, same version is already published
taishanLinux (openEuler 24.03 LTS) / aarch64  OK    OK    OK  
Package 38/40HostnameOS / ArchINSTALLBUILDCHECKBUILD BIN
subSeq 1.40.0  (landing page)
Andrew J. Bass , John D. Storey
git_last_commit: 47bc0af
git_last_commit_date: 2025-10-29 10:28:35 -0500
nebbiolo2Linux (Ubuntu 24.04.3 LTS) / x86_64  OK    OK    OK  UNNEEDED, same version is already published
taishanLinux (openEuler 24.03 LTS) / aarch64  OK    OK    OK  
Package 39/40HostnameOS / ArchINSTALLBUILDCHECKBUILD BIN
vsclust 1.12.0  (landing page)
Veit Schwammle
git_last_commit: 5f4dab1
git_last_commit_date: 2025-10-29 11:19:19 -0500
nebbiolo2Linux (Ubuntu 24.04.3 LTS) / x86_64  OK    OK    OK  UNNEEDED, same version is already published
taishanLinux (openEuler 24.03 LTS) / aarch64  OK    OK    OK  
Package 40/40HostnameOS / ArchINSTALLBUILDCHECKBUILD BIN
webbioc 1.82.0  (landing page)
Colin A. Smith
git_last_commit: 6f493bf
git_last_commit_date: 2025-10-29 09:54:04 -0500
nebbiolo2Linux (Ubuntu 24.04.3 LTS) / x86_64  OK    OK    OK  UNNEEDED, same version is already published
taishanLinux (openEuler 24.03 LTS) / aarch64  OK    OK    OK