| Back to Multiple platform build/check report for BioC 3.21: simplified long |
|
This page was generated on 2025-10-16 11:38 -0400 (Thu, 16 Oct 2025).
| Hostname | OS | Arch (*) | R version | Installed pkgs |
|---|---|---|---|---|
| nebbiolo1 | Linux (Ubuntu 24.04.3 LTS) | x86_64 | 4.5.1 (2025-06-13) -- "Great Square Root" | 4833 |
| merida1 | macOS 12.7.6 Monterey | x86_64 | 4.5.1 RC (2025-06-05 r88288) -- "Great Square Root" | 4614 |
| kjohnson1 | macOS 13.7.5 Ventura | arm64 | 4.5.1 Patched (2025-06-14 r88325) -- "Great Square Root" | 4555 |
| kunpeng2 | Linux (openEuler 24.03 LTS) | aarch64 | R Under development (unstable) (2025-02-19 r87757) -- "Unsuffered Consequences" | 4586 |
| Click on any hostname to see more info about the system (e.g. compilers) (*) as reported by 'uname -p', except on Windows and Mac OS X | ||||
| Package 1993/2341 | Hostname | OS / Arch | INSTALL | BUILD | CHECK | BUILD BIN | ||||||||
| signatureSearch 1.22.0 (landing page) Brendan Gongol
| nebbiolo1 | Linux (Ubuntu 24.04.3 LTS) / x86_64 | OK | OK | OK | |||||||||
| merida1 | macOS 12.7.6 Monterey / x86_64 | OK | OK | OK | OK | |||||||||
| kjohnson1 | macOS 13.7.5 Ventura / arm64 | OK | OK | OK | OK | |||||||||
| kunpeng2 | Linux (openEuler 24.03 LTS) / aarch64 | OK | OK | TIMEOUT | ||||||||||
|
To the developers/maintainers of the signatureSearch package: - Allow up to 24 hours (and sometimes 48 hours) for your latest push to git@git.bioconductor.org:packages/signatureSearch.git to reflect on this report. See Troubleshooting Build Report for more information. - Use the following Renviron settings to reproduce errors and warnings. - If 'R CMD check' started to fail recently on the Linux builder(s) over a missing dependency, add the missing dependency to 'Suggests:' in your DESCRIPTION file. See Renviron.bioc for more information. |
| Package: signatureSearch |
| Version: 1.22.0 |
| Command: /home/biocbuild/bbs-3.21-bioc/R/bin/R CMD check --install=check:signatureSearch.install-out.txt --library=/home/biocbuild/bbs-3.21-bioc/R/site-library --timings signatureSearch_1.22.0.tar.gz |
| StartedAt: 2025-10-16 03:37:48 -0400 (Thu, 16 Oct 2025) |
| EndedAt: 2025-10-16 03:58:29 -0400 (Thu, 16 Oct 2025) |
| EllapsedTime: 1240.4 seconds |
| RetCode: 0 |
| Status: OK |
| CheckDir: signatureSearch.Rcheck |
| Warnings: 0 |
##############################################################################
##############################################################################
###
### Running command:
###
### /home/biocbuild/bbs-3.21-bioc/R/bin/R CMD check --install=check:signatureSearch.install-out.txt --library=/home/biocbuild/bbs-3.21-bioc/R/site-library --timings signatureSearch_1.22.0.tar.gz
###
##############################################################################
##############################################################################
* using log directory ‘/home/biocbuild/bbs-3.21-bioc/meat/signatureSearch.Rcheck’
* using R version 4.5.1 (2025-06-13)
* using platform: x86_64-pc-linux-gnu
* R was compiled by
gcc (Ubuntu 13.3.0-6ubuntu2~24.04) 13.3.0
GNU Fortran (Ubuntu 13.3.0-6ubuntu2~24.04) 13.3.0
* running under: Ubuntu 24.04.3 LTS
* using session charset: UTF-8
* checking for file ‘signatureSearch/DESCRIPTION’ ... OK
* this is package ‘signatureSearch’ version ‘1.22.0’
* package encoding: UTF-8
* checking package namespace information ... OK
* checking package dependencies ... INFO
Imports includes 25 non-default packages.
Importing from so many packages makes the package vulnerable to any of
them becoming unavailable. Move as many as possible to Suggests and
use conditionally.
* checking if this is a source package ... OK
* checking if there is a namespace ... OK
* checking for hidden files and directories ... OK
* checking for portable file names ... OK
* checking for sufficient/correct file permissions ... OK
* checking whether package ‘signatureSearch’ can be installed ... OK
* used C compiler: ‘gcc (Ubuntu 13.3.0-6ubuntu2~24.04) 13.3.0’
* used C++ compiler: ‘g++ (Ubuntu 13.3.0-6ubuntu2~24.04) 13.3.0’
* checking C++ specification ... NOTE
Specified C++11: please drop specification unless essential
* checking installed package size ... INFO
installed size is 85.5Mb
sub-directories of 1Mb or more:
R 80.9Mb
data 2.0Mb
extdata 1.4Mb
* checking package directory ... OK
* checking ‘build’ directory ... OK
* checking DESCRIPTION meta-information ... OK
* checking top-level files ... OK
* checking for left-over files ... OK
* checking index information ... OK
* checking package subdirectories ... OK
* checking code files for non-ASCII characters ... OK
* checking R files for syntax errors ... OK
* checking whether the package can be loaded ... OK
* checking whether the package can be loaded with stated dependencies ... OK
* checking whether the package can be unloaded cleanly ... OK
* checking whether the namespace can be loaded with stated dependencies ... OK
* checking whether the namespace can be unloaded cleanly ... OK
* checking loading without being on the library search path ... OK
* checking dependencies in R code ... OK
* checking S3 generic/method consistency ... OK
* checking replacement functions ... OK
* checking foreign function calls ... OK
* checking R code for possible problems ... OK
* checking Rd files ... OK
* checking Rd metadata ... OK
* checking Rd cross-references ... OK
* checking for missing documentation entries ... OK
* checking for code/documentation mismatches ... OK
* checking Rd \usage sections ... OK
* checking Rd contents ... OK
* checking for unstated dependencies in examples ... OK
* checking contents of ‘data’ directory ... OK
* checking data for non-ASCII characters ... OK
* checking data for ASCII and uncompressed saves ... OK
* checking R/sysdata.rda ... OK
* checking line endings in C/C++/Fortran sources/headers ... OK
* checking compiled code ... NOTE
Note: information on .o files is not available
* checking files in ‘vignettes’ ... OK
* checking examples ... OK
Examples with CPU (user + system) or elapsed time > 5s
user system elapsed
set_readable 156.130 2.137 158.590
rand_query_ES 7.317 2.495 10.153
runWF 7.137 1.091 9.088
addGESSannot 3.789 1.015 5.062
* checking for unstated dependencies in ‘tests’ ... OK
* checking tests ...
Running ‘testthat.R’
OK
* checking for unstated dependencies in vignettes ... OK
* checking package vignettes ... OK
* checking re-building of vignette outputs ... OK
* checking PDF version of manual ... OK
* DONE
Status: 2 NOTEs
See
‘/home/biocbuild/bbs-3.21-bioc/meat/signatureSearch.Rcheck/00check.log’
for details.
signatureSearch.Rcheck/00install.out
##############################################################################
##############################################################################
###
### Running command:
###
### /home/biocbuild/bbs-3.21-bioc/R/bin/R CMD INSTALL signatureSearch
###
##############################################################################
##############################################################################
* installing to library ‘/home/biocbuild/bbs-3.21-bioc/R/site-library’
* installing *source* package ‘signatureSearch’ ...
** this is package ‘signatureSearch’ version ‘1.22.0’
** using staged installation
** libs
using C compiler: ‘gcc (Ubuntu 13.3.0-6ubuntu2~24.04) 13.3.0’
using C++ compiler: ‘g++ (Ubuntu 13.3.0-6ubuntu2~24.04) 13.3.0’
using C++11
g++ -std=gnu++11 -I"/home/biocbuild/bbs-3.21-bioc/R/include" -DNDEBUG -I'/home/biocbuild/bbs-3.21-bioc/R/site-library/Rcpp/include' -I/usr/local/include -fpic -g -O2 -Wall -Werror=format-security -c RcppExports.cpp -o RcppExports.o
g++ -std=gnu++11 -I"/home/biocbuild/bbs-3.21-bioc/R/include" -DNDEBUG -I'/home/biocbuild/bbs-3.21-bioc/R/site-library/Rcpp/include' -I/usr/local/include -fpic -g -O2 -Wall -Werror=format-security -c fastGSEA.cpp -o fastGSEA.o
fastGSEA.cpp: In function ‘Rcpp::NumericVector calcGseaStatBatchCpp(const Rcpp::NumericVector&, const Rcpp::List&, const Rcpp::IntegerVector&)’:
fastGSEA.cpp:444:27: warning: comparison of integer expressions of different signedness: ‘int’ and ‘std::vector<int>::size_type’ {aka ‘long unsigned int’} [-Wsign-compare]
444 | for (int j = 0; j < S.size(); ++j) {
| ~~^~~~~~~~~~
gcc -std=gnu2x -I"/home/biocbuild/bbs-3.21-bioc/R/include" -DNDEBUG -I'/home/biocbuild/bbs-3.21-bioc/R/site-library/Rcpp/include' -I/usr/local/include -fpic -g -O2 -Wall -Werror=format-security -c fgsea_init.c -o fgsea_init.o
g++ -std=gnu++11 -shared -L/home/biocbuild/bbs-3.21-bioc/R/lib -L/usr/local/lib -o signatureSearch.so RcppExports.o fastGSEA.o fgsea_init.o -L/home/biocbuild/bbs-3.21-bioc/R/lib -lR
installing to /home/biocbuild/bbs-3.21-bioc/R/site-library/00LOCK-signatureSearch/00new/signatureSearch/libs
** R
** data
** inst
** byte-compile and prepare package for lazy loading
** help
*** installing help indices
** building package indices
** installing vignettes
** testing if installed package can be loaded from temporary location
** checking absolute paths in shared objects and dynamic libraries
** testing if installed package can be loaded from final location
** testing if installed package keeps a record of temporary installation path
* DONE (signatureSearch)
signatureSearch.Rcheck/tests/testthat.Rout
R version 4.5.1 (2025-06-13) -- "Great Square Root"
Copyright (C) 2025 The R Foundation for Statistical Computing
Platform: x86_64-pc-linux-gnu
R is free software and comes with ABSOLUTELY NO WARRANTY.
You are welcome to redistribute it under certain conditions.
Type 'license()' or 'licence()' for distribution details.
R is a collaborative project with many contributors.
Type 'contributors()' for more information and
'citation()' on how to cite R or R packages in publications.
Type 'demo()' for some demos, 'help()' for on-line help, or
'help.start()' for an HTML browser interface to help.
Type 'q()' to quit R.
> # library(testthat)
> # library(signatureSearch)
> #
> # test_check("signatureSearch")
>
> proc.time()
user system elapsed
0.142 0.044 0.173
signatureSearch.Rcheck/signatureSearch-Ex.timings
| name | user | system | elapsed | |
| addGESSannot | 3.789 | 1.015 | 5.062 | |
| addMOA | 0.188 | 0.038 | 0.226 | |
| add_pcid | 0.199 | 0.004 | 0.203 | |
| append2H5 | 0.060 | 0.007 | 0.068 | |
| build_custom_db | 0.209 | 0.049 | 0.258 | |
| cellNtestPlot | 0.843 | 0.111 | 1.106 | |
| cell_info | 0.019 | 0.000 | 0.019 | |
| cell_info2 | 0.031 | 0.001 | 0.032 | |
| chembl_moa_list | 0.007 | 0.001 | 0.008 | |
| clue_moa_list | 0.008 | 0.000 | 0.008 | |
| comp_fea_res | 0.437 | 0.045 | 0.481 | |
| create_empty_h5 | 0.020 | 0.001 | 0.021 | |
| dim-methods | 0.006 | 0.001 | 0.008 | |
| drug_cell_ranks | 0.008 | 0.001 | 0.010 | |
| drugs-methods | 0.002 | 0.000 | 0.003 | |
| drugs10 | 0.000 | 0.001 | 0.002 | |
| dtnetplot | 2.058 | 0.651 | 2.919 | |
| enrichGO2 | 0.000 | 0.001 | 0.000 | |
| enrichKEGG2 | 0.000 | 0.001 | 0.000 | |
| enrichMOA | 0.038 | 0.018 | 0.057 | |
| enrichReactome | 0 | 0 | 0 | |
| fea | 0.000 | 0.003 | 0.003 | |
| feaResult | 0.000 | 0.002 | 0.003 | |
| gctx2h5 | 0.385 | 0.075 | 0.462 | |
| gess | 0.000 | 0.001 | 0.001 | |
| gessResult | 0.003 | 0.000 | 0.003 | |
| gess_res_vis | 0.516 | 0.034 | 0.550 | |
| getSig | 1.433 | 0.348 | 2.077 | |
| getTreats | 0.616 | 0.168 | 0.932 | |
| get_targets | 2.106 | 0.419 | 2.944 | |
| gmt2h5 | 0.096 | 0.013 | 0.108 | |
| gseGO2 | 0.001 | 0.001 | 0.003 | |
| gseKEGG2 | 0.011 | 0.002 | 0.013 | |
| gseReactome | 0.010 | 0.001 | 0.011 | |
| head-methods | 0.006 | 0.002 | 0.007 | |
| lincs_expr_inst_info | 0.110 | 0.029 | 0.139 | |
| lincs_pert_info | 0.265 | 0.029 | 0.293 | |
| lincs_pert_info2 | 1.024 | 0.055 | 1.078 | |
| lincs_sig_info | 0.061 | 0.003 | 0.063 | |
| list2df | 0.002 | 0.001 | 0.002 | |
| list_rev | 0.001 | 0.000 | 0.002 | |
| mabsGO | 0.001 | 0.001 | 0.003 | |
| mabsKEGG | 0.011 | 0.001 | 0.013 | |
| mabsReactome | 0.011 | 0.000 | 0.012 | |
| matrix2h5 | 0.047 | 0.012 | 0.060 | |
| meanExpr2h5 | 0.524 | 0.166 | 0.690 | |
| moa_conn | 0.029 | 0.001 | 0.030 | |
| parse_gctx | 0.076 | 0.000 | 0.077 | |
| qSig | 2.056 | 0.848 | 3.206 | |
| rand_query_ES | 7.317 | 2.495 | 10.153 | |
| read_gmt | 0.001 | 0.001 | 0.003 | |
| result-methods | 0.347 | 0.277 | 0.033 | |
| runWF | 7.137 | 1.091 | 9.088 | |
| set_readable | 156.130 | 2.137 | 158.590 | |
| show-methods | 0.032 | 0.000 | 0.032 | |
| sim_score_grp | 0.008 | 0.001 | 0.009 | |
| tail-methods | 0.005 | 0.001 | 0.006 | |
| tarReduce | 0.000 | 0.000 | 0.001 | |
| targetList | 0.003 | 0.000 | 0.003 | |
| vec_char_redu | 0.000 | 0.000 | 0.001 | |