Back to Multiple platform build/check report for BioC 3.22:   simplified   long
ABCDEFGHIJKLMN[O]PQRSTUVWXYZ

This page was generated on 2025-11-11 12:03 -0500 (Tue, 11 Nov 2025).

HostnameOSArch (*)R versionInstalled pkgs
nebbiolo2Linux (Ubuntu 24.04.3 LTS)x86_644.5.1 Patched (2025-08-23 r88802) -- "Great Square Root" 4902
kjohnson3macOS 13.7.7 Venturaarm644.5.1 Patched (2025-09-10 r88807) -- "Great Square Root" 4638
Click on any hostname to see more info about the system (e.g. compilers)      (*) as reported by 'uname -p', except on Windows and Mac OS X

Package 1513/2361HostnameOS / ArchINSTALLBUILDCHECKBUILD BIN
ontoProc 2.4.0  (landing page)
Vincent Carey
Snapshot Date: 2025-11-10 13:45 -0500 (Mon, 10 Nov 2025)
git_url: https://git.bioconductor.org/packages/ontoProc
git_branch: RELEASE_3_22
git_last_commit: f2c1b3f
git_last_commit_date: 2025-10-29 19:20:08 -0500 (Wed, 29 Oct 2025)
nebbiolo2Linux (Ubuntu 24.04.3 LTS) / x86_64  OK    OK    OK  UNNEEDED, same version is already published
kjohnson3macOS 13.7.7 Ventura / arm64  OK    OK    OK    OK  UNNEEDED, same version is already published


CHECK results for ontoProc on kjohnson3

To the developers/maintainers of the ontoProc package:
- Allow up to 24 hours (and sometimes 48 hours) for your latest push to git@git.bioconductor.org:packages/ontoProc.git to reflect on this report. See Troubleshooting Build Report for more information.
- Use the following Renviron settings to reproduce errors and warnings.
- If 'R CMD check' started to fail recently on the Linux builder(s) over a missing dependency, add the missing dependency to 'Suggests:' in your DESCRIPTION file. See Renviron.bioc for more information.

raw results


Summary

Package: ontoProc
Version: 2.4.0
Command: /Library/Frameworks/R.framework/Resources/bin/R CMD check --install=check:ontoProc.install-out.txt --library=/Library/Frameworks/R.framework/Resources/library --no-vignettes --timings ontoProc_2.4.0.tar.gz
StartedAt: 2025-11-10 21:27:25 -0500 (Mon, 10 Nov 2025)
EndedAt: 2025-11-10 21:38:11 -0500 (Mon, 10 Nov 2025)
EllapsedTime: 646.4 seconds
RetCode: 0
Status:   OK  
CheckDir: ontoProc.Rcheck
Warnings: 0

Command output

##############################################################################
##############################################################################
###
### Running command:
###
###   /Library/Frameworks/R.framework/Resources/bin/R CMD check --install=check:ontoProc.install-out.txt --library=/Library/Frameworks/R.framework/Resources/library --no-vignettes --timings ontoProc_2.4.0.tar.gz
###
##############################################################################
##############################################################################


* using log directory ‘/Users/biocbuild/bbs-3.22-bioc/meat/ontoProc.Rcheck’
* using R version 4.5.1 Patched (2025-09-10 r88807)
* using platform: aarch64-apple-darwin20
* R was compiled by
    Apple clang version 16.0.0 (clang-1600.0.26.6)
    GNU Fortran (GCC) 14.2.0
* running under: macOS Ventura 13.7.7
* using session charset: UTF-8
* using option ‘--no-vignettes’
* checking for file ‘ontoProc/DESCRIPTION’ ... OK
* this is package ‘ontoProc’ version ‘2.4.0’
* package encoding: UTF-8
* checking package namespace information ... OK
* checking package dependencies ... OK
* checking if this is a source package ... OK
* checking if there is a namespace ... OK
* checking for hidden files and directories ... OK
* checking for portable file names ... OK
* checking for sufficient/correct file permissions ... OK
* checking whether package ‘ontoProc’ can be installed ... OK
* checking installed package size ... INFO
  installed size is 11.5Mb
  sub-directories of 1Mb or more:
    app       1.9Mb
    data      1.8Mb
    ontoRda   2.8Mb
    owl       3.8Mb
* checking package directory ... OK
* checking ‘build’ directory ... OK
* checking DESCRIPTION meta-information ... OK
* checking top-level files ... OK
* checking for left-over files ... OK
* checking index information ... OK
* checking package subdirectories ... OK
* checking code files for non-ASCII characters ... OK
* checking R files for syntax errors ... OK
* checking whether the package can be loaded ... OK
* checking whether the package can be loaded with stated dependencies ... OK
* checking whether the package can be unloaded cleanly ... OK
* checking whether the namespace can be loaded with stated dependencies ... OK
* checking whether the namespace can be unloaded cleanly ... OK
* checking dependencies in R code ... NOTE
':::' call which should be '::': ‘ontologyPlot:::remove_uninformative_terms’
  See the note in ?`:::` about the use of this operator.
* checking S3 generic/method consistency ... OK
* checking replacement functions ... OK
* checking foreign function calls ... OK
* checking R code for possible problems ... NOTE
CLfeat : prupdate: no visible binding for global variable ‘PROSYM’
CLfeat : prupdate: no visible binding for global variable ‘PRID’
CLfeat : prupdate: no visible binding for global variable ‘SYMBOL’
ctmarks : server: no visible binding for global variable ‘text’
ctmarks : server: no visible binding for global variable ‘packDesc2022’
ctmarks : server: no visible binding for global variable ‘packDesc2021’
ctmarks: no visible binding for global variable ‘cumu’
dropStop: no visible binding for global variable ‘stopWords’
getOnto: no visible binding for global variable ‘rdatadateadded’
getOnto: no visible binding for global variable ‘title’
getOnto: no visible binding for global variable ‘description’
ldfToTerm: no visible binding for global variable ‘PROSYM’
sym2CellOnto: no visible binding for global variable ‘PROSYM’
sym2CellOnto: no visible binding for global variable ‘SYMBOL’
Undefined global functions or variables:
  PRID PROSYM SYMBOL cumu description packDesc2021 packDesc2022
  rdatadateadded stopWords text title
Consider adding
  importFrom("graphics", "text", "title")
to your NAMESPACE file.
* checking Rd files ... OK
* checking Rd metadata ... OK
* checking Rd cross-references ... NOTE
Found the following Rd file(s) with Rd \link{} targets missing package
anchors:
  findCommonAncestors.Rd: graph, DataFrame-class, List-class
Please provide package anchors for all Rd \link{} targets not in the
package itself and the base packages.
* checking for missing documentation entries ... OK
* checking for code/documentation mismatches ... OK
* checking Rd \usage sections ... NOTE
S3 methods shown with full name in Rd file 'plot.owlents.Rd':
  ‘plot.owlents’

The \usage entries for S3 methods should use the \method markup and not
their full name.
See chapter ‘Writing R documentation files’ in the ‘Writing R
Extensions’ manual.
* checking Rd contents ... OK
* checking for unstated dependencies in examples ... OK
* checking contents of ‘data’ directory ... OK
* checking data for non-ASCII characters ... OK
* checking data for ASCII and uncompressed saves ... OK
* checking files in ‘vignettes’ ... OK
* checking examples ... OK
Examples with CPU (user + system) or elapsed time > 5s
                                   user system elapsed
sym2CellOnto                     70.411  0.713  72.447
siblings_TAG                     40.110  0.474  41.726
cleanCLOnames                    29.129  0.254  30.054
nomenCheckup                     28.401  0.206  28.819
CLfeats                          24.963  0.573  27.414
fastGrep                         24.889  0.396  35.369
getLeavesFromTerm                19.057  0.238  20.770
getOnto                          16.352  0.316  20.933
common_classes                   15.788  0.498  16.603
liberalMap                       14.961  0.172  15.579
make_graphNEL_from_ontology_plot 14.369  0.227  15.307
TermSet-class                    14.284  0.259  16.477
selectFromMap                    14.155  0.223  15.153
findCommonAncestors              13.919  0.204  14.599
onto_plot2                       13.808  0.231  14.265
secLevGen                        13.464  0.164  13.965
mapOneNaive                      13.320  0.157  14.245
ontoDiff                          4.310  0.217   5.009
graph2paths                       3.278  0.043   5.065
plot.owlents                      2.255  0.237  29.436
bioregistry_ols_resources         0.255  0.007   5.187
search_labels                     0.139  0.007   6.112
* checking for unstated dependencies in ‘tests’ ... OK
* checking tests ...
  Running ‘test.R’
 OK
* checking for unstated dependencies in vignettes ... OK
* checking package vignettes ... OK
* checking running R code from vignettes ... SKIPPED
* checking re-building of vignette outputs ... SKIPPED
* checking PDF version of manual ... OK
* DONE

Status: 4 NOTEs
See
  ‘/Users/biocbuild/bbs-3.22-bioc/meat/ontoProc.Rcheck/00check.log’
for details.


Installation output

ontoProc.Rcheck/00install.out

##############################################################################
##############################################################################
###
### Running command:
###
###   /Library/Frameworks/R.framework/Resources/bin/R CMD INSTALL ontoProc
###
##############################################################################
##############################################################################


* installing to library ‘/Library/Frameworks/R.framework/Versions/4.5-arm64/Resources/library’
* installing *source* package ‘ontoProc’ ...
** this is package ‘ontoProc’ version ‘2.4.0’
** using staged installation
** R
** data
** inst
** byte-compile and prepare package for lazy loading
** help
*** installing help indices
** building package indices
** installing vignettes
** testing if installed package can be loaded from temporary location
** testing if installed package can be loaded from final location
** testing if installed package keeps a record of temporary installation path
* DONE (ontoProc)

Tests output

ontoProc.Rcheck/tests/test.Rout


R version 4.5.1 Patched (2025-09-10 r88807) -- "Great Square Root"
Copyright (C) 2025 The R Foundation for Statistical Computing
Platform: aarch64-apple-darwin20

R is free software and comes with ABSOLUTELY NO WARRANTY.
You are welcome to redistribute it under certain conditions.
Type 'license()' or 'licence()' for distribution details.

R is a collaborative project with many contributors.
Type 'contributors()' for more information and
'citation()' on how to cite R or R packages in publications.

Type 'demo()' for some demos, 'help()' for on-line help, or
'help.start()' for an HTML browser interface to help.
Type 'q()' to quit R.

> 
> library(ontoProc)
Loading required package: ontologyIndex
> library(testthat)
> 
> test_check("ontoProc")
[ FAIL 0 | WARN 0 | SKIP 0 | PASS 12 ]
> 
> 
> proc.time()
   user  system elapsed 
 92.699   1.650  96.036 

Example timings

ontoProc.Rcheck/ontoProc-Ex.timings

nameusersystemelapsed
CLfeats24.963 0.57327.414
PROSYM0.1180.0020.119
TermSet-class14.284 0.25916.477
allGOterms0.0420.0010.043
ancestors0.2920.1140.685
ancestors_names0.0020.0010.003
bioregistry_ols_resources0.2550.0075.187
cellTypeToGO0.8120.0510.875
children_names0.0020.0000.002
cleanCLOnames29.129 0.25430.054
common_classes15.788 0.49816.603
ctmarks000
cyclicSigset0.0020.0000.003
demoApp000
dropStop0.0010.0010.002
fastGrep24.889 0.39635.369
findCommonAncestors13.919 0.20414.599
formalize0.0010.0000.001
getLeavesFromTerm19.057 0.23820.770
getOnto16.352 0.31620.933
graph2paths3.2780.0435.065
humrna0.0030.0010.004
jowl2classgraph0.1300.0010.154
jowl2classgraph_nio0.2570.0030.262
labels.owlents000
ldfToTerms1.1150.0201.147
liberalMap14.961 0.17215.579
makeSelectInput0.0000.0000.001
make_graphNEL_from_ontology_plot14.369 0.22715.307
mapOneNaive13.320 0.15714.245
minicorpus0.0000.0000.002
nomenCheckup28.401 0.20628.819
ontoDiff4.3100.2175.009
onto_plot213.808 0.23114.265
onto_roots000
owl2cache0.0100.0010.011
packDesc20190.0010.0000.001
packDesc20210.0010.0010.001
packDesc20220.0000.0000.001
packDesc20230.0000.0010.002
parents0.0020.0000.002
plot.owlents 2.255 0.23729.436
quickOnto0.0960.0080.104
recognizedPredicates0.0000.0000.001
search_labels0.1390.0076.112
secLevGen13.464 0.16413.965
selectFromMap14.155 0.22315.153
setup_entities0.0020.0000.002
setup_entities20.1240.0040.127
seur3kTab0.0010.0010.002
siblings_TAG40.110 0.47441.726
stopWords0.0000.0010.001
subclasses0.0020.0000.002
sym2CellOnto70.411 0.71372.447
valid_ontonames000