Back to Multiple platform build/check report for BioC 3.22:   simplified   long
ABCDEFGHIJKLMN[O]PQRSTUVWXYZ

This page was generated on 2025-11-11 12:02 -0500 (Tue, 11 Nov 2025).

HostnameOSArch (*)R versionInstalled pkgs
nebbiolo2Linux (Ubuntu 24.04.3 LTS)x86_644.5.1 Patched (2025-08-23 r88802) -- "Great Square Root" 4902
kjohnson3macOS 13.7.7 Venturaarm644.5.1 Patched (2025-09-10 r88807) -- "Great Square Root" 4638
Click on any hostname to see more info about the system (e.g. compilers)      (*) as reported by 'uname -p', except on Windows and Mac OS X

Package 1513/2361HostnameOS / ArchINSTALLBUILDCHECKBUILD BIN
ontoProc 2.4.0  (landing page)
Vincent Carey
Snapshot Date: 2025-11-10 13:45 -0500 (Mon, 10 Nov 2025)
git_url: https://git.bioconductor.org/packages/ontoProc
git_branch: RELEASE_3_22
git_last_commit: f2c1b3f
git_last_commit_date: 2025-10-29 19:20:08 -0500 (Wed, 29 Oct 2025)
nebbiolo2Linux (Ubuntu 24.04.3 LTS) / x86_64  OK    OK    OK  UNNEEDED, same version is already published
kjohnson3macOS 13.7.7 Ventura / arm64  OK    OK    OK    OK  UNNEEDED, same version is already published


CHECK results for ontoProc on nebbiolo2

To the developers/maintainers of the ontoProc package:
- Allow up to 24 hours (and sometimes 48 hours) for your latest push to git@git.bioconductor.org:packages/ontoProc.git to reflect on this report. See Troubleshooting Build Report for more information.
- Use the following Renviron settings to reproduce errors and warnings.
- If 'R CMD check' started to fail recently on the Linux builder(s) over a missing dependency, add the missing dependency to 'Suggests:' in your DESCRIPTION file. See Renviron.bioc for more information.

raw results


Summary

Package: ontoProc
Version: 2.4.0
Command: /home/biocbuild/bbs-3.22-bioc/R/bin/R CMD check --install=check:ontoProc.install-out.txt --library=/home/biocbuild/bbs-3.22-bioc/R/site-library --timings ontoProc_2.4.0.tar.gz
StartedAt: 2025-11-11 02:29:15 -0500 (Tue, 11 Nov 2025)
EndedAt: 2025-11-11 03:07:08 -0500 (Tue, 11 Nov 2025)
EllapsedTime: 2273.6 seconds
RetCode: 0
Status:   OK  
CheckDir: ontoProc.Rcheck
Warnings: 0

Command output

##############################################################################
##############################################################################
###
### Running command:
###
###   /home/biocbuild/bbs-3.22-bioc/R/bin/R CMD check --install=check:ontoProc.install-out.txt --library=/home/biocbuild/bbs-3.22-bioc/R/site-library --timings ontoProc_2.4.0.tar.gz
###
##############################################################################
##############################################################################


* using log directory ‘/home/biocbuild/bbs-3.22-bioc/meat/ontoProc.Rcheck’
* using R version 4.5.1 Patched (2025-08-23 r88802)
* using platform: x86_64-pc-linux-gnu
* R was compiled by
    gcc (Ubuntu 13.3.0-6ubuntu2~24.04) 13.3.0
    GNU Fortran (Ubuntu 13.3.0-6ubuntu2~24.04) 13.3.0
* running under: Ubuntu 24.04.3 LTS
* using session charset: UTF-8
* checking for file ‘ontoProc/DESCRIPTION’ ... OK
* this is package ‘ontoProc’ version ‘2.4.0’
* package encoding: UTF-8
* checking package namespace information ... OK
* checking package dependencies ... OK
* checking if this is a source package ... OK
* checking if there is a namespace ... OK
* checking for hidden files and directories ... OK
* checking for portable file names ... OK
* checking for sufficient/correct file permissions ... OK
* checking whether package ‘ontoProc’ can be installed ... OK
* checking installed package size ... INFO
  installed size is 11.5Mb
  sub-directories of 1Mb or more:
    app       1.9Mb
    data      1.8Mb
    ontoRda   2.8Mb
    owl       3.8Mb
* checking package directory ... OK
* checking ‘build’ directory ... OK
* checking DESCRIPTION meta-information ... OK
* checking top-level files ... OK
* checking for left-over files ... OK
* checking index information ... OK
* checking package subdirectories ... OK
* checking code files for non-ASCII characters ... OK
* checking R files for syntax errors ... OK
* checking whether the package can be loaded ... OK
* checking whether the package can be loaded with stated dependencies ... OK
* checking whether the package can be unloaded cleanly ... OK
* checking whether the namespace can be loaded with stated dependencies ... OK
* checking whether the namespace can be unloaded cleanly ... OK
* checking loading without being on the library search path ... OK
* checking dependencies in R code ... NOTE
':::' call which should be '::': ‘ontologyPlot:::remove_uninformative_terms’
  See the note in ?`:::` about the use of this operator.
* checking S3 generic/method consistency ... OK
* checking replacement functions ... OK
* checking foreign function calls ... OK
* checking R code for possible problems ... NOTE
CLfeat : prupdate: no visible binding for global variable ‘PROSYM’
CLfeat : prupdate: no visible binding for global variable ‘PRID’
CLfeat : prupdate: no visible binding for global variable ‘SYMBOL’
ctmarks : server: no visible binding for global variable ‘text’
ctmarks : server: no visible binding for global variable ‘packDesc2022’
ctmarks : server: no visible binding for global variable ‘packDesc2021’
ctmarks: no visible binding for global variable ‘cumu’
dropStop: no visible binding for global variable ‘stopWords’
getOnto: no visible binding for global variable ‘rdatadateadded’
getOnto: no visible binding for global variable ‘title’
getOnto: no visible binding for global variable ‘description’
ldfToTerm: no visible binding for global variable ‘PROSYM’
sym2CellOnto: no visible binding for global variable ‘PROSYM’
sym2CellOnto: no visible binding for global variable ‘SYMBOL’
Undefined global functions or variables:
  PRID PROSYM SYMBOL cumu description packDesc2021 packDesc2022
  rdatadateadded stopWords text title
Consider adding
  importFrom("graphics", "text", "title")
to your NAMESPACE file.
* checking Rd files ... OK
* checking Rd metadata ... OK
* checking Rd cross-references ... NOTE
Found the following Rd file(s) with Rd \link{} targets missing package
anchors:
  findCommonAncestors.Rd: graph, DataFrame-class, List-class
Please provide package anchors for all Rd \link{} targets not in the
package itself and the base packages.
* checking for missing documentation entries ... OK
* checking for code/documentation mismatches ... OK
* checking Rd \usage sections ... NOTE
S3 methods shown with full name in Rd file 'plot.owlents.Rd':
  ‘plot.owlents’

The \usage entries for S3 methods should use the \method markup and not
their full name.
See chapter ‘Writing R documentation files’ in the ‘Writing R
Extensions’ manual.
* checking Rd contents ... OK
* checking for unstated dependencies in examples ... OK
* checking contents of ‘data’ directory ... OK
* checking data for non-ASCII characters ... OK
* checking data for ASCII and uncompressed saves ... OK
* checking files in ‘vignettes’ ... OK
* checking examples ... OK
Examples with CPU (user + system) or elapsed time > 5s
                                    user system elapsed
sym2CellOnto                     200.374  3.000 204.034
siblings_TAG                     117.672  1.969 120.630
cleanCLOnames                     98.796  0.982 109.771
nomenCheckup                      84.770  1.133  86.226
fastGrep                          83.367  1.178 104.210
findCommonAncestors               75.082  1.133 114.901
common_classes                    72.478  1.243  88.432
CLfeats                           67.548  3.078  71.662
liberalMap                        58.597  3.039  69.145
getLeavesFromTerm                 58.437  0.847  63.520
getOnto                           49.659  0.458  51.696
selectFromMap                     41.929  1.460  43.743
secLevGen                         40.252  2.533  43.196
make_graphNEL_from_ontology_plot  41.300  1.185  42.772
mapOneNaive                       40.514  0.928  41.928
onto_plot2                        40.063  0.568  40.880
TermSet-class                     38.493  0.832  39.663
graph2paths                       15.221  0.191  17.140
ontoDiff                          11.218  0.256  12.021
plot.owlents                       4.657  0.222  75.396
search_labels                      0.506  0.043  14.084
bioregistry_ols_resources          0.076  0.006  11.562
* checking for unstated dependencies in ‘tests’ ... OK
* checking tests ...
  Running ‘test.R’
 OK
* checking for unstated dependencies in vignettes ... OK
* checking package vignettes ... OK
* checking re-building of vignette outputs ... OK
* checking PDF version of manual ... OK
* DONE

Status: 4 NOTEs
See
  ‘/home/biocbuild/bbs-3.22-bioc/meat/ontoProc.Rcheck/00check.log’
for details.


Installation output

ontoProc.Rcheck/00install.out

##############################################################################
##############################################################################
###
### Running command:
###
###   /home/biocbuild/bbs-3.22-bioc/R/bin/R CMD INSTALL ontoProc
###
##############################################################################
##############################################################################


* installing to library ‘/home/biocbuild/bbs-3.22-bioc/R/site-library’
* installing *source* package ‘ontoProc’ ...
** this is package ‘ontoProc’ version ‘2.4.0’
** using staged installation
** R
** data
** inst
** byte-compile and prepare package for lazy loading
** help
*** installing help indices
** building package indices
** installing vignettes
** testing if installed package can be loaded from temporary location
** testing if installed package can be loaded from final location
** testing if installed package keeps a record of temporary installation path
* DONE (ontoProc)

Tests output

ontoProc.Rcheck/tests/test.Rout


R version 4.5.1 Patched (2025-08-23 r88802) -- "Great Square Root"
Copyright (C) 2025 The R Foundation for Statistical Computing
Platform: x86_64-pc-linux-gnu

R is free software and comes with ABSOLUTELY NO WARRANTY.
You are welcome to redistribute it under certain conditions.
Type 'license()' or 'licence()' for distribution details.

R is a collaborative project with many contributors.
Type 'contributors()' for more information and
'citation()' on how to cite R or R packages in publications.

Type 'demo()' for some demos, 'help()' for on-line help, or
'help.start()' for an HTML browser interface to help.
Type 'q()' to quit R.

> 
> library(ontoProc)
Loading required package: ontologyIndex
> library(testthat)
> 
> test_check("ontoProc")
[ FAIL 0 | WARN 0 | SKIP 0 | PASS 12 ]
> 
> 
> proc.time()
   user  system elapsed 
258.123   3.604 263.760 

Example timings

ontoProc.Rcheck/ontoProc-Ex.timings

nameusersystemelapsed
CLfeats67.548 3.07871.662
PROSYM0.2190.0030.221
TermSet-class38.493 0.83239.663
allGOterms0.0900.0020.092
ancestors0.5710.1420.718
ancestors_names0.0110.0010.006
bioregistry_ols_resources 0.076 0.00611.562
cellTypeToGO1.6590.0521.711
children_names0.0050.0000.004
cleanCLOnames 98.796 0.982109.771
common_classes72.478 1.24388.432
ctmarks0.0000.0000.001
cyclicSigset0.0090.0010.011
demoApp0.0000.0000.001
dropStop0.0060.0000.007
fastGrep 83.367 1.178104.210
findCommonAncestors 75.082 1.133114.901
formalize0.0010.0000.001
getLeavesFromTerm58.437 0.84763.520
getOnto49.659 0.45851.696
graph2paths15.221 0.19117.140
humrna0.0060.0010.007
jowl2classgraph0.3190.0110.330
jowl2classgraph_nio0.7250.0060.731
labels.owlents0.0000.0000.001
ldfToTerms2.3250.0142.339
liberalMap58.597 3.03969.145
makeSelectInput0.0000.0010.001
make_graphNEL_from_ontology_plot41.300 1.18542.772
mapOneNaive40.514 0.92841.928
minicorpus0.0000.0010.001
nomenCheckup84.770 1.13386.226
ontoDiff11.218 0.25612.021
onto_plot240.063 0.56840.880
onto_roots0.0000.0010.000
owl2cache0.0210.0060.027
packDesc20190.0020.0000.003
packDesc20210.0020.0000.002
packDesc20220.0020.0000.002
packDesc20230.0020.0000.002
parents0.0050.0000.005
plot.owlents 4.657 0.22275.396
quickOnto0.3890.0470.436
recognizedPredicates0.0010.0000.000
search_labels 0.506 0.04314.084
secLevGen40.252 2.53343.196
selectFromMap41.929 1.46043.743
setup_entities0.0040.0020.006
setup_entities20.3910.0060.397
seur3kTab0.0030.0010.004
siblings_TAG117.672 1.969120.630
stopWords0.0020.0000.002
subclasses0.0040.0010.005
sym2CellOnto200.374 3.000204.034
valid_ontonames0.0010.0000.000