| Back to Build/check report for BioC 3.22: simplified long |
|
This page was generated on 2025-11-13 11:55 -0500 (Thu, 13 Nov 2025).
| Hostname | OS | Arch (*) | R version | Installed pkgs |
|---|---|---|---|---|
| taishan | Linux (openEuler 24.03 LTS) | aarch64 | 4.5.0 (2025-04-11) -- "How About a Twenty-Six" | 4668 |
| Click on any hostname to see more info about the system (e.g. compilers) (*) as reported by 'uname -p', except on Windows and Mac OS X | ||||
| Package 1474/2361 | Hostname | OS / Arch | INSTALL | BUILD | CHECK | BUILD BIN | ||||||||
| notameStats 1.0.0 (landing page) Vilhelm Suksi
| taishan | Linux (openEuler 24.03 LTS) / aarch64 | OK | OK | OK | |||||||||
|
To the developers/maintainers of the notameStats package: - Allow up to 24 hours (and sometimes 48 hours) for your latest push to git@git.bioconductor.org:packages/notameStats.git to reflect on this report. See Troubleshooting Build Report for more information. - Use the following Renviron settings to reproduce errors and warnings. - If 'R CMD check' started to fail recently on the Linux builder(s) over a missing dependency, add the missing dependency to 'Suggests:' in your DESCRIPTION file. See Renviron.bioc for more information. - See Martin Grigorov's blog post for how to debug Linux ARM64 related issues on a x86_64 host. |
| Package: notameStats |
| Version: 1.0.0 |
| Command: /home/biocbuild/R/R/bin/R CMD check --install=check:notameStats.install-out.txt --library=/home/biocbuild/R/R/site-library --no-vignettes --timings notameStats_1.0.0.tar.gz |
| StartedAt: 2025-11-11 12:34:05 -0000 (Tue, 11 Nov 2025) |
| EndedAt: 2025-11-11 12:40:35 -0000 (Tue, 11 Nov 2025) |
| EllapsedTime: 389.6 seconds |
| RetCode: 0 |
| Status: OK |
| CheckDir: notameStats.Rcheck |
| Warnings: 0 |
##############################################################################
##############################################################################
###
### Running command:
###
### /home/biocbuild/R/R/bin/R CMD check --install=check:notameStats.install-out.txt --library=/home/biocbuild/R/R/site-library --no-vignettes --timings notameStats_1.0.0.tar.gz
###
##############################################################################
##############################################################################
* using log directory ‘/home/biocbuild/bbs-3.22-bioc/meat/notameStats.Rcheck’
* using R version 4.5.0 (2025-04-11)
* using platform: aarch64-unknown-linux-gnu
* R was compiled by
aarch64-unknown-linux-gnu-gcc (GCC) 14.2.0
GNU Fortran (GCC) 14.2.0
* running under: openEuler 24.03 (LTS)
* using session charset: UTF-8
* using option ‘--no-vignettes’
* checking for file ‘notameStats/DESCRIPTION’ ... OK
* checking extension type ... Package
* this is package ‘notameStats’ version ‘1.0.0’
* package encoding: UTF-8
* checking package namespace information ... OK
* checking package dependencies ... OK
* checking if this is a source package ... OK
* checking if there is a namespace ... OK
* checking for hidden files and directories ... OK
* checking for portable file names ... OK
* checking for sufficient/correct file permissions ... OK
* checking whether package ‘notameStats’ can be installed ... OK
* checking installed package size ... OK
* checking package directory ... OK
* checking ‘build’ directory ... OK
* checking DESCRIPTION meta-information ... NOTE
License stub is invalid DCF.
* checking top-level files ... OK
* checking for left-over files ... OK
* checking index information ... OK
* checking package subdirectories ... OK
* checking code files for non-ASCII characters ... OK
* checking R files for syntax errors ... OK
* checking whether the package can be loaded ... OK
* checking whether the package can be loaded with stated dependencies ... OK
* checking whether the package can be unloaded cleanly ... OK
* checking whether the namespace can be loaded with stated dependencies ... OK
* checking whether the namespace can be unloaded cleanly ... OK
* checking loading without being on the library search path ... OK
* checking dependencies in R code ... OK
* checking S3 generic/method consistency ... OK
* checking replacement functions ... OK
* checking foreign function calls ... OK
* checking R code for possible problems ... OK
* checking Rd files ... OK
* checking Rd metadata ... OK
* checking Rd cross-references ... OK
* checking for missing documentation entries ... OK
* checking for code/documentation mismatches ... OK
* checking Rd \usage sections ... OK
* checking Rd contents ... OK
* checking for unstated dependencies in examples ... OK
* checking files in ‘vignettes’ ... OK
* checking examples ... OK
Examples with CPU (user + system) or elapsed time > 5s
user system elapsed
perform_auc 23.664 2.262 7.792
pls_da 25.063 0.366 25.494
muvr_analysis 20.470 0.966 21.715
perform_lmer 16.866 1.934 7.396
perform_non_parametric 10.058 4.633 6.934
perform_logistic 11.546 2.411 2.737
pls 11.536 0.738 12.310
perform_correlation_tests 7.103 2.933 5.006
perform_homoscedasticity_tests 4.678 1.813 2.937
summarize_results 4.304 1.448 2.050
perform_lm 3.869 1.424 2.312
* checking for unstated dependencies in ‘tests’ ... OK
* checking tests ...
Running ‘testthat.R’
OK
* checking for unstated dependencies in vignettes ... OK
* checking package vignettes ... OK
* checking running R code from vignettes ... SKIPPED
* checking re-building of vignette outputs ... SKIPPED
* checking PDF version of manual ... OK
* DONE
Status: 1 NOTE
See
‘/home/biocbuild/bbs-3.22-bioc/meat/notameStats.Rcheck/00check.log’
for details.
notameStats.Rcheck/00install.out
############################################################################## ############################################################################## ### ### Running command: ### ### /home/biocbuild/R/R/bin/R CMD INSTALL notameStats ### ############################################################################## ############################################################################## * installing to library ‘/home/biocbuild/R/R-4.5.0/site-library’ * installing *source* package ‘notameStats’ ... ** this is package ‘notameStats’ version ‘1.0.0’ ** using staged installation ** R ** inst ** byte-compile and prepare package for lazy loading ** help *** installing help indices ** building package indices ** installing vignettes ** testing if installed package can be loaded from temporary location ** testing if installed package can be loaded from final location ** testing if installed package keeps a record of temporary installation path * DONE (notameStats)
notameStats.Rcheck/tests/testthat.Rout
R version 4.5.0 (2025-04-11) -- "How About a Twenty-Six"
Copyright (C) 2025 The R Foundation for Statistical Computing
Platform: aarch64-unknown-linux-gnu
R is free software and comes with ABSOLUTELY NO WARRANTY.
You are welcome to redistribute it under certain conditions.
Type 'license()' or 'licence()' for distribution details.
R is a collaborative project with many contributors.
Type 'contributors()' for more information and
'citation()' on how to cite R or R packages in publications.
Type 'demo()' for some demos, 'help()' for on-line help, or
'help.start()' for an HTML browser interface to help.
Type 'q()' to quit R.
> library(testthat)
> library(notameStats)
Loading required package: SummarizedExperiment
Loading required package: MatrixGenerics
Loading required package: matrixStats
Attaching package: 'MatrixGenerics'
The following objects are masked from 'package:matrixStats':
colAlls, colAnyNAs, colAnys, colAvgsPerRowSet, colCollapse,
colCounts, colCummaxs, colCummins, colCumprods, colCumsums,
colDiffs, colIQRDiffs, colIQRs, colLogSumExps, colMadDiffs,
colMads, colMaxs, colMeans2, colMedians, colMins, colOrderStats,
colProds, colQuantiles, colRanges, colRanks, colSdDiffs, colSds,
colSums2, colTabulates, colVarDiffs, colVars, colWeightedMads,
colWeightedMeans, colWeightedMedians, colWeightedSds,
colWeightedVars, rowAlls, rowAnyNAs, rowAnys, rowAvgsPerColSet,
rowCollapse, rowCounts, rowCummaxs, rowCummins, rowCumprods,
rowCumsums, rowDiffs, rowIQRDiffs, rowIQRs, rowLogSumExps,
rowMadDiffs, rowMads, rowMaxs, rowMeans2, rowMedians, rowMins,
rowOrderStats, rowProds, rowQuantiles, rowRanges, rowRanks,
rowSdDiffs, rowSds, rowSums2, rowTabulates, rowVarDiffs, rowVars,
rowWeightedMads, rowWeightedMeans, rowWeightedMedians,
rowWeightedSds, rowWeightedVars
Loading required package: GenomicRanges
Loading required package: stats4
Loading required package: BiocGenerics
Loading required package: generics
Attaching package: 'generics'
The following objects are masked from 'package:base':
as.difftime, as.factor, as.ordered, intersect, is.element, setdiff,
setequal, union
Attaching package: 'BiocGenerics'
The following objects are masked from 'package:stats':
IQR, mad, sd, var, xtabs
The following objects are masked from 'package:base':
Filter, Find, Map, Position, Reduce, anyDuplicated, aperm, append,
as.data.frame, basename, cbind, colnames, dirname, do.call,
duplicated, eval, evalq, get, grep, grepl, is.unsorted, lapply,
mapply, match, mget, order, paste, pmax, pmax.int, pmin, pmin.int,
rank, rbind, rownames, sapply, saveRDS, table, tapply, unique,
unsplit, which.max, which.min
Loading required package: S4Vectors
Attaching package: 'S4Vectors'
The following object is masked from 'package:utils':
findMatches
The following objects are masked from 'package:base':
I, expand.grid, unname
Loading required package: IRanges
Loading required package: Seqinfo
Loading required package: Biobase
Welcome to Bioconductor
Vignettes contain introductory material; view with
'browseVignettes()'. To cite Bioconductor, see
'citation("Biobase")', and for packages 'citation("pkgname")'.
Attaching package: 'Biobase'
The following object is masked from 'package:MatrixGenerics':
rowMedians
The following objects are masked from 'package:matrixStats':
anyMissing, rowMedians
>
> test_check("notameStats")
Running tests in parallel requires the 3rd edition
INFO [2025-11-11 12:39:42] Starting to compute Cohen's D between groups B & A from time change 2 - 1
INFO [2025-11-11 12:39:42] Cohen's D computed.
INFO [2025-11-11 12:39:43] Starting to compute Cohen's D between groups B & A
INFO [2025-11-11 12:39:43] Cohen's D computed.
INFO [2025-11-11 12:39:43] Starting to compute fold changes.
INFO [2025-11-11 12:39:44] Fold changes computed.
INFO [2025-11-11 12:39:44] Starting to compute fold changes.
INFO [2025-11-11 12:39:44] Fold changes computed.
INFO [2025-11-11 12:39:44] Starting linear regression.
INFO [2025-11-11 12:39:46] Linear regression performed.
INFO [2025-11-11 12:39:46] Starting linear regression.
INFO [2025-11-11 12:39:49] Linear regression performed.
INFO [2025-11-11 12:39:49]
92% of features flagged for low quality
INFO [2025-11-11 12:39:49] Starting linear regression.
INFO [2025-11-11 12:39:51] Linear regression performed.
INFO [2025-11-11 12:39:51] Starting logistic regression
INFO [2025-11-11 12:39:53] Logistic regression performed.
INFO [2025-11-11 12:39:53] Starting logistic regression
INFO [2025-11-11 12:39:56] Logistic regression performed.
INFO [2025-11-11 12:39:57] Starting to compute Cohen's D between groups B & A
INFO [2025-11-11 12:39:57] Cohen's D computed.
INFO [2025-11-11 12:39:57] Starting to compute Cohen's D between groups C & A
INFO [2025-11-11 12:39:57] Cohen's D computed.
INFO [2025-11-11 12:39:57] Starting to compute Cohen's D between groups C & B
INFO [2025-11-11 12:39:57] Cohen's D computed.
INFO [2025-11-11 12:39:58] Starting to compute Cohen's D between groups B & A from time change 2 - 1
INFO [2025-11-11 12:39:59] Cohen's D computed.
INFO [2025-11-11 12:39:59] Starting to compute Cohen's D between groups B & A from time change 3 - 1
INFO [2025-11-11 12:39:59] Cohen's D computed.
INFO [2025-11-11 12:39:59] Starting to compute Cohen's D between groups B & A from time change 3 - 2
INFO [2025-11-11 12:39:59] Cohen's D computed.
INFO [2025-11-11 12:39:59] Starting to compute Cohen's D between groups C & A from time change 2 - 1
INFO [2025-11-11 12:40:00] Cohen's D computed.
INFO [2025-11-11 12:40:00] Starting to compute Cohen's D between groups C & A from time change 3 - 1
INFO [2025-11-11 12:40:00] Cohen's D computed.
INFO [2025-11-11 12:40:00] Starting to compute Cohen's D between groups C & A from time change 3 - 2
INFO [2025-11-11 12:40:00] Cohen's D computed.
INFO [2025-11-11 12:40:00] Starting to compute Cohen's D between groups C & B from time change 2 - 1
INFO [2025-11-11 12:40:01] Cohen's D computed.
INFO [2025-11-11 12:40:01] Starting to compute Cohen's D between groups C & B from time change 3 - 1
INFO [2025-11-11 12:40:01] Cohen's D computed.
INFO [2025-11-11 12:40:01] Starting to compute Cohen's D between groups C & B from time change 3 - 2
INFO [2025-11-11 12:40:01] Cohen's D computed.
INFO [2025-11-11 12:40:02] Starting to compute Cohen's D between groups B & A from time change 2 - 1
INFO [2025-11-11 12:40:02] Cohen's D computed.
INFO [2025-11-11 12:40:02] Starting to compute Cohen's D between groups B & A from time change 3 - 1
INFO [2025-11-11 12:40:02] Cohen's D computed.
INFO [2025-11-11 12:40:02] Starting to compute Cohen's D between groups B & A from time change 3 - 2
INFO [2025-11-11 12:40:02] Cohen's D computed.
INFO [2025-11-11 12:40:02] Starting to compute Cohen's D between groups C & A from time change 2 - 1
INFO [2025-11-11 12:40:03] Cohen's D computed.
INFO [2025-11-11 12:40:03] Starting to compute Cohen's D between groups C & A from time change 3 - 1
INFO [2025-11-11 12:40:03] Cohen's D computed.
INFO [2025-11-11 12:40:03] Starting to compute Cohen's D between groups C & A from time change 3 - 2
INFO [2025-11-11 12:40:03] Cohen's D computed.
INFO [2025-11-11 12:40:03] Starting to compute Cohen's D between groups C & B from time change 2 - 1
INFO [2025-11-11 12:40:04] Cohen's D computed.
INFO [2025-11-11 12:40:04] Starting to compute Cohen's D between groups C & B from time change 3 - 1
INFO [2025-11-11 12:40:04] Cohen's D computed.
INFO [2025-11-11 12:40:04] Starting to compute Cohen's D between groups C & B from time change 3 - 2
INFO [2025-11-11 12:40:04] Cohen's D computed.
INFO [2025-11-11 12:40:04] Starting to compute Cohen's D between groups B & A from time change 2 - 1
INFO [2025-11-11 12:40:05] Cohen's D computed.
INFO [2025-11-11 12:40:05] Starting to compute Cohen's D between groups B & A from time change 3 - 1
INFO [2025-11-11 12:40:05] Cohen's D computed.
INFO [2025-11-11 12:40:05] Starting to compute Cohen's D between groups B & A from time change 3 - 2
INFO [2025-11-11 12:40:05] Cohen's D computed.
INFO [2025-11-11 12:40:05] Starting to compute Cohen's D between groups C & A from time change 2 - 1
INFO [2025-11-11 12:40:06] Cohen's D computed.
INFO [2025-11-11 12:40:06] Starting to compute Cohen's D between groups C & B from time change 2 - 1
INFO [2025-11-11 12:40:06] Cohen's D computed.
INFO [2025-11-11 12:40:06] Starting to compute Cohen's D between groups B & A from time change 2 - 1
INFO [2025-11-11 12:40:06] Cohen's D computed.
INFO [2025-11-11 12:40:07] Starting to compute Cohen's D between groups B & A from time change 3 - 1
INFO [2025-11-11 12:40:07] Cohen's D computed.
INFO [2025-11-11 12:40:07] Starting to compute Cohen's D between groups B & A from time change 3 - 2
INFO [2025-11-11 12:40:07] Cohen's D computed.
INFO [2025-11-11 12:40:07] Starting to compute Cohen's D between groups C & A from time change 2 - 1
INFO [2025-11-11 12:40:07] Cohen's D computed.
INFO [2025-11-11 12:40:07] Starting to compute Cohen's D between groups C & B from time change 2 - 1
INFO [2025-11-11 12:40:08] Cohen's D computed.
INFO [2025-11-11 12:40:08] Starting to compute Cohen's D between groups B & A from time change 3 - 2
INFO [2025-11-11 12:40:08] Cohen's D computed.
INFO [2025-11-11 12:40:08] Starting to compute Cohen's D between groups C & A from time change 2 - 1
INFO [2025-11-11 12:40:09] Cohen's D computed.
INFO [2025-11-11 12:40:09] Starting to compute Cohen's D between groups C & A from time change 3 - 1
INFO [2025-11-11 12:40:09] Cohen's D computed.
INFO [2025-11-11 12:40:09] Starting to compute Cohen's D between groups C & A from time change 3 - 2
INFO [2025-11-11 12:40:09] Cohen's D computed.
INFO [2025-11-11 12:40:09] Starting to compute Cohen's D between groups C & B from time change 2 - 1
INFO [2025-11-11 12:40:09] Cohen's D computed.
INFO [2025-11-11 12:40:09] Starting to compute Cohen's D between groups C & B from time change 3 - 1
INFO [2025-11-11 12:40:10] Cohen's D computed.
INFO [2025-11-11 12:40:10] Starting to compute Cohen's D between groups C & B from time change 3 - 2
INFO [2025-11-11 12:40:10] Cohen's D computed.
INFO [2025-11-11 12:40:10] Starting paired tests for 1 & 2
INFO [2025-11-11 12:40:10] Found 20 complete pairs.
INFO [2025-11-11 12:40:10] Paired tests performed.
INFO [2025-11-11 12:40:11] Starting tests for 1 & 2
INFO [2025-11-11 12:40:11] Tests performed
INFO [2025-11-11 12:40:11] Starting tests for 1 & 3
INFO [2025-11-11 12:40:11] Tests performed
INFO [2025-11-11 12:40:11] Starting tests for 2 & 3
INFO [2025-11-11 12:40:12] Tests performed
INFO [2025-11-11 12:40:12] Starting tests for 1 & 2
INFO [2025-11-11 12:40:12] Tests performed
INFO [2025-11-11 12:40:12] Starting tests for 1 & 3
INFO [2025-11-11 12:40:13] Tests performed
INFO [2025-11-11 12:40:13] Starting tests for 2 & 3
INFO [2025-11-11 12:40:13] Tests performed
INFO [2025-11-11 12:40:13] Starting paired tests for 1 & 2
INFO [2025-11-11 12:40:13] Found 4 complete pairs.
INFO [2025-11-11 12:40:14] Paired tests performed.
INFO [2025-11-11 12:40:14] Starting paired tests for 1 & 3
INFO [2025-11-11 12:40:14] Found 4 complete pairs.
INFO [2025-11-11 12:40:14] Paired tests performed.
INFO [2025-11-11 12:40:14] Starting paired tests for 2 & 3
INFO [2025-11-11 12:40:14] Found 4 complete pairs.
INFO [2025-11-11 12:40:14] Paired tests performed.
INFO [2025-11-11 12:40:15] Starting paired tests for 1 & 2
INFO [2025-11-11 12:40:15] Found 8 complete pairs.
INFO [2025-11-11 12:40:15] Paired tests performed.
INFO [2025-11-11 12:40:15] Starting paired tests for 1 & 3
INFO [2025-11-11 12:40:15] Found 8 complete pairs.
INFO [2025-11-11 12:40:15] Paired tests performed.
INFO [2025-11-11 12:40:15] Starting paired tests for 2 & 3
INFO [2025-11-11 12:40:15] Found 8 complete pairs.
INFO [2025-11-11 12:40:16] Paired tests performed.
INFO [2025-11-11 12:40:16] Starting paired tests for 1 & 2
INFO [2025-11-11 12:40:16] Found 4 complete pairs.
INFO [2025-11-11 12:40:16] Paired tests performed.
INFO [2025-11-11 12:40:16] Starting paired tests for 1 & 3
INFO [2025-11-11 12:40:16] Found 4 complete pairs.
INFO [2025-11-11 12:40:17] Paired tests performed.
INFO [2025-11-11 12:40:17] Starting paired tests for 2 & 3
INFO [2025-11-11 12:40:17] Found 4 complete pairs.
INFO [2025-11-11 12:40:17] Paired tests performed.
INFO [2025-11-11 12:40:18] Starting tests for A & B
INFO [2025-11-11 12:40:19] Tests performed
INFO [2025-11-11 12:40:20] Starting paired tests for 1 & 2
INFO [2025-11-11 12:40:20] Found 20 complete pairs.
INFO [2025-11-11 12:40:21] Paired tests performed.
INFO [2025-11-11 12:40:21] Starting tests for 1 & 2
INFO [2025-11-11 12:40:22] Tests performed
INFO [2025-11-11 12:40:22] Starting tests for 1 & 3
INFO [2025-11-11 12:40:23] Tests performed
INFO [2025-11-11 12:40:23] Starting tests for 2 & 3
INFO [2025-11-11 12:40:24] Tests performed
INFO [2025-11-11 12:40:24] Starting tests for 1 & 2
INFO [2025-11-11 12:40:25] Tests performed
INFO [2025-11-11 12:40:25] Starting tests for 1 & 3
INFO [2025-11-11 12:40:25] Tests performed
INFO [2025-11-11 12:40:25] Starting tests for 2 & 3
INFO [2025-11-11 12:40:26] Tests performed
INFO [2025-11-11 12:40:26] Starting paired tests for 1 & 2
INFO [2025-11-11 12:40:26] Found 4 complete pairs.
INFO [2025-11-11 12:40:26] Paired tests performed.
INFO [2025-11-11 12:40:27] Starting paired tests for 1 & 3
INFO [2025-11-11 12:40:27] Found 4 complete pairs.
INFO [2025-11-11 12:40:27] Paired tests performed.
INFO [2025-11-11 12:40:27] Starting paired tests for 2 & 3
INFO [2025-11-11 12:40:27] Found 4 complete pairs.
INFO [2025-11-11 12:40:27] Paired tests performed.
INFO [2025-11-11 12:40:27] Starting correlation tests.
INFO [2025-11-11 12:40:27] Performing correlation tests for single object
INFO [2025-11-11 12:40:28] Correlation tests performed.
INFO [2025-11-11 12:40:28] Starting correlation tests.
INFO [2025-11-11 12:40:28] Starting correlation tests.
INFO [2025-11-11 12:40:28] Starting correlation tests.
INFO [2025-11-11 12:40:28] Starting correlation tests.
INFO [2025-11-11 12:40:28] Performing correlation tests for two objects
INFO [2025-11-11 12:40:28] Correlation tests performed.
INFO [2025-11-11 12:40:28] Starting correlation tests.
INFO [2025-11-11 12:40:28] Performing correlation tests for two objects
INFO [2025-11-11 12:40:29] Correlation tests performed.
INFO [2025-11-11 12:40:29] Starting paired tests for 1 & 2
INFO [2025-11-11 12:40:29] Found 20 complete pairs.
INFO [2025-11-11 12:40:30] Paired tests performed.
INFO [2025-11-11 12:40:30] Starting tests for A & B
INFO [2025-11-11 12:40:30] Tests performed
[ FAIL 0 | WARN 1 | SKIP 0 | PASS 88 ]
[ FAIL 0 | WARN 1 | SKIP 0 | PASS 88 ]
>
> proc.time()
user system elapsed
72.471 39.717 62.717
notameStats.Rcheck/notameStats-Ex.timings
| name | user | system | elapsed | |
| cohens_d | 2.818 | 0.412 | 2.931 | |
| fit_rf | 0.197 | 0.030 | 0.264 | |
| fold_change | 0.461 | 0.503 | 0.533 | |
| importance_rf | 0.238 | 0.062 | 0.213 | |
| muvr_analysis | 20.470 | 0.966 | 21.715 | |
| perform_auc | 23.664 | 2.262 | 7.792 | |
| perform_correlation_tests | 7.103 | 2.933 | 5.006 | |
| perform_homoscedasticity_tests | 4.678 | 1.813 | 2.937 | |
| perform_kruskal_wallis | 3.167 | 1.190 | 1.348 | |
| perform_lm | 3.869 | 1.424 | 2.312 | |
| perform_lm_anova | 3.124 | 0.981 | 1.362 | |
| perform_lmer | 16.866 | 1.934 | 7.396 | |
| perform_logistic | 11.546 | 2.411 | 2.737 | |
| perform_non_parametric | 10.058 | 4.633 | 6.934 | |
| perform_oneway_anova | 2.919 | 1.492 | 1.090 | |
| perform_permanova | 1.530 | 0.223 | 1.775 | |
| perform_t_test | 1.842 | 2.004 | 2.931 | |
| pls | 11.536 | 0.738 | 12.310 | |
| pls_da | 25.063 | 0.366 | 25.494 | |
| summarize_results | 4.304 | 1.448 | 2.050 | |
| summary_statistics | 1.673 | 1.191 | 1.652 | |