| Back to Multiple platform build/check report for BioC 3.21: simplified long |
|
This page was generated on 2025-04-22 13:16 -0400 (Tue, 22 Apr 2025).
| Hostname | OS | Arch (*) | R version | Installed pkgs |
|---|---|---|---|---|
| nebbiolo1 | Linux (Ubuntu 24.04.1 LTS) | x86_64 | 4.5.0 RC (2025-04-04 r88126) -- "How About a Twenty-Six" | 4831 |
| palomino7 | Windows Server 2022 Datacenter | x64 | 4.5.0 RC (2025-04-04 r88126 ucrt) -- "How About a Twenty-Six" | 4573 |
| lconway | macOS 12.7.1 Monterey | x86_64 | 4.5.0 RC (2025-04-04 r88126) -- "How About a Twenty-Six" | 4599 |
| kjohnson3 | macOS 13.7.1 Ventura | arm64 | 4.5.0 RC (2025-04-04 r88126) -- "How About a Twenty-Six" | 4553 |
| kunpeng2 | Linux (openEuler 24.03 LTS) | aarch64 | R Under development (unstable) (2025-02-19 r87757) -- "Unsuffered Consequences" | 4570 |
| Click on any hostname to see more info about the system (e.g. compilers) (*) as reported by 'uname -p', except on Windows and Mac OS X | ||||
| Package 1330/2341 | Hostname | OS / Arch | INSTALL | BUILD | CHECK | BUILD BIN | ||||||||
| mogsa 1.42.0 (landing page) Chen Meng
| nebbiolo1 | Linux (Ubuntu 24.04.1 LTS) / x86_64 | OK | OK | OK | |||||||||
| palomino7 | Windows Server 2022 Datacenter / x64 | OK | OK | OK | OK | |||||||||
| lconway | macOS 12.7.1 Monterey / x86_64 | OK | OK | OK | OK | |||||||||
| kjohnson3 | macOS 13.7.1 Ventura / arm64 | OK | OK | OK | OK | |||||||||
| kunpeng2 | Linux (openEuler 24.03 LTS) / aarch64 | OK | OK | OK | ||||||||||
|
To the developers/maintainers of the mogsa package: - Allow up to 24 hours (and sometimes 48 hours) for your latest push to git@git.bioconductor.org:packages/mogsa.git to reflect on this report. See Troubleshooting Build Report for more information. - Use the following Renviron settings to reproduce errors and warnings. - If 'R CMD check' started to fail recently on the Linux builder(s) over a missing dependency, add the missing dependency to 'Suggests:' in your DESCRIPTION file. See Renviron.bioc for more information. |
| Package: mogsa |
| Version: 1.42.0 |
| Command: /Library/Frameworks/R.framework/Resources/bin/R CMD check --install=check:mogsa.install-out.txt --library=/Library/Frameworks/R.framework/Resources/library --no-vignettes --timings mogsa_1.42.0.tar.gz |
| StartedAt: 2025-04-21 22:00:24 -0400 (Mon, 21 Apr 2025) |
| EndedAt: 2025-04-21 22:03:11 -0400 (Mon, 21 Apr 2025) |
| EllapsedTime: 167.6 seconds |
| RetCode: 0 |
| Status: OK |
| CheckDir: mogsa.Rcheck |
| Warnings: 0 |
##############################################################################
##############################################################################
###
### Running command:
###
### /Library/Frameworks/R.framework/Resources/bin/R CMD check --install=check:mogsa.install-out.txt --library=/Library/Frameworks/R.framework/Resources/library --no-vignettes --timings mogsa_1.42.0.tar.gz
###
##############################################################################
##############################################################################
* using log directory ‘/Users/biocbuild/bbs-3.21-bioc/meat/mogsa.Rcheck’
* using R version 4.5.0 RC (2025-04-04 r88126)
* using platform: x86_64-apple-darwin20
* R was compiled by
Apple clang version 14.0.0 (clang-1400.0.29.202)
GNU Fortran (GCC) 14.2.0
* running under: macOS Monterey 12.7.6
* using session charset: UTF-8
* using option ‘--no-vignettes’
* checking for file ‘mogsa/DESCRIPTION’ ... OK
* checking extension type ... Package
* this is package ‘mogsa’ version ‘1.42.0’
* checking package namespace information ... OK
* checking package dependencies ... OK
* checking if this is a source package ... OK
* checking if there is a namespace ... OK
* checking for hidden files and directories ... OK
* checking for portable file names ... OK
* checking for sufficient/correct file permissions ... OK
* checking whether package ‘mogsa’ can be installed ... OK
* checking installed package size ... OK
* checking package directory ... OK
* checking ‘build’ directory ... OK
* checking DESCRIPTION meta-information ... OK
* checking top-level files ... OK
* checking for left-over files ... OK
* checking index information ... OK
* checking package subdirectories ... OK
* checking code files for non-ASCII characters ... OK
* checking R files for syntax errors ... OK
* checking whether the package can be loaded ... OK
* checking whether the package can be loaded with stated dependencies ... OK
* checking whether the package can be unloaded cleanly ... OK
* checking whether the namespace can be loaded with stated dependencies ... OK
* checking whether the namespace can be unloaded cleanly ... OK
* checking dependencies in R code ... OK
* checking S3 generic/method consistency ... OK
* checking replacement functions ... OK
* checking foreign function calls ... OK
* checking R code for possible problems ... OK
* checking Rd files ... NOTE
checkRd: (-1) GIS.Rd:57: Lost braces; missing escapes or markup?
57 | log2(var(GS_{-i})/var(GS))
| ^
checkRd: (-1) GIS.Rd:59: Lost braces; missing escapes or markup?
59 | where GS is the gene set score, and the GS_{-i} is a recalculate of
| ^
checkRd: (-1) GIS.Rd:65: Lost braces; missing escapes or markup?
65 | log2(F(GS_{-i})/F(GS))
| ^
checkRd: (-1) NCI60_4array_supdata.Rd:15: Escaped LaTeX specials: \$
checkRd: (-1) NCI60_4array_supdata.Rd:15-17: Lost braces in \itemize; meant \describe ?
checkRd: (-1) NCI60_4array_supdata.Rd:19: Escaped LaTeX specials: \$
checkRd: (-1) NCI60_4array_supdata.Rd:19-21: Lost braces in \itemize; meant \describe ?
checkRd: (-1) NCI60_4array_supdata.Rd:23: Escaped LaTeX specials: \$
checkRd: (-1) NCI60_4array_supdata.Rd:23-25: Lost braces in \itemize; meant \describe ?
checkRd: (-1) NCI60_4array_supdata.Rd:27: Escaped LaTeX specials: \$
checkRd: (-1) NCI60_4array_supdata.Rd:27-29: Lost braces in \itemize; meant \describe ?
checkRd: (-1) NCI60_4arrays.Rd:21: Escaped LaTeX specials: \$
checkRd: (-1) NCI60_4arrays.Rd:21-23: Lost braces in \itemize; meant \describe ?
checkRd: (-1) NCI60_4arrays.Rd:25: Escaped LaTeX specials: \$
checkRd: (-1) NCI60_4arrays.Rd:25-27: Lost braces in \itemize; meant \describe ?
checkRd: (-1) NCI60_4arrays.Rd:29: Escaped LaTeX specials: \$
checkRd: (-1) NCI60_4arrays.Rd:29-31: Lost braces in \itemize; meant \describe ?
checkRd: (-1) NCI60_4arrays.Rd:33: Escaped LaTeX specials: \$
checkRd: (-1) NCI60_4arrays.Rd:33-35: Lost braces in \itemize; meant \describe ?
checkRd: (-1) mgsa-class.Rd:22-24: Lost braces
22 | \item{combine}{\code{signature(x = "mgsa", y = "mgsa")}}{
| ^
* checking Rd metadata ... OK
* checking Rd cross-references ... OK
* checking for missing documentation entries ... OK
* checking for code/documentation mismatches ... OK
* checking Rd \usage sections ... OK
* checking Rd contents ... OK
* checking for unstated dependencies in examples ... OK
* checking contents of ‘data’ directory ... OK
* checking data for non-ASCII characters ... OK
* checking data for ASCII and uncompressed saves ... OK
* checking sizes of PDF files under ‘inst/doc’ ... OK
* checking files in ‘vignettes’ ... OK
* checking examples ... OK
Examples with CPU (user + system) or elapsed time > 5s
user system elapsed
prepSupMoa 5.481 0.111 5.618
* checking for unstated dependencies in vignettes ... OK
* checking package vignettes ... OK
* checking running R code from vignettes ... SKIPPED
* checking re-building of vignette outputs ... SKIPPED
* checking PDF version of manual ... OK
* DONE
Status: 1 NOTE
See
‘/Users/biocbuild/bbs-3.21-bioc/meat/mogsa.Rcheck/00check.log’
for details.
mogsa.Rcheck/00install.out
############################################################################## ############################################################################## ### ### Running command: ### ### /Library/Frameworks/R.framework/Resources/bin/R CMD INSTALL mogsa ### ############################################################################## ############################################################################## * installing to library ‘/Library/Frameworks/R.framework/Versions/4.5-x86_64/Resources/library’ * installing *source* package ‘mogsa’ ... ** this is package ‘mogsa’ version ‘1.42.0’ ** using staged installation ** R ** data ** inst ** byte-compile and prepare package for lazy loading ** help *** installing help indices ** building package indices ** installing vignettes ** testing if installed package can be loaded from temporary location ** testing if installed package can be loaded from final location ** testing if installed package keeps a record of temporary installation path * DONE (mogsa)
mogsa.Rcheck/mogsa-Ex.timings
| name | user | system | elapsed | |
| GIS | 0.661 | 0.027 | 0.693 | |
| annotate.gs | 0.122 | 0.016 | 0.140 | |
| bootMbpca | 0 | 0 | 0 | |
| bootMoa | 0.000 | 0.001 | 0.000 | |
| box.gs.feature | 0.173 | 0.011 | 0.184 | |
| combine-methods | 0.606 | 0.022 | 0.631 | |
| decompose.gs.group | 0.128 | 0.011 | 0.141 | |
| decompose.gs.ind | 0.102 | 0.012 | 0.114 | |
| distMoa | 0.207 | 0.014 | 0.220 | |
| getmgsa | 0.104 | 0.009 | 0.113 | |
| matpower | 0.001 | 0.000 | 0.001 | |
| mbpca | 2.099 | 0.103 | 2.216 | |
| mgsa-class | 0.198 | 0.012 | 0.210 | |
| moGap | 2.728 | 0.055 | 2.788 | |
| moa-class | 0.068 | 0.003 | 0.071 | |
| moa | 0.585 | 0.048 | 0.638 | |
| moa.sup-class | 0.090 | 0.007 | 0.098 | |
| moaCoef | 0.231 | 0.006 | 0.239 | |
| moaScore | 0.236 | 0.017 | 0.255 | |
| mogsa-package | 0.195 | 0.012 | 0.208 | |
| mogsa | 0.282 | 0.022 | 0.304 | |
| pairwise.rv | 0.008 | 0.001 | 0.010 | |
| plotGS | 0.114 | 0.013 | 0.130 | |
| prepGraphite | 0.285 | 0.006 | 0.293 | |
| prepMsigDB | 0.003 | 0.000 | 0.004 | |
| prepSupMoa | 5.481 | 0.111 | 5.618 | |
| softK | 0.000 | 0.000 | 0.001 | |
| sup.moa | 0.302 | 0.022 | 0.331 | |
| wsvd | 0.000 | 0.000 | 0.001 | |