Back to Multiple platform build/check report for BioC 3.21:   simplified   long
ABCDEFGHIJKL[M]NOPQRSTUVWXYZ

This page was generated on 2025-10-16 11:38 -0400 (Thu, 16 Oct 2025).

HostnameOSArch (*)R versionInstalled pkgs
nebbiolo1Linux (Ubuntu 24.04.3 LTS)x86_644.5.1 (2025-06-13) -- "Great Square Root" 4833
merida1macOS 12.7.6 Montereyx86_644.5.1 RC (2025-06-05 r88288) -- "Great Square Root" 4614
kjohnson1macOS 13.7.5 Venturaarm644.5.1 Patched (2025-06-14 r88325) -- "Great Square Root" 4555
kunpeng2Linux (openEuler 24.03 LTS)aarch64R Under development (unstable) (2025-02-19 r87757) -- "Unsuffered Consequences" 4586
Click on any hostname to see more info about the system (e.g. compilers)      (*) as reported by 'uname -p', except on Windows and Mac OS X

Package 1330/2341HostnameOS / ArchINSTALLBUILDCHECKBUILD BIN
mogsa 1.42.0  (landing page)
Chen Meng
Snapshot Date: 2025-10-13 13:40 -0400 (Mon, 13 Oct 2025)
git_url: https://git.bioconductor.org/packages/mogsa
git_branch: RELEASE_3_21
git_last_commit: 9b39a5c
git_last_commit_date: 2025-04-15 10:49:59 -0400 (Tue, 15 Apr 2025)
nebbiolo1Linux (Ubuntu 24.04.3 LTS) / x86_64  OK    OK    OK  UNNEEDED, same version is already published
merida1macOS 12.7.6 Monterey / x86_64  OK    OK    OK    OK  UNNEEDED, same version is already published
kjohnson1macOS 13.7.5 Ventura / arm64  OK    OK    OK    OK  UNNEEDED, same version is already published
kunpeng2Linux (openEuler 24.03 LTS) / aarch64  OK    OK    OK  


CHECK results for mogsa on nebbiolo1

To the developers/maintainers of the mogsa package:
- Allow up to 24 hours (and sometimes 48 hours) for your latest push to git@git.bioconductor.org:packages/mogsa.git to reflect on this report. See Troubleshooting Build Report for more information.
- Use the following Renviron settings to reproduce errors and warnings.
- If 'R CMD check' started to fail recently on the Linux builder(s) over a missing dependency, add the missing dependency to 'Suggests:' in your DESCRIPTION file. See Renviron.bioc for more information.

raw results


Summary

Package: mogsa
Version: 1.42.0
Command: /home/biocbuild/bbs-3.21-bioc/R/bin/R CMD check --install=check:mogsa.install-out.txt --library=/home/biocbuild/bbs-3.21-bioc/R/site-library --timings mogsa_1.42.0.tar.gz
StartedAt: 2025-10-16 01:13:54 -0400 (Thu, 16 Oct 2025)
EndedAt: 2025-10-16 01:18:07 -0400 (Thu, 16 Oct 2025)
EllapsedTime: 253.3 seconds
RetCode: 0
Status:   OK  
CheckDir: mogsa.Rcheck
Warnings: 0

Command output

##############################################################################
##############################################################################
###
### Running command:
###
###   /home/biocbuild/bbs-3.21-bioc/R/bin/R CMD check --install=check:mogsa.install-out.txt --library=/home/biocbuild/bbs-3.21-bioc/R/site-library --timings mogsa_1.42.0.tar.gz
###
##############################################################################
##############################################################################


* using log directory ‘/home/biocbuild/bbs-3.21-bioc/meat/mogsa.Rcheck’
* using R version 4.5.1 (2025-06-13)
* using platform: x86_64-pc-linux-gnu
* R was compiled by
    gcc (Ubuntu 13.3.0-6ubuntu2~24.04) 13.3.0
    GNU Fortran (Ubuntu 13.3.0-6ubuntu2~24.04) 13.3.0
* running under: Ubuntu 24.04.3 LTS
* using session charset: UTF-8
* checking for file ‘mogsa/DESCRIPTION’ ... OK
* checking extension type ... Package
* this is package ‘mogsa’ version ‘1.42.0’
* checking package namespace information ... OK
* checking package dependencies ... OK
* checking if this is a source package ... OK
* checking if there is a namespace ... OK
* checking for hidden files and directories ... OK
* checking for portable file names ... OK
* checking for sufficient/correct file permissions ... OK
* checking whether package ‘mogsa’ can be installed ... OK
* checking installed package size ... OK
* checking package directory ... OK
* checking ‘build’ directory ... OK
* checking DESCRIPTION meta-information ... OK
* checking top-level files ... OK
* checking for left-over files ... OK
* checking index information ... OK
* checking package subdirectories ... OK
* checking code files for non-ASCII characters ... OK
* checking R files for syntax errors ... OK
* checking whether the package can be loaded ... OK
* checking whether the package can be loaded with stated dependencies ... OK
* checking whether the package can be unloaded cleanly ... OK
* checking whether the namespace can be loaded with stated dependencies ... OK
* checking whether the namespace can be unloaded cleanly ... OK
* checking loading without being on the library search path ... OK
* checking dependencies in R code ... OK
* checking S3 generic/method consistency ... OK
* checking replacement functions ... OK
* checking foreign function calls ... OK
* checking R code for possible problems ... OK
* checking Rd files ... NOTE
checkRd: (-1) GIS.Rd:57: Lost braces; missing escapes or markup?
    57 |         log2(var(GS_{-i})/var(GS))
       |                     ^
checkRd: (-1) GIS.Rd:59: Lost braces; missing escapes or markup?
    59 |         where GS is the gene set score, and the GS_{-i} is a recalculate of 
       |                                                    ^
checkRd: (-1) GIS.Rd:65: Lost braces; missing escapes or markup?
    65 |         log2(F(GS_{-i})/F(GS))
       |                   ^
checkRd: (-1) NCI60_4array_supdata.Rd:15: Escaped LaTeX specials: \$
checkRd: (-1) NCI60_4array_supdata.Rd:15-17: Lost braces in \itemize; meant \describe ?
checkRd: (-1) NCI60_4array_supdata.Rd:19: Escaped LaTeX specials: \$
checkRd: (-1) NCI60_4array_supdata.Rd:19-21: Lost braces in \itemize; meant \describe ?
checkRd: (-1) NCI60_4array_supdata.Rd:23: Escaped LaTeX specials: \$
checkRd: (-1) NCI60_4array_supdata.Rd:23-25: Lost braces in \itemize; meant \describe ?
checkRd: (-1) NCI60_4array_supdata.Rd:27: Escaped LaTeX specials: \$
checkRd: (-1) NCI60_4array_supdata.Rd:27-29: Lost braces in \itemize; meant \describe ?
checkRd: (-1) NCI60_4arrays.Rd:21: Escaped LaTeX specials: \$
checkRd: (-1) NCI60_4arrays.Rd:21-23: Lost braces in \itemize; meant \describe ?
checkRd: (-1) NCI60_4arrays.Rd:25: Escaped LaTeX specials: \$
checkRd: (-1) NCI60_4arrays.Rd:25-27: Lost braces in \itemize; meant \describe ?
checkRd: (-1) NCI60_4arrays.Rd:29: Escaped LaTeX specials: \$
checkRd: (-1) NCI60_4arrays.Rd:29-31: Lost braces in \itemize; meant \describe ?
checkRd: (-1) NCI60_4arrays.Rd:33: Escaped LaTeX specials: \$
checkRd: (-1) NCI60_4arrays.Rd:33-35: Lost braces in \itemize; meant \describe ?
checkRd: (-1) mgsa-class.Rd:22-24: Lost braces
    22 |                 \item{combine}{\code{signature(x = "mgsa", y = "mgsa")}}{
       |                                                                         ^
* checking Rd metadata ... OK
* checking Rd cross-references ... OK
* checking for missing documentation entries ... OK
* checking for code/documentation mismatches ... OK
* checking Rd \usage sections ... OK
* checking Rd contents ... OK
* checking for unstated dependencies in examples ... OK
* checking contents of ‘data’ directory ... OK
* checking data for non-ASCII characters ... OK
* checking data for ASCII and uncompressed saves ... OK
* checking files in ‘vignettes’ ... OK
* checking examples ... OK
Examples with CPU (user + system) or elapsed time > 5s
            user system elapsed
prepSupMoa 5.027  0.189   5.215
* checking for unstated dependencies in vignettes ... OK
* checking package vignettes ... OK
* checking re-building of vignette outputs ... OK
* checking PDF version of manual ... OK
* DONE

Status: 1 NOTE
See
  ‘/home/biocbuild/bbs-3.21-bioc/meat/mogsa.Rcheck/00check.log’
for details.


Installation output

mogsa.Rcheck/00install.out

##############################################################################
##############################################################################
###
### Running command:
###
###   /home/biocbuild/bbs-3.21-bioc/R/bin/R CMD INSTALL mogsa
###
##############################################################################
##############################################################################


* installing to library ‘/home/biocbuild/bbs-3.21-bioc/R/site-library’
* installing *source* package ‘mogsa’ ...
** this is package ‘mogsa’ version ‘1.42.0’
** using staged installation
** R
** data
** inst
** byte-compile and prepare package for lazy loading
** help
*** installing help indices
** building package indices
** installing vignettes
** testing if installed package can be loaded from temporary location
** testing if installed package can be loaded from final location
** testing if installed package keeps a record of temporary installation path
* DONE (mogsa)

Tests output


Example timings

mogsa.Rcheck/mogsa-Ex.timings

nameusersystemelapsed
GIS0.6370.0580.695
annotate.gs0.1100.0050.115
bootMbpca000
bootMoa000
box.gs.feature0.1660.0020.168
combine-methods0.6020.0440.646
decompose.gs.group0.1110.0040.114
decompose.gs.ind0.1020.0020.103
distMoa0.2130.0060.219
getmgsa0.0960.0010.097
matpower0.0010.0000.001
mbpca2.1650.0382.203
mgsa-class0.1840.0130.196
moGap2.0190.0072.026
moa-class0.0740.0000.075
moa0.6540.0160.670
moa.sup-class0.0970.0020.099
moaCoef0.2430.0020.246
moaScore0.2540.0020.255
mogsa-package0.1980.0020.200
mogsa0.2860.0020.288
pairwise.rv0.0100.0010.011
plotGS0.1140.0020.115
prepGraphite0.3050.0040.309
prepMsigDB0.0020.0000.002
prepSupMoa5.0270.1895.215
softK0.0000.0000.001
sup.moa0.2580.0080.266
wsvd0.0010.0000.001