| Back to Multiple platform build/check report for BioC 3.21: simplified long |
|
This page was generated on 2025-04-22 13:18 -0400 (Tue, 22 Apr 2025).
| Hostname | OS | Arch (*) | R version | Installed pkgs |
|---|---|---|---|---|
| nebbiolo1 | Linux (Ubuntu 24.04.1 LTS) | x86_64 | 4.5.0 RC (2025-04-04 r88126) -- "How About a Twenty-Six" | 4831 |
| palomino7 | Windows Server 2022 Datacenter | x64 | 4.5.0 RC (2025-04-04 r88126 ucrt) -- "How About a Twenty-Six" | 4573 |
| lconway | macOS 12.7.1 Monterey | x86_64 | 4.5.0 RC (2025-04-04 r88126) -- "How About a Twenty-Six" | 4599 |
| kjohnson3 | macOS 13.7.1 Ventura | arm64 | 4.5.0 RC (2025-04-04 r88126) -- "How About a Twenty-Six" | 4553 |
| kunpeng2 | Linux (openEuler 24.03 LTS) | aarch64 | R Under development (unstable) (2025-02-19 r87757) -- "Unsuffered Consequences" | 4570 |
| Click on any hostname to see more info about the system (e.g. compilers) (*) as reported by 'uname -p', except on Windows and Mac OS X | ||||
| Package 1307/2341 | Hostname | OS / Arch | INSTALL | BUILD | CHECK | BUILD BIN | ||||||||
| miRspongeR 2.12.0 (landing page) Junpeng Zhang
| nebbiolo1 | Linux (Ubuntu 24.04.1 LTS) / x86_64 | OK | OK | OK | |||||||||
| palomino7 | Windows Server 2022 Datacenter / x64 | OK | OK | OK | OK | |||||||||
| lconway | macOS 12.7.1 Monterey / x86_64 | OK | OK | OK | OK | |||||||||
| kjohnson3 | macOS 13.7.1 Ventura / arm64 | OK | OK | OK | OK | |||||||||
| kunpeng2 | Linux (openEuler 24.03 LTS) / aarch64 | OK | OK | OK | ||||||||||
|
To the developers/maintainers of the miRspongeR package: - Allow up to 24 hours (and sometimes 48 hours) for your latest push to git@git.bioconductor.org:packages/miRspongeR.git to reflect on this report. See Troubleshooting Build Report for more information. - Use the following Renviron settings to reproduce errors and warnings. - If 'R CMD check' started to fail recently on the Linux builder(s) over a missing dependency, add the missing dependency to 'Suggests:' in your DESCRIPTION file. See Renviron.bioc for more information. |
| Package: miRspongeR |
| Version: 2.12.0 |
| Command: /Library/Frameworks/R.framework/Resources/bin/R CMD check --install=check:miRspongeR.install-out.txt --library=/Library/Frameworks/R.framework/Resources/library --no-vignettes --timings miRspongeR_2.12.0.tar.gz |
| StartedAt: 2025-04-21 20:22:17 -0400 (Mon, 21 Apr 2025) |
| EndedAt: 2025-04-21 20:24:20 -0400 (Mon, 21 Apr 2025) |
| EllapsedTime: 122.4 seconds |
| RetCode: 0 |
| Status: OK |
| CheckDir: miRspongeR.Rcheck |
| Warnings: 0 |
##############################################################################
##############################################################################
###
### Running command:
###
### /Library/Frameworks/R.framework/Resources/bin/R CMD check --install=check:miRspongeR.install-out.txt --library=/Library/Frameworks/R.framework/Resources/library --no-vignettes --timings miRspongeR_2.12.0.tar.gz
###
##############################################################################
##############################################################################
* using log directory ‘/Users/biocbuild/bbs-3.21-bioc/meat/miRspongeR.Rcheck’
* using R version 4.5.0 RC (2025-04-04 r88126)
* using platform: aarch64-apple-darwin20
* R was compiled by
Apple clang version 14.0.0 (clang-1400.0.29.202)
GNU Fortran (GCC) 14.2.0
* running under: macOS Ventura 13.7.1
* using session charset: UTF-8
* using option ‘--no-vignettes’
* checking for file ‘miRspongeR/DESCRIPTION’ ... OK
* checking extension type ... Package
* this is package ‘miRspongeR’ version ‘2.12.0’
* package encoding: UTF-8
* checking package namespace information ... OK
* checking package dependencies ... OK
* checking if this is a source package ... OK
* checking if there is a namespace ... OK
* checking for hidden files and directories ... OK
* checking for portable file names ... OK
* checking for sufficient/correct file permissions ... OK
* checking whether package ‘miRspongeR’ can be installed ... OK
* used C compiler: ‘Apple clang version 15.0.0 (clang-1500.1.0.2.5)’
* used SDK: ‘MacOSX11.3.sdk’
* checking installed package size ... OK
* checking package directory ... OK
* checking ‘build’ directory ... OK
* checking DESCRIPTION meta-information ... OK
* checking top-level files ... OK
* checking for left-over files ... OK
* checking index information ... OK
* checking package subdirectories ... OK
* checking code files for non-ASCII characters ... OK
* checking R files for syntax errors ... OK
* checking whether the package can be loaded ... OK
* checking whether the package can be loaded with stated dependencies ... OK
* checking whether the package can be unloaded cleanly ... OK
* checking whether the namespace can be loaded with stated dependencies ... OK
* checking whether the namespace can be unloaded cleanly ... OK
* checking dependencies in R code ... OK
* checking S3 generic/method consistency ... OK
* checking replacement functions ... OK
* checking foreign function calls ... OK
* checking R code for possible problems ... NOTE
cernia_parallel: no visible binding for global variable ‘i’
hermes_parallel: no visible binding for global variable ‘i’
miRHomology_parallel: no visible binding for global variable ‘i’
muTaME_parallel: no visible binding for global variable ‘i’
pc_parallel: no visible binding for global variable ‘i’
ppc_parallel: no visible binding for global variable ‘i’
sample_cor_network: no visible binding for global variable ‘i’
sponge_parallel: no visible binding for global variable ‘i’
sponge_sample_specific: no visible binding for global variable ‘i’
sppc_parallel: no visible binding for global variable ‘i’
Undefined global functions or variables:
i
* checking Rd files ... OK
* checking Rd metadata ... OK
* checking Rd cross-references ... OK
* checking for missing documentation entries ... OK
* checking for code/documentation mismatches ... OK
* checking Rd \usage sections ... OK
* checking Rd contents ... OK
* checking for unstated dependencies in examples ... OK
* checking line endings in C/C++/Fortran sources/headers ... OK
* checking line endings in Makefiles ... OK
* checking compilation flags in Makevars ... OK
* checking for GNU extensions in Makefiles ... OK
* checking for portable use of $(BLAS_LIBS) and $(LAPACK_LIBS) ... OK
* checking use of PKG_*FLAGS in Makefiles ... OK
* checking compiled code ... NOTE
Note: information on .o files is not available
* checking files in ‘vignettes’ ... OK
* checking examples ... OK
Examples with CPU (user + system) or elapsed time > 5s
user system elapsed
moduleDEA 4.898 0.578 8.485
sample_cor_network 1.400 0.275 19.263
sponge_sample_specific 0.259 0.040 7.995
* checking for unstated dependencies in ‘tests’ ... OK
* checking tests ...
Running ‘test_miRspongeR.R’
OK
* checking for unstated dependencies in vignettes ... OK
* checking package vignettes ... OK
* checking running R code from vignettes ... SKIPPED
* checking re-building of vignette outputs ... SKIPPED
* checking PDF version of manual ... OK
* DONE
Status: 2 NOTEs
See
‘/Users/biocbuild/bbs-3.21-bioc/meat/miRspongeR.Rcheck/00check.log’
for details.
miRspongeR.Rcheck/00install.out
############################################################################## ############################################################################## ### ### Running command: ### ### /Library/Frameworks/R.framework/Resources/bin/R CMD INSTALL miRspongeR ### ############################################################################## ############################################################################## * installing to library ‘/Library/Frameworks/R.framework/Versions/4.5-arm64/Resources/library’ * installing *source* package ‘miRspongeR’ ... ** this is package ‘miRspongeR’ version ‘2.12.0’ ** using staged installation ** libs using C compiler: ‘Apple clang version 15.0.0 (clang-1500.1.0.2.5)’ using SDK: ‘MacOSX11.3.sdk’ clang -arch arm64 -I"/Library/Frameworks/R.framework/Resources/include" -DNDEBUG `/Library/Frameworks/R.framework/Resources/bin/Rscript -e "Rcpp:::CxxFlags()"` -I/opt/R/arm64/include -fPIC -falign-functions=64 -Wall -g -O2 -c complex.c -o complex.o clang -arch arm64 -I"/Library/Frameworks/R.framework/Resources/include" -DNDEBUG `/Library/Frameworks/R.framework/Resources/bin/Rscript -e "Rcpp:::CxxFlags()"` -I/opt/R/arm64/include -fPIC -falign-functions=64 -Wall -g -O2 -c registerDynamicSymbol.c -o registerDynamicSymbol.o clang -arch arm64 -dynamiclib -Wl,-headerpad_max_install_names -undefined dynamic_lookup -L/Library/Frameworks/R.framework/Resources/lib -L/opt/R/arm64/lib -o miRspongeR.so complex.o registerDynamicSymbol.o -F/Library/Frameworks/R.framework/.. -framework R installing to /Library/Frameworks/R.framework/Versions/4.5-arm64/Resources/library/00LOCK-miRspongeR/00new/miRspongeR/libs ** R ** inst ** byte-compile and prepare package for lazy loading Warning: replacing previous import ‘biomaRt::select’ by ‘dplyr::select’ when loading ‘SPONGE’ Warning: replacing previous import ‘Biobase::combine’ by ‘dplyr::combine’ when loading ‘SPONGE’ Warning: replacing previous import ‘cvms::font’ by ‘ggpubr::font’ when loading ‘SPONGE’ Warning: replacing previous import ‘ggplot2::margin’ by ‘randomForest::margin’ when loading ‘SPONGE’ Warning: replacing previous import ‘dplyr::combine’ by ‘randomForest::combine’ when loading ‘SPONGE’ Warning: replacing previous import ‘Biobase::exprs’ by ‘rlang::exprs’ when loading ‘SPONGE’ Warning: replacing previous import ‘rlang::exprs’ by ‘Biobase::exprs’ when loading ‘SPONGE’ ** help *** installing help indices ** building package indices ** installing vignettes ** testing if installed package can be loaded from temporary location Warning: replacing previous import ‘biomaRt::select’ by ‘dplyr::select’ when loading ‘SPONGE’ Warning: replacing previous import ‘Biobase::combine’ by ‘dplyr::combine’ when loading ‘SPONGE’ Warning: replacing previous import ‘cvms::font’ by ‘ggpubr::font’ when loading ‘SPONGE’ Warning: replacing previous import ‘ggplot2::margin’ by ‘randomForest::margin’ when loading ‘SPONGE’ Warning: replacing previous import ‘dplyr::combine’ by ‘randomForest::combine’ when loading ‘SPONGE’ Warning: replacing previous import ‘Biobase::exprs’ by ‘rlang::exprs’ when loading ‘SPONGE’ Warning: replacing previous import ‘rlang::exprs’ by ‘Biobase::exprs’ when loading ‘SPONGE’ ** checking absolute paths in shared objects and dynamic libraries ** testing if installed package can be loaded from final location Warning: replacing previous import ‘biomaRt::select’ by ‘dplyr::select’ when loading ‘SPONGE’ Warning: replacing previous import ‘Biobase::combine’ by ‘dplyr::combine’ when loading ‘SPONGE’ Warning: replacing previous import ‘cvms::font’ by ‘ggpubr::font’ when loading ‘SPONGE’ Warning: replacing previous import ‘ggplot2::margin’ by ‘randomForest::margin’ when loading ‘SPONGE’ Warning: replacing previous import ‘dplyr::combine’ by ‘randomForest::combine’ when loading ‘SPONGE’ Warning: replacing previous import ‘Biobase::exprs’ by ‘rlang::exprs’ when loading ‘SPONGE’ Warning: replacing previous import ‘rlang::exprs’ by ‘Biobase::exprs’ when loading ‘SPONGE’ ** testing if installed package keeps a record of temporary installation path * DONE (miRspongeR)
miRspongeR.Rcheck/tests/test_miRspongeR.Rout
R version 4.5.0 RC (2025-04-04 r88126) -- "How About a Twenty-Six"
Copyright (C) 2025 The R Foundation for Statistical Computing
Platform: aarch64-apple-darwin20
R is free software and comes with ABSOLUTELY NO WARRANTY.
You are welcome to redistribute it under certain conditions.
Type 'license()' or 'licence()' for distribution details.
R is a collaborative project with many contributors.
Type 'contributors()' for more information and
'citation()' on how to cite R or R packages in publications.
Type 'demo()' for some demos, 'help()' for on-line help, or
'help.start()' for an HTML browser interface to help.
Type 'q()' to quit R.
> library(testthat)
> library(miRspongeR)
Warning messages:
1: replacing previous import 'biomaRt::select' by 'dplyr::select' when loading 'SPONGE'
2: replacing previous import 'Biobase::combine' by 'dplyr::combine' when loading 'SPONGE'
3: replacing previous import 'cvms::font' by 'ggpubr::font' when loading 'SPONGE'
4: replacing previous import 'ggplot2::margin' by 'randomForest::margin' when loading 'SPONGE'
5: replacing previous import 'dplyr::combine' by 'randomForest::combine' when loading 'SPONGE'
6: replacing previous import 'Biobase::exprs' by 'rlang::exprs' when loading 'SPONGE'
7: replacing previous import 'rlang::exprs' by 'Biobase::exprs' when loading 'SPONGE'
>
> miR2Target <- system.file("extdata", "miR2Target.csv", package="miRspongeR")
> miRTarget <- read.csv(miR2Target, header=TRUE, sep=",")
> ExpDatacsv <- system.file("extdata", "ExpData.csv", package="miRspongeR")
> ExpData <- read.csv(ExpDatacsv, header=TRUE, sep=",")
>
> # miRHomology method
> miRHomologyceRInt <- spongeMethod(miRTarget, method = "miRHomology")
>
> # pc method
> pcceRInt <- spongeMethod(miRTarget, ExpData, method = "pc")
>
> # sppc method
> sppcceRInt <- spongeMethod(miRTarget, ExpData, senscorcutoff = 0.1, method = "sppc")
>
>
> test_that("Test spongeMethod", {
+ expect_equal(spongeMethod(miRTarget, method = "miRHomology"), miRHomologyceRInt)
+ expect_equal(spongeMethod(miRTarget, ExpData, method = "pc"), pcceRInt)
+ expect_equal(spongeMethod(miRTarget, ExpData, senscorcutoff = 0.1, method = "sppc"), sppcceRInt)
+ })
Test passed 🥳
>
> proc.time()
user system elapsed
4.081 0.227 4.370
miRspongeR.Rcheck/miRspongeR-Ex.timings
| name | user | system | elapsed | |
| integrateMethod | 0.088 | 0.005 | 0.096 | |
| moduleDEA | 4.898 | 0.578 | 8.485 | |
| moduleFEA | 0 | 0 | 0 | |
| moduleSurvival | 0.052 | 0.002 | 0.055 | |
| netModule | 0.005 | 0.000 | 0.006 | |
| querymiRTargetbinding | 0.028 | 0.001 | 0.030 | |
| sample_cor_network | 1.400 | 0.275 | 19.263 | |
| spongeMethod | 0.067 | 0.004 | 0.071 | |
| spongeValidate | 0.024 | 0.001 | 0.025 | |
| sponge_sample_specific | 0.259 | 0.040 | 7.995 | |