| Back to Multiple platform build/check report for BioC 3.21: simplified long |
|
This page was generated on 2025-10-13 11:38 -0400 (Mon, 13 Oct 2025).
| Hostname | OS | Arch (*) | R version | Installed pkgs |
|---|---|---|---|---|
| nebbiolo1 | Linux (Ubuntu 24.04.3 LTS) | x86_64 | 4.5.1 (2025-06-13) -- "Great Square Root" | 4833 |
| merida1 | macOS 12.7.5 Monterey | x86_64 | 4.5.1 RC (2025-06-05 r88288) -- "Great Square Root" | 4614 |
| kjohnson1 | macOS 13.6.6 Ventura | arm64 | 4.5.1 Patched (2025-06-14 r88325) -- "Great Square Root" | 4555 |
| kunpeng2 | Linux (openEuler 24.03 LTS) | aarch64 | R Under development (unstable) (2025-02-19 r87757) -- "Unsuffered Consequences" | 4586 |
| Click on any hostname to see more info about the system (e.g. compilers) (*) as reported by 'uname -p', except on Windows and Mac OS X | ||||
| Package 1307/2341 | Hostname | OS / Arch | INSTALL | BUILD | CHECK | BUILD BIN | ||||||||
| miRspongeR 2.12.0 (landing page) Junpeng Zhang
| nebbiolo1 | Linux (Ubuntu 24.04.3 LTS) / x86_64 | OK | OK | OK | |||||||||
| merida1 | macOS 12.7.5 Monterey / x86_64 | OK | OK | OK | OK | |||||||||
| kjohnson1 | macOS 13.6.6 Ventura / arm64 | OK | OK | OK | OK | |||||||||
| kunpeng2 | Linux (openEuler 24.03 LTS) / aarch64 | OK | OK | OK | ||||||||||
|
To the developers/maintainers of the miRspongeR package: - Allow up to 24 hours (and sometimes 48 hours) for your latest push to git@git.bioconductor.org:packages/miRspongeR.git to reflect on this report. See Troubleshooting Build Report for more information. - Use the following Renviron settings to reproduce errors and warnings. - If 'R CMD check' started to fail recently on the Linux builder(s) over a missing dependency, add the missing dependency to 'Suggests:' in your DESCRIPTION file. See Renviron.bioc for more information. |
| Package: miRspongeR |
| Version: 2.12.0 |
| Command: /home/biocbuild/bbs-3.21-bioc/R/bin/R CMD check --install=check:miRspongeR.install-out.txt --library=/home/biocbuild/bbs-3.21-bioc/R/site-library --timings miRspongeR_2.12.0.tar.gz |
| StartedAt: 2025-10-13 01:11:08 -0400 (Mon, 13 Oct 2025) |
| EndedAt: 2025-10-13 01:21:11 -0400 (Mon, 13 Oct 2025) |
| EllapsedTime: 603.8 seconds |
| RetCode: 0 |
| Status: OK |
| CheckDir: miRspongeR.Rcheck |
| Warnings: 0 |
##############################################################################
##############################################################################
###
### Running command:
###
### /home/biocbuild/bbs-3.21-bioc/R/bin/R CMD check --install=check:miRspongeR.install-out.txt --library=/home/biocbuild/bbs-3.21-bioc/R/site-library --timings miRspongeR_2.12.0.tar.gz
###
##############################################################################
##############################################################################
* using log directory ‘/home/biocbuild/bbs-3.21-bioc/meat/miRspongeR.Rcheck’
* using R version 4.5.1 (2025-06-13)
* using platform: x86_64-pc-linux-gnu
* R was compiled by
gcc (Ubuntu 13.3.0-6ubuntu2~24.04) 13.3.0
GNU Fortran (Ubuntu 13.3.0-6ubuntu2~24.04) 13.3.0
* running under: Ubuntu 24.04.3 LTS
* using session charset: UTF-8
* checking for file ‘miRspongeR/DESCRIPTION’ ... OK
* checking extension type ... Package
* this is package ‘miRspongeR’ version ‘2.12.0’
* package encoding: UTF-8
* checking package namespace information ... OK
* checking package dependencies ... OK
* checking if this is a source package ... OK
* checking if there is a namespace ... OK
* checking for hidden files and directories ... OK
* checking for portable file names ... OK
* checking for sufficient/correct file permissions ... OK
* checking whether package ‘miRspongeR’ can be installed ... OK
* used C compiler: ‘gcc (Ubuntu 13.3.0-6ubuntu2~24.04) 13.3.0’
* checking installed package size ... OK
* checking package directory ... OK
* checking ‘build’ directory ... OK
* checking DESCRIPTION meta-information ... OK
* checking top-level files ... OK
* checking for left-over files ... OK
* checking index information ... OK
* checking package subdirectories ... OK
* checking code files for non-ASCII characters ... OK
* checking R files for syntax errors ... OK
* checking whether the package can be loaded ... OK
* checking whether the package can be loaded with stated dependencies ... OK
* checking whether the package can be unloaded cleanly ... OK
* checking whether the namespace can be loaded with stated dependencies ... OK
* checking whether the namespace can be unloaded cleanly ... OK
* checking loading without being on the library search path ... OK
* checking dependencies in R code ... OK
* checking S3 generic/method consistency ... OK
* checking replacement functions ... OK
* checking foreign function calls ... OK
* checking R code for possible problems ... NOTE
cernia_parallel: no visible binding for global variable ‘i’
hermes_parallel: no visible binding for global variable ‘i’
miRHomology_parallel: no visible binding for global variable ‘i’
muTaME_parallel: no visible binding for global variable ‘i’
pc_parallel: no visible binding for global variable ‘i’
ppc_parallel: no visible binding for global variable ‘i’
sample_cor_network: no visible binding for global variable ‘i’
sponge_parallel: no visible binding for global variable ‘i’
sponge_sample_specific: no visible binding for global variable ‘i’
sppc_parallel: no visible binding for global variable ‘i’
Undefined global functions or variables:
i
* checking Rd files ... OK
* checking Rd metadata ... OK
* checking Rd cross-references ... OK
* checking for missing documentation entries ... OK
* checking for code/documentation mismatches ... OK
* checking Rd \usage sections ... OK
* checking Rd contents ... OK
* checking for unstated dependencies in examples ... OK
* checking line endings in C/C++/Fortran sources/headers ... OK
* checking line endings in Makefiles ... OK
* checking compilation flags in Makevars ... OK
* checking for GNU extensions in Makefiles ... OK
* checking for portable use of $(BLAS_LIBS) and $(LAPACK_LIBS) ... OK
* checking use of PKG_*FLAGS in Makefiles ... OK
* checking compiled code ... NOTE
Note: information on .o files is not available
* checking files in ‘vignettes’ ... OK
* checking examples ... OK
Examples with CPU (user + system) or elapsed time > 5s
user system elapsed
moduleDEA 12.817 0.296 16.154
sample_cor_network 4.389 0.690 52.916
sponge_sample_specific 0.788 0.096 22.105
* checking for unstated dependencies in ‘tests’ ... OK
* checking tests ...
Running ‘test_miRspongeR.R’
OK
* checking for unstated dependencies in vignettes ... OK
* checking package vignettes ... OK
* checking re-building of vignette outputs ... OK
* checking PDF version of manual ... OK
* DONE
Status: 2 NOTEs
See
‘/home/biocbuild/bbs-3.21-bioc/meat/miRspongeR.Rcheck/00check.log’
for details.
miRspongeR.Rcheck/00install.out
############################################################################## ############################################################################## ### ### Running command: ### ### /home/biocbuild/bbs-3.21-bioc/R/bin/R CMD INSTALL miRspongeR ### ############################################################################## ############################################################################## * installing to library ‘/home/biocbuild/bbs-3.21-bioc/R/site-library’ * installing *source* package ‘miRspongeR’ ... ** this is package ‘miRspongeR’ version ‘2.12.0’ ** using staged installation ** libs using C compiler: ‘gcc (Ubuntu 13.3.0-6ubuntu2~24.04) 13.3.0’ gcc -std=gnu2x -I"/home/biocbuild/bbs-3.21-bioc/R/include" -DNDEBUG `/home/biocbuild/bbs-3.21-bioc/R/bin/Rscript -e "Rcpp:::CxxFlags()"` -I/usr/local/include -fpic -g -O2 -Wall -Werror=format-security -c complex.c -o complex.o gcc -std=gnu2x -I"/home/biocbuild/bbs-3.21-bioc/R/include" -DNDEBUG `/home/biocbuild/bbs-3.21-bioc/R/bin/Rscript -e "Rcpp:::CxxFlags()"` -I/usr/local/include -fpic -g -O2 -Wall -Werror=format-security -c registerDynamicSymbol.c -o registerDynamicSymbol.o gcc -std=gnu2x -shared -L/home/biocbuild/bbs-3.21-bioc/R/lib -L/usr/local/lib -o miRspongeR.so complex.o registerDynamicSymbol.o -L/home/biocbuild/bbs-3.21-bioc/R/lib -lR installing to /home/biocbuild/bbs-3.21-bioc/R/site-library/00LOCK-miRspongeR/00new/miRspongeR/libs ** R ** inst ** byte-compile and prepare package for lazy loading Warning: replacing previous import ‘biomaRt::select’ by ‘dplyr::select’ when loading ‘SPONGE’ Warning: replacing previous import ‘Biobase::combine’ by ‘dplyr::combine’ when loading ‘SPONGE’ Warning: replacing previous import ‘cvms::font’ by ‘ggpubr::font’ when loading ‘SPONGE’ Warning: replacing previous import ‘ggplot2::margin’ by ‘randomForest::margin’ when loading ‘SPONGE’ Warning: replacing previous import ‘dplyr::combine’ by ‘randomForest::combine’ when loading ‘SPONGE’ Warning: replacing previous import ‘Biobase::exprs’ by ‘rlang::exprs’ when loading ‘SPONGE’ Warning: replacing previous import ‘rlang::exprs’ by ‘Biobase::exprs’ when loading ‘SPONGE’ ** help *** installing help indices ** building package indices ** installing vignettes ** testing if installed package can be loaded from temporary location Warning: replacing previous import ‘biomaRt::select’ by ‘dplyr::select’ when loading ‘SPONGE’ Warning: replacing previous import ‘Biobase::combine’ by ‘dplyr::combine’ when loading ‘SPONGE’ Warning: replacing previous import ‘cvms::font’ by ‘ggpubr::font’ when loading ‘SPONGE’ Warning: replacing previous import ‘ggplot2::margin’ by ‘randomForest::margin’ when loading ‘SPONGE’ Warning: replacing previous import ‘dplyr::combine’ by ‘randomForest::combine’ when loading ‘SPONGE’ Warning: replacing previous import ‘Biobase::exprs’ by ‘rlang::exprs’ when loading ‘SPONGE’ Warning: replacing previous import ‘rlang::exprs’ by ‘Biobase::exprs’ when loading ‘SPONGE’ ** checking absolute paths in shared objects and dynamic libraries ** testing if installed package can be loaded from final location Warning: replacing previous import ‘biomaRt::select’ by ‘dplyr::select’ when loading ‘SPONGE’ Warning: replacing previous import ‘Biobase::combine’ by ‘dplyr::combine’ when loading ‘SPONGE’ Warning: replacing previous import ‘cvms::font’ by ‘ggpubr::font’ when loading ‘SPONGE’ Warning: replacing previous import ‘ggplot2::margin’ by ‘randomForest::margin’ when loading ‘SPONGE’ Warning: replacing previous import ‘dplyr::combine’ by ‘randomForest::combine’ when loading ‘SPONGE’ Warning: replacing previous import ‘Biobase::exprs’ by ‘rlang::exprs’ when loading ‘SPONGE’ Warning: replacing previous import ‘rlang::exprs’ by ‘Biobase::exprs’ when loading ‘SPONGE’ ** testing if installed package keeps a record of temporary installation path * DONE (miRspongeR)
miRspongeR.Rcheck/tests/test_miRspongeR.Rout
R version 4.5.1 (2025-06-13) -- "Great Square Root"
Copyright (C) 2025 The R Foundation for Statistical Computing
Platform: x86_64-pc-linux-gnu
R is free software and comes with ABSOLUTELY NO WARRANTY.
You are welcome to redistribute it under certain conditions.
Type 'license()' or 'licence()' for distribution details.
R is a collaborative project with many contributors.
Type 'contributors()' for more information and
'citation()' on how to cite R or R packages in publications.
Type 'demo()' for some demos, 'help()' for on-line help, or
'help.start()' for an HTML browser interface to help.
Type 'q()' to quit R.
> library(testthat)
> library(miRspongeR)
Warning messages:
1: replacing previous import 'biomaRt::select' by 'dplyr::select' when loading 'SPONGE'
2: replacing previous import 'Biobase::combine' by 'dplyr::combine' when loading 'SPONGE'
3: replacing previous import 'cvms::font' by 'ggpubr::font' when loading 'SPONGE'
4: replacing previous import 'ggplot2::margin' by 'randomForest::margin' when loading 'SPONGE'
5: replacing previous import 'dplyr::combine' by 'randomForest::combine' when loading 'SPONGE'
6: replacing previous import 'Biobase::exprs' by 'rlang::exprs' when loading 'SPONGE'
7: replacing previous import 'rlang::exprs' by 'Biobase::exprs' when loading 'SPONGE'
>
> miR2Target <- system.file("extdata", "miR2Target.csv", package="miRspongeR")
> miRTarget <- read.csv(miR2Target, header=TRUE, sep=",")
> ExpDatacsv <- system.file("extdata", "ExpData.csv", package="miRspongeR")
> ExpData <- read.csv(ExpDatacsv, header=TRUE, sep=",")
>
> # miRHomology method
> miRHomologyceRInt <- spongeMethod(miRTarget, method = "miRHomology")
>
> # pc method
> pcceRInt <- spongeMethod(miRTarget, ExpData, method = "pc")
>
> # sppc method
> sppcceRInt <- spongeMethod(miRTarget, ExpData, senscorcutoff = 0.1, method = "sppc")
>
>
> test_that("Test spongeMethod", {
+ expect_equal(spongeMethod(miRTarget, method = "miRHomology"), miRHomologyceRInt)
+ expect_equal(spongeMethod(miRTarget, ExpData, method = "pc"), pcceRInt)
+ expect_equal(spongeMethod(miRTarget, ExpData, senscorcutoff = 0.1, method = "sppc"), sppcceRInt)
+ })
Test passed 😀
>
> proc.time()
user system elapsed
11.245 0.741 11.975
miRspongeR.Rcheck/miRspongeR-Ex.timings
| name | user | system | elapsed | |
| integrateMethod | 0.289 | 0.004 | 0.294 | |
| moduleDEA | 12.817 | 0.296 | 16.154 | |
| moduleFEA | 0.001 | 0.000 | 0.001 | |
| moduleSurvival | 0.108 | 0.004 | 0.113 | |
| netModule | 0.014 | 0.000 | 0.014 | |
| querymiRTargetbinding | 0.054 | 0.002 | 0.056 | |
| sample_cor_network | 4.389 | 0.690 | 52.916 | |
| spongeMethod | 0.19 | 0.01 | 0.20 | |
| spongeValidate | 0.061 | 0.005 | 0.067 | |
| sponge_sample_specific | 0.788 | 0.096 | 22.105 | |