| Back to Multiple platform build/check report for BioC 3.21: simplified long | 
 | 
This page was generated on 2025-10-16 11:38 -0400 (Thu, 16 Oct 2025).
| Hostname | OS | Arch (*) | R version | Installed pkgs | 
|---|---|---|---|---|
| nebbiolo1 | Linux (Ubuntu 24.04.3 LTS) | x86_64 | 4.5.1 (2025-06-13) -- "Great Square Root" | 4833 | 
| merida1 | macOS 12.7.6 Monterey | x86_64 | 4.5.1 RC (2025-06-05 r88288) -- "Great Square Root" | 4614 | 
| kjohnson1 | macOS 13.7.5 Ventura | arm64 | 4.5.1 Patched (2025-06-14 r88325) -- "Great Square Root" | 4555 | 
| kunpeng2 | Linux (openEuler 24.03 LTS) | aarch64 | R Under development (unstable) (2025-02-19 r87757) -- "Unsuffered Consequences" | 4586 | 
| Click on any hostname to see more info about the system (e.g. compilers) (*) as reported by 'uname -p', except on Windows and Mac OS X | ||||
| Package 1037/2341 | Hostname | OS / Arch | INSTALL | BUILD | CHECK | BUILD BIN | ||||||||
| imcRtools 1.14.0  (landing page) Daniel Schulz 
 | nebbiolo1 | Linux (Ubuntu 24.04.3 LTS) / x86_64 | OK | OK | ERROR | |||||||||
| merida1 | macOS 12.7.6 Monterey / x86_64 | OK | OK | ERROR | OK | |||||||||
| kjohnson1 | macOS 13.7.5 Ventura / arm64 | OK | OK | ERROR | OK | |||||||||
| kunpeng2 | Linux (openEuler 24.03 LTS) / aarch64 | OK | OK | OK | ||||||||||
| To the developers/maintainers of the imcRtools package: - Allow up to 24 hours (and sometimes 48 hours) for your latest push to git@git.bioconductor.org:packages/imcRtools.git to reflect on this report. See Troubleshooting Build Report for more information. - Use the following Renviron settings to reproduce errors and warnings. - If 'R CMD check' started to fail recently on the Linux builder(s) over a missing dependency, add the missing dependency to 'Suggests:' in your DESCRIPTION file. See Renviron.bioc for more information. | 
| Package: imcRtools | 
| Version: 1.14.0 | 
| Command: /home/biocbuild/bbs-3.21-bioc/R/bin/R CMD check --install=check:imcRtools.install-out.txt --library=/home/biocbuild/bbs-3.21-bioc/R/site-library --timings imcRtools_1.14.0.tar.gz | 
| StartedAt: 2025-10-16 00:14:29 -0400 (Thu, 16 Oct 2025) | 
| EndedAt: 2025-10-16 00:34:33 -0400 (Thu, 16 Oct 2025) | 
| EllapsedTime: 1204.8 seconds | 
| RetCode: 1 | 
| Status: ERROR | 
| CheckDir: imcRtools.Rcheck | 
| Warnings: NA | 
##############################################################################
##############################################################################
###
### Running command:
###
###   /home/biocbuild/bbs-3.21-bioc/R/bin/R CMD check --install=check:imcRtools.install-out.txt --library=/home/biocbuild/bbs-3.21-bioc/R/site-library --timings imcRtools_1.14.0.tar.gz
###
##############################################################################
##############################################################################
* using log directory ‘/home/biocbuild/bbs-3.21-bioc/meat/imcRtools.Rcheck’
* using R version 4.5.1 (2025-06-13)
* using platform: x86_64-pc-linux-gnu
* R was compiled by
    gcc (Ubuntu 13.3.0-6ubuntu2~24.04) 13.3.0
    GNU Fortran (Ubuntu 13.3.0-6ubuntu2~24.04) 13.3.0
* running under: Ubuntu 24.04.3 LTS
* using session charset: UTF-8
* checking for file ‘imcRtools/DESCRIPTION’ ... OK
* this is package ‘imcRtools’ version ‘1.14.0’
* package encoding: UTF-8
* checking package namespace information ... OK
* checking package dependencies ... INFO
Imports includes 29 non-default packages.
Importing from so many packages makes the package vulnerable to any of
them becoming unavailable.  Move as many as possible to Suggests and
use conditionally.
* checking if this is a source package ... OK
* checking if there is a namespace ... OK
* checking for hidden files and directories ... OK
* checking for portable file names ... OK
* checking for sufficient/correct file permissions ... OK
* checking whether package ‘imcRtools’ can be installed ... OK
* checking installed package size ... OK
* checking package directory ... OK
* checking ‘build’ directory ... OK
* checking DESCRIPTION meta-information ... OK
* checking top-level files ... OK
* checking for left-over files ... OK
* checking index information ... OK
* checking package subdirectories ... OK
* checking code files for non-ASCII characters ... OK
* checking R files for syntax errors ... OK
* checking whether the package can be loaded ... OK
* checking whether the package can be loaded with stated dependencies ... OK
* checking whether the package can be unloaded cleanly ... OK
* checking whether the namespace can be loaded with stated dependencies ... OK
* checking whether the namespace can be unloaded cleanly ... OK
* checking loading without being on the library search path ... OK
* checking dependencies in R code ... OK
* checking S3 generic/method consistency ... OK
* checking replacement functions ... OK
* checking foreign function calls ... OK
* checking R code for possible problems ... OK
* checking Rd files ... NOTE
checkRd: (-1) aggregateNeighbors.Rd:52: Lost braces; missing escapes or markup?
    52 | \code{summarize_by = "metadata"} or "{statistic}_aggregatedExpression" when
       |                                      ^
checkRd: (-1) testInteractions.Rd:64: Lost braces in \itemize; \value handles \item{}{} directly
checkRd: (-1) testInteractions.Rd:65-66: Lost braces in \itemize; \value handles \item{}{} directly
checkRd: (-1) testInteractions.Rd:67-68: Lost braces in \itemize; \value handles \item{}{} directly
checkRd: (-1) testInteractions.Rd:69-71: Lost braces in \itemize; \value handles \item{}{} directly
checkRd: (-1) testInteractions.Rd:72: Lost braces in \itemize; \value handles \item{}{} directly
checkRd: (-1) testInteractions.Rd:73: Lost braces in \itemize; \value handles \item{}{} directly
checkRd: (-1) testInteractions.Rd:74: Lost braces in \itemize; \value handles \item{}{} directly
checkRd: (-1) testInteractions.Rd:76: Lost braces in \itemize; \value handles \item{}{} directly
checkRd: (-1) testInteractions.Rd:77: Lost braces in \itemize; \value handles \item{}{} directly
checkRd: (-1) testInteractions.Rd:78: Lost braces in \itemize; \value handles \item{}{} directly
* checking Rd metadata ... OK
* checking Rd cross-references ... NOTE
Found the following Rd file(s) with Rd \link{} targets missing package
anchors:
  plotSpatial.Rd: ggraph
  readImagefromTXT.Rd: Image-class, CytoImageList-class
  readSCEfromTXT.Rd: SingleCellExperiment-class
  read_cpout.Rd: SpatialExperiment-class, SingleCellExperiment-class
  read_steinbock.Rd: SpatialExperiment-class,
    SingleCellExperiment-class
Please provide package anchors for all Rd \link{} targets not in the
package itself and the base packages.
* checking for missing documentation entries ... OK
* checking for code/documentation mismatches ... OK
* checking Rd \usage sections ... OK
* checking Rd contents ... OK
* checking for unstated dependencies in examples ... OK
* checking files in ‘vignettes’ ... OK
* checking examples ... OK
Examples with CPU (user + system) or elapsed time > 5s
                     user system elapsed
testInteractions  162.194  2.125 110.454
read_steinbock     17.024  5.452  17.813
buildSpatialGraph   8.197  1.747   9.949
* checking for unstated dependencies in ‘tests’ ... OK
* checking tests ...
  Running ‘testthat.R’
 ERROR
Running the tests in ‘tests/testthat.R’ failed.
Last 13 lines of output:
  Backtrace:
      ▆
   1. ├─testthat::expect_error(...) at test_plotSpatialContext.R:238:3
   2. │ └─testthat:::quasi_capture(...)
   3. │   ├─testthat (local) .capture(...)
   4. │   │ └─base::withCallingHandlers(...)
   5. │   └─rlang::eval_bare(quo_get_expr(.quo), quo_get_env(.quo))
   6. └─imcRtools::plotSpatialContext(sce, group_by = "ImageNb")
   7.   └─igraph::graph_from_data_frame(d = edges, directed = TRUE, vertices = anno)
   8.     └─cli::cli_abort("{.arg d} should contain at least two columns")
   9.       └─rlang::abort(...)
  
  [ FAIL 1 | WARN 4 | SKIP 0 | PASS 2242 ]
  Error: Test failures
  Execution halted
* checking for unstated dependencies in vignettes ... OK
* checking package vignettes ... OK
* checking re-building of vignette outputs ... OK
* checking PDF version of manual ... OK
* DONE
Status: 1 ERROR, 2 NOTEs
See
  ‘/home/biocbuild/bbs-3.21-bioc/meat/imcRtools.Rcheck/00check.log’
for details.
imcRtools.Rcheck/00install.out
############################################################################## ############################################################################## ### ### Running command: ### ### /home/biocbuild/bbs-3.21-bioc/R/bin/R CMD INSTALL imcRtools ### ############################################################################## ############################################################################## * installing to library ‘/home/biocbuild/bbs-3.21-bioc/R/site-library’ * installing *source* package ‘imcRtools’ ... ** this is package ‘imcRtools’ version ‘1.14.0’ ** using staged installation ** R ** inst ** byte-compile and prepare package for lazy loading ** help *** installing help indices ** building package indices ** installing vignettes ** testing if installed package can be loaded from temporary location ** testing if installed package can be loaded from final location ** testing if installed package keeps a record of temporary installation path * DONE (imcRtools)
imcRtools.Rcheck/tests/testthat.Rout.fail
R version 4.5.1 (2025-06-13) -- "Great Square Root"
Copyright (C) 2025 The R Foundation for Statistical Computing
Platform: x86_64-pc-linux-gnu
R is free software and comes with ABSOLUTELY NO WARRANTY.
You are welcome to redistribute it under certain conditions.
Type 'license()' or 'licence()' for distribution details.
R is a collaborative project with many contributors.
Type 'contributors()' for more information and
'citation()' on how to cite R or R packages in publications.
Type 'demo()' for some demos, 'help()' for on-line help, or
'help.start()' for an HTML browser interface to help.
Type 'q()' to quit R.
> library(testthat)
> library(imcRtools)
Loading required package: SpatialExperiment
Loading required package: SingleCellExperiment
Loading required package: SummarizedExperiment
Loading required package: MatrixGenerics
Loading required package: matrixStats
Attaching package: 'MatrixGenerics'
The following objects are masked from 'package:matrixStats':
    colAlls, colAnyNAs, colAnys, colAvgsPerRowSet, colCollapse,
    colCounts, colCummaxs, colCummins, colCumprods, colCumsums,
    colDiffs, colIQRDiffs, colIQRs, colLogSumExps, colMadDiffs,
    colMads, colMaxs, colMeans2, colMedians, colMins, colOrderStats,
    colProds, colQuantiles, colRanges, colRanks, colSdDiffs, colSds,
    colSums2, colTabulates, colVarDiffs, colVars, colWeightedMads,
    colWeightedMeans, colWeightedMedians, colWeightedSds,
    colWeightedVars, rowAlls, rowAnyNAs, rowAnys, rowAvgsPerColSet,
    rowCollapse, rowCounts, rowCummaxs, rowCummins, rowCumprods,
    rowCumsums, rowDiffs, rowIQRDiffs, rowIQRs, rowLogSumExps,
    rowMadDiffs, rowMads, rowMaxs, rowMeans2, rowMedians, rowMins,
    rowOrderStats, rowProds, rowQuantiles, rowRanges, rowRanks,
    rowSdDiffs, rowSds, rowSums2, rowTabulates, rowVarDiffs, rowVars,
    rowWeightedMads, rowWeightedMeans, rowWeightedMedians,
    rowWeightedSds, rowWeightedVars
Loading required package: GenomicRanges
Loading required package: stats4
Loading required package: BiocGenerics
Loading required package: generics
Attaching package: 'generics'
The following objects are masked from 'package:base':
    as.difftime, as.factor, as.ordered, intersect, is.element, setdiff,
    setequal, union
Attaching package: 'BiocGenerics'
The following objects are masked from 'package:stats':
    IQR, mad, sd, var, xtabs
The following objects are masked from 'package:base':
    Filter, Find, Map, Position, Reduce, anyDuplicated, aperm, append,
    as.data.frame, basename, cbind, colnames, dirname, do.call,
    duplicated, eval, evalq, get, grep, grepl, is.unsorted, lapply,
    mapply, match, mget, order, paste, pmax, pmax.int, pmin, pmin.int,
    rank, rbind, rownames, sapply, saveRDS, table, tapply, unique,
    unsplit, which.max, which.min
Loading required package: S4Vectors
Attaching package: 'S4Vectors'
The following object is masked from 'package:utils':
    findMatches
The following objects are masked from 'package:base':
    I, expand.grid, unname
Loading required package: IRanges
Loading required package: GenomeInfoDb
Loading required package: Biobase
Welcome to Bioconductor
    Vignettes contain introductory material; view with
    'browseVignettes()'. To cite Bioconductor, see
    'citation("Biobase")', and for packages 'citation("pkgname")'.
Attaching package: 'Biobase'
The following object is masked from 'package:MatrixGenerics':
    rowMedians
The following objects are masked from 'package:matrixStats':
    anyMissing, rowMedians
> 
> test_check("imcRtools")
[ FAIL 1 | WARN 4 | SKIP 0 | PASS 2242 ]
══ Failed tests ════════════════════════════════════════════════════════════════
── Failure ('test_plotSpatialContext.R:238:3'): plotSpatialContext function works ──
`plotSpatialContext(sce, group_by = "ImageNb")` threw an error with unexpected message.
Expected match: "the data frame should contain at least two columns"
Actual message: "`d` should contain at least two columns"
Backtrace:
    ▆
 1. ├─testthat::expect_error(...) at test_plotSpatialContext.R:238:3
 2. │ └─testthat:::quasi_capture(...)
 3. │   ├─testthat (local) .capture(...)
 4. │   │ └─base::withCallingHandlers(...)
 5. │   └─rlang::eval_bare(quo_get_expr(.quo), quo_get_env(.quo))
 6. └─imcRtools::plotSpatialContext(sce, group_by = "ImageNb")
 7.   └─igraph::graph_from_data_frame(d = edges, directed = TRUE, vertices = anno)
 8.     └─cli::cli_abort("{.arg d} should contain at least two columns")
 9.       └─rlang::abort(...)
[ FAIL 1 | WARN 4 | SKIP 0 | PASS 2242 ]
Error: Test failures
Execution halted
imcRtools.Rcheck/imcRtools-Ex.timings
| name | user | system | elapsed | |
| aggregateNeighbors | 0.817 | 0.094 | 0.889 | |
| binAcrossPixels | 0.779 | 0.292 | 1.070 | |
| buildSpatialGraph | 8.197 | 1.747 | 9.949 | |
| countInteractions | 0.696 | 0.061 | 0.709 | |
| detectCommunity | 1.931 | 0.020 | 1.951 | |
| detectSpatialContext | 1.826 | 0.030 | 1.819 | |
| filterPixels | 1.917 | 0.293 | 2.211 | |
| filterSpatialContext | 3.951 | 0.198 | 4.116 | |
| findBorderCells | 0.452 | 0.012 | 0.465 | |
| minDistToCells | 2.018 | 0.049 | 2.067 | |
| patchDetection | 2.264 | 0.048 | 2.295 | |
| patchSize | 1.011 | 0.010 | 0.991 | |
| plotSpatial | 4.516 | 0.332 | 4.858 | |
| plotSpatialContext | 4.505 | 0.018 | 4.478 | |
| plotSpotHeatmap | 0.427 | 0.127 | 0.555 | |
| readImagefromTXT | 0.212 | 0.271 | 0.444 | |
| readSCEfromTXT | 0.246 | 0.125 | 0.372 | |
| read_cpout | 0.733 | 0.559 | 1.301 | |
| read_steinbock | 17.024 | 5.452 | 17.813 | |
| show_cpout_features | 0.169 | 0.047 | 0.219 | |
| testInteractions | 162.194 | 2.125 | 110.454 | |