Back to Multiple platform build/check report for BioC 3.22:   simplified   long
ABCDEFGH[I]JKLMNOPQRSTUVWXYZ

This page was generated on 2025-11-20 12:05 -0500 (Thu, 20 Nov 2025).

HostnameOSArch (*)R versionInstalled pkgs
nebbiolo2Linux (Ubuntu 24.04.3 LTS)x86_644.5.2 (2025-10-31) -- "[Not] Part in a Rumble" 4615
merida1macOS 12.7.6 Montereyx86_644.5.2 Patched (2025-11-05 r88990) -- "[Not] Part in a Rumble" 4610
kjohnson1macOS 13.7.5 Venturaarm644.5.2 Patched (2025-11-04 r88984) -- "[Not] Part in a Rumble" 4598
taishanLinux (openEuler 24.03 LTS)aarch644.5.0 (2025-04-11) -- "How About a Twenty-Six" 4668
Click on any hostname to see more info about the system (e.g. compilers)      (*) as reported by 'uname -p', except on Windows and Mac OS X

Package 1048/2361HostnameOS / ArchINSTALLBUILDCHECKBUILD BIN
imcRtools 1.16.0  (landing page)
Daniel Schulz
Snapshot Date: 2025-11-17 13:45 -0500 (Mon, 17 Nov 2025)
git_url: https://git.bioconductor.org/packages/imcRtools
git_branch: RELEASE_3_22
git_last_commit: 13fa3df
git_last_commit_date: 2025-10-29 11:12:28 -0500 (Wed, 29 Oct 2025)
nebbiolo2Linux (Ubuntu 24.04.3 LTS) / x86_64  OK    OK    OK  UNNEEDED, same version is already published
merida1macOS 12.7.6 Monterey / x86_64  OK    OK    TIMEOUT    OK  
kjohnson1macOS 13.7.5 Ventura / arm64  OK    OK    OK    OK  UNNEEDED, same version is already published
taishanLinux (openEuler 24.03 LTS) / aarch64  OK    OK    OK  


CHECK results for imcRtools on merida1

To the developers/maintainers of the imcRtools package:
- Allow up to 24 hours (and sometimes 48 hours) for your latest push to git@git.bioconductor.org:packages/imcRtools.git to reflect on this report. See Troubleshooting Build Report for more information.
- Use the following Renviron settings to reproduce errors and warnings.
- If 'R CMD check' started to fail recently on the Linux builder(s) over a missing dependency, add the missing dependency to 'Suggests:' in your DESCRIPTION file. See Renviron.bioc for more information.

raw results


Summary

Package: imcRtools
Version: 1.16.0
Command: /Library/Frameworks/R.framework/Resources/bin/R CMD check --install=check:imcRtools.install-out.txt --library=/Library/Frameworks/R.framework/Resources/library --no-vignettes --timings imcRtools_1.16.0.tar.gz
StartedAt: 2025-11-18 09:05:48 -0500 (Tue, 18 Nov 2025)
EndedAt: 2025-11-18 09:45:49 -0500 (Tue, 18 Nov 2025)
EllapsedTime: 2400.6 seconds
RetCode: None
Status:   TIMEOUT  
CheckDir: imcRtools.Rcheck
Warnings: NA

Command output

##############################################################################
##############################################################################
###
### Running command:
###
###   /Library/Frameworks/R.framework/Resources/bin/R CMD check --install=check:imcRtools.install-out.txt --library=/Library/Frameworks/R.framework/Resources/library --no-vignettes --timings imcRtools_1.16.0.tar.gz
###
##############################################################################
##############################################################################


* using log directory ‘/Users/biocbuild/bbs-3.22-bioc/meat/imcRtools.Rcheck’
* using R version 4.5.2 Patched (2025-11-05 r88990)
* using platform: x86_64-apple-darwin20
* R was compiled by
    Apple clang version 14.0.0 (clang-1400.0.29.202)
    GNU Fortran (GCC) 14.2.0
* running under: macOS Monterey 12.7.6
* using session charset: UTF-8
* using option ‘--no-vignettes’
* checking for file ‘imcRtools/DESCRIPTION’ ... OK
* this is package ‘imcRtools’ version ‘1.16.0’
* package encoding: UTF-8
* checking package namespace information ... OK
* checking package dependencies ... INFO
Imports includes 29 non-default packages.
Importing from so many packages makes the package vulnerable to any of
them becoming unavailable.  Move as many as possible to Suggests and
use conditionally.
* checking if this is a source package ... OK
* checking if there is a namespace ... OK
* checking for hidden files and directories ... OK
* checking for portable file names ... OK
* checking for sufficient/correct file permissions ... OK
* checking whether package ‘imcRtools’ can be installed ... OK
* checking installed package size ... INFO
  installed size is  8.0Mb
  sub-directories of 1Mb or more:
    extdata   7.6Mb
* checking package directory ... OK
* checking ‘build’ directory ... OK
* checking DESCRIPTION meta-information ... OK
* checking top-level files ... OK
* checking for left-over files ... OK
* checking index information ... OK
* checking package subdirectories ... OK
* checking code files for non-ASCII characters ... OK
* checking R files for syntax errors ... OK
* checking whether the package can be loaded ... OK
* checking whether the package can be loaded with stated dependencies ... OK
* checking whether the package can be unloaded cleanly ... OK
* checking whether the namespace can be loaded with stated dependencies ... OK
* checking whether the namespace can be unloaded cleanly ... OK
* checking dependencies in R code ... OK
* checking S3 generic/method consistency ... OK
* checking replacement functions ... OK
* checking foreign function calls ... OK
* checking R code for possible problems ... NOTE
.generateInteractionsPlot: no visible binding for global variable
  ‘weight’
.valid.plotInteractions.input: no visible binding for global variable
  ‘from_label’
.valid.plotInteractions.input: no visible binding for global variable
  ‘to_label’
.valid.plotInteractions.input: no visible global function definition
  for ‘n_distinct’
.valid.plotInteractions.input: no visible global function definition
  for ‘capture.output’
plotInteractions: no visible binding for global variable ‘from_label’
plotInteractions: no visible binding for global variable ‘to_label’
plotInteractions: no visible binding for global variable ‘weight’
plotInteractions: no visible global function definition for
  ‘everything’
readSCEfromTIFF: no visible global function definition for ‘read.csv’
Undefined global functions or variables:
  capture.output everything from_label n_distinct read.csv to_label
  weight
Consider adding
  importFrom("utils", "capture.output", "read.csv")
to your NAMESPACE file.
* checking Rd files ... NOTE
checkRd: (-1) aggregateNeighbors.Rd:52: Lost braces; missing escapes or markup?
    52 | \code{summarize_by = "metadata"} or "{statistic}_aggregatedExpression" when
       |                                      ^
checkRd: (-1) testInteractions.Rd:64: Lost braces in \itemize; \value handles \item{}{} directly
checkRd: (-1) testInteractions.Rd:65-66: Lost braces in \itemize; \value handles \item{}{} directly
checkRd: (-1) testInteractions.Rd:67-68: Lost braces in \itemize; \value handles \item{}{} directly
checkRd: (-1) testInteractions.Rd:69-71: Lost braces in \itemize; \value handles \item{}{} directly
checkRd: (-1) testInteractions.Rd:72: Lost braces in \itemize; \value handles \item{}{} directly
checkRd: (-1) testInteractions.Rd:73: Lost braces in \itemize; \value handles \item{}{} directly
checkRd: (-1) testInteractions.Rd:74: Lost braces in \itemize; \value handles \item{}{} directly
checkRd: (-1) testInteractions.Rd:76: Lost braces in \itemize; \value handles \item{}{} directly
checkRd: (-1) testInteractions.Rd:77: Lost braces in \itemize; \value handles \item{}{} directly
checkRd: (-1) testInteractions.Rd:78: Lost braces in \itemize; \value handles \item{}{} directly
* checking Rd metadata ... OK
* checking Rd cross-references ... NOTE
Found the following Rd file(s) with Rd \link{} targets missing package
anchors:
  plotSpatial.Rd: ggraph
  readImagefromTXT.Rd: Image-class, CytoImageList-class
  readSCEfromTIFF.Rd: SingleCellExperiment-class
  readSCEfromTXT.Rd: SingleCellExperiment-class
  read_cpout.Rd: SpatialExperiment-class, SingleCellExperiment-class
  read_steinbock.Rd: SpatialExperiment-class,
    SingleCellExperiment-class
Please provide package anchors for all Rd \link{} targets not in the
package itself and the base packages.
* checking for missing documentation entries ... OK
* checking for code/documentation mismatches ... OK
* checking Rd \usage sections ... OK
* checking Rd contents ... OK
* checking for unstated dependencies in examples ... OK
* checking files in ‘vignettes’ ... OK
* checking examples ... OK
Examples with CPU (user + system) or elapsed time > 5s
                        user system elapsed
testInteractions     206.937  3.305 314.994
read_steinbock        27.542  6.358  34.903
buildSpatialGraph     19.819  0.710  21.740
plotInteractions       9.217  0.184  14.912
plotSpatialContext     6.004  0.080   9.334
plotSpatial            5.818  0.176   9.332
filterSpatialContext   5.431  0.065   8.148
distToCells            3.882  0.073   5.214
patchDetection         3.428  0.065   5.127
* checking for unstated dependencies in ‘tests’ ... OK
* checking tests ...
  Running ‘testthat.R’

Installation output

imcRtools.Rcheck/00install.out

##############################################################################
##############################################################################
###
### Running command:
###
###   /Library/Frameworks/R.framework/Resources/bin/R CMD INSTALL imcRtools
###
##############################################################################
##############################################################################


* installing to library ‘/Library/Frameworks/R.framework/Versions/4.5-x86_64/Resources/library’
* installing *source* package ‘imcRtools’ ...
** this is package ‘imcRtools’ version ‘1.16.0’
** using staged installation
** R
** inst
** byte-compile and prepare package for lazy loading
** help
*** installing help indices
** building package indices
** installing vignettes
** testing if installed package can be loaded from temporary location
** testing if installed package can be loaded from final location
** testing if installed package keeps a record of temporary installation path
* DONE (imcRtools)

Tests output

imcRtools.Rcheck/tests/testthat.Rout


R version 4.5.2 Patched (2025-11-05 r88990) -- "[Not] Part in a Rumble"
Copyright (C) 2025 The R Foundation for Statistical Computing
Platform: x86_64-apple-darwin20

R is free software and comes with ABSOLUTELY NO WARRANTY.
You are welcome to redistribute it under certain conditions.
Type 'license()' or 'licence()' for distribution details.

R is a collaborative project with many contributors.
Type 'contributors()' for more information and
'citation()' on how to cite R or R packages in publications.

Type 'demo()' for some demos, 'help()' for on-line help, or
'help.start()' for an HTML browser interface to help.
Type 'q()' to quit R.

> library(testthat)
> library(imcRtools)
Loading required package: SpatialExperiment
Loading required package: SingleCellExperiment
Loading required package: SummarizedExperiment
Loading required package: MatrixGenerics
Loading required package: matrixStats

Attaching package: 'MatrixGenerics'

The following objects are masked from 'package:matrixStats':

    colAlls, colAnyNAs, colAnys, colAvgsPerRowSet, colCollapse,
    colCounts, colCummaxs, colCummins, colCumprods, colCumsums,
    colDiffs, colIQRDiffs, colIQRs, colLogSumExps, colMadDiffs,
    colMads, colMaxs, colMeans2, colMedians, colMins, colOrderStats,
    colProds, colQuantiles, colRanges, colRanks, colSdDiffs, colSds,
    colSums2, colTabulates, colVarDiffs, colVars, colWeightedMads,
    colWeightedMeans, colWeightedMedians, colWeightedSds,
    colWeightedVars, rowAlls, rowAnyNAs, rowAnys, rowAvgsPerColSet,
    rowCollapse, rowCounts, rowCummaxs, rowCummins, rowCumprods,
    rowCumsums, rowDiffs, rowIQRDiffs, rowIQRs, rowLogSumExps,
    rowMadDiffs, rowMads, rowMaxs, rowMeans2, rowMedians, rowMins,
    rowOrderStats, rowProds, rowQuantiles, rowRanges, rowRanks,
    rowSdDiffs, rowSds, rowSums2, rowTabulates, rowVarDiffs, rowVars,
    rowWeightedMads, rowWeightedMeans, rowWeightedMedians,
    rowWeightedSds, rowWeightedVars

Loading required package: GenomicRanges
Loading required package: stats4
Loading required package: BiocGenerics
Loading required package: generics

Attaching package: 'generics'

The following objects are masked from 'package:base':

    as.difftime, as.factor, as.ordered, intersect, is.element, setdiff,
    setequal, union


Attaching package: 'BiocGenerics'

The following objects are masked from 'package:stats':

    IQR, mad, sd, var, xtabs

The following objects are masked from 'package:base':

    Filter, Find, Map, Position, Reduce, anyDuplicated, aperm, append,
    as.data.frame, basename, cbind, colnames, dirname, do.call,
    duplicated, eval, evalq, get, grep, grepl, is.unsorted, lapply,
    mapply, match, mget, order, paste, pmax, pmax.int, pmin, pmin.int,
    rank, rbind, rownames, sapply, saveRDS, table, tapply, unique,
    unsplit, which.max, which.min

Loading required package: S4Vectors

Attaching package: 'S4Vectors'

The following object is masked from 'package:utils':

    findMatches

The following objects are masked from 'package:base':

    I, expand.grid, unname

Loading required package: IRanges
Loading required package: Seqinfo
Loading required package: Biobase
Welcome to Bioconductor

    Vignettes contain introductory material; view with
    'browseVignettes()'. To cite Bioconductor, see
    'citation("Biobase")', and for packages 'citation("pkgname")'.


Attaching package: 'Biobase'

The following object is masked from 'package:MatrixGenerics':

    rowMedians

The following objects are masked from 'package:matrixStats':

    anyMissing, rowMedians

> 
> test_check("imcRtools")

Example timings

imcRtools.Rcheck/imcRtools-Ex.timings

nameusersystemelapsed
aggregateNeighbors2.0420.1672.310
binAcrossPixels2.1100.3012.473
buildSpatialGraph19.819 0.71021.740
countInteractions1.7870.0241.844
detectCommunity4.8080.0514.968
detectSpatialContext4.5370.0384.797
distToCells3.8820.0735.214
filterPixels2.8200.2944.696
filterSpatialContext5.4310.0658.148
findBorderCells0.7080.0151.084
patchDetection3.4280.0655.127
patchSize1.4610.0402.677
plotInteractions 9.217 0.18414.912
plotSpatial5.8180.1769.332
plotSpatialContext6.0040.0809.334
plotSpotHeatmap0.6900.0801.113
readImagefromTXT0.5340.1880.760
readSCEfromTIFF0.3760.0120.610
readSCEfromTXT0.4140.0760.655
read_cpout1.3570.3502.160
read_steinbock27.542 6.35834.903
show_cpout_features0.2870.0980.614
testInteractions206.937 3.305314.994