Back to Multiple platform build/check report for BioC 3.22:   simplified   long
ABCDEF[G]HIJKLMNOPQRSTUVWXYZ

This page was generated on 2025-11-01 12:03 -0400 (Sat, 01 Nov 2025).

HostnameOSArch (*)R versionInstalled pkgs
nebbiolo2Linux (Ubuntu 24.04.3 LTS)x86_644.5.1 Patched (2025-08-23 r88802) -- "Great Square Root" 4901
lconwaymacOS 12.7.6 Montereyx86_644.5.1 Patched (2025-09-10 r88807) -- "Great Square Root" 4691
kjohnson3macOS 13.7.7 Venturaarm644.5.1 Patched (2025-09-10 r88807) -- "Great Square Root" 4637
Click on any hostname to see more info about the system (e.g. compilers)      (*) as reported by 'uname -p', except on Windows and Mac OS X

Package 875/2361HostnameOS / ArchINSTALLBUILDCHECKBUILD BIN
ggkegg 1.8.0  (landing page)
Noriaki Sato
Snapshot Date: 2025-10-31 13:45 -0400 (Fri, 31 Oct 2025)
git_url: https://git.bioconductor.org/packages/ggkegg
git_branch: RELEASE_3_22
git_last_commit: c13dd11
git_last_commit_date: 2025-10-29 11:24:48 -0400 (Wed, 29 Oct 2025)
nebbiolo2Linux (Ubuntu 24.04.3 LTS) / x86_64  OK    OK    OK  UNNEEDED, same version is already published
lconwaymacOS 12.7.6 Monterey / x86_64  OK    OK    OK    OK  UNNEEDED, same version is already published
kjohnson3macOS 13.7.7 Ventura / arm64  OK    OK    OK    OK  UNNEEDED, same version is already published


CHECK results for ggkegg on nebbiolo2

To the developers/maintainers of the ggkegg package:
- Allow up to 24 hours (and sometimes 48 hours) for your latest push to git@git.bioconductor.org:packages/ggkegg.git to reflect on this report. See Troubleshooting Build Report for more information.
- Use the following Renviron settings to reproduce errors and warnings.
- If 'R CMD check' started to fail recently on the Linux builder(s) over a missing dependency, add the missing dependency to 'Suggests:' in your DESCRIPTION file. See Renviron.bioc for more information.

raw results


Summary

Package: ggkegg
Version: 1.8.0
Command: /home/biocbuild/bbs-3.22-bioc/R/bin/R CMD check --install=check:ggkegg.install-out.txt --library=/home/biocbuild/bbs-3.22-bioc/R/site-library --timings ggkegg_1.8.0.tar.gz
StartedAt: 2025-11-01 00:13:01 -0400 (Sat, 01 Nov 2025)
EndedAt: 2025-11-01 00:15:39 -0400 (Sat, 01 Nov 2025)
EllapsedTime: 158.2 seconds
RetCode: 0
Status:   OK  
CheckDir: ggkegg.Rcheck
Warnings: 0

Command output

##############################################################################
##############################################################################
###
### Running command:
###
###   /home/biocbuild/bbs-3.22-bioc/R/bin/R CMD check --install=check:ggkegg.install-out.txt --library=/home/biocbuild/bbs-3.22-bioc/R/site-library --timings ggkegg_1.8.0.tar.gz
###
##############################################################################
##############################################################################


* using log directory ‘/home/biocbuild/bbs-3.22-bioc/meat/ggkegg.Rcheck’
* using R version 4.5.1 Patched (2025-08-23 r88802)
* using platform: x86_64-pc-linux-gnu
* R was compiled by
    gcc (Ubuntu 13.3.0-6ubuntu2~24.04) 13.3.0
    GNU Fortran (Ubuntu 13.3.0-6ubuntu2~24.04) 13.3.0
* running under: Ubuntu 24.04.3 LTS
* using session charset: UTF-8
* checking for file ‘ggkegg/DESCRIPTION’ ... OK
* checking extension type ... Package
* this is package ‘ggkegg’ version ‘1.8.0’
* package encoding: UTF-8
* checking package namespace information ... OK
* checking package dependencies ... OK
* checking if this is a source package ... OK
* checking if there is a namespace ... OK
* checking for hidden files and directories ... OK
* checking for portable file names ... OK
* checking for sufficient/correct file permissions ... OK
* checking whether package ‘ggkegg’ can be installed ... OK
* checking installed package size ... OK
* checking package directory ... OK
* checking ‘build’ directory ... OK
* checking DESCRIPTION meta-information ... NOTE
License stub is invalid DCF.
* checking top-level files ... OK
* checking for left-over files ... OK
* checking index information ... OK
* checking package subdirectories ... OK
* checking code files for non-ASCII characters ... OK
* checking R files for syntax errors ... OK
* checking whether the package can be loaded ... OK
* checking whether the package can be loaded with stated dependencies ... OK
* checking whether the package can be unloaded cleanly ... OK
* checking whether the namespace can be loaded with stated dependencies ... OK
* checking whether the namespace can be unloaded cleanly ... OK
* checking loading without being on the library search path ... OK
* checking dependencies in R code ... OK
* checking S3 generic/method consistency ... OK
* checking replacement functions ... OK
* checking foreign function calls ... OK
* checking R code for possible problems ... NOTE
ggplot_add.add_readable_edge_label: no visible binding for global
  variable ‘x’
ggplot_add.add_readable_edge_label: no visible binding for global
  variable ‘y’
ggplot_add.add_readable_edge_label: no visible binding for global
  variable ‘xend’
ggplot_add.add_readable_edge_label: no visible binding for global
  variable ‘yend’
ggplot_add.add_readable_edge_label: no visible binding for global
  variable ‘group’
ggplot_add.add_readable_edge_label: no visible binding for global
  variable ‘label’
ggplot_add.add_readable_edge_label: no visible binding for global
  variable ‘angle2’
ggplot_add.add_readable_edge_label: no visible binding for global
  variable ‘angle’
ggplot_add.add_readable_edge_label: no visible binding for global
  variable ‘x1’
ggplot_add.add_readable_edge_label: no visible binding for global
  variable ‘y1’
ggplot_add.add_readable_edge_label: no visible binding for global
  variable ‘x2’
ggplot_add.add_readable_edge_label: no visible binding for global
  variable ‘y2’
ggplot_add.add_readable_edge_label: no visible binding for global
  variable ‘mx’
ggplot_add.add_readable_edge_label: no visible binding for global
  variable ‘my’
ggplot_add.add_readable_edge_label: no visible binding for global
  variable ‘ma’
Undefined global functions or variables:
  angle angle2 group label ma mx my x x1 x2 xend y y1 y2 yend
* checking Rd files ... OK
* checking Rd metadata ... OK
* checking Rd cross-references ... OK
* checking for missing documentation entries ... OK
* checking for code/documentation mismatches ... OK
* checking Rd \usage sections ... OK
* checking Rd contents ... OK
* checking for unstated dependencies in examples ... OK
* checking files in ‘vignettes’ ... OK
* checking examples ... OK
Examples with CPU (user + system) or elapsed time > 5s
                   user system elapsed
append_cp         5.895  0.643  14.293
pathway_abundance 1.198  0.084  16.745
rawMap            1.187  0.088   8.552
module            0.995  0.136   5.098
* checking for unstated dependencies in ‘tests’ ... OK
* checking tests ...
  Running ‘testthat.R’
 OK
* checking for unstated dependencies in vignettes ... OK
* checking package vignettes ... OK
* checking re-building of vignette outputs ... OK
* checking PDF version of manual ... OK
* DONE

Status: 2 NOTEs
See
  ‘/home/biocbuild/bbs-3.22-bioc/meat/ggkegg.Rcheck/00check.log’
for details.


Installation output

ggkegg.Rcheck/00install.out

##############################################################################
##############################################################################
###
### Running command:
###
###   /home/biocbuild/bbs-3.22-bioc/R/bin/R CMD INSTALL ggkegg
###
##############################################################################
##############################################################################


* installing to library ‘/home/biocbuild/bbs-3.22-bioc/R/site-library’
* installing *source* package ‘ggkegg’ ...
** this is package ‘ggkegg’ version ‘1.8.0’
** using staged installation
** R
** inst
** byte-compile and prepare package for lazy loading
** help
*** installing help indices
*** copying figures
** building package indices
** installing vignettes
** testing if installed package can be loaded from temporary location
** testing if installed package can be loaded from final location
** testing if installed package keeps a record of temporary installation path
* DONE (ggkegg)

Tests output

ggkegg.Rcheck/tests/testthat.Rout


R version 4.5.1 Patched (2025-08-23 r88802) -- "Great Square Root"
Copyright (C) 2025 The R Foundation for Statistical Computing
Platform: x86_64-pc-linux-gnu

R is free software and comes with ABSOLUTELY NO WARRANTY.
You are welcome to redistribute it under certain conditions.
Type 'license()' or 'licence()' for distribution details.

R is a collaborative project with many contributors.
Type 'contributors()' for more information and
'citation()' on how to cite R or R packages in publications.

Type 'demo()' for some demos, 'help()' for on-line help, or
'help.start()' for an HTML browser interface to help.
Type 'q()' to quit R.

> # This file is part of the standard setup for testthat.
> # It is recommended that you do not modify it.
> #
> # Where should you do additional test configuration?
> # Learn more about the roles of various files in:
> # * https://r-pkgs.org/tests.html
> # * https://testthat.r-lib.org/reference/test_package.html#special-files
> 
> library(testthat)
> library(ggkegg)
Loading required package: ggplot2
Loading required package: ggraph
Loading required package: XML
Loading required package: igraph

Attaching package: 'igraph'

The following object is masked from 'package:testthat':

    compare

The following objects are masked from 'package:stats':

    decompose, spectrum

The following object is masked from 'package:base':

    union

Loading required package: tidygraph

Attaching package: 'tidygraph'

The following object is masked from 'package:igraph':

    groups

The following object is masked from 'package:testthat':

    matches

The following object is masked from 'package:stats':

    filter

> 
> test_check("ggkegg")
trying URL 'https://rest.kegg.jp/get/M00004'
downloaded 276 KB

trying URL 'https://rest.kegg.jp/get/N00002'
downloaded 2119 bytes

trying URL 'https://rest.kegg.jp/get/hsa04110/kgml'
downloaded 51 KB

[ FAIL 0 | WARN 5 | SKIP 0 | PASS 20 ]

[ FAIL 0 | WARN 5 | SKIP 0 | PASS 20 ]
> 
> proc.time()
   user  system elapsed 
  4.913   0.326  11.517 

Example timings

ggkegg.Rcheck/ggkegg-Ex.timings

nameusersystemelapsed
add_readable_edge_label0.1880.0120.200
append_cp 5.895 0.64314.293
append_label_position0.0430.0010.044
assign_deseq20.0080.0130.020
carrow0.0010.0010.001
combine_with_bnlearn0.0790.0100.089
convert_id0.2360.0300.256
create_test_module0.0020.0020.003
create_test_network0.0020.0000.002
create_test_pathway0.0720.0130.085
edge_matrix0.0430.0110.054
edge_numeric0.0070.0000.007
edge_numeric_sum0.0190.0000.019
geom_kegg0.0540.0010.055
geom_node_rect0.0190.0000.019
geom_node_rect_kegg0.0210.0000.021
geom_node_rect_multi0.0640.0110.075
geom_node_shadowtext0.020.000.02
ggkegg0.3010.0211.797
ggplot_add.add_readable_edge_label0.1060.0170.122
ggplot_add.geom_kegg0.0560.0090.065
ggplot_add.geom_node_rect_kegg0.0230.0030.025
ggplot_add.geom_node_rect_multi0.0660.0080.073
ggplot_add.overlay_raw_map0.4550.0700.491
ggplot_add.stamp0.0200.0020.022
highlight_entities0.7110.0550.729
highlight_module0.0170.0030.020
highlight_set_edges0.0070.0000.008
highlight_set_nodes0.0570.0120.069
module0.9950.1365.098
module_abundance0.2950.0260.321
module_completeness0.0040.0000.004
module_text0.0060.0000.005
multi_pathway_native0.3140.0221.427
network0.0600.0060.909
network_graph0.0250.0010.026
node_matrix0.020.000.02
node_numeric0.0090.0010.010
obtain_sequential_module_definition0.0180.0000.018
output_overlay_image000
overlay_raw_map0.4660.0270.456
pathway0.1390.0080.147
pathway_abundance 1.198 0.08416.745
pathway_info0.0700.0041.698
plot_kegg_network0.1130.0020.115
plot_module_blocks0.0810.0060.088
plot_module_text0.1200.0140.134
process_line0.0120.0010.013
process_reaction0.0080.0000.008
rawMap1.1870.0888.552
rawValue0.0410.0000.041
return_line_compounds0.0120.0010.013
stamp0.0190.0000.019