Back to Multiple platform build/check report for BioC 3.22:   simplified   long
ABCD[E]FGHIJKLMNOPQRSTUVWXYZ

This page was generated on 2025-11-12 11:58 -0500 (Wed, 12 Nov 2025).

HostnameOSArch (*)R versionInstalled pkgs
nebbiolo2Linux (Ubuntu 24.04.3 LTS)x86_644.5.1 Patched (2025-08-23 r88802) -- "Great Square Root" 4902
taishanLinux (openEuler 24.03 LTS)aarch644.5.0 (2025-04-11) -- "How About a Twenty-Six" 4668
Click on any hostname to see more info about the system (e.g. compilers)      (*) as reported by 'uname -p', except on Windows and Mac OS X

Package 673/2361HostnameOS / ArchINSTALLBUILDCHECKBUILD BIN
enrichViewNet 1.8.0  (landing page)
Astrid Deschênes
Snapshot Date: 2025-11-11 13:45 -0500 (Tue, 11 Nov 2025)
git_url: https://git.bioconductor.org/packages/enrichViewNet
git_branch: RELEASE_3_22
git_last_commit: 0359c98
git_last_commit_date: 2025-10-29 11:26:13 -0500 (Wed, 29 Oct 2025)
nebbiolo2Linux (Ubuntu 24.04.3 LTS) / x86_64  OK    OK    OK  UNNEEDED, same version is already published
taishanLinux (openEuler 24.03 LTS) / aarch64  OK    OK    OK  


CHECK results for enrichViewNet on taishan

To the developers/maintainers of the enrichViewNet package:
- Allow up to 24 hours (and sometimes 48 hours) for your latest push to git@git.bioconductor.org:packages/enrichViewNet.git to reflect on this report. See Troubleshooting Build Report for more information.
- Use the following Renviron settings to reproduce errors and warnings.
- If 'R CMD check' started to fail recently on the Linux builder(s) over a missing dependency, add the missing dependency to 'Suggests:' in your DESCRIPTION file. See Renviron.bioc for more information.
- See Martin Grigorov's blog post for how to debug Linux ARM64 related issues on a x86_64 host.

raw results


Summary

Package: enrichViewNet
Version: 1.8.0
Command: /home/biocbuild/R/R/bin/R CMD check --install=check:enrichViewNet.install-out.txt --library=/home/biocbuild/R/R/site-library --no-vignettes --timings enrichViewNet_1.8.0.tar.gz
StartedAt: 2025-11-11 09:27:48 -0000 (Tue, 11 Nov 2025)
EndedAt: 2025-11-11 09:33:08 -0000 (Tue, 11 Nov 2025)
EllapsedTime: 320.2 seconds
RetCode: 0
Status:   OK  
CheckDir: enrichViewNet.Rcheck
Warnings: 0

Command output

##############################################################################
##############################################################################
###
### Running command:
###
###   /home/biocbuild/R/R/bin/R CMD check --install=check:enrichViewNet.install-out.txt --library=/home/biocbuild/R/R/site-library --no-vignettes --timings enrichViewNet_1.8.0.tar.gz
###
##############################################################################
##############################################################################


* using log directory ‘/home/biocbuild/bbs-3.22-bioc/meat/enrichViewNet.Rcheck’
* using R version 4.5.0 (2025-04-11)
* using platform: aarch64-unknown-linux-gnu
* R was compiled by
    aarch64-unknown-linux-gnu-gcc (GCC) 14.2.0
    GNU Fortran (GCC) 14.2.0
* running under: openEuler 24.03 (LTS)
* using session charset: UTF-8
* using option ‘--no-vignettes’
* checking for file ‘enrichViewNet/DESCRIPTION’ ... OK
* checking extension type ... Package
* this is package ‘enrichViewNet’ version ‘1.8.0’
* package encoding: UTF-8
* checking package namespace information ... OK
* checking package dependencies ... OK
* checking if this is a source package ... OK
* checking if there is a namespace ... OK
* checking for hidden files and directories ... OK
* checking for portable file names ... OK
* checking for sufficient/correct file permissions ... OK
* checking whether package ‘enrichViewNet’ can be installed ... OK
* checking installed package size ... OK
* checking package directory ... OK
* checking ‘build’ directory ... OK
* checking DESCRIPTION meta-information ... OK
* checking top-level files ... OK
* checking for left-over files ... OK
* checking index information ... OK
* checking package subdirectories ... OK
* checking code files for non-ASCII characters ... OK
* checking R files for syntax errors ... OK
* checking whether the package can be loaded ... OK
* checking whether the package can be loaded with stated dependencies ... OK
* checking whether the package can be unloaded cleanly ... OK
* checking whether the namespace can be loaded with stated dependencies ... OK
* checking whether the namespace can be unloaded cleanly ... OK
* checking loading without being on the library search path ... OK
* checking dependencies in R code ... OK
* checking S3 generic/method consistency ... OK
* checking replacement functions ... OK
* checking foreign function calls ... OK
* checking R code for possible problems ... OK
* checking Rd files ... OK
* checking Rd metadata ... OK
* checking Rd cross-references ... OK
* checking for missing documentation entries ... OK
* checking for code/documentation mismatches ... OK
* checking Rd \usage sections ... OK
* checking Rd contents ... OK
* checking for unstated dependencies in examples ... OK
* checking contents of ‘data’ directory ... OK
* checking data for non-ASCII characters ... OK
* checking data for ASCII and uncompressed saves ... OK
* checking files in ‘vignettes’ ... OK
* checking examples ... OK
Examples with CPU (user + system) or elapsed time > 5s
                                      user system elapsed
extractInformationWhenNoIntersection 0.240  0.012  20.301
parentalNapaVsDMSODEG                0.197  0.002   5.169
rosaNapaVsDMSODEG                    0.138  0.012   8.732
* checking for unstated dependencies in ‘tests’ ... OK
* checking tests ...
  Running ‘testthat.R’
 OK
* checking for unstated dependencies in vignettes ... OK
* checking package vignettes ... OK
* checking running R code from vignettes ... SKIPPED
* checking re-building of vignette outputs ... SKIPPED
* checking PDF version of manual ... OK
* DONE

Status: OK


Installation output

enrichViewNet.Rcheck/00install.out

##############################################################################
##############################################################################
###
### Running command:
###
###   /home/biocbuild/R/R/bin/R CMD INSTALL enrichViewNet
###
##############################################################################
##############################################################################


* installing to library ‘/home/biocbuild/R/R-4.5.0/site-library’
* installing *source* package ‘enrichViewNet’ ...
** this is package ‘enrichViewNet’ version ‘1.8.0’
** using staged installation
** R
** data
** byte-compile and prepare package for lazy loading
** help
*** installing help indices
** building package indices
** installing vignettes
** testing if installed package can be loaded from temporary location
** testing if installed package can be loaded from final location
** testing if installed package keeps a record of temporary installation path
* DONE (enrichViewNet)

Tests output

enrichViewNet.Rcheck/tests/testthat.Rout


R version 4.5.0 (2025-04-11) -- "How About a Twenty-Six"
Copyright (C) 2025 The R Foundation for Statistical Computing
Platform: aarch64-unknown-linux-gnu

R is free software and comes with ABSOLUTELY NO WARRANTY.
You are welcome to redistribute it under certain conditions.
Type 'license()' or 'licence()' for distribution details.

R is a collaborative project with many contributors.
Type 'contributors()' for more information and
'citation()' on how to cite R or R packages in publications.

Type 'demo()' for some demos, 'help()' for on-line help, or
'help.start()' for an HTML browser interface to help.
Type 'q()' to quit R.

> library(testthat)
> library(enrichViewNet)

> 
> ## Run all unit tests
> test_check("enrichViewNet")
[ FAIL 0 | WARN 1 | SKIP 0 | PASS 215 ]

[ FAIL 0 | WARN 1 | SKIP 0 | PASS 215 ]
> 
> proc.time()
   user  system elapsed 
 14.835   1.540  55.900 

Example timings

enrichViewNet.Rcheck/enrichViewNet-Ex.timings

nameusersystemelapsed
createBasicEmap1.8640.0401.909
createBasicEmapAsIgraph0.1150.0040.120
createCXJSONForCytoscape0.1350.0000.135
createCompareResultDataFrame0.0180.0000.017
createEnrichMap1.3940.0281.428
createEnrichMapAsIgraph0.6050.0520.659
createEnrichMapMultiBasic1.1180.0641.184
createEnrichMapMultiBasicAsIgraph0.9370.0110.951
createEnrichMapMultiComplex1.7430.0471.795
createEnrichMapMultiComplexAsIgraph0.9390.0080.949
createMetaDataSectionCXJSON0.0020.0000.001
createMultiEmap1.4030.0001.406
createMultiEmapAsIgraph0.1360.0000.136
createNetwork0.0670.0000.067
createNetworkForCytoscape0.0410.0000.041
demoGOST0.0400.0012.120
extractInformationWhenIntersection0.0340.0000.035
extractInformationWhenNoIntersection 0.240 0.01220.301
extractNodesAndEdgesInformation0.0380.0000.038
filterResults0.0030.0000.003
formatInformationForCXJSON0.0820.0000.082
isCytoscapeRunning0.0040.0000.005
manageNameDuplicationInEmap0.0050.0000.005
manageQueryDuplicationInEmap0.0000.0000.001
parentalNapaVsDMSODEG0.1970.0025.169
parentalNapaVsDMSOEnrichment0.7240.0000.727
removeRootTerm0.0050.0000.006
rosaNapaVsDMSODEG0.1380.0128.732
rosaNapaVsDMSOEnrichment0.6570.0080.666
similarityJaccard0.0040.0000.004
validateCreateEnrichMapArguments0.0030.0000.002
validateCreateEnrichMapAsIgraphArg0.0020.0000.002
validateCreateEnrichMapMultiBasicArgs0.0090.0000.009
validateCreateEnrichMapMultiBasicAsIgraphArgs0.0090.0000.009
validateCreateEnrichMapMultiBasicGOSTArgs0.0100.0000.009
validateCreateEnrichMapMultiComplexArg0.010.000.01
validateCreateEnrichMapMultiComplexAsIgraphArg0.0060.0040.010
validateCreateEnrichMapMultiComplexGostPartOne0.010.000.01
validateCreateEnrichMapMultiComplexGostPartTwo0.0070.0040.010
validateCreateEnrichMapSubSectionArguments000
validateCreateNetworkArguments0.0020.0000.002