Back to Build/check report for BioC 3.22:   simplified   long
AB[C]DEFGHIJKLMNOPQRSTUVWXYZ

This page was generated on 2025-11-13 11:55 -0500 (Thu, 13 Nov 2025).

HostnameOSArch (*)R versionInstalled pkgs
taishanLinux (openEuler 24.03 LTS)aarch644.5.0 (2025-04-11) -- "How About a Twenty-Six" 4668
Click on any hostname to see more info about the system (e.g. compilers)      (*) as reported by 'uname -p', except on Windows and Mac OS X

Package 327/2361HostnameOS / ArchINSTALLBUILDCHECKBUILD BIN
cfdnakit 1.8.0  (landing page)
Pitithat Puranachot
Snapshot Date: 2025-11-12 13:45 -0500 (Wed, 12 Nov 2025)
git_url: https://git.bioconductor.org/packages/cfdnakit
git_branch: RELEASE_3_22
git_last_commit: 7eac6e7
git_last_commit_date: 2025-10-29 11:23:56 -0500 (Wed, 29 Oct 2025)
taishanLinux (openEuler 24.03 LTS) / aarch64  OK    OK    OK  


CHECK results for cfdnakit on taishan

To the developers/maintainers of the cfdnakit package:
- Allow up to 24 hours (and sometimes 48 hours) for your latest push to git@git.bioconductor.org:packages/cfdnakit.git to reflect on this report. See Troubleshooting Build Report for more information.
- Use the following Renviron settings to reproduce errors and warnings.
- If 'R CMD check' started to fail recently on the Linux builder(s) over a missing dependency, add the missing dependency to 'Suggests:' in your DESCRIPTION file. See Renviron.bioc for more information.
- See Martin Grigorov's blog post for how to debug Linux ARM64 related issues on a x86_64 host.

raw results


Summary

Package: cfdnakit
Version: 1.8.0
Command: /home/biocbuild/R/R/bin/R CMD check --install=check:cfdnakit.install-out.txt --library=/home/biocbuild/R/R/site-library --no-vignettes --timings cfdnakit_1.8.0.tar.gz
StartedAt: 2025-11-11 08:00:56 -0000 (Tue, 11 Nov 2025)
EndedAt: 2025-11-11 08:06:47 -0000 (Tue, 11 Nov 2025)
EllapsedTime: 350.3 seconds
RetCode: 0
Status:   OK  
CheckDir: cfdnakit.Rcheck
Warnings: 0

Command output

##############################################################################
##############################################################################
###
### Running command:
###
###   /home/biocbuild/R/R/bin/R CMD check --install=check:cfdnakit.install-out.txt --library=/home/biocbuild/R/R/site-library --no-vignettes --timings cfdnakit_1.8.0.tar.gz
###
##############################################################################
##############################################################################


* using log directory ‘/home/biocbuild/bbs-3.22-bioc/meat/cfdnakit.Rcheck’
* using R version 4.5.0 (2025-04-11)
* using platform: aarch64-unknown-linux-gnu
* R was compiled by
    aarch64-unknown-linux-gnu-gcc (GCC) 14.2.0
    GNU Fortran (GCC) 14.2.0
* running under: openEuler 24.03 (LTS)
* using session charset: UTF-8
* using option ‘--no-vignettes’
* checking for file ‘cfdnakit/DESCRIPTION’ ... OK
* this is package ‘cfdnakit’ version ‘1.8.0’
* package encoding: UTF-8
* checking package namespace information ... OK
* checking package dependencies ... OK
* checking if this is a source package ... OK
* checking if there is a namespace ... OK
* checking for hidden files and directories ... OK
* checking for portable file names ... OK
* checking for sufficient/correct file permissions ... OK
* checking whether package ‘cfdnakit’ can be installed ... OK
* checking installed package size ... OK
* checking package directory ... OK
* checking ‘build’ directory ... OK
* checking DESCRIPTION meta-information ... OK
* checking top-level files ... OK
* checking for left-over files ... OK
* checking index information ... OK
* checking package subdirectories ... OK
* checking code files for non-ASCII characters ... OK
* checking R files for syntax errors ... OK
* checking whether the package can be loaded ... OK
* checking whether the package can be loaded with stated dependencies ... OK
* checking whether the package can be unloaded cleanly ... OK
* checking whether the namespace can be loaded with stated dependencies ... OK
* checking whether the namespace can be unloaded cleanly ... OK
* checking loading without being on the library search path ... OK
* checking dependencies in R code ... OK
* checking S3 generic/method consistency ... OK
* checking replacement functions ... OK
* checking foreign function calls ... OK
* checking R code for possible problems ... OK
* checking Rd files ... OK
* checking Rd metadata ... OK
* checking Rd cross-references ... NOTE
Non-topic package-anchored link(s) in Rd file 'pipe.Rd':
  ‘[magrittr:pipe]{%>%}’

See section 'Cross-references' in the 'Writing R Extensions' manual.
* checking for missing documentation entries ... OK
* checking for code/documentation mismatches ... OK
* checking Rd \usage sections ... OK
* checking Rd contents ... OK
* checking for unstated dependencies in examples ... OK
* checking files in ‘vignettes’ ... OK
* checking examples ... OK
Examples with CPU (user + system) or elapsed time > 5s
                       user system elapsed
cfdnakit-package     33.563  0.461  34.200
call_cnv             24.397  0.171  24.657
plot_cnv_solution    23.535  0.020  23.647
calculate_CES_score  22.899  0.545  23.536
plot_distance_matrix 23.303  0.055  23.459
get_solution_table   22.719  0.039  22.844
plot_transformed_sl  22.651  0.096  22.823
segmentByPSCB        22.005  0.063  22.143
get_zscore_profile   21.905  0.016  21.986
plot_sl_ratio        10.489  0.008  10.531
create_PoN            9.655  0.129   9.905
* checking for unstated dependencies in vignettes ... OK
* checking package vignettes ... OK
* checking running R code from vignettes ... SKIPPED
* checking re-building of vignette outputs ... SKIPPED
* checking PDF version of manual ... OK
* DONE

Status: 1 NOTE
See
  ‘/home/biocbuild/bbs-3.22-bioc/meat/cfdnakit.Rcheck/00check.log’
for details.


Installation output

cfdnakit.Rcheck/00install.out

##############################################################################
##############################################################################
###
### Running command:
###
###   /home/biocbuild/R/R/bin/R CMD INSTALL cfdnakit
###
##############################################################################
##############################################################################


* installing to library ‘/home/biocbuild/R/R-4.5.0/site-library’
* installing *source* package ‘cfdnakit’ ...
** this is package ‘cfdnakit’ version ‘1.8.0’
** using staged installation
** R
** inst
** byte-compile and prepare package for lazy loading
** help
*** installing help indices
** building package indices
** installing vignettes
** testing if installed package can be loaded from temporary location
** testing if installed package can be loaded from final location
** testing if installed package keeps a record of temporary installation path
* DONE (cfdnakit)

Tests output


Example timings

cfdnakit.Rcheck/cfdnakit-Ex.timings

nameusersystemelapsed
calculate_CES_score22.899 0.54523.536
call_cnv24.397 0.17124.657
cfdnakit-package33.563 0.46134.200
create_PoN9.6550.1299.905
extract_insert_size0.1580.0040.162
get_fragment_profile4.7530.0074.772
get_solution_table22.719 0.03922.844
get_zscore_profile21.905 0.01621.986
plot_cnv_solution23.535 0.02023.647
plot_distance_matrix23.303 0.05523.459
plot_fragment_dist0.7490.0040.756
plot_sl_ratio10.489 0.00810.531
plot_transformed_sl22.651 0.09622.823
read_bamfile4.1010.0364.152
segmentByPSCB22.005 0.06322.143
test_isize_KolmogorovSmirnov0.2750.0000.276