| Back to Multiple platform build/check report for BioC 3.22: simplified long |
|
This page was generated on 2025-11-20 12:03 -0500 (Thu, 20 Nov 2025).
| Hostname | OS | Arch (*) | R version | Installed pkgs |
|---|---|---|---|---|
| nebbiolo2 | Linux (Ubuntu 24.04.3 LTS) | x86_64 | 4.5.2 (2025-10-31) -- "[Not] Part in a Rumble" | 4615 |
| merida1 | macOS 12.7.6 Monterey | x86_64 | 4.5.2 Patched (2025-11-05 r88990) -- "[Not] Part in a Rumble" | 4610 |
| kjohnson1 | macOS 13.7.5 Ventura | arm64 | 4.5.2 Patched (2025-11-04 r88984) -- "[Not] Part in a Rumble" | 4598 |
| taishan | Linux (openEuler 24.03 LTS) | aarch64 | 4.5.0 (2025-04-11) -- "How About a Twenty-Six" | 4668 |
| Click on any hostname to see more info about the system (e.g. compilers) (*) as reported by 'uname -p', except on Windows and Mac OS X | ||||
| Package 327/2361 | Hostname | OS / Arch | INSTALL | BUILD | CHECK | BUILD BIN | ||||||||
| cfdnakit 1.8.0 (landing page) Pitithat Puranachot
| nebbiolo2 | Linux (Ubuntu 24.04.3 LTS) / x86_64 | OK | OK | OK | |||||||||
| merida1 | macOS 12.7.6 Monterey / x86_64 | OK | OK | OK | OK | |||||||||
| kjohnson1 | macOS 13.7.5 Ventura / arm64 | OK | OK | OK | OK | |||||||||
| taishan | Linux (openEuler 24.03 LTS) / aarch64 | OK | OK | OK | ||||||||||
|
To the developers/maintainers of the cfdnakit package: - Allow up to 24 hours (and sometimes 48 hours) for your latest push to git@git.bioconductor.org:packages/cfdnakit.git to reflect on this report. See Troubleshooting Build Report for more information. - Use the following Renviron settings to reproduce errors and warnings. - If 'R CMD check' started to fail recently on the Linux builder(s) over a missing dependency, add the missing dependency to 'Suggests:' in your DESCRIPTION file. See Renviron.bioc for more information. |
| Package: cfdnakit |
| Version: 1.8.0 |
| Command: /home/biocbuild/bbs-3.22-bioc/R/bin/R CMD check --install=check:cfdnakit.install-out.txt --library=/home/biocbuild/bbs-3.22-bioc/R/site-library --timings cfdnakit_1.8.0.tar.gz |
| StartedAt: 2025-11-18 01:39:50 -0500 (Tue, 18 Nov 2025) |
| EndedAt: 2025-11-18 01:45:44 -0500 (Tue, 18 Nov 2025) |
| EllapsedTime: 354.2 seconds |
| RetCode: 0 |
| Status: OK |
| CheckDir: cfdnakit.Rcheck |
| Warnings: 0 |
##############################################################################
##############################################################################
###
### Running command:
###
### /home/biocbuild/bbs-3.22-bioc/R/bin/R CMD check --install=check:cfdnakit.install-out.txt --library=/home/biocbuild/bbs-3.22-bioc/R/site-library --timings cfdnakit_1.8.0.tar.gz
###
##############################################################################
##############################################################################
* using log directory ‘/home/biocbuild/bbs-3.22-bioc/meat/cfdnakit.Rcheck’
* using R version 4.5.2 (2025-10-31)
* using platform: x86_64-pc-linux-gnu
* R was compiled by
gcc (Ubuntu 13.3.0-6ubuntu2~24.04) 13.3.0
GNU Fortran (Ubuntu 13.3.0-6ubuntu2~24.04) 13.3.0
* running under: Ubuntu 24.04.3 LTS
* using session charset: UTF-8
* checking for file ‘cfdnakit/DESCRIPTION’ ... OK
* this is package ‘cfdnakit’ version ‘1.8.0’
* package encoding: UTF-8
* checking package namespace information ... OK
* checking package dependencies ... OK
* checking if this is a source package ... OK
* checking if there is a namespace ... OK
* checking for hidden files and directories ... OK
* checking for portable file names ... OK
* checking for sufficient/correct file permissions ... OK
* checking whether package ‘cfdnakit’ can be installed ... OK
* checking installed package size ... OK
* checking package directory ... OK
* checking ‘build’ directory ... OK
* checking DESCRIPTION meta-information ... OK
* checking top-level files ... OK
* checking for left-over files ... OK
* checking index information ... OK
* checking package subdirectories ... OK
* checking code files for non-ASCII characters ... OK
* checking R files for syntax errors ... OK
* checking whether the package can be loaded ... OK
* checking whether the package can be loaded with stated dependencies ... OK
* checking whether the package can be unloaded cleanly ... OK
* checking whether the namespace can be loaded with stated dependencies ... OK
* checking whether the namespace can be unloaded cleanly ... OK
* checking loading without being on the library search path ... OK
* checking dependencies in R code ... OK
* checking S3 generic/method consistency ... OK
* checking replacement functions ... OK
* checking foreign function calls ... OK
* checking R code for possible problems ... OK
* checking Rd files ... OK
* checking Rd metadata ... OK
* checking Rd cross-references ... NOTE
Non-topic package-anchored link(s) in Rd file 'pipe.Rd':
‘[magrittr:pipe]{%>%}’
See section 'Cross-references' in the 'Writing R Extensions' manual.
* checking for missing documentation entries ... OK
* checking for code/documentation mismatches ... OK
* checking Rd \usage sections ... OK
* checking Rd contents ... OK
* checking for unstated dependencies in examples ... OK
* checking files in ‘vignettes’ ... OK
* checking examples ... OK
Examples with CPU (user + system) or elapsed time > 5s
user system elapsed
cfdnakit-package 21.512 0.269 21.781
call_cnv 14.800 0.121 14.922
plot_cnv_solution 14.416 0.018 14.436
plot_distance_matrix 13.976 0.032 14.009
plot_transformed_sl 13.866 0.017 13.884
calculate_CES_score 13.670 0.072 13.748
get_solution_table 13.697 0.028 13.728
segmentByPSCB 13.276 0.014 13.292
get_zscore_profile 12.858 0.021 12.880
create_PoN 6.332 0.033 6.365
plot_sl_ratio 5.971 0.007 5.979
* checking for unstated dependencies in vignettes ... OK
* checking package vignettes ... OK
* checking re-building of vignette outputs ... OK
* checking PDF version of manual ... OK
* DONE
Status: 1 NOTE
See
‘/home/biocbuild/bbs-3.22-bioc/meat/cfdnakit.Rcheck/00check.log’
for details.
cfdnakit.Rcheck/00install.out
############################################################################## ############################################################################## ### ### Running command: ### ### /home/biocbuild/bbs-3.22-bioc/R/bin/R CMD INSTALL cfdnakit ### ############################################################################## ############################################################################## * installing to library ‘/home/biocbuild/bbs-3.22-bioc/R/site-library’ * installing *source* package ‘cfdnakit’ ... ** this is package ‘cfdnakit’ version ‘1.8.0’ ** using staged installation ** R ** inst ** byte-compile and prepare package for lazy loading ** help *** installing help indices ** building package indices ** installing vignettes ** testing if installed package can be loaded from temporary location ** testing if installed package can be loaded from final location ** testing if installed package keeps a record of temporary installation path * DONE (cfdnakit)
cfdnakit.Rcheck/cfdnakit-Ex.timings
| name | user | system | elapsed | |
| calculate_CES_score | 13.670 | 0.072 | 13.748 | |
| call_cnv | 14.800 | 0.121 | 14.922 | |
| cfdnakit-package | 21.512 | 0.269 | 21.781 | |
| create_PoN | 6.332 | 0.033 | 6.365 | |
| extract_insert_size | 0.141 | 0.001 | 0.142 | |
| get_fragment_profile | 2.690 | 0.003 | 2.694 | |
| get_solution_table | 13.697 | 0.028 | 13.728 | |
| get_zscore_profile | 12.858 | 0.021 | 12.880 | |
| plot_cnv_solution | 14.416 | 0.018 | 14.436 | |
| plot_distance_matrix | 13.976 | 0.032 | 14.009 | |
| plot_fragment_dist | 0.542 | 0.000 | 0.542 | |
| plot_sl_ratio | 5.971 | 0.007 | 5.979 | |
| plot_transformed_sl | 13.866 | 0.017 | 13.884 | |
| read_bamfile | 2.811 | 0.028 | 2.840 | |
| segmentByPSCB | 13.276 | 0.014 | 13.292 | |
| test_isize_KolmogorovSmirnov | 0.24 | 0.00 | 0.24 | |