| Back to Multiple platform build/check report for BioC 3.22: simplified long |
|
This page was generated on 2025-11-04 12:03 -0500 (Tue, 04 Nov 2025).
| Hostname | OS | Arch (*) | R version | Installed pkgs |
|---|---|---|---|---|
| nebbiolo2 | Linux (Ubuntu 24.04.3 LTS) | x86_64 | 4.5.1 Patched (2025-08-23 r88802) -- "Great Square Root" | 4902 |
| lconway | macOS 12.7.6 Monterey | x86_64 | 4.5.1 Patched (2025-09-10 r88807) -- "Great Square Root" | 4692 |
| kjohnson3 | macOS 13.7.7 Ventura | arm64 | 4.5.1 Patched (2025-09-10 r88807) -- "Great Square Root" | 4638 |
| Click on any hostname to see more info about the system (e.g. compilers) (*) as reported by 'uname -p', except on Windows and Mac OS X | ||||
| Package 165/2361 | Hostname | OS / Arch | INSTALL | BUILD | CHECK | BUILD BIN | ||||||||
| benchdamic 1.16.0 (landing page) Matteo Calgaro
| nebbiolo2 | Linux (Ubuntu 24.04.3 LTS) / x86_64 | OK | OK | OK | |||||||||
| lconway | macOS 12.7.6 Monterey / x86_64 | OK | OK | OK | OK | |||||||||
| kjohnson3 | macOS 13.7.7 Ventura / arm64 | OK | OK | OK | OK | |||||||||
|
To the developers/maintainers of the benchdamic package: - Allow up to 24 hours (and sometimes 48 hours) for your latest push to git@git.bioconductor.org:packages/benchdamic.git to reflect on this report. See Troubleshooting Build Report for more information. - Use the following Renviron settings to reproduce errors and warnings. - If 'R CMD check' started to fail recently on the Linux builder(s) over a missing dependency, add the missing dependency to 'Suggests:' in your DESCRIPTION file. See Renviron.bioc for more information. |
| Package: benchdamic |
| Version: 1.16.0 |
| Command: /Library/Frameworks/R.framework/Resources/bin/R CMD check --install=check:benchdamic.install-out.txt --library=/Library/Frameworks/R.framework/Resources/library --no-vignettes --timings benchdamic_1.16.0.tar.gz |
| StartedAt: 2025-11-03 19:41:21 -0500 (Mon, 03 Nov 2025) |
| EndedAt: 2025-11-03 19:54:51 -0500 (Mon, 03 Nov 2025) |
| EllapsedTime: 810.2 seconds |
| RetCode: 0 |
| Status: OK |
| CheckDir: benchdamic.Rcheck |
| Warnings: 0 |
##############################################################################
##############################################################################
###
### Running command:
###
### /Library/Frameworks/R.framework/Resources/bin/R CMD check --install=check:benchdamic.install-out.txt --library=/Library/Frameworks/R.framework/Resources/library --no-vignettes --timings benchdamic_1.16.0.tar.gz
###
##############################################################################
##############################################################################
* using log directory ‘/Users/biocbuild/bbs-3.22-bioc/meat/benchdamic.Rcheck’
* using R version 4.5.1 Patched (2025-09-10 r88807)
* using platform: x86_64-apple-darwin20
* R was compiled by
Apple clang version 14.0.0 (clang-1400.0.29.202)
GNU Fortran (GCC) 14.2.0
* running under: macOS Monterey 12.7.6
* using session charset: UTF-8
* using option ‘--no-vignettes’
* checking for file ‘benchdamic/DESCRIPTION’ ... OK
* checking extension type ... Package
* this is package ‘benchdamic’ version ‘1.16.0’
* package encoding: UTF-8
* checking package namespace information ... OK
* checking package dependencies ... INFO
Imports includes 32 non-default packages.
Importing from so many packages makes the package vulnerable to any of
them becoming unavailable. Move as many as possible to Suggests and
use conditionally.
* checking if this is a source package ... OK
* checking if there is a namespace ... OK
* checking for hidden files and directories ... OK
* checking for portable file names ... OK
* checking for sufficient/correct file permissions ... OK
* checking whether package ‘benchdamic’ can be installed ... OK
* checking installed package size ... OK
* checking package directory ... OK
* checking ‘build’ directory ... OK
* checking DESCRIPTION meta-information ... OK
* checking top-level files ... OK
* checking for left-over files ... OK
* checking index information ... OK
* checking package subdirectories ... OK
* checking code files for non-ASCII characters ... OK
* checking R files for syntax errors ... OK
* checking whether the package can be loaded ... OK
* checking whether the package can be loaded with stated dependencies ... OK
* checking whether the package can be unloaded cleanly ... OK
* checking whether the namespace can be loaded with stated dependencies ... OK
* checking whether the namespace can be unloaded cleanly ... OK
* checking dependencies in R code ... NOTE
Namespace in Imports field not imported from: ‘microbiome’
All declared Imports should be used.
* checking S3 generic/method consistency ... OK
* checking replacement functions ... OK
* checking foreign function calls ... OK
* checking R code for possible problems ... OK
* checking Rd files ... OK
* checking Rd metadata ... OK
* checking Rd cross-references ... NOTE
Non-topic package-anchored link(s) in Rd file 'norm_DESeq2.Rd':
‘[DESeq2]{estimateSizeFactors}’
See section 'Cross-references' in the 'Writing R Extensions' manual.
* checking for missing documentation entries ... OK
* checking for code/documentation mismatches ... OK
* checking Rd \usage sections ... OK
* checking Rd contents ... OK
* checking for unstated dependencies in examples ... OK
* checking contents of ‘data’ directory ... OK
* checking data for non-ASCII characters ... OK
* checking LazyData ... OK
* checking data for ASCII and uncompressed saves ... OK
* checking files in ‘vignettes’ ... OK
* checking examples ... OK
Examples with CPU (user + system) or elapsed time > 5s
user system elapsed
plotConcordance 8.003 0.085 12.468
DA_ALDEx2 4.558 0.985 5.597
createConcordance 5.286 0.069 5.386
plotFPR 3.531 0.039 5.289
* checking for unstated dependencies in ‘tests’ ... OK
* checking tests ...
Running ‘testthat.R’
OK
* checking for unstated dependencies in vignettes ... OK
* checking package vignettes ... OK
* checking running R code from vignettes ... SKIPPED
* checking re-building of vignette outputs ... SKIPPED
* checking PDF version of manual ... OK
* DONE
Status: 2 NOTEs
See
‘/Users/biocbuild/bbs-3.22-bioc/meat/benchdamic.Rcheck/00check.log’
for details.
benchdamic.Rcheck/00install.out
############################################################################## ############################################################################## ### ### Running command: ### ### /Library/Frameworks/R.framework/Resources/bin/R CMD INSTALL benchdamic ### ############################################################################## ############################################################################## * installing to library ‘/Library/Frameworks/R.framework/Versions/4.5-x86_64/Resources/library’ * installing *source* package ‘benchdamic’ ... ** this is package ‘benchdamic’ version ‘1.16.0’ ** using staged installation ** R ** data *** moving datasets to lazyload DB ** inst ** byte-compile and prepare package for lazy loading Found more than one class "dist" in cache; using the first, from namespace 'BiocGenerics' Also defined by ‘spam’ ** help *** installing help indices ** building package indices ** installing vignettes ** testing if installed package can be loaded from temporary location Found more than one class "dist" in cache; using the first, from namespace 'BiocGenerics' Also defined by ‘spam’ ** testing if installed package can be loaded from final location Found more than one class "dist" in cache; using the first, from namespace 'BiocGenerics' Also defined by ‘spam’ ** testing if installed package keeps a record of temporary installation path * DONE (benchdamic)
benchdamic.Rcheck/tests/testthat.Rout
R version 4.5.1 Patched (2025-09-10 r88807) -- "Great Square Root"
Copyright (C) 2025 The R Foundation for Statistical Computing
Platform: x86_64-apple-darwin20
R is free software and comes with ABSOLUTELY NO WARRANTY.
You are welcome to redistribute it under certain conditions.
Type 'license()' or 'licence()' for distribution details.
R is a collaborative project with many contributors.
Type 'contributors()' for more information and
'citation()' on how to cite R or R packages in publications.
Type 'demo()' for some demos, 'help()' for on-line help, or
'help.start()' for an HTML browser interface to help.
Type 'q()' to quit R.
> library(testthat)
> library(benchdamic)
Found more than one class "dist" in cache; using the first, from namespace 'BiocGenerics'
Also defined by 'spam'
>
> test_check("benchdamic")
|------------(25%)----------(50%)----------(75%)----------|
|------------(25%)----------(50%)----------(75%)----------|
|------------(25%)----------(50%)----------(75%)----------|
|------------(25%)----------(50%)----------(75%)----------|
|------------(25%)----------(50%)----------(75%)----------|
[ FAIL 0 | WARN 0 | SKIP 0 | PASS 334 ]
>
> proc.time()
user system elapsed
78.027 10.517 202.803
benchdamic.Rcheck/benchdamic-Ex.timings
| name | user | system | elapsed | |
| CAT | 0.004 | 0.001 | 0.005 | |
| DA_ALDEx2 | 4.558 | 0.985 | 5.597 | |
| DA_ANCOM | 0.811 | 0.014 | 0.831 | |
| DA_DESeq2 | 2.989 | 0.038 | 3.041 | |
| DA_MAST | 1.433 | 0.033 | 1.480 | |
| DA_Maaslin2 | 0.258 | 0.045 | 0.320 | |
| DA_NOISeq | 1.414 | 0.013 | 1.437 | |
| DA_Seurat | 2.043 | 0.050 | 2.116 | |
| DA_ZicoSeq | 0.643 | 0.022 | 0.669 | |
| DA_basic | 0.033 | 0.002 | 0.037 | |
| DA_corncob | 0.617 | 0.058 | 0.700 | |
| DA_dearseq | 0.058 | 0.003 | 0.064 | |
| DA_edgeR | 0.189 | 0.007 | 0.198 | |
| DA_limma | 0.072 | 0.003 | 0.075 | |
| DA_linda | 0.047 | 0.002 | 0.049 | |
| DA_maaslin3 | 0.556 | 0.018 | 0.585 | |
| DA_metagenomeSeq | 0.297 | 0.010 | 0.308 | |
| DA_mixMC | 0.655 | 0.010 | 0.671 | |
| RMSE | 0.001 | 0.001 | 0.002 | |
| addKnowledge | 0.170 | 0.007 | 0.178 | |
| areaCAT | 4.257 | 0.076 | 4.360 | |
| checkNormalization | 0.001 | 0.001 | 0.000 | |
| createColors | 0.004 | 0.000 | 0.004 | |
| createConcordance | 5.286 | 0.069 | 5.386 | |
| createEnrichment | 0.269 | 0.007 | 0.278 | |
| createMocks | 0.002 | 0.001 | 0.003 | |
| createPositives | 0.979 | 0.028 | 1.014 | |
| createSplits | 0.026 | 0.001 | 0.028 | |
| createTIEC | 3.060 | 0.037 | 3.110 | |
| enrichmentTest | 0.111 | 0.003 | 0.115 | |
| extractDA | 0.202 | 0.005 | 0.208 | |
| extractStatistics | 0.176 | 0.003 | 0.179 | |
| fitDM | 0.028 | 0.002 | 0.031 | |
| fitHURDLE | 0.651 | 0.005 | 0.659 | |
| fitModels | 2.314 | 0.041 | 2.370 | |
| fitNB | 0.040 | 0.001 | 0.041 | |
| fitZIG | 0.054 | 0.001 | 0.055 | |
| fitZINB | 0.455 | 0.007 | 0.469 | |
| getDA | 0.071 | 0.007 | 0.079 | |
| getPositives | 0.073 | 0.003 | 0.076 | |
| getStatistics | 0.062 | 0.005 | 0.066 | |
| get_counts_metadata | 0.126 | 0.003 | 0.129 | |
| iterative_ordering | 0.010 | 0.001 | 0.011 | |
| meanDifferences | 0.002 | 0.001 | 0.003 | |
| norm_CSS | 0.274 | 0.009 | 0.285 | |
| norm_DESeq2 | 0.555 | 0.006 | 0.572 | |
| norm_TSS | 0.039 | 0.001 | 0.041 | |
| norm_edgeR | 0.045 | 0.001 | 0.046 | |
| plotConcordance | 8.003 | 0.085 | 12.468 | |
| plotContingency | 2.542 | 0.023 | 4.179 | |
| plotEnrichment | 2.281 | 0.021 | 3.879 | |
| plotFDR | 3.738 | 0.045 | 4.376 | |
| plotFPR | 3.531 | 0.039 | 5.289 | |
| plotKS | 2.578 | 0.041 | 3.714 | |
| plotLogP | 2.309 | 0.034 | 2.657 | |
| plotMD | 3.049 | 0.049 | 3.677 | |
| plotMutualFindings | 1.999 | 0.021 | 2.892 | |
| plotPositives | 1.354 | 0.016 | 2.120 | |
| plotQQ | 2.166 | 0.023 | 2.354 | |
| plotRMSE | 2.331 | 0.039 | 2.653 | |
| prepareObserved | 0.001 | 0.000 | 0.001 | |
| runDA | 0.409 | 0.002 | 0.418 | |
| runMocks | 0.527 | 0.006 | 0.659 | |
| runNormalizations | 0.373 | 0.003 | 0.381 | |
| runSplits | 2.993 | 0.036 | 3.898 | |
| setNormalizations | 0.001 | 0.000 | 0.001 | |
| set_ALDEx2 | 0.006 | 0.000 | 0.007 | |
| set_ANCOM | 0.008 | 0.002 | 0.022 | |
| set_DESeq2 | 0.008 | 0.001 | 0.008 | |
| set_MAST | 0.003 | 0.001 | 0.003 | |
| set_Maaslin2 | 0.005 | 0.000 | 0.007 | |
| set_NOISeq | 0.004 | 0.001 | 0.005 | |
| set_Seurat | 0.006 | 0.001 | 0.008 | |
| set_ZicoSeq | 0.007 | 0.000 | 0.008 | |
| set_basic | 0.002 | 0.000 | 0.003 | |
| set_corncob | 0.006 | 0.001 | 0.030 | |
| set_dearseq | 0.002 | 0.000 | 0.002 | |
| set_edgeR | 0.011 | 0.001 | 0.016 | |
| set_limma | 0.008 | 0.001 | 0.009 | |
| set_linda | 0.005 | 0.000 | 0.005 | |
| set_maaslin3 | 0.007 | 0.002 | 0.034 | |
| set_metagenomeSeq | 0.005 | 0.001 | 0.005 | |
| set_mixMC | 0.003 | 0.001 | 0.004 | |
| weights_ZINB | 0.442 | 0.006 | 0.493 | |