| Back to Multiple platform build/check report for BioC 3.22: simplified long |
|
This page was generated on 2025-11-24 12:06 -0500 (Mon, 24 Nov 2025).
| Hostname | OS | Arch (*) | R version | Installed pkgs |
|---|---|---|---|---|
| nebbiolo2 | Linux (Ubuntu 24.04.3 LTS) | x86_64 | 4.5.2 (2025-10-31) -- "[Not] Part in a Rumble" | 4873 |
| merida1 | macOS 12.7.6 Monterey | x86_64 | 4.5.2 Patched (2025-11-05 r88990) -- "[Not] Part in a Rumble" | 4654 |
| kjohnson1 | macOS 13.7.5 Ventura | arm64 | 4.5.2 Patched (2025-11-04 r88984) -- "[Not] Part in a Rumble" | 4600 |
| taishan | Linux (openEuler 24.03 LTS) | aarch64 | 4.5.0 (2025-04-11) -- "How About a Twenty-Six" | 4668 |
| Click on any hostname to see more info about the system (e.g. compilers) (*) as reported by 'uname -p', except on Windows and Mac OS X | ||||
| Package 119/2361 | Hostname | OS / Arch | INSTALL | BUILD | CHECK | BUILD BIN | ||||||||
| autonomics 1.18.0 (landing page) Aditya Bhagwat
| nebbiolo2 | Linux (Ubuntu 24.04.3 LTS) / x86_64 | OK | OK | OK | |||||||||
| merida1 | macOS 12.7.6 Monterey / x86_64 | OK | OK | TIMEOUT | OK | |||||||||
| kjohnson1 | macOS 13.7.5 Ventura / arm64 | OK | OK | OK | OK | |||||||||
| taishan | Linux (openEuler 24.03 LTS) / aarch64 | OK | OK | TIMEOUT | ||||||||||
|
To the developers/maintainers of the autonomics package: - Allow up to 24 hours (and sometimes 48 hours) for your latest push to git@git.bioconductor.org:packages/autonomics.git to reflect on this report. See Troubleshooting Build Report for more information. - Use the following Renviron settings to reproduce errors and warnings. - If 'R CMD check' started to fail recently on the Linux builder(s) over a missing dependency, add the missing dependency to 'Suggests:' in your DESCRIPTION file. See Renviron.bioc for more information. |
| Package: autonomics |
| Version: 1.18.0 |
| Command: /Library/Frameworks/R.framework/Resources/bin/R CMD check --install=check:autonomics.install-out.txt --library=/Library/Frameworks/R.framework/Resources/library --no-vignettes --timings autonomics_1.18.0.tar.gz |
| StartedAt: 2025-11-21 15:30:44 -0500 (Fri, 21 Nov 2025) |
| EndedAt: 2025-11-21 16:01:44 -0500 (Fri, 21 Nov 2025) |
| EllapsedTime: 1860.4 seconds |
| RetCode: 0 |
| Status: OK |
| CheckDir: autonomics.Rcheck |
| Warnings: 0 |
##############################################################################
##############################################################################
###
### Running command:
###
### /Library/Frameworks/R.framework/Resources/bin/R CMD check --install=check:autonomics.install-out.txt --library=/Library/Frameworks/R.framework/Resources/library --no-vignettes --timings autonomics_1.18.0.tar.gz
###
##############################################################################
##############################################################################
* using log directory ‘/Users/biocbuild/bbs-3.22-bioc/meat/autonomics.Rcheck’
* using R version 4.5.2 Patched (2025-11-04 r88984)
* using platform: aarch64-apple-darwin20
* R was compiled by
Apple clang version 16.0.0 (clang-1600.0.26.6)
GNU Fortran (GCC) 14.2.0
* running under: macOS Ventura 13.7.8
* using session charset: UTF-8
* using option ‘--no-vignettes’
* checking for file ‘autonomics/DESCRIPTION’ ... OK
* checking extension type ... Package
* this is package ‘autonomics’ version ‘1.18.0’
* package encoding: UTF-8
* checking package namespace information ... OK
* checking package dependencies ... INFO
Imports includes 32 non-default packages.
Importing from so many packages makes the package vulnerable to any of
them becoming unavailable. Move as many as possible to Suggests and
use conditionally.
* checking if this is a source package ... OK
* checking if there is a namespace ... OK
* checking for hidden files and directories ... NOTE
Found the following hidden files and directories:
.BBSoptions
These were most likely included in error. See section ‘Package
structure’ in the ‘Writing R Extensions’ manual.
* checking for portable file names ... OK
* checking for sufficient/correct file permissions ... OK
* checking whether package ‘autonomics’ can be installed ... OK
* checking installed package size ... OK
* checking package directory ... OK
* checking ‘build’ directory ... OK
* checking DESCRIPTION meta-information ... OK
* checking top-level files ... OK
* checking for left-over files ... OK
* checking index information ... OK
* checking package subdirectories ... OK
* checking code files for non-ASCII characters ... OK
* checking R files for syntax errors ... OK
* checking whether the package can be loaded ... OK
* checking whether the package can be loaded with stated dependencies ... OK
* checking whether the package can be unloaded cleanly ... OK
* checking whether the namespace can be loaded with stated dependencies ... OK
* checking whether the namespace can be unloaded cleanly ... OK
* checking dependencies in R code ... OK
* checking S3 generic/method consistency ... OK
* checking replacement functions ... OK
* checking foreign function calls ... OK
* checking R code for possible problems ... OK
* checking Rd files ... OK
* checking Rd metadata ... OK
* checking Rd cross-references ... NOTE
Non-topic package-anchored link(s) in Rd file 'reexports.Rd':
‘[magrittr:compound]{%<>%}’ ‘[magrittr:pipe]{%>%}’
‘[magrittr:aliases]{extract}’
See section 'Cross-references' in the 'Writing R Extensions' manual.
* checking for missing documentation entries ... OK
* checking for code/documentation mismatches ... OK
* checking Rd \usage sections ... OK
* checking Rd contents ... OK
* checking for unstated dependencies in examples ... OK
* checking files in ‘vignettes’ ... OK
* checking examples ... OK
Examples with CPU (user + system) or elapsed time > 5s
user system elapsed
write_xl 187.309 6.455 271.045
read_diann_proteingroups 115.466 2.028 166.599
awblinmod 46.354 0.465 65.553
read_rnaseq_counts 33.418 1.329 50.407
LINMOD 26.428 0.376 36.438
rm_diann_contaminants 25.225 0.465 37.785
plot_exprs 23.321 0.235 36.069
plot_exprs_per_coef 22.363 0.226 34.769
default_formula 20.075 0.467 28.768
plot_volcano 15.452 0.203 24.315
plot_summary 15.069 0.168 23.655
analyze 14.674 0.232 21.039
read_somascan 14.688 0.114 22.593
read_metabolon 13.725 0.142 21.392
fit_survival 13.513 0.184 18.914
plot_densities 11.910 0.265 17.661
explore-transforms 11.411 0.118 17.210
fcluster 10.360 0.113 15.297
plot_detections 8.686 0.088 13.820
ftype 8.372 0.326 12.169
read_fragpipe 8.151 0.162 12.700
biplot_covariates 7.881 0.102 11.221
plot_subgroup_points 6.767 0.110 10.659
plot_xy_density 6.540 0.064 10.281
subtract_baseline 5.858 0.114 8.481
plot_violins 5.695 0.112 8.946
log2transform 5.417 0.077 7.689
reset_fit 5.211 0.109 8.345
sbind 5.056 0.053 7.932
code 5.020 0.062 7.280
extract_contrast_features 4.877 0.079 8.064
biplot 4.289 0.086 6.258
biplot_corrections 3.998 0.080 5.931
impute 3.763 0.048 5.286
modelvar 3.647 0.080 5.202
* checking for unstated dependencies in ‘tests’ ... OK
* checking tests ...
Running ‘testthat.R’
OK
* checking for unstated dependencies in vignettes ... OK
* checking package vignettes ... OK
* checking running R code from vignettes ... SKIPPED
* checking re-building of vignette outputs ... SKIPPED
* checking PDF version of manual ... OK
* DONE
Status: 2 NOTEs
See
‘/Users/biocbuild/bbs-3.22-bioc/meat/autonomics.Rcheck/00check.log’
for details.
autonomics.Rcheck/00install.out
############################################################################## ############################################################################## ### ### Running command: ### ### /Library/Frameworks/R.framework/Resources/bin/R CMD INSTALL autonomics ### ############################################################################## ############################################################################## * installing to library ‘/Library/Frameworks/R.framework/Versions/4.5-arm64/Resources/library’ * installing *source* package ‘autonomics’ ... ** this is package ‘autonomics’ version ‘1.18.0’ ** using staged installation ** R ** inst ** byte-compile and prepare package for lazy loading Note: wrong number of arguments to 'seq_along' Note: wrong number of arguments to 'sqrt' ** help *** installing help indices ** building package indices ** installing vignettes ** testing if installed package can be loaded from temporary location ** testing if installed package can be loaded from final location ** testing if installed package keeps a record of temporary installation path * DONE (autonomics)
autonomics.Rcheck/tests/testthat.Rout
R version 4.5.2 Patched (2025-11-04 r88984) -- "[Not] Part in a Rumble"
Copyright (C) 2025 The R Foundation for Statistical Computing
Platform: aarch64-apple-darwin20
R is free software and comes with ABSOLUTELY NO WARRANTY.
You are welcome to redistribute it under certain conditions.
Type 'license()' or 'licence()' for distribution details.
R is a collaborative project with many contributors.
Type 'contributors()' for more information and
'citation()' on how to cite R or R packages in publications.
Type 'demo()' for some demos, 'help()' for on-line help, or
'help.start()' for an HTML browser interface to help.
Type 'q()' to quit R.
> library(testthat)
> library(autonomics)
Attaching package: 'autonomics'
The following objects are masked from 'package:stats':
biplot, loadings
The following object is masked from 'package:base':
beta
>
> test_check("autonomics")
[ FAIL 0 | WARN 3 | SKIP 0 | PASS 158 ]
[ FAIL 0 | WARN 3 | SKIP 0 | PASS 158 ]
>
> proc.time()
user system elapsed
172.288 7.916 248.418
autonomics.Rcheck/autonomics-Ex.timings
| name | user | system | elapsed | |
| AUTONOMICS_DATASETS | 0.000 | 0.001 | 0.001 | |
| COMPOUNDDISCOVERER_PATTERNS | 0.000 | 0.000 | 0.001 | |
| LINMOD | 26.428 | 0.376 | 36.438 | |
| LINMODENGINES | 0 | 0 | 0 | |
| MAXQUANT_PATTERNS | 0.000 | 0.001 | 0.000 | |
| TAXON_TO_ORGNAME | 0.000 | 0.000 | 0.001 | |
| TESTS | 0.000 | 0.001 | 0.001 | |
| X | 1.341 | 0.056 | 1.963 | |
| abstract_fit | 1.111 | 0.063 | 1.681 | |
| add_adjusted_pvalues | 0.567 | 0.016 | 0.803 | |
| add_assay_means | 0.412 | 0.009 | 0.620 | |
| add_facetvars | 1.547 | 0.064 | 2.330 | |
| add_opentargets_by_uniprot | 0.455 | 0.012 | 0.667 | |
| add_psp | 0.580 | 0.018 | 0.832 | |
| add_smiles | 0.546 | 0.051 | 0.920 | |
| all_non_numeric | 0.660 | 0.004 | 0.874 | |
| analysis | 0.433 | 0.008 | 0.598 | |
| analyze | 14.674 | 0.232 | 21.039 | |
| annotate_maxquant | 0.758 | 0.050 | 1.391 | |
| annotate_uniprot_rest | 0.050 | 0.006 | 0.717 | |
| assert_is_valid_sumexp | 0.615 | 0.043 | 0.906 | |
| awblinmod | 46.354 | 0.465 | 65.553 | |
| biplot | 4.289 | 0.086 | 6.258 | |
| biplot_corrections | 3.998 | 0.080 | 5.931 | |
| biplot_covariates | 7.881 | 0.102 | 11.221 | |
| block2limma | 0.002 | 0.001 | 0.003 | |
| block2lm | 0.003 | 0.001 | 0.003 | |
| block2lme | 0.002 | 0.001 | 0.002 | |
| block2lmer | 0.003 | 0.001 | 0.004 | |
| block_has_two_levels | 0.779 | 0.055 | 1.237 | |
| center | 2.043 | 0.026 | 2.719 | |
| code | 5.020 | 0.062 | 7.280 | |
| collapsed_entrezg_to_symbol | 1.184 | 0.066 | 1.854 | |
| contrast_subgroup_cols | 0.674 | 0.052 | 1.134 | |
| contrastdt | 0.683 | 0.009 | 0.967 | |
| count_in | 0.001 | 0.000 | 0.002 | |
| counts | 0.395 | 0.004 | 0.583 | |
| counts2cpm | 0.369 | 0.004 | 0.549 | |
| counts2tpm | 0.357 | 0.005 | 0.527 | |
| cpm | 0.535 | 0.005 | 0.773 | |
| create_design | 0.826 | 0.056 | 1.295 | |
| default_formula | 20.075 | 0.467 | 28.768 | |
| default_geom | 0.572 | 0.051 | 1.026 | |
| default_sfile | 0.002 | 0.001 | 0.003 | |
| demultiplex | 0.016 | 0.001 | 0.055 | |
| densities | 0.247 | 0.009 | 0.379 | |
| dequantify | 0.003 | 0.001 | 0.003 | |
| dequantify_compounddiscoverer | 0.001 | 0.001 | 0.001 | |
| dot-coxph | 0.541 | 0.041 | 0.775 | |
| dot-merge | 0.023 | 0.001 | 0.025 | |
| dot-read_maxquant_proteingroups | 0.151 | 0.007 | 0.194 | |
| download_data | 0.000 | 0.000 | 0.001 | |
| download_gtf | 0 | 0 | 0 | |
| download_mcclain21 | 0.001 | 0.001 | 0.003 | |
| dt2mat | 0.004 | 0.001 | 0.006 | |
| enrichment | 1.193 | 0.011 | 1.590 | |
| entrezg_to_symbol | 0.165 | 0.006 | 0.226 | |
| explore-transforms | 11.411 | 0.118 | 17.210 | |
| extract_contrast_features | 4.877 | 0.079 | 8.064 | |
| extract_rectangle | 0.171 | 0.050 | 0.351 | |
| factor.vars | 0.195 | 0.002 | 0.311 | |
| factorize | 0.807 | 0.014 | 1.274 | |
| fcluster | 10.360 | 0.113 | 15.297 | |
| fcor | 1.701 | 0.044 | 2.411 | |
| fdata | 0.637 | 0.014 | 0.847 | |
| fdr2p | 1.005 | 0.056 | 1.538 | |
| filter_exprs_replicated_in_some_subgroup | 1.108 | 0.056 | 1.598 | |
| filter_features | 0.638 | 0.051 | 0.981 | |
| filter_medoid | 0.617 | 0.010 | 0.966 | |
| filter_samples | 0.574 | 0.051 | 0.900 | |
| fit_survival | 13.513 | 0.184 | 18.914 | |
| fits | 0.342 | 0.003 | 0.456 | |
| fix_xlgenes | 0.001 | 0.000 | 0.002 | |
| flevels | 0.418 | 0.007 | 0.624 | |
| fnames | 0.539 | 0.010 | 0.829 | |
| formula2str | 0.000 | 0.000 | 0.001 | |
| ftype | 8.372 | 0.326 | 12.169 | |
| fvalues | 0.437 | 0.008 | 0.543 | |
| fvars | 0.397 | 0.008 | 0.526 | |
| genome_to_orgdb | 0.001 | 0.000 | 0.002 | |
| group_by_level | 0.001 | 0.001 | 0.003 | |
| guess_compounddiscoverer_quantity | 0.001 | 0.000 | 0.002 | |
| guess_fitsep | 0.405 | 0.008 | 0.511 | |
| guess_maxquant_quantity | 0.003 | 0.001 | 0.004 | |
| guess_sep | 0.501 | 0.035 | 0.738 | |
| has_multiple_levels | 0.058 | 0.003 | 0.067 | |
| hdlproteins | 0.064 | 0.034 | 0.112 | |
| impute | 3.763 | 0.048 | 5.286 | |
| invert_subgroups | 0.754 | 0.011 | 1.129 | |
| is_character_matrix | 0.150 | 0.002 | 0.189 | |
| is_collapsed_subset | 0.000 | 0.001 | 0.000 | |
| is_compounddiscoverer_output | 0.080 | 0.018 | 0.124 | |
| is_correlation_matrix | 0.001 | 0.001 | 0.002 | |
| is_diann_report | 0.146 | 0.017 | 0.192 | |
| is_fastadt | 0.067 | 0.003 | 0.096 | |
| is_file | 0.001 | 0.001 | 0.001 | |
| is_fraction | 0.002 | 0.000 | 0.002 | |
| is_fragpipe_tsv | 0.120 | 0.013 | 0.164 | |
| is_imputed | 0.814 | 0.012 | 1.141 | |
| is_maxquant_phosphosites | 0.090 | 0.009 | 0.135 | |
| is_maxquant_proteingroups | 0.082 | 0.010 | 0.109 | |
| is_positive_number | 0.002 | 0.000 | 0.002 | |
| is_scalar_subset | 0.335 | 0.005 | 0.441 | |
| is_sig | 1.492 | 0.019 | 1.998 | |
| is_valid_formula | 0.050 | 0.002 | 0.061 | |
| keep_estimable_features | 0.888 | 0.053 | 1.293 | |
| label2index | 0 | 0 | 0 | |
| list2mat | 0.000 | 0.000 | 0.001 | |
| log2counts | 0.338 | 0.004 | 0.433 | |
| log2cpm | 0.323 | 0.004 | 0.416 | |
| log2diffs | 0.382 | 0.007 | 0.578 | |
| log2proteins | 0.329 | 0.007 | 0.516 | |
| log2sites | 0.363 | 0.006 | 0.433 | |
| log2tpm | 0.355 | 0.005 | 0.515 | |
| log2transform | 5.417 | 0.077 | 7.689 | |
| logical2factor | 0.001 | 0.000 | 0.002 | |
| make_alpha_palette | 0.581 | 0.049 | 0.882 | |
| make_colors | 0.014 | 0.001 | 0.015 | |
| make_volcano_dt | 1.074 | 0.017 | 1.417 | |
| map_fvalues | 0.409 | 0.008 | 0.564 | |
| matrix2sumexp | 1.139 | 0.059 | 1.726 | |
| mclust_breaks | 0.654 | 0.070 | 1.051 | |
| merge_sample_file | 0.551 | 0.012 | 0.711 | |
| merge_sdata | 0.703 | 0.060 | 0.963 | |
| message_df | 0.003 | 0.000 | 0.003 | |
| model_coefs | 0.815 | 0.052 | 1.288 | |
| modelvar | 3.647 | 0.080 | 5.202 | |
| object1 | 0.611 | 0.005 | 0.827 | |
| order_on_p | 1.472 | 0.063 | 2.039 | |
| overall_parameters | 0.032 | 0.001 | 0.034 | |
| pca | 3.564 | 0.081 | 4.826 | |
| pg_to_canonical | 0.005 | 0.001 | 0.005 | |
| plot_coef_densities | 1.575 | 0.063 | 2.208 | |
| plot_contrast_venn | 2.596 | 0.079 | 3.705 | |
| plot_contrastogram | 3.253 | 0.149 | 4.771 | |
| plot_data | 1.888 | 0.071 | 2.775 | |
| plot_densities | 11.910 | 0.265 | 17.661 | |
| plot_design | 0.807 | 0.012 | 1.206 | |
| plot_detections | 8.686 | 0.088 | 13.820 | |
| plot_exprs | 23.321 | 0.235 | 36.069 | |
| plot_exprs_per_coef | 22.363 | 0.226 | 34.769 | |
| plot_fit_summary | 2.473 | 0.074 | 3.867 | |
| plot_heatmap | 2.298 | 0.020 | 3.512 | |
| plot_matrix | 0.606 | 0.052 | 0.932 | |
| plot_subgroup_points | 6.767 | 0.110 | 10.659 | |
| plot_summary | 15.069 | 0.168 | 23.655 | |
| plot_venn | 0.027 | 0.001 | 0.042 | |
| plot_venn_heatmap | 0.025 | 0.001 | 0.056 | |
| plot_violins | 5.695 | 0.112 | 8.946 | |
| plot_volcano | 15.452 | 0.203 | 24.315 | |
| plot_xy_density | 6.540 | 0.064 | 10.281 | |
| preprocess_rnaseq_counts | 0.409 | 0.005 | 0.671 | |
| pull_columns | 0.003 | 0.000 | 0.003 | |
| pvalues_estimable | 0.042 | 0.008 | 0.052 | |
| read_affymetrix | 0.000 | 0.001 | 0.000 | |
| read_diann_proteingroups | 115.466 | 2.028 | 166.599 | |
| read_fragpipe | 8.151 | 0.162 | 12.700 | |
| read_maxquant_phosphosites | 1.725 | 0.034 | 2.777 | |
| read_maxquant_proteingroups | 1.331 | 0.026 | 2.122 | |
| read_metabolon | 13.725 | 0.142 | 21.392 | |
| read_msigdt | 0.001 | 0.001 | 0.001 | |
| read_olink | 1.849 | 0.084 | 2.852 | |
| read_rectangles | 0.227 | 0.029 | 0.322 | |
| read_rnaseq_counts | 33.418 | 1.329 | 50.407 | |
| read_salmon | 0 | 0 | 0 | |
| read_somascan | 14.688 | 0.114 | 22.593 | |
| read_uniprotdt | 0.341 | 0.022 | 0.533 | |
| reset_fit | 5.211 | 0.109 | 8.345 | |
| rm_diann_contaminants | 25.225 | 0.465 | 37.785 | |
| rm_missing_in_some_samples | 0.684 | 0.060 | 0.938 | |
| rm_unmatched_samples | 0.683 | 0.008 | 1.043 | |
| sbind | 5.056 | 0.053 | 7.932 | |
| scaledlibsizes | 0.357 | 0.005 | 0.585 | |
| scoremat | 1.054 | 0.053 | 1.676 | |
| slevels | 0.464 | 0.010 | 0.824 | |
| snames | 0.601 | 0.011 | 0.992 | |
| split_extract_fixed | 0.588 | 0.054 | 0.972 | |
| split_samples | 1.390 | 0.054 | 2.353 | |
| stepauc | 0.358 | 0.005 | 0.536 | |
| stri_any_regex | 0.000 | 0.001 | 0.000 | |
| stri_detect_fixed_in_collapsed | 0.524 | 0.008 | 0.801 | |
| subgroup_matrix | 0.624 | 0.050 | 1.043 | |
| subtract_baseline | 5.858 | 0.114 | 8.481 | |
| sumexp_to_longdt | 2.321 | 0.101 | 3.566 | |
| sumexp_to_tsv | 0.556 | 0.008 | 0.809 | |
| sumexplist_to_longdt | 1.916 | 0.030 | 2.973 | |
| summarize_fit | 1.979 | 0.066 | 3.257 | |
| survobj | 0.170 | 0.001 | 0.242 | |
| svalues | 0.441 | 0.007 | 0.689 | |
| svars | 0.570 | 0.008 | 0.914 | |
| systematic_nas | 0.605 | 0.007 | 0.984 | |
| tag_features | 1.562 | 0.048 | 2.389 | |
| tag_hdlproteins | 0.600 | 0.027 | 1.086 | |
| taxon2org | 0.001 | 0.000 | 0.001 | |
| tpm | 0.367 | 0.005 | 0.640 | |
| uncollapse | 0.035 | 0.003 | 0.049 | |
| values | 0.588 | 0.009 | 0.811 | |
| varlevels_dont_clash | 0.027 | 0.001 | 0.030 | |
| venn_detects | 0.602 | 0.011 | 0.931 | |
| weights | 0.345 | 0.004 | 0.495 | |
| write_xl | 187.309 | 6.455 | 271.045 | |
| zero_to_na | 0.001 | 0.001 | 0.003 | |