Back to Multiple platform build/check report for BioC 3.22:   simplified   long
ABCDEFGHIJKLMNOPQR[S]TUVWXYZ

This page was generated on 2025-11-12 11:57 -0500 (Wed, 12 Nov 2025).

HostnameOSArch (*)R versionInstalled pkgs
nebbiolo2Linux (Ubuntu 24.04.3 LTS)x86_644.5.1 Patched (2025-08-23 r88802) -- "Great Square Root" 4902
taishanLinux (openEuler 24.03 LTS)aarch644.5.0 (2025-04-11) -- "How About a Twenty-Six" 4668
Click on any hostname to see more info about the system (e.g. compilers)      (*) as reported by 'uname -p', except on Windows and Mac OS X

All results for package SingleCellExperiment


To the developers/maintainers of the SingleCellExperiment package:
- Allow up to 24 hours (and sometimes 48 hours) for your latest push to git@git.bioconductor.org:packages/SingleCellExperiment.git to reflect on this report. See Troubleshooting Build Report for more information.
- Use the following Renviron settings to reproduce errors and warnings.
- If 'R CMD check' started to fail recently on the Linux builder(s) over a missing dependency, add the missing dependency to 'Suggests:' in your DESCRIPTION file. See Renviron.bioc for more information.

raw results

Package 2031/2361HostnameOS / ArchINSTALLBUILDCHECKBUILD BIN
SingleCellExperiment 1.32.0  (landing page)
Davide Risso
Snapshot Date: 2025-11-11 13:45 -0500 (Tue, 11 Nov 2025)
git_url: https://git.bioconductor.org/packages/SingleCellExperiment
git_branch: RELEASE_3_22
git_last_commit: db7133e
git_last_commit_date: 2025-10-29 10:39:29 -0500 (Wed, 29 Oct 2025)
nebbiolo2Linux (Ubuntu 24.04.3 LTS) / x86_64  OK    OK    OK  UNNEEDED, same version is already published
taishanLinux (openEuler 24.03 LTS) / aarch64  OK    OK    OK  



Results for Bioconductor software packages that depend directly on package SingleCellExperiment

QUICK STATSOS / ArchINSTALLBUILDCHECKBUILD BIN
nebbiolo2Linux (Ubuntu 24.04.3 LTS) / x86_64
02215
05212
0521186
taishanLinux (openEuler 24.03 LTS) / aarch64
03214
417196
2529160
Package 1/217HostnameOS / ArchINSTALLBUILDCHECKBUILD BIN
ADImpute 1.20.0  (landing page)
Ana Carolina Leote
git_last_commit: 4634280
git_last_commit_date: 2025-10-29 11:04:05 -0500
nebbiolo2Linux (Ubuntu 24.04.3 LTS) / x86_64  OK    OK    WARNINGS  UNNEEDED, same version is already published
taishanLinux (openEuler 24.03 LTS) / aarch64  OK    OK    WARNINGS  
Package 2/217HostnameOS / ArchINSTALLBUILDCHECKBUILD BIN
aggregateBioVar 1.20.0  (landing page)
Jason Ratcliff
git_last_commit: d53356b
git_last_commit_date: 2025-10-29 11:02:45 -0500
nebbiolo2Linux (Ubuntu 24.04.3 LTS) / x86_64  OK    OK    OK  UNNEEDED, same version is already published
taishanLinux (openEuler 24.03 LTS) / aarch64  OK    OK    OK  
Package 3/217HostnameOS / ArchINSTALLBUILDCHECKBUILD BIN
airpart 1.18.0  (landing page)
Wancen Mu
git_last_commit: 1715ade
git_last_commit_date: 2025-10-29 11:07:36 -0500
nebbiolo2Linux (Ubuntu 24.04.3 LTS) / x86_64  OK    OK    OK  UNNEEDED, same version is already published
taishanLinux (openEuler 24.03 LTS) / aarch64  OK    OK    OK  
Package 4/217HostnameOS / ArchINSTALLBUILDCHECKBUILD BIN
alabaster.sce 1.10.0  (landing page)
Aaron Lun
git_last_commit: a6eed09
git_last_commit_date: 2025-10-29 11:21:19 -0500
nebbiolo2Linux (Ubuntu 24.04.3 LTS) / x86_64  OK    OK    OK  UNNEEDED, same version is already published
taishanLinux (openEuler 24.03 LTS) / aarch64  OK    OK    OK  
Package 5/217HostnameOS / ArchINSTALLBUILDCHECKBUILD BIN
alabaster.sfe 1.2.0  (landing page)
Lambda Moses
git_last_commit: cb337e4
git_last_commit_date: 2025-10-29 11:35:08 -0500
nebbiolo2Linux (Ubuntu 24.04.3 LTS) / x86_64  OK    OK    OK  UNNEEDED, same version is already published
taishanLinux (openEuler 24.03 LTS) / aarch64  OK    OK    OK  
Package 6/217HostnameOS / ArchINSTALLBUILDCHECKBUILD BIN
anansi 1.0.0  (landing page)
Thomaz Bastiaanssen
git_last_commit: 78b4ccb
git_last_commit_date: 2025-10-29 11:38:37 -0500
nebbiolo2Linux (Ubuntu 24.04.3 LTS) / x86_64  OK    OK    OK  UNNEEDED, same version is already published
taishanLinux (openEuler 24.03 LTS) / aarch64  OK    OK    OK  
Package 7/217HostnameOS / ArchINSTALLBUILDCHECKBUILD BIN
anglemania 1.0.0  (landing page)
Aaron Kollotzek
git_last_commit: 3acc9da
git_last_commit_date: 2025-10-29 11:38:09 -0500
nebbiolo2Linux (Ubuntu 24.04.3 LTS) / x86_64  OK    OK    OK  UNNEEDED, same version is already published
taishanLinux (openEuler 24.03 LTS) / aarch64  OK    OK    OK  
Package 8/217HostnameOS / ArchINSTALLBUILDCHECKBUILD BIN
APL 1.14.0  (landing page)
Clemens Kohl
git_last_commit: 3bb5ce8
git_last_commit_date: 2025-10-29 11:17:02 -0500
nebbiolo2Linux (Ubuntu 24.04.3 LTS) / x86_64  OK    OK    OK  UNNEEDED, same version is already published
taishanLinux (openEuler 24.03 LTS) / aarch64  OK    OK    OK  
Package 9/217HostnameOS / ArchINSTALLBUILDCHECKBUILD BIN
ASURAT 1.14.0  (landing page)
Keita Iida
git_last_commit: 9212396
git_last_commit_date: 2025-10-29 11:15:46 -0500
nebbiolo2Linux (Ubuntu 24.04.3 LTS) / x86_64  OK    OK    OK  UNNEEDED, same version is already published
taishanLinux (openEuler 24.03 LTS) / aarch64  OK    TIMEOUT  skipped
Package 10/217HostnameOS / ArchINSTALLBUILDCHECKBUILD BIN
Banksy 1.6.0  (landing page)
Joseph Lee
git_last_commit: 6847ab5
git_last_commit_date: 2025-10-29 11:27:15 -0500
nebbiolo2Linux (Ubuntu 24.04.3 LTS) / x86_64  OK    OK    OK  UNNEEDED, same version is already published
taishanLinux (openEuler 24.03 LTS) / aarch64  OK    OK    OK  
Package 11/217HostnameOS / ArchINSTALLBUILDCHECKBUILD BIN
BASiCS 2.22.0  (landing page)
Catalina Vallejos
git_last_commit: d0fd928
git_last_commit_date: 2025-10-29 10:41:02 -0500
nebbiolo2Linux (Ubuntu 24.04.3 LTS) / x86_64  OK    OK    WARNINGS  UNNEEDED, same version is already published
taishanLinux (openEuler 24.03 LTS) / aarch64  OK    OK    WARNINGS  
Package 12/217HostnameOS / ArchINSTALLBUILDCHECKBUILD BIN
BASiCStan 1.12.0  (landing page)
Alan O'Callaghan
git_last_commit: 6e9027c
git_last_commit_date: 2025-10-29 11:18:18 -0500
nebbiolo2Linux (Ubuntu 24.04.3 LTS) / x86_64  OK    OK    OK  UNNEEDED, same version is already published
taishanLinux (openEuler 24.03 LTS) / aarch64  OK    OK    WARNINGS  
Package 13/217HostnameOS / ArchINSTALLBUILDCHECKBUILD BIN
batchelor 1.26.0  (landing page)
Aaron Lun
git_last_commit: 8a9df0d
git_last_commit_date: 2025-10-29 10:51:04 -0500
nebbiolo2Linux (Ubuntu 24.04.3 LTS) / x86_64  OK    OK    OK  UNNEEDED, same version is already published
taishanLinux (openEuler 24.03 LTS) / aarch64  OK    OK    OK  
Package 14/217HostnameOS / ArchINSTALLBUILDCHECKBUILD BIN
BayesSpace 1.20.0  (landing page)
Senbai Kang
git_last_commit: b8f514b
git_last_commit_date: 2025-10-29 11:03:05 -0500
nebbiolo2Linux (Ubuntu 24.04.3 LTS) / x86_64  OK    OK    OK  UNNEEDED, same version is already published
taishanLinux (openEuler 24.03 LTS) / aarch64  OK    OK    OK  
Package 15/217HostnameOS / ArchINSTALLBUILDCHECKBUILD BIN
bayNorm 1.28.0  (landing page)
Wenhao Tang
git_last_commit: a368043
git_last_commit_date: 2025-10-29 10:48:07 -0500
nebbiolo2Linux (Ubuntu 24.04.3 LTS) / x86_64  OK    OK    OK  UNNEEDED, same version is already published
taishanLinux (openEuler 24.03 LTS) / aarch64  OK    OK    OK  
Package 16/217HostnameOS / ArchINSTALLBUILDCHECKBUILD BIN
blase 1.0.0  (landing page)
Andrew McCluskey
git_last_commit: 874f31b
git_last_commit_date: 2025-10-29 11:38:12 -0500
nebbiolo2Linux (Ubuntu 24.04.3 LTS) / x86_64  OK    OK    OK  UNNEEDED, same version is already published
taishanLinux (openEuler 24.03 LTS) / aarch64  OK    OK    OK  
Package 17/217HostnameOS / ArchINSTALLBUILDCHECKBUILD BIN
BUSseq 1.16.0  (landing page)
Fangda Song
git_last_commit: 95429aa
git_last_commit_date: 2025-10-29 11:10:22 -0500
nebbiolo2Linux (Ubuntu 24.04.3 LTS) / x86_64  OK    OK    OK  UNNEEDED, same version is already published
taishanLinux (openEuler 24.03 LTS) / aarch64  OK    OK    OK  
Package 18/217HostnameOS / ArchINSTALLBUILDCHECKBUILD BIN
CARDspa 1.2.0  (landing page)
Jing Fu
git_last_commit: 980a743
git_last_commit_date: 2025-10-29 11:34:40 -0500
nebbiolo2Linux (Ubuntu 24.04.3 LTS) / x86_64  OK    OK    OK  UNNEEDED, same version is already published
taishanLinux (openEuler 24.03 LTS) / aarch64  OK    OK    OK  
Package 19/217HostnameOS / ArchINSTALLBUILDCHECKBUILD BIN
CATALYST 1.34.0  (landing page)
Helena L. Crowell
git_last_commit: 8ec200e
git_last_commit_date: 2025-10-29 10:38:04 -0500
nebbiolo2Linux (Ubuntu 24.04.3 LTS) / x86_64  OK    OK    OK  UNNEEDED, same version is already published
taishanLinux (openEuler 24.03 LTS) / aarch64  OK    OK    OK  
Package 20/217HostnameOS / ArchINSTALLBUILDCHECKBUILD BIN
CatsCradle 1.4.1  (landing page)
Michael Shapiro
git_last_commit: 87aae32
git_last_commit_date: 2025-11-04 07:20:10 -0500
nebbiolo2Linux (Ubuntu 24.04.3 LTS) / x86_64  OK    OK    OK  UNNEEDED, same version is already published
taishanLinux (openEuler 24.03 LTS) / aarch64  OK    OK    OK  
Package 21/217HostnameOS / ArchINSTALLBUILDCHECKBUILD BIN
ccfindR 1.30.0  (landing page)
Jun Woo
git_last_commit: 2aa6151
git_last_commit_date: 2025-10-29 10:45:06 -0500
nebbiolo2Linux (Ubuntu 24.04.3 LTS) / x86_64  OK    OK    OK  UNNEEDED, same version is already published
taishanLinux (openEuler 24.03 LTS) / aarch64  OK    OK    WARNINGS  
Package 22/217HostnameOS / ArchINSTALLBUILDCHECKBUILD BIN
ccImpute 1.12.0  (landing page)
Marcin Malec
git_last_commit: 4f91f58
git_last_commit_date: 2025-10-29 11:19:37 -0500
nebbiolo2Linux (Ubuntu 24.04.3 LTS) / x86_64  OK    OK    OK  UNNEEDED, same version is already published
taishanLinux (openEuler 24.03 LTS) / aarch64  OK    OK    WARNINGS  
Package 23/217HostnameOS / ArchINSTALLBUILDCHECKBUILD BIN
CDI 1.8.0  (landing page)
Jiyuan Fang
git_last_commit: 1b170d2
git_last_commit_date: 2025-10-29 11:24:10 -0500
nebbiolo2Linux (Ubuntu 24.04.3 LTS) / x86_64  OK    OK    OK  UNNEEDED, same version is already published
taishanLinux (openEuler 24.03 LTS) / aarch64  OK    OK    OK  
Package 24/217HostnameOS / ArchINSTALLBUILDCHECKBUILD BIN
celda 1.26.0  (landing page)
Joshua Campbell
git_last_commit: e1acfed
git_last_commit_date: 2025-10-29 10:52:12 -0500
nebbiolo2Linux (Ubuntu 24.04.3 LTS) / x86_64  OK    OK    OK  UNNEEDED, same version is already published
taishanLinux (openEuler 24.03 LTS) / aarch64  OK    OK    WARNINGS  
Package 25/217HostnameOS / ArchINSTALLBUILDCHECKBUILD BIN
CellBench 1.26.0  (landing page)
Shian Su
git_last_commit: 452edea
git_last_commit_date: 2025-10-29 10:50:23 -0500
nebbiolo2Linux (Ubuntu 24.04.3 LTS) / x86_64  OK    OK    OK  UNNEEDED, same version is already published
taishanLinux (openEuler 24.03 LTS) / aarch64  OK    OK    OK  
Package 26/217HostnameOS / ArchINSTALLBUILDCHECKBUILD BIN
CelliD 1.18.0  (landing page)
Akira Cortal
git_last_commit: 097905e
git_last_commit_date: 2025-10-29 11:07:10 -0500
nebbiolo2Linux (Ubuntu 24.04.3 LTS) / x86_64  OK    OK    WARNINGS  UNNEEDED, same version is already published
taishanLinux (openEuler 24.03 LTS) / aarch64  OK    OK    WARNINGS  
Package 27/217HostnameOS / ArchINSTALLBUILDCHECKBUILD BIN
CellMixS 1.26.0  (landing page)
Almut Lütge
git_last_commit: 9f46a58
git_last_commit_date: 2025-10-29 10:51:12 -0500
nebbiolo2Linux (Ubuntu 24.04.3 LTS) / x86_64  OK    OK    OK  UNNEEDED, same version is already published
taishanLinux (openEuler 24.03 LTS) / aarch64  OK    OK    OK  
Package 28/217HostnameOS / ArchINSTALLBUILDCHECKBUILD BIN
CellTrails 1.28.0  (landing page)
Daniel Ellwanger
git_last_commit: 0fc34ed
git_last_commit_date: 2025-10-29 10:46:02 -0500
nebbiolo2Linux (Ubuntu 24.04.3 LTS) / x86_64  OK    OK    OK  UNNEEDED, same version is already published
taishanLinux (openEuler 24.03 LTS) / aarch64  OK    OK    OK  
Package 29/217HostnameOS / ArchINSTALLBUILDCHECKBUILD BIN
Cepo 1.16.0  (landing page)
Hani Jieun Kim
git_last_commit: 14015a6
git_last_commit_date: 2025-10-29 11:13:24 -0500
nebbiolo2Linux (Ubuntu 24.04.3 LTS) / x86_64  OK    OK    OK  UNNEEDED, same version is already published
taishanLinux (openEuler 24.03 LTS) / aarch64  OK    OK    OK  
Package 30/217HostnameOS / ArchINSTALLBUILDCHECKBUILD BIN
CHETAH 1.26.0  (landing page)
Jurrian de Kanter
git_last_commit: 00917fa
git_last_commit_date: 2025-10-29 11:17:46 -0500
nebbiolo2Linux (Ubuntu 24.04.3 LTS) / x86_64  OK    OK    OK  UNNEEDED, same version is already published
taishanLinux (openEuler 24.03 LTS) / aarch64  OK    OK    OK  
Package 31/217HostnameOS / ArchINSTALLBUILDCHECKBUILD BIN
chevreulPlot 1.2.0  (landing page)
Kevin Stachelek
git_last_commit: bc927ef
git_last_commit_date: 2025-10-29 11:34:14 -0500
nebbiolo2Linux (Ubuntu 24.04.3 LTS) / x86_64  OK    OK    OK  UNNEEDED, same version is already published
taishanLinux (openEuler 24.03 LTS) / aarch64  OK    OK    OK  
Package 32/217HostnameOS / ArchINSTALLBUILDCHECKBUILD BIN
chevreulProcess 1.2.0  (landing page)
Kevin Stachelek
git_last_commit: a07dc13
git_last_commit_date: 2025-10-29 11:34:17 -0500
nebbiolo2Linux (Ubuntu 24.04.3 LTS) / x86_64  OK    OK    OK  UNNEEDED, same version is already published
taishanLinux (openEuler 24.03 LTS) / aarch64  OK    OK    OK  
Package 33/217HostnameOS / ArchINSTALLBUILDCHECKBUILD BIN
chevreulShiny 1.2.0  (landing page)
Kevin Stachelek
git_last_commit: 12398b0
git_last_commit_date: 2025-10-29 11:34:20 -0500
nebbiolo2Linux (Ubuntu 24.04.3 LTS) / x86_64  OK    OK    OK  NO, package depends on 'EnhancedVolcano' which is not available
taishanLinux (openEuler 24.03 LTS) / aarch64  OK    OK    OK  
Package 34/217HostnameOS / ArchINSTALLBUILDCHECKBUILD BIN
ChromSCape 1.20.0  (landing page)
Pacome Prompsy
git_last_commit: a5a7bda
git_last_commit_date: 2025-10-29 11:02:56 -0500
nebbiolo2Linux (Ubuntu 24.04.3 LTS) / x86_64  OK    OK    WARNINGS  UNNEEDED, same version is already published
taishanLinux (openEuler 24.03 LTS) / aarch64  OK    OK    WARNINGS  
Package 35/217HostnameOS / ArchINSTALLBUILDCHECKBUILD BIN
CiteFuse 1.22.0  (landing page)
Yingxin Lin
git_last_commit: 7efd8aa
git_last_commit_date: 2025-10-29 10:58:33 -0500
nebbiolo2Linux (Ubuntu 24.04.3 LTS) / x86_64  OK    OK    OK  UNNEEDED, same version is already published
taishanLinux (openEuler 24.03 LTS) / aarch64  OK    OK    OK  
Package 36/217HostnameOS / ArchINSTALLBUILDCHECKBUILD BIN
clusterExperiment 2.30.0  (landing page)
Elizabeth Purdom
git_last_commit: 86a6cae
git_last_commit_date: 2025-10-29 10:33:07 -0500
nebbiolo2Linux (Ubuntu 24.04.3 LTS) / x86_64  OK    OK    WARNINGS  UNNEEDED, same version is already published
taishanLinux (openEuler 24.03 LTS) / aarch64  OK    OK    WARNINGS  
Package 37/217HostnameOS / ArchINSTALLBUILDCHECKBUILD BIN
ClusterFoldSimilarity 1.6.0  (landing page)
Oscar Gonzalez-Velasco
git_last_commit: 8775001
git_last_commit_date: 2025-10-29 11:26:46 -0500
nebbiolo2Linux (Ubuntu 24.04.3 LTS) / x86_64  OK    OK    WARNINGS  UNNEEDED, same version is already published
taishanLinux (openEuler 24.03 LTS) / aarch64  OK    OK    WARNINGS  
Package 38/217HostnameOS / ArchINSTALLBUILDCHECKBUILD BIN
clustifyr 1.22.0  (landing page)
Rui Fu
git_last_commit: 9338c89
git_last_commit_date: 2025-10-29 10:56:51 -0500
nebbiolo2Linux (Ubuntu 24.04.3 LTS) / x86_64  OK    OK    OK  UNNEEDED, same version is already published
taishanLinux (openEuler 24.03 LTS) / aarch64  OK    OK    OK  
Package 39/217HostnameOS / ArchINSTALLBUILDCHECKBUILD BIN
clustSIGNAL 1.2.0  (landing page)
Pratibha Panwar
git_last_commit: 55aa2e1
git_last_commit_date: 2025-10-29 11:35:51 -0500
nebbiolo2Linux (Ubuntu 24.04.3 LTS) / x86_64  OK    OK    OK  UNNEEDED, same version is already published
taishanLinux (openEuler 24.03 LTS) / aarch64  OK    OK    OK  
Package 40/217HostnameOS / ArchINSTALLBUILDCHECKBUILD BIN
CoGAPS 3.30.0  (landing page)
Elana J. Fertig
git_last_commit: 88653e4
git_last_commit_date: 2025-10-29 10:05:26 -0500
nebbiolo2Linux (Ubuntu 24.04.3 LTS) / x86_64  OK    OK    OK  UNNEEDED, same version is already published
taishanLinux (openEuler 24.03 LTS) / aarch64  OK    OK    OK  
Package 41/217HostnameOS / ArchINSTALLBUILDCHECKBUILD BIN
concordexR 1.10.0  (landing page)
Kayla Jackson
git_last_commit: 9ea0373
git_last_commit_date: 2025-10-29 11:22:42 -0500
nebbiolo2Linux (Ubuntu 24.04.3 LTS) / x86_64  OK    OK    WARNINGS  UNNEEDED, same version is already published
taishanLinux (openEuler 24.03 LTS) / aarch64  OK    OK    WARNINGS  
Package 42/217HostnameOS / ArchINSTALLBUILDCHECKBUILD BIN
condiments 1.18.0  (landing page)
Hector Roux de Bezieux
git_last_commit: 02f3c88
git_last_commit_date: 2025-10-29 11:07:39 -0500
nebbiolo2Linux (Ubuntu 24.04.3 LTS) / x86_64  OK    OK    OK  UNNEEDED, same version is already published
taishanLinux (openEuler 24.03 LTS) / aarch64  OK    OK    OK  
Package 43/217HostnameOS / ArchINSTALLBUILDCHECKBUILD BIN
Coralysis 1.0.0  (landing page)
António Sousa
git_last_commit: 146372a
git_last_commit_date: 2025-10-29 11:36:31 -0500
nebbiolo2Linux (Ubuntu 24.04.3 LTS) / x86_64  OK    OK    OK  UNNEEDED, same version is already published
taishanLinux (openEuler 24.03 LTS) / aarch64  OK    OK    OK  
Package 44/217HostnameOS / ArchINSTALLBUILDCHECKBUILD BIN
corral 1.20.0  (landing page)
Lauren Hsu
git_last_commit: 0d657a1
git_last_commit_date: 2025-10-29 11:00:12 -0500
nebbiolo2Linux (Ubuntu 24.04.3 LTS) / x86_64  OK    OK    OK  UNNEEDED, same version is already published
taishanLinux (openEuler 24.03 LTS) / aarch64  OK    OK    OK  
Package 45/217HostnameOS / ArchINSTALLBUILDCHECKBUILD BIN
COTAN 2.10.0  (landing page)
Galfrè Silvia Giulia
git_last_commit: 9b1bfa0
git_last_commit_date: 2025-10-29 11:14:37 -0500
nebbiolo2Linux (Ubuntu 24.04.3 LTS) / x86_64  OK    OK    OK  UNNEEDED, same version is already published
taishanLinux (openEuler 24.03 LTS) / aarch64  OK    OK    OK  
Package 46/217HostnameOS / ArchINSTALLBUILDCHECKBUILD BIN
crumblr 1.2.0  (landing page)
Gabriel Hoffman
git_last_commit: 7537bb3
git_last_commit_date: 2025-10-29 11:35:21 -0500
nebbiolo2Linux (Ubuntu 24.04.3 LTS) / x86_64  OK    OK    OK  UNNEEDED, same version is already published
taishanLinux (openEuler 24.03 LTS) / aarch64  OK    OK    OK  
Package 47/217HostnameOS / ArchINSTALLBUILDCHECKBUILD BIN
CTexploreR 1.6.0  (landing page)
Axelle Loriot
git_last_commit: c66423d
git_last_commit_date: 2025-10-29 11:26:51 -0500
nebbiolo2Linux (Ubuntu 24.04.3 LTS) / x86_64  OK    OK    OK  UNNEEDED, same version is already published
taishanLinux (openEuler 24.03 LTS) / aarch64  OK    OK    OK  
Package 48/217HostnameOS / ArchINSTALLBUILDCHECKBUILD BIN
CuratedAtlasQueryR 1.8.0  (landing page)
Stefano Mangiola
git_last_commit: d6fb5df
git_last_commit_date: 2025-10-29 11:24:15 -0500
nebbiolo2Linux (Ubuntu 24.04.3 LTS) / x86_64  OK    OK    OK  UNNEEDED, same version is already published
taishanLinux (openEuler 24.03 LTS) / aarch64  OK    OK    OK  
Package 49/217HostnameOS / ArchINSTALLBUILDCHECKBUILD BIN
cydar 1.34.0  (landing page)
Aaron Lun
git_last_commit: 92bf565
git_last_commit_date: 2025-10-29 10:37:34 -0500
nebbiolo2Linux (Ubuntu 24.04.3 LTS) / x86_64  OK    OK    OK  UNNEEDED, same version is already published
taishanLinux (openEuler 24.03 LTS) / aarch64  OK    OK    OK  
Package 50/217HostnameOS / ArchINSTALLBUILDCHECKBUILD BIN
cytofQC 1.10.0  (landing page)
Jill Lundell
git_last_commit: cec9b63
git_last_commit_date: 2025-10-29 11:21:55 -0500
nebbiolo2Linux (Ubuntu 24.04.3 LTS) / x86_64  ERROR    ERROR  skipped
taishanLinux (openEuler 24.03 LTS) / aarch64  OK    OK    OK  
Package 51/217HostnameOS / ArchINSTALLBUILDCHECKBUILD BIN
cytomapper 1.22.0  (landing page)
Lasse Meyer
git_last_commit: 0d3160a
git_last_commit_date: 2025-10-29 10:57:59 -0500
nebbiolo2Linux (Ubuntu 24.04.3 LTS) / x86_64  OK    OK    OK  UNNEEDED, same version is already published
taishanLinux (openEuler 24.03 LTS) / aarch64  OK    OK    OK  
Package 52/217HostnameOS / ArchINSTALLBUILDCHECKBUILD BIN
cytoviewer 1.10.0  (landing page)
Lasse Meyer
git_last_commit: 56765b4
git_last_commit_date: 2025-10-29 11:22:11 -0500
nebbiolo2Linux (Ubuntu 24.04.3 LTS) / x86_64  OK    OK    OK  UNNEEDED, same version is already published
taishanLinux (openEuler 24.03 LTS) / aarch64  OK    OK    OK  
Package 53/217HostnameOS / ArchINSTALLBUILDCHECKBUILD BIN
dandelionR 1.2.0  (landing page)
Kelvin Tuong
git_last_commit: da413e4
git_last_commit_date: 2025-10-29 11:34:23 -0500
nebbiolo2Linux (Ubuntu 24.04.3 LTS) / x86_64  OK    OK    OK  UNNEEDED, same version is already published
taishanLinux (openEuler 24.03 LTS) / aarch64  OK    OK    OK  
Package 54/217HostnameOS / ArchINSTALLBUILDCHECKBUILD BIN
decontX 1.8.0  (landing page)
Joshua Campbell
git_last_commit: e98b38c
git_last_commit_date: 2025-10-29 11:26:26 -0500
nebbiolo2Linux (Ubuntu 24.04.3 LTS) / x86_64  OK    OK    OK  UNNEEDED, same version is already published
taishanLinux (openEuler 24.03 LTS) / aarch64  OK    OK    WARNINGS  
Package 55/217HostnameOS / ArchINSTALLBUILDCHECKBUILD BIN
DeconvoBuddies 1.2.0  (landing page)
Louise Huuki-Myers
git_last_commit: 1c038d1
git_last_commit_date: 2025-10-29 11:35:32 -0500
nebbiolo2Linux (Ubuntu 24.04.3 LTS) / x86_64  OK    OK    OK  UNNEEDED, same version is already published
taishanLinux (openEuler 24.03 LTS) / aarch64  OK    OK    OK  
Package 56/217HostnameOS / ArchINSTALLBUILDCHECKBUILD BIN
DeeDeeExperiment 1.0.0  (landing page)
Najla Abassi
git_last_commit: 8d413ac
git_last_commit_date: 2025-10-29 11:37:21 -0500
nebbiolo2Linux (Ubuntu 24.04.3 LTS) / x86_64  OK    OK    OK  UNNEEDED, same version is already published
taishanLinux (openEuler 24.03 LTS) / aarch64  OK    OK    OK  
Package 57/217HostnameOS / ArchINSTALLBUILDCHECKBUILD BIN
demuxSNP 1.8.0  (landing page)
Michael Lynch
git_last_commit: 0c933a4
git_last_commit_date: 2025-10-29 11:23:27 -0500
nebbiolo2Linux (Ubuntu 24.04.3 LTS) / x86_64  OK    OK    OK  UNNEEDED, same version is already published
taishanLinux (openEuler 24.03 LTS) / aarch64  OK    OK    OK  
Package 58/217HostnameOS / ArchINSTALLBUILDCHECKBUILD BIN
destiny 3.24.0  (landing page)
Philipp Angerer
git_last_commit: 9280aaa
git_last_commit_date: 2025-11-06 08:14:03 -0500
nebbiolo2Linux (Ubuntu 24.04.3 LTS) / x86_64  OK    OK    OK  UNNEEDED, same version is already published
taishanLinux (openEuler 24.03 LTS) / aarch64  OK    OK    WARNINGS  
Package 59/217HostnameOS / ArchINSTALLBUILDCHECKBUILD BIN
DifferentialRegulation 2.8.0  (landing page)
Simone Tiberi
git_last_commit: 9d1063a
git_last_commit_date: 2025-10-29 11:16:49 -0500
nebbiolo2Linux (Ubuntu 24.04.3 LTS) / x86_64  OK    OK    OK  UNNEEDED, same version is already published
taishanLinux (openEuler 24.03 LTS) / aarch64  OK    TIMEOUT  skipped
Package 60/217HostnameOS / ArchINSTALLBUILDCHECKBUILD BIN
Dino 1.16.0  (landing page)
Jared Brown
git_last_commit: 479c993
git_last_commit_date: 2025-10-29 11:10:41 -0500
nebbiolo2Linux (Ubuntu 24.04.3 LTS) / x86_64  OK    OK    OK  UNNEEDED, same version is already published
taishanLinux (openEuler 24.03 LTS) / aarch64  OK    OK    OK  
Package 61/217HostnameOS / ArchINSTALLBUILDCHECKBUILD BIN
distinct 1.22.0  (landing page)
Simone Tiberi
git_last_commit: 8dca3b7
git_last_commit_date: 2025-10-29 10:58:17 -0500
nebbiolo2Linux (Ubuntu 24.04.3 LTS) / x86_64  OK    OK    OK  UNNEEDED, same version is already published
taishanLinux (openEuler 24.03 LTS) / aarch64  OK    OK    OK  
Package 62/217HostnameOS / ArchINSTALLBUILDCHECKBUILD BIN
dittoSeq 1.22.0  (landing page)
Daniel Bunis
git_last_commit: d79c5f2
git_last_commit_date: 2025-10-29 10:57:12 -0500
nebbiolo2Linux (Ubuntu 24.04.3 LTS) / x86_64  OK    OK    OK  UNNEEDED, same version is already published
taishanLinux (openEuler 24.03 LTS) / aarch64  OK    OK    OK  
Package 63/217HostnameOS / ArchINSTALLBUILDCHECKBUILD BIN
DOtools 1.0.0  (landing page)
Mariano Ruz Jurado
git_last_commit: 95a2404
git_last_commit_date: 2025-10-29 11:38:46 -0500
nebbiolo2Linux (Ubuntu 24.04.3 LTS) / x86_64  OK    ERROR  skipped
taishanLinux (openEuler 24.03 LTS) / aarch64  OK    OK    OK  
Package 64/217HostnameOS / ArchINSTALLBUILDCHECKBUILD BIN
dreamlet 1.8.0  (landing page)
Gabriel Hoffman
git_last_commit: 1eb467d
git_last_commit_date: 2025-10-29 11:25:03 -0500
nebbiolo2Linux (Ubuntu 24.04.3 LTS) / x86_64  OK    OK    OK  UNNEEDED, same version is already published
taishanLinux (openEuler 24.03 LTS) / aarch64  OK    OK    OK  
Package 65/217HostnameOS / ArchINSTALLBUILDCHECKBUILD BIN
DropletUtils 1.30.0  (landing page)
Jonathan Griffiths
git_last_commit: 6ef5eaa
git_last_commit_date: 2025-10-29 10:42:43 -0500
nebbiolo2Linux (Ubuntu 24.04.3 LTS) / x86_64  OK    OK    WARNINGS  UNNEEDED, same version is already published
taishanLinux (openEuler 24.03 LTS) / aarch64  OK    OK    WARNINGS  
Package 66/217HostnameOS / ArchINSTALLBUILDCHECKBUILD BIN
epiregulon 2.0.1  (landing page)
Xiaosai Yao
git_last_commit: 40293f7
git_last_commit_date: 2025-11-10 14:01:51 -0500
nebbiolo2Linux (Ubuntu 24.04.3 LTS) / x86_64  OK    OK    OK  YES
taishanLinux (openEuler 24.03 LTS) / aarch64  OK    OK    OK  
Package 67/217HostnameOS / ArchINSTALLBUILDCHECKBUILD BIN
epiregulon.extra 1.6.0  (landing page)
Xiaosai Yao
git_last_commit: d60eef8
git_last_commit_date: 2025-10-29 11:30:15 -0500
nebbiolo2Linux (Ubuntu 24.04.3 LTS) / x86_64  OK    OK    OK  UNNEEDED, same version is already published
taishanLinux (openEuler 24.03 LTS) / aarch64  OK    OK    OK  
Package 68/217HostnameOS / ArchINSTALLBUILDCHECKBUILD BIN
escheR 1.10.0  (landing page)
Boyi Guo
git_last_commit: 3f79e54
git_last_commit_date: 2025-10-29 11:22:13 -0500
nebbiolo2Linux (Ubuntu 24.04.3 LTS) / x86_64  OK    OK    OK  UNNEEDED, same version is already published
taishanLinux (openEuler 24.03 LTS) / aarch64  OK    OK    OK  
Package 69/217HostnameOS / ArchINSTALLBUILDCHECKBUILD BIN
EWCE 1.18.0  (landing page)
Hiranyamaya Dash
git_last_commit: 413c045
git_last_commit_date: 2025-10-29 11:08:07 -0500
nebbiolo2Linux (Ubuntu 24.04.3 LTS) / x86_64  OK    OK    OK  UNNEEDED, same version is already published
taishanLinux (openEuler 24.03 LTS) / aarch64  OK    OK    ERROR  
Package 70/217HostnameOS / ArchINSTALLBUILDCHECKBUILD BIN
ExperimentSubset 1.20.0  (landing page)
Irzam Sarfraz
git_last_commit: fe8c338
git_last_commit_date: 2025-10-29 11:03:30 -0500
nebbiolo2Linux (Ubuntu 24.04.3 LTS) / x86_64  OK    OK    OK  UNNEEDED, same version is already published
taishanLinux (openEuler 24.03 LTS) / aarch64  OK    OK    OK  
Package 71/217HostnameOS / ArchINSTALLBUILDCHECKBUILD BIN
FEAST 1.18.0  (landing page)
Kenong Su
git_last_commit: ebbe15f
git_last_commit_date: 2025-10-29 11:08:37 -0500
nebbiolo2Linux (Ubuntu 24.04.3 LTS) / x86_64  OK    OK    OK  UNNEEDED, same version is already published
taishanLinux (openEuler 24.03 LTS) / aarch64  OK    OK    OK  
Package 72/217HostnameOS / ArchINSTALLBUILDCHECKBUILD BIN
fishpond 2.16.0  (landing page)
Michael Love
git_last_commit: f6a8807
git_last_commit_date: 2025-10-29 10:50:10 -0500
nebbiolo2Linux (Ubuntu 24.04.3 LTS) / x86_64  OK    OK    OK  UNNEEDED, same version is already published
taishanLinux (openEuler 24.03 LTS) / aarch64  OK    OK    OK  
Package 73/217HostnameOS / ArchINSTALLBUILDCHECKBUILD BIN
FLAMES 2.4.1  (landing page)
Changqing Wang
git_last_commit: 41bbd55
git_last_commit_date: 2025-10-31 01:50:56 -0500
nebbiolo2Linux (Ubuntu 24.04.3 LTS) / x86_64  OK    OK    OK  UNNEEDED, same version is already published
taishanLinux (openEuler 24.03 LTS) / aarch64  ERROR    ERROR  skipped
Package 74/217HostnameOS / ArchINSTALLBUILDCHECKBUILD BIN
ggsc 1.8.0  (landing page)
Guangchuang Yu
git_last_commit: 8d55cf2
git_last_commit_date: 2025-10-29 11:26:02 -0500
nebbiolo2Linux (Ubuntu 24.04.3 LTS) / x86_64  OK    OK    OK  UNNEEDED, same version is already published
taishanLinux (openEuler 24.03 LTS) / aarch64  OK    OK    OK  
Package 75/217HostnameOS / ArchINSTALLBUILDCHECKBUILD BIN
ggspavis 1.16.0  (landing page)
Lukas M. Weber
git_last_commit: 9ea2f70
git_last_commit_date: 2025-10-29 11:11:33 -0500
nebbiolo2Linux (Ubuntu 24.04.3 LTS) / x86_64  OK    OK    OK  UNNEEDED, same version is already published
taishanLinux (openEuler 24.03 LTS) / aarch64  OK    ERROR  skipped
Package 76/217HostnameOS / ArchINSTALLBUILDCHECKBUILD BIN
glmGamPoi 1.22.0  (landing page)
Constantin Ahlmann-Eltze
git_last_commit: 908cde9
git_last_commit_date: 2025-10-29 10:58:15 -0500
nebbiolo2Linux (Ubuntu 24.04.3 LTS) / x86_64  OK    OK    WARNINGS  UNNEEDED, same version is already published
taishanLinux (openEuler 24.03 LTS) / aarch64  OK    OK    WARNINGS  
Package 77/217HostnameOS / ArchINSTALLBUILDCHECKBUILD BIN
GloScope 2.0.0  (landing page)
William Torous
git_last_commit: 81cd950
git_last_commit_date: 2025-10-29 11:25:16 -0500
nebbiolo2Linux (Ubuntu 24.04.3 LTS) / x86_64  OK    OK    ERROR  
taishanLinux (openEuler 24.03 LTS) / aarch64  OK    OK    ERROR  
Package 78/217HostnameOS / ArchINSTALLBUILDCHECKBUILD BIN
GSVA 2.4.1  (landing page)
Robert Castelo
git_last_commit: 441c638
git_last_commit_date: 2025-11-05 07:26:13 -0500
nebbiolo2Linux (Ubuntu 24.04.3 LTS) / x86_64  OK    OK    OK  UNNEEDED, same version is already published
taishanLinux (openEuler 24.03 LTS) / aarch64  OK    OK    OK  
Package 79/217HostnameOS / ArchINSTALLBUILDCHECKBUILD BIN
HIPPO 1.22.0  (landing page)
Tae Kim
git_last_commit: d76a6fb
git_last_commit_date: 2025-10-29 10:57:56 -0500
nebbiolo2Linux (Ubuntu 24.04.3 LTS) / x86_64  OK    OK    OK  UNNEEDED, same version is already published
taishanLinux (openEuler 24.03 LTS) / aarch64  OK    OK    OK  
Package 80/217HostnameOS / ArchINSTALLBUILDCHECKBUILD BIN
Ibex 1.0.0  (landing page)
Nick Borcherding
git_last_commit: 92396da
git_last_commit_date: 2025-10-29 11:38:26 -0500
nebbiolo2Linux (Ubuntu 24.04.3 LTS) / x86_64  OK    OK    OK  UNNEEDED, same version is already published
taishanLinux (openEuler 24.03 LTS) / aarch64  OK    OK    OK  
Package 81/217HostnameOS / ArchINSTALLBUILDCHECKBUILD BIN
ILoReg 1.20.0  (landing page)
Johannes Smolander
git_last_commit: 50b509c
git_last_commit_date: 2025-10-29 11:00:58 -0500
nebbiolo2Linux (Ubuntu 24.04.3 LTS) / x86_64  OK    OK    WARNINGS  UNNEEDED, same version is already published
taishanLinux (openEuler 24.03 LTS) / aarch64  OK    ERROR  skipped
Package 82/217HostnameOS / ArchINSTALLBUILDCHECKBUILD BIN
imcRtools 1.16.0  (landing page)
Daniel Schulz
git_last_commit: 13fa3df
git_last_commit_date: 2025-10-29 11:12:28 -0500
nebbiolo2Linux (Ubuntu 24.04.3 LTS) / x86_64  OK    OK    OK  UNNEEDED, same version is already published
taishanLinux (openEuler 24.03 LTS) / aarch64  OK    OK    OK  
Package 83/217HostnameOS / ArchINSTALLBUILDCHECKBUILD BIN
immApex 1.4.0  (landing page)
Nick Borcherding
git_last_commit: b2a3afb
git_last_commit_date: 2025-10-29 11:32:52 -0500
nebbiolo2Linux (Ubuntu 24.04.3 LTS) / x86_64  OK    OK    OK  UNNEEDED, same version is already published
taishanLinux (openEuler 24.03 LTS) / aarch64  OK    OK    OK  
Package 84/217HostnameOS / ArchINSTALLBUILDCHECKBUILD BIN
infercnv 1.26.0  (landing page)
Christophe Georgescu
git_last_commit: 334e1db
git_last_commit_date: 2025-10-29 10:52:07 -0500
nebbiolo2Linux (Ubuntu 24.04.3 LTS) / x86_64  OK    OK    OK  UNNEEDED, same version is already published
taishanLinux (openEuler 24.03 LTS) / aarch64  ERROR    ERROR  skipped
Package 85/217HostnameOS / ArchINSTALLBUILDCHECKBUILD BIN
iSEE 2.22.0  (landing page)
Kevin Rue-Albrecht
git_last_commit: 3931647
git_last_commit_date: 2025-10-29 10:43:55 -0500
nebbiolo2Linux (Ubuntu 24.04.3 LTS) / x86_64  OK    OK    OK  UNNEEDED, same version is already published
taishanLinux (openEuler 24.03 LTS) / aarch64  OK    OK    OK  
Package 86/217HostnameOS / ArchINSTALLBUILDCHECKBUILD BIN
iSEEfier 1.6.0  (landing page)
Najla Abassi
git_last_commit: 164f3c4
git_last_commit_date: 2025-10-29 11:29:10 -0500
nebbiolo2Linux (Ubuntu 24.04.3 LTS) / x86_64  OK    OK    OK  UNNEEDED, same version is already published
taishanLinux (openEuler 24.03 LTS) / aarch64  OK    OK    OK  
Package 87/217HostnameOS / ArchINSTALLBUILDCHECKBUILD BIN
iSEEhub 1.12.0  (landing page)
Kevin Rue-Albrecht
git_last_commit: b3f4559
git_last_commit_date: 2025-10-29 11:18:40 -0500
nebbiolo2Linux (Ubuntu 24.04.3 LTS) / x86_64  OK    OK    OK  UNNEEDED, same version is already published
taishanLinux (openEuler 24.03 LTS) / aarch64  OK    OK    OK  
Package 88/217HostnameOS / ArchINSTALLBUILDCHECKBUILD BIN
iSEEindex 1.8.0  (landing page)
Kevin Rue-Albrecht
git_last_commit: 2160c20
git_last_commit_date: 2025-10-29 11:23:59 -0500
nebbiolo2Linux (Ubuntu 24.04.3 LTS) / x86_64  OK    OK    OK  UNNEEDED, same version is already published
taishanLinux (openEuler 24.03 LTS) / aarch64  OK    OK    OK  
Package 89/217HostnameOS / ArchINSTALLBUILDCHECKBUILD BIN
iSEEtree 1.4.0  (landing page)
Giulio Benedetti
git_last_commit: 6f3f93e
git_last_commit_date: 2025-10-29 11:31:13 -0500
nebbiolo2Linux (Ubuntu 24.04.3 LTS) / x86_64  OK    OK    OK  UNNEEDED, same version is already published
taishanLinux (openEuler 24.03 LTS) / aarch64  OK    OK    OK  
Package 90/217HostnameOS / ArchINSTALLBUILDCHECKBUILD BIN
iSEEu 1.22.0  (landing page)
Kevin Rue-Albrecht
git_last_commit: 9b9f27f
git_last_commit_date: 2025-10-29 10:58:30 -0500
nebbiolo2Linux (Ubuntu 24.04.3 LTS) / x86_64  OK    OK    WARNINGS  UNNEEDED, same version is already published
taishanLinux (openEuler 24.03 LTS) / aarch64  OK    OK    WARNINGS  
Package 91/217HostnameOS / ArchINSTALLBUILDCHECKBUILD BIN
lemur 1.8.0  (landing page)
Constantin Ahlmann-Eltze
git_last_commit: c361bc9
git_last_commit_date: 2025-10-29 11:26:19 -0500
nebbiolo2Linux (Ubuntu 24.04.3 LTS) / x86_64  OK    OK    WARNINGS  UNNEEDED, same version is already published
taishanLinux (openEuler 24.03 LTS) / aarch64  OK    OK    WARNINGS  
Package 92/217HostnameOS / ArchINSTALLBUILDCHECKBUILD BIN
lisaClust 1.18.0  (landing page)
Ellis Patrick
git_last_commit: 8ecd502
git_last_commit_date: 2025-10-29 11:06:59 -0500
nebbiolo2Linux (Ubuntu 24.04.3 LTS) / x86_64  OK    OK    OK  UNNEEDED, same version is already published
taishanLinux (openEuler 24.03 LTS) / aarch64  OK    OK    OK  
Package 93/217HostnameOS / ArchINSTALLBUILDCHECKBUILD BIN
looking4clusters 1.0.0  (landing page)
David Barrios
git_last_commit: 8c0f82c
git_last_commit_date: 2025-10-29 11:38:18 -0500
nebbiolo2Linux (Ubuntu 24.04.3 LTS) / x86_64  OK    OK    OK  UNNEEDED, same version is already published
taishanLinux (openEuler 24.03 LTS) / aarch64  OK    ERROR  skipped
Package 94/217HostnameOS / ArchINSTALLBUILDCHECKBUILD BIN
LoomExperiment 1.28.0  (landing page)
Bioconductor Package Maintainer
git_last_commit: 4b227ef
git_last_commit_date: 2025-10-29 10:48:53 -0500
nebbiolo2Linux (Ubuntu 24.04.3 LTS) / x86_64  OK    OK    OK  UNNEEDED, same version is already published
taishanLinux (openEuler 24.03 LTS) / aarch64  OK    OK    OK  
Package 95/217HostnameOS / ArchINSTALLBUILDCHECKBUILD BIN
lute 1.6.0  (landing page)
Sean K Maden
git_last_commit: f5f9084
git_last_commit_date: 2025-10-29 11:26:37 -0500
nebbiolo2Linux (Ubuntu 24.04.3 LTS) / x86_64  OK    OK    ERROR  
taishanLinux (openEuler 24.03 LTS) / aarch64  OK    OK    OK  
Package 96/217HostnameOS / ArchINSTALLBUILDCHECKBUILD BIN
MAST 1.36.0  (landing page)
Andrew McDavid
git_last_commit: be35999
git_last_commit_date: 2025-10-29 10:34:54 -0500
nebbiolo2Linux (Ubuntu 24.04.3 LTS) / x86_64  OK    OK    OK  UNNEEDED, same version is already published
taishanLinux (openEuler 24.03 LTS) / aarch64  OK    OK    OK  
Package 97/217HostnameOS / ArchINSTALLBUILDCHECKBUILD BIN
mastR 1.10.0  (landing page)
Jinjin Chen
git_last_commit: 2cd82fb
git_last_commit_date: 2025-10-29 11:22:48 -0500
nebbiolo2Linux (Ubuntu 24.04.3 LTS) / x86_64  OK    OK    OK  UNNEEDED, same version is already published
taishanLinux (openEuler 24.03 LTS) / aarch64  OK    TIMEOUT  skipped
Package 98/217HostnameOS / ArchINSTALLBUILDCHECKBUILD BIN
mbkmeans 1.26.0  (landing page)
Davide Risso
git_last_commit: 4dc9338
git_last_commit_date: 2025-10-29 10:51:15 -0500
nebbiolo2Linux (Ubuntu 24.04.3 LTS) / x86_64  OK    OK    OK  UNNEEDED, same version is already published
taishanLinux (openEuler 24.03 LTS) / aarch64  OK    OK    OK  
Package 99/217HostnameOS / ArchINSTALLBUILDCHECKBUILD BIN
MEB 1.24.0  (landing page)
Jiadi Zhu
git_last_commit: 75bb07c
git_last_commit_date: 2025-10-29 10:54:34 -0500
nebbiolo2Linux (Ubuntu 24.04.3 LTS) / x86_64  OK    OK    OK  UNNEEDED, same version is already published
taishanLinux (openEuler 24.03 LTS) / aarch64  OK    OK    OK  
Package 100/217HostnameOS / ArchINSTALLBUILDCHECKBUILD BIN
MetaNeighbor 1.30.0  (landing page)
Stephan Fischer
git_last_commit: 294c0f5
git_last_commit_date: 2025-10-29 10:42:30 -0500
nebbiolo2Linux (Ubuntu 24.04.3 LTS) / x86_64  OK    OK    ERROR  
taishanLinux (openEuler 24.03 LTS) / aarch64  OK    OK    ERROR  
Package 101/217HostnameOS / ArchINSTALLBUILDCHECKBUILD BIN
mia 1.18.0  (landing page)
Tuomas Borman
git_last_commit: ad28035
git_last_commit_date: 2025-10-29 11:07:20 -0500
nebbiolo2Linux (Ubuntu 24.04.3 LTS) / x86_64  OK    OK    OK  UNNEEDED, same version is already published
taishanLinux (openEuler 24.03 LTS) / aarch64  OK    OK    TIMEOUT  
Package 102/217HostnameOS / ArchINSTALLBUILDCHECKBUILD BIN
miaDash 1.2.0  (landing page)
Giulio Benedetti
git_last_commit: b230dcf
git_last_commit_date: 2025-10-29 11:35:29 -0500
nebbiolo2Linux (Ubuntu 24.04.3 LTS) / x86_64  OK    OK    OK  UNNEEDED, same version is already published
taishanLinux (openEuler 24.03 LTS) / aarch64  OK    OK    OK  
Package 103/217HostnameOS / ArchINSTALLBUILDCHECKBUILD BIN
miaTime 1.0.0  (landing page)
Tuomas Borman
git_last_commit: 26f2a82
git_last_commit_date: 2025-10-29 11:37:15 -0500
nebbiolo2Linux (Ubuntu 24.04.3 LTS) / x86_64  OK    OK    OK  UNNEEDED, same version is already published
taishanLinux (openEuler 24.03 LTS) / aarch64  OK    OK    OK  
Package 104/217HostnameOS / ArchINSTALLBUILDCHECKBUILD BIN
miaViz 1.18.0  (landing page)
Tuomas Borman
git_last_commit: 3d494da
git_last_commit_date: 2025-10-29 11:07:33 -0500
nebbiolo2Linux (Ubuntu 24.04.3 LTS) / x86_64  OK    OK    OK  UNNEEDED, same version is already published
taishanLinux (openEuler 24.03 LTS) / aarch64  OK    OK    OK  
Package 105/217HostnameOS / ArchINSTALLBUILDCHECKBUILD BIN
miloR 2.6.0  (landing page)
Mike Morgan
git_last_commit: 374663b
git_last_commit_date: 2025-10-29 11:08:58 -0500
nebbiolo2Linux (Ubuntu 24.04.3 LTS) / x86_64  OK    OK    OK  UNNEEDED, same version is already published
taishanLinux (openEuler 24.03 LTS) / aarch64  OK    ERROR  skipped
Package 106/217HostnameOS / ArchINSTALLBUILDCHECKBUILD BIN
miQC 1.18.0  (landing page)
Ariel Hippen
git_last_commit: 3ec5429
git_last_commit_date: 2025-10-29 11:06:48 -0500
nebbiolo2Linux (Ubuntu 24.04.3 LTS) / x86_64  OK    OK    OK  UNNEEDED, same version is already published
taishanLinux (openEuler 24.03 LTS) / aarch64  OK    OK    OK  
Package 107/217HostnameOS / ArchINSTALLBUILDCHECKBUILD BIN
mist 1.2.0  (landing page)
Daoyu Duan
git_last_commit: 2a8026a
git_last_commit_date: 2025-10-29 11:33:35 -0500
nebbiolo2Linux (Ubuntu 24.04.3 LTS) / x86_64  OK    OK    WARNINGS  UNNEEDED, same version is already published
taishanLinux (openEuler 24.03 LTS) / aarch64  OK    OK    WARNINGS  
Package 108/217HostnameOS / ArchINSTALLBUILDCHECKBUILD BIN
MPAC 1.4.0  (landing page)
Peng Liu
git_last_commit: 778e22d
git_last_commit_date: 2025-10-29 11:30:37 -0500
nebbiolo2Linux (Ubuntu 24.04.3 LTS) / x86_64  OK    OK    OK  UNNEEDED, same version is already published
taishanLinux (openEuler 24.03 LTS) / aarch64  OK    OK    OK  
Package 109/217HostnameOS / ArchINSTALLBUILDCHECKBUILD BIN
MuData 1.14.0  (landing page)
Ilia Kats
git_last_commit: b15275d
git_last_commit_date: 2025-10-29 11:15:11 -0500
nebbiolo2Linux (Ubuntu 24.04.3 LTS) / x86_64  OK    OK    OK  UNNEEDED, same version is already published
taishanLinux (openEuler 24.03 LTS) / aarch64  OK    OK    OK  
Package 110/217HostnameOS / ArchINSTALLBUILDCHECKBUILD BIN
mumosa 1.18.0  (landing page)
Aaron Lun
git_last_commit: 18e57eb
git_last_commit_date: 2025-10-29 11:05:15 -0500
nebbiolo2Linux (Ubuntu 24.04.3 LTS) / x86_64  OK    OK    OK  UNNEEDED, same version is already published
taishanLinux (openEuler 24.03 LTS) / aarch64  OK    OK    OK  
Package 111/217HostnameOS / ArchINSTALLBUILDCHECKBUILD BIN
muscat 1.24.0  (landing page)
Helena L. Crowell
git_last_commit: a6749ec
git_last_commit_date: 2025-10-29 10:53:55 -0500
nebbiolo2Linux (Ubuntu 24.04.3 LTS) / x86_64  OK    OK    OK  UNNEEDED, same version is already published
taishanLinux (openEuler 24.03 LTS) / aarch64  OK    OK    OK  
Package 112/217HostnameOS / ArchINSTALLBUILDCHECKBUILD BIN
Nebulosa 1.20.0  (landing page)
Jose Alquicira-Hernandez
git_last_commit: 561343b
git_last_commit_date: 2025-10-29 11:01:25 -0500
nebbiolo2Linux (Ubuntu 24.04.3 LTS) / x86_64  OK    OK    OK  UNNEEDED, same version is already published
taishanLinux (openEuler 24.03 LTS) / aarch64  OK    OK    OK  
Package 113/217HostnameOS / ArchINSTALLBUILDCHECKBUILD BIN
netSmooth 1.30.0  (landing page)
Jonathan Ronen
git_last_commit: e53eba9
git_last_commit_date: 2025-10-29 10:45:19 -0500
nebbiolo2Linux (Ubuntu 24.04.3 LTS) / x86_64  OK    OK    OK  UNNEEDED, same version is already published
taishanLinux (openEuler 24.03 LTS) / aarch64  OK    OK    OK  
Package 114/217HostnameOS / ArchINSTALLBUILDCHECKBUILD BIN
NewWave 1.20.0  (landing page)
Federico Agostinis
git_last_commit: abfdb4d
git_last_commit_date: 2025-10-29 11:04:34 -0500
nebbiolo2Linux (Ubuntu 24.04.3 LTS) / x86_64  OK    OK    OK  UNNEEDED, same version is already published
taishanLinux (openEuler 24.03 LTS) / aarch64  OK    OK    OK  
Package 115/217HostnameOS / ArchINSTALLBUILDCHECKBUILD BIN
nnSVG 1.14.0  (landing page)
Lukas M. Weber
git_last_commit: f7af058
git_last_commit_date: 2025-10-29 11:15:43 -0500
nebbiolo2Linux (Ubuntu 24.04.3 LTS) / x86_64  OK    OK    OK  UNNEEDED, same version is already published
taishanLinux (openEuler 24.03 LTS) / aarch64  OK    OK    OK  
Package 116/217HostnameOS / ArchINSTALLBUILDCHECKBUILD BIN
omicsGMF 1.0.0  (landing page)
Alexandre Segers
git_last_commit: 665af6c
git_last_commit_date: 2025-10-29 11:39:15 -0500
nebbiolo2Linux (Ubuntu 24.04.3 LTS) / x86_64  OK    OK    OK  UNNEEDED, same version is already published
taishanLinux (openEuler 24.03 LTS) / aarch64  OK    OK    OK  
Package 117/217HostnameOS / ArchINSTALLBUILDCHECKBUILD BIN
partCNV 1.8.0  (landing page)
Ziyi Li
git_last_commit: d29e8a0
git_last_commit_date: 2025-10-29 11:23:33 -0500
nebbiolo2Linux (Ubuntu 24.04.3 LTS) / x86_64  OK    OK    OK  UNNEEDED, same version is already published
taishanLinux (openEuler 24.03 LTS) / aarch64  OK    OK    OK  
Package 118/217HostnameOS / ArchINSTALLBUILDCHECKBUILD BIN
peco 1.22.0  (landing page)
Chiaowen Joyce Hsiao
git_last_commit: a69498c
git_last_commit_date: 2025-10-29 10:58:02 -0500
nebbiolo2Linux (Ubuntu 24.04.3 LTS) / x86_64  OK    OK    OK  UNNEEDED, same version is already published
taishanLinux (openEuler 24.03 LTS) / aarch64  OK    OK    OK  
Package 119/217HostnameOS / ArchINSTALLBUILDCHECKBUILD BIN
pipeComp 1.20.0  (landing page)
Pierre-Luc Germain
git_last_commit: e37c3d3
git_last_commit_date: 2025-10-29 11:00:19 -0500
nebbiolo2Linux (Ubuntu 24.04.3 LTS) / x86_64  OK    OK    OK  UNNEEDED, same version is already published
taishanLinux (openEuler 24.03 LTS) / aarch64  OK    OK    OK  
Package 120/217HostnameOS / ArchINSTALLBUILDCHECKBUILD BIN
POWSC 1.18.0  (landing page)
Kenong Su
git_last_commit: 8098daa
git_last_commit_date: 2025-10-29 11:09:11 -0500
nebbiolo2Linux (Ubuntu 24.04.3 LTS) / x86_64  OK    OK    OK  UNNEEDED, same version is already published
taishanLinux (openEuler 24.03 LTS) / aarch64  OK    OK    OK  
Package 121/217HostnameOS / ArchINSTALLBUILDCHECKBUILD BIN
projectR 1.26.0  (landing page)
Genevieve Stein-O'Brien
git_last_commit: 8ac1c21
git_last_commit_date: 2025-10-29 10:50:52 -0500
nebbiolo2Linux (Ubuntu 24.04.3 LTS) / x86_64  OK    OK    OK  UNNEEDED, same version is already published
taishanLinux (openEuler 24.03 LTS) / aarch64  OK    OK    OK  
Package 122/217HostnameOS / ArchINSTALLBUILDCHECKBUILD BIN
raer 1.8.0  (landing page)
Kent Riemondy
git_last_commit: 1e83c0c
git_last_commit_date: 2025-10-29 11:26:05 -0500
nebbiolo2Linux (Ubuntu 24.04.3 LTS) / x86_64  OK    OK    OK  UNNEEDED, same version is already published
taishanLinux (openEuler 24.03 LTS) / aarch64  OK    ERROR  skipped
Package 123/217HostnameOS / ArchINSTALLBUILDCHECKBUILD BIN
RCSL 1.18.0  (landing page)
Qinglin Mei
git_last_commit: 98e4992
git_last_commit_date: 2025-10-29 11:10:06 -0500
nebbiolo2Linux (Ubuntu 24.04.3 LTS) / x86_64  OK    OK    OK  UNNEEDED, same version is already published
taishanLinux (openEuler 24.03 LTS) / aarch64  OK    OK    OK  
Package 124/217HostnameOS / ArchINSTALLBUILDCHECKBUILD BIN
RegionalST 1.8.0  (landing page)
Ziyi Li
git_last_commit: d77f4d3
git_last_commit_date: 2025-10-29 11:24:31 -0500
nebbiolo2Linux (Ubuntu 24.04.3 LTS) / x86_64  OK    OK    OK  UNNEEDED, same version is already published
taishanLinux (openEuler 24.03 LTS) / aarch64  OK    OK    OK  
Package 125/217HostnameOS / ArchINSTALLBUILDCHECKBUILD BIN
RUCova 1.2.0  (landing page)
Rosario Astaburuaga-García
git_last_commit: 2102db2
git_last_commit_date: 2025-10-29 11:35:49 -0500
nebbiolo2Linux (Ubuntu 24.04.3 LTS) / x86_64  OK    OK    OK  UNNEEDED, same version is already published
taishanLinux (openEuler 24.03 LTS) / aarch64  OK    OK    OK  
Package 126/217HostnameOS / ArchINSTALLBUILDCHECKBUILD BIN
SanityR 1.0.0  (landing page)
Teo Sakel
git_last_commit: c64a735
git_last_commit_date: 2025-10-29 11:37:07 -0500
nebbiolo2Linux (Ubuntu 24.04.3 LTS) / x86_64  OK    OK    OK  UNNEEDED, same version is already published
taishanLinux (openEuler 24.03 LTS) / aarch64  OK    OK    OK  
Package 127/217HostnameOS / ArchINSTALLBUILDCHECKBUILD BIN
SC3 1.38.0  (landing page)
Vladimir Kiselev
git_last_commit: a9abb4a
git_last_commit_date: 2025-10-29 10:29:27 -0500
nebbiolo2Linux (Ubuntu 24.04.3 LTS) / x86_64  OK    OK    OK  UNNEEDED, same version is already published
taishanLinux (openEuler 24.03 LTS) / aarch64  OK    OK    OK  
Package 128/217HostnameOS / ArchINSTALLBUILDCHECKBUILD BIN
scafari 1.0.0  (landing page)
Sophie Wind
git_last_commit: 31af230
git_last_commit_date: 2025-10-29 11:36:58 -0500
nebbiolo2Linux (Ubuntu 24.04.3 LTS) / x86_64  OK    OK    OK  UNNEEDED, same version is already published
taishanLinux (openEuler 24.03 LTS) / aarch64  OK    OK    OK  
Package 129/217HostnameOS / ArchINSTALLBUILDCHECKBUILD BIN
scAnnotatR 1.16.0  (landing page)
Johannes Griss
git_last_commit: ebbbfcb
git_last_commit_date: 2025-10-29 11:11:54 -0500
nebbiolo2Linux (Ubuntu 24.04.3 LTS) / x86_64  OK    OK    WARNINGS  UNNEEDED, same version is already published
taishanLinux (openEuler 24.03 LTS) / aarch64  OK    OK    WARNINGS  
Package 130/217HostnameOS / ArchINSTALLBUILDCHECKBUILD BIN
SCArray 1.18.0  (landing page)
Xiuwen Zheng
git_last_commit: f7d874a
git_last_commit_date: 2025-10-29 11:05:31 -0500
nebbiolo2Linux (Ubuntu 24.04.3 LTS) / x86_64  OK    OK    OK  UNNEEDED, same version is already published
taishanLinux (openEuler 24.03 LTS) / aarch64  OK    OK    OK  
Package 131/217HostnameOS / ArchINSTALLBUILDCHECKBUILD BIN
scater 1.38.0  (landing page)
Alan O'Callaghan
git_last_commit: 64e2b5e
git_last_commit_date: 2025-10-29 10:30:01 -0500
nebbiolo2Linux (Ubuntu 24.04.3 LTS) / x86_64  OK    OK    OK  UNNEEDED, same version is already published
taishanLinux (openEuler 24.03 LTS) / aarch64  OK    OK    OK  
Package 132/217HostnameOS / ArchINSTALLBUILDCHECKBUILD BIN
scBFA 1.24.0  (landing page)
Ruoxin Li
git_last_commit: f8bf5ba
git_last_commit_date: 2025-10-29 10:53:24 -0500
nebbiolo2Linux (Ubuntu 24.04.3 LTS) / x86_64  OK    OK    OK  UNNEEDED, same version is already published
taishanLinux (openEuler 24.03 LTS) / aarch64  OK    OK    OK  
Package 133/217HostnameOS / ArchINSTALLBUILDCHECKBUILD BIN
scCB2 1.20.0  (landing page)
Zijian Ni
git_last_commit: 16b341e
git_last_commit_date: 2025-10-29 11:00:33 -0500
nebbiolo2Linux (Ubuntu 24.04.3 LTS) / x86_64  OK    OK    OK  UNNEEDED, same version is already published
taishanLinux (openEuler 24.03 LTS) / aarch64  OK    OK    OK  
Package 134/217HostnameOS / ArchINSTALLBUILDCHECKBUILD BIN
sccomp 2.2.0  (landing page)
Stefano Mangiola
git_last_commit: a805110
git_last_commit_date: 2025-10-29 11:13:54 -0500
nebbiolo2Linux (Ubuntu 24.04.3 LTS) / x86_64  OK    OK    OK  UNNEEDED, same version is already published
taishanLinux (openEuler 24.03 LTS) / aarch64  OK    OK    OK  
Package 135/217HostnameOS / ArchINSTALLBUILDCHECKBUILD BIN
scDataviz 1.20.0  (landing page)
Kevin Blighe
git_last_commit: 6f0efdb
git_last_commit_date: 2025-10-29 11:00:46 -0500
nebbiolo2Linux (Ubuntu 24.04.3 LTS) / x86_64  OK    OK    OK  UNNEEDED, same version is already published
taishanLinux (openEuler 24.03 LTS) / aarch64  OK    OK    OK  
Package 136/217HostnameOS / ArchINSTALLBUILDCHECKBUILD BIN
scDblFinder 1.24.0  (landing page)
Pierre-Luc Germain
git_last_commit: 0336756
git_last_commit_date: 2025-10-29 10:55:23 -0500
nebbiolo2Linux (Ubuntu 24.04.3 LTS) / x86_64  OK    OK    OK  UNNEEDED, same version is already published
taishanLinux (openEuler 24.03 LTS) / aarch64  OK    OK    OK  
Package 137/217HostnameOS / ArchINSTALLBUILDCHECKBUILD BIN
scDD 1.34.0  (landing page)
Keegan Korthauer
git_last_commit: 924aec4
git_last_commit_date: 2025-10-29 10:36:02 -0500
nebbiolo2Linux (Ubuntu 24.04.3 LTS) / x86_64  OK    OK    OK  UNNEEDED, same version is already published
taishanLinux (openEuler 24.03 LTS) / aarch64  OK    OK    OK  
Package 138/217HostnameOS / ArchINSTALLBUILDCHECKBUILD BIN
scDDboost 1.12.0  (landing page)
Xiuyu Ma
git_last_commit: 2aff65c
git_last_commit_date: 2025-10-29 11:17:12 -0500
nebbiolo2Linux (Ubuntu 24.04.3 LTS) / x86_64  OK    OK    OK  UNNEEDED, same version is already published
taishanLinux (openEuler 24.03 LTS) / aarch64  OK    OK    WARNINGS  
Package 139/217HostnameOS / ArchINSTALLBUILDCHECKBUILD BIN
scDesign3 1.8.0  (landing page)
Dongyuan Song
git_last_commit: 47185c0
git_last_commit_date: 2025-10-29 11:26:29 -0500
nebbiolo2Linux (Ubuntu 24.04.3 LTS) / x86_64  OK    OK    OK  UNNEEDED, same version is already published
taishanLinux (openEuler 24.03 LTS) / aarch64  OK    OK    OK  
Package 140/217HostnameOS / ArchINSTALLBUILDCHECKBUILD BIN
scDiagnostics 1.4.0  (landing page)
Anthony Christidis
git_last_commit: 7dca061
git_last_commit_date: 2025-10-29 11:31:45 -0500
nebbiolo2Linux (Ubuntu 24.04.3 LTS) / x86_64  OK    OK    OK  UNNEEDED, same version is already published
taishanLinux (openEuler 24.03 LTS) / aarch64  OK    OK    OK  
Package 141/217HostnameOS / ArchINSTALLBUILDCHECKBUILD BIN
scDotPlot 1.4.0  (landing page)
Benjamin I Laufer
git_last_commit: 7ef0aa1
git_last_commit_date: 2025-10-29 11:30:47 -0500
nebbiolo2Linux (Ubuntu 24.04.3 LTS) / x86_64  OK    OK    OK  UNNEEDED, same version is already published
taishanLinux (openEuler 24.03 LTS) / aarch64  OK    OK    OK  
Package 142/217HostnameOS / ArchINSTALLBUILDCHECKBUILD BIN
scds 1.26.0  (landing page)
Dennis Kostka
git_last_commit: 9b35025
git_last_commit_date: 2025-10-29 10:50:18 -0500
nebbiolo2Linux (Ubuntu 24.04.3 LTS) / x86_64  OK    OK    OK  UNNEEDED, same version is already published
taishanLinux (openEuler 24.03 LTS) / aarch64  OK    OK    OK  
Package 143/217HostnameOS / ArchINSTALLBUILDCHECKBUILD BIN
scGPS 1.24.0  (landing page)
Quan Nguyen
git_last_commit: 2fe6e8f
git_last_commit_date: 2025-10-29 10:53:11 -0500
nebbiolo2Linux (Ubuntu 24.04.3 LTS) / x86_64  OK    OK    OK  UNNEEDED, same version is already published
taishanLinux (openEuler 24.03 LTS) / aarch64  OK    ERROR  skipped
Package 144/217HostnameOS / ArchINSTALLBUILDCHECKBUILD BIN
scGraphVerse 1.0.0  (landing page)
Francesco Cecere
git_last_commit: 425f2dc
git_last_commit_date: 2025-10-29 11:38:49 -0500
nebbiolo2Linux (Ubuntu 24.04.3 LTS) / x86_64  OK    OK    OK  UNNEEDED, same version is already published
taishanLinux (openEuler 24.03 LTS) / aarch64  OK    OK    OK  
Package 145/217HostnameOS / ArchINSTALLBUILDCHECKBUILD BIN
schex 1.24.0  (landing page)
Saskia Freytag
git_last_commit: 6cbe3a6
git_last_commit_date: 2025-10-29 10:55:11 -0500
nebbiolo2Linux (Ubuntu 24.04.3 LTS) / x86_64  OK    OK    OK  UNNEEDED, same version is already published
taishanLinux (openEuler 24.03 LTS) / aarch64  OK    OK    OK  
Package 146/217HostnameOS / ArchINSTALLBUILDCHECKBUILD BIN
scHOT 1.22.0  (landing page)
Shila Ghazanfar
git_last_commit: a61146b
git_last_commit_date: 2025-10-29 10:58:22 -0500
nebbiolo2Linux (Ubuntu 24.04.3 LTS) / x86_64  OK    OK    OK  UNNEEDED, same version is already published
taishanLinux (openEuler 24.03 LTS) / aarch64  OK    OK    OK  
Package 147/217HostnameOS / ArchINSTALLBUILDCHECKBUILD BIN
scider 1.8.0  (landing page)
Yunshun Chen
git_last_commit: 2a5b6a6
git_last_commit_date: 2025-10-29 11:26:16 -0500
nebbiolo2Linux (Ubuntu 24.04.3 LTS) / x86_64  OK    OK    OK  UNNEEDED, same version is already published
taishanLinux (openEuler 24.03 LTS) / aarch64  OK    OK    OK  
Package 148/217HostnameOS / ArchINSTALLBUILDCHECKBUILD BIN
scmap 1.32.0  (landing page)
Vladimir Kiselev
git_last_commit: 8fee1fc
git_last_commit_date: 2025-10-29 10:39:19 -0500
nebbiolo2Linux (Ubuntu 24.04.3 LTS) / x86_64  OK    OK    OK  UNNEEDED, same version is already published
taishanLinux (openEuler 24.03 LTS) / aarch64  OK    OK    OK  
Package 149/217HostnameOS / ArchINSTALLBUILDCHECKBUILD BIN
scMerge 1.26.0  (landing page)
Yingxin Lin
git_last_commit: d9249c9
git_last_commit_date: 2025-10-29 10:51:54 -0500
nebbiolo2Linux (Ubuntu 24.04.3 LTS) / x86_64  OK    OK    OK  UNNEEDED, same version is already published
taishanLinux (openEuler 24.03 LTS) / aarch64  OK    ERROR  skipped
Package 150/217HostnameOS / ArchINSTALLBUILDCHECKBUILD BIN
scMET 1.12.0  (landing page)
Andreas C. Kapourani
git_last_commit: df8d5cb
git_last_commit_date: 2025-10-29 11:17:57 -0500
nebbiolo2Linux (Ubuntu 24.04.3 LTS) / x86_64  OK    OK    OK  UNNEEDED, same version is already published
taishanLinux (openEuler 24.03 LTS) / aarch64  OK    OK    WARNINGS  
Package 151/217HostnameOS / ArchINSTALLBUILDCHECKBUILD BIN
SCnorm 1.32.0  (landing page)
Rhonda Bacher
git_last_commit: e86e3a7
git_last_commit_date: 2025-10-29 10:39:47 -0500
nebbiolo2Linux (Ubuntu 24.04.3 LTS) / x86_64  OK    OK    OK  UNNEEDED, same version is already published
taishanLinux (openEuler 24.03 LTS) / aarch64  OK    OK    OK  
Package 152/217HostnameOS / ArchINSTALLBUILDCHECKBUILD BIN
scone 1.34.0  (landing page)
Davide Risso
git_last_commit: a2184ae
git_last_commit_date: 2025-10-29 10:36:05 -0500
nebbiolo2Linux (Ubuntu 24.04.3 LTS) / x86_64  OK    OK    OK  UNNEEDED, same version is already published
taishanLinux (openEuler 24.03 LTS) / aarch64  OK    OK    OK  
Package 153/217HostnameOS / ArchINSTALLBUILDCHECKBUILD BIN
scp 1.20.0  (landing page)
Christophe Vanderaa
git_last_commit: 9c3cf13
git_last_commit_date: 2025-10-29 11:03:14 -0500
nebbiolo2Linux (Ubuntu 24.04.3 LTS) / x86_64  OK    OK    WARNINGS  UNNEEDED, same version is already published
taishanLinux (openEuler 24.03 LTS) / aarch64  OK    OK    WARNINGS  
Package 154/217HostnameOS / ArchINSTALLBUILDCHECKBUILD BIN
scPipe 2.10.0  (landing page)
Shian Su
git_last_commit: c021029
git_last_commit_date: 2025-10-29 10:41:31 -0500
nebbiolo2Linux (Ubuntu 24.04.3 LTS) / x86_64  OK    OK    OK  UNNEEDED, same version is already published
taishanLinux (openEuler 24.03 LTS) / aarch64  OK    OK    OK  
Package 155/217HostnameOS / ArchINSTALLBUILDCHECKBUILD BIN
scQTLtools 1.2.0  (landing page)
Xiaofeng Wu
git_last_commit: 1638397
git_last_commit_date: 2025-10-29 11:34:00 -0500
nebbiolo2Linux (Ubuntu 24.04.3 LTS) / x86_64  OK    OK    ERROR  
taishanLinux (openEuler 24.03 LTS) / aarch64  OK    OK    ERROR  
Package 156/217HostnameOS / ArchINSTALLBUILDCHECKBUILD BIN
scran 1.38.0  (landing page)
Aaron Lun
git_last_commit: 50cb1ba
git_last_commit_date: 2025-10-29 10:31:34 -0500
nebbiolo2Linux (Ubuntu 24.04.3 LTS) / x86_64  OK    OK    WARNINGS  UNNEEDED, same version is already published
taishanLinux (openEuler 24.03 LTS) / aarch64  OK    OK    WARNINGS  
Package 157/217HostnameOS / ArchINSTALLBUILDCHECKBUILD BIN
scReClassify 1.16.0  (landing page)
Taiyun Kim
git_last_commit: d6212d3
git_last_commit_date: 2025-10-29 11:12:04 -0500
nebbiolo2Linux (Ubuntu 24.04.3 LTS) / x86_64  OK    OK    OK  UNNEEDED, same version is already published
taishanLinux (openEuler 24.03 LTS) / aarch64  OK    OK    OK  
Package 158/217HostnameOS / ArchINSTALLBUILDCHECKBUILD BIN
scRepertoire 2.6.0  (landing page)
Nick Borcherding
git_last_commit: 3fccfb0
git_last_commit_date: 2025-10-29 11:04:19 -0500
nebbiolo2Linux (Ubuntu 24.04.3 LTS) / x86_64  OK    ERROR  skipped
taishanLinux (openEuler 24.03 LTS) / aarch64  OK    ERROR  skipped
Package 159/217HostnameOS / ArchINSTALLBUILDCHECKBUILD BIN
scRNAseqApp 1.10.0  (landing page)
Jianhong Ou
git_last_commit: 799772d
git_last_commit_date: 2025-10-29 11:20:39 -0500
nebbiolo2Linux (Ubuntu 24.04.3 LTS) / x86_64  OK    OK    OK  UNNEEDED, same version is already published
taishanLinux (openEuler 24.03 LTS) / aarch64  OK    OK    OK  
Package 160/217HostnameOS / ArchINSTALLBUILDCHECKBUILD BIN
scruff 1.28.0  (landing page)
Zhe Wang
git_last_commit: 085152e
git_last_commit_date: 2025-10-29 10:46:27 -0500
nebbiolo2Linux (Ubuntu 24.04.3 LTS) / x86_64  OK    OK    OK  UNNEEDED, same version is already published
taishanLinux (openEuler 24.03 LTS) / aarch64  OK    OK    OK  
Package 161/217HostnameOS / ArchINSTALLBUILDCHECKBUILD BIN
scry 1.22.0  (landing page)
Kelly Street
git_last_commit: a608ad1
git_last_commit_date: 2025-10-29 10:59:07 -0500
nebbiolo2Linux (Ubuntu 24.04.3 LTS) / x86_64  OK    OK    OK  UNNEEDED, same version is already published
taishanLinux (openEuler 24.03 LTS) / aarch64  OK    OK    OK  
Package 162/217HostnameOS / ArchINSTALLBUILDCHECKBUILD BIN
scTensor 2.20.0  (landing page)
Koki Tsuyuzaki
git_last_commit: 11f50bb
git_last_commit_date: 2025-10-29 10:49:00 -0500
nebbiolo2Linux (Ubuntu 24.04.3 LTS) / x86_64  OK    OK    WARNINGS  UNNEEDED, same version is already published
taishanLinux (openEuler 24.03 LTS) / aarch64  OK    OK    WARNINGS  
Package 163/217HostnameOS / ArchINSTALLBUILDCHECKBUILD BIN
scTGIF 1.24.0  (landing page)
Koki Tsuyuzaki
git_last_commit: 30812b8
git_last_commit_date: 2025-10-29 10:55:37 -0500
nebbiolo2Linux (Ubuntu 24.04.3 LTS) / x86_64  OK    OK    OK  UNNEEDED, same version is already published
taishanLinux (openEuler 24.03 LTS) / aarch64  OK    OK    OK  
Package 164/217HostnameOS / ArchINSTALLBUILDCHECKBUILD BIN
scTreeViz 1.16.0  (landing page)
Jayaram Kancherla
git_last_commit: 0c746f3
git_last_commit_date: 2025-10-29 11:12:36 -0500
nebbiolo2Linux (Ubuntu 24.04.3 LTS) / x86_64  OK    OK    OK  UNNEEDED, same version is already published
taishanLinux (openEuler 24.03 LTS) / aarch64  OK    OK    OK  
Package 165/217HostnameOS / ArchINSTALLBUILDCHECKBUILD BIN
scuttle 1.20.0  (landing page)
Aaron Lun
git_last_commit: 2796dbd
git_last_commit_date: 2025-10-29 10:59:47 -0500
nebbiolo2Linux (Ubuntu 24.04.3 LTS) / x86_64  OK    OK    OK  UNNEEDED, same version is already published
taishanLinux (openEuler 24.03 LTS) / aarch64  OK    OK    OK  
Package 166/217HostnameOS / ArchINSTALLBUILDCHECKBUILD BIN
scviR 1.10.0  (landing page)
Vincent Carey
git_last_commit: 76c9278
git_last_commit_date: 2025-10-29 11:21:42 -0500
nebbiolo2Linux (Ubuntu 24.04.3 LTS) / x86_64  OK    OK    OK  UNNEEDED, same version is already published
taishanLinux (openEuler 24.03 LTS) / aarch64  OK    TIMEOUT  skipped
Package 167/217HostnameOS / ArchINSTALLBUILDCHECKBUILD BIN
SETA 1.0.0  (landing page)
Kyle Kimler
git_last_commit: 2e28769
git_last_commit_date: 2025-10-29 11:38:15 -0500
nebbiolo2Linux (Ubuntu 24.04.3 LTS) / x86_64  OK    OK    OK  UNNEEDED, same version is already published
taishanLinux (openEuler 24.03 LTS) / aarch64  OK    OK    OK  
Package 168/217HostnameOS / ArchINSTALLBUILDCHECKBUILD BIN
shinyDSP 1.2.0  (landing page)
Seung J. Kim
git_last_commit: 867bc12
git_last_commit_date: 2025-10-29 11:35:46 -0500
nebbiolo2Linux (Ubuntu 24.04.3 LTS) / x86_64  OK    OK    OK  UNNEEDED, same version is already published
taishanLinux (openEuler 24.03 LTS) / aarch64  OK    OK    OK  
Package 169/217HostnameOS / ArchINSTALLBUILDCHECKBUILD BIN
simPIC 1.6.0  (landing page)
Sagrika Chugh
git_last_commit: c272c6f
git_last_commit_date: 2025-10-29 11:28:25 -0500
nebbiolo2Linux (Ubuntu 24.04.3 LTS) / x86_64  OK    OK    OK  UNNEEDED, same version is already published
taishanLinux (openEuler 24.03 LTS) / aarch64  OK    OK    OK  
Package 170/217HostnameOS / ArchINSTALLBUILDCHECKBUILD BIN
SingleCellAlleleExperiment 1.6.0  (landing page)
Jonas Schuck
git_last_commit: f2f4799
git_last_commit_date: 2025-10-29 11:30:07 -0500
nebbiolo2Linux (Ubuntu 24.04.3 LTS) / x86_64  OK    OK    OK  UNNEEDED, same version is already published
taishanLinux (openEuler 24.03 LTS) / aarch64  OK    OK    OK  
Package 171/217HostnameOS / ArchINSTALLBUILDCHECKBUILD BIN
singleCellTK 2.20.0  (landing page)
Joshua David Campbell
git_last_commit: e2bff7b
git_last_commit_date: 2025-10-29 11:29:49 -0500
nebbiolo2Linux (Ubuntu 24.04.3 LTS) / x86_64  OK    OK    OK  UNNEEDED, same version is already published
taishanLinux (openEuler 24.03 LTS) / aarch64  OK    OK    OK  
Package 172/217HostnameOS / ArchINSTALLBUILDCHECKBUILD BIN
SiPSiC 1.10.0  (landing page)
Daniel Davis
git_last_commit: 1909d2a
git_last_commit_date: 2025-10-29 11:22:25 -0500
nebbiolo2Linux (Ubuntu 24.04.3 LTS) / x86_64  OK    OK    OK  UNNEEDED, same version is already published
taishanLinux (openEuler 24.03 LTS) / aarch64  OK    OK    OK  
Package 173/217HostnameOS / ArchINSTALLBUILDCHECKBUILD BIN
slalom 1.32.0  (landing page)
Davis McCarthy
git_last_commit: 712aadd
git_last_commit_date: 2025-10-29 10:41:26 -0500
nebbiolo2Linux (Ubuntu 24.04.3 LTS) / x86_64  OK    OK    WARNINGS  UNNEEDED, same version is already published
taishanLinux (openEuler 24.03 LTS) / aarch64  OK    OK    WARNINGS  
Package 174/217HostnameOS / ArchINSTALLBUILDCHECKBUILD BIN
slingshot 2.18.0  (landing page)
Kelly Street
git_last_commit: 1c825f7
git_last_commit_date: 2025-10-29 10:45:42 -0500
nebbiolo2Linux (Ubuntu 24.04.3 LTS) / x86_64  OK    OK    OK  UNNEEDED, same version is already published
taishanLinux (openEuler 24.03 LTS) / aarch64  OK    ERROR  skipped
Package 175/217HostnameOS / ArchINSTALLBUILDCHECKBUILD BIN
sosta 1.2.0  (landing page)
Samuel Gunz
git_last_commit: ecee469
git_last_commit_date: 2025-10-29 11:33:49 -0500
nebbiolo2Linux (Ubuntu 24.04.3 LTS) / x86_64  OK    OK    OK  UNNEEDED, same version is already published
taishanLinux (openEuler 24.03 LTS) / aarch64  OK    OK    OK  
Package 176/217HostnameOS / ArchINSTALLBUILDCHECKBUILD BIN
Spaniel 1.24.0  (landing page)
Rachel Queen
git_last_commit: 5171341
git_last_commit_date: 2025-10-29 10:54:28 -0500
nebbiolo2Linux (Ubuntu 24.04.3 LTS) / x86_64  OK    OK    OK  UNNEEDED, same version is already published
taishanLinux (openEuler 24.03 LTS) / aarch64  OK    OK    OK  
Package 177/217HostnameOS / ArchINSTALLBUILDCHECKBUILD BIN
SpaNorm 1.4.0  (landing page)
Dharmesh D. Bhuva
git_last_commit: 3627d0d
git_last_commit_date: 2025-10-29 11:32:47 -0500
nebbiolo2Linux (Ubuntu 24.04.3 LTS) / x86_64  OK    OK    OK  UNNEEDED, same version is already published
taishanLinux (openEuler 24.03 LTS) / aarch64  OK    OK    OK  
Package 178/217HostnameOS / ArchINSTALLBUILDCHECKBUILD BIN
SpatialExperiment 1.20.0  (landing page)
Dario Righelli
git_last_commit: dfdda19
git_last_commit_date: 2025-10-29 11:00:55 -0500
nebbiolo2Linux (Ubuntu 24.04.3 LTS) / x86_64  OK    OK    OK  UNNEEDED, same version is already published
taishanLinux (openEuler 24.03 LTS) / aarch64  OK    OK    OK  
Package 179/217HostnameOS / ArchINSTALLBUILDCHECKBUILD BIN
SpatialExperimentIO 1.2.0  (landing page)
Yixing E. Dong
git_last_commit: 811da54
git_last_commit_date: 2025-10-29 11:34:03 -0500
nebbiolo2Linux (Ubuntu 24.04.3 LTS) / x86_64  OK    OK    OK  UNNEEDED, same version is already published
taishanLinux (openEuler 24.03 LTS) / aarch64  OK    OK    OK  
Package 180/217HostnameOS / ArchINSTALLBUILDCHECKBUILD BIN
SpatialFeatureExperiment 1.12.1  (landing page)
Lambda Moses
git_last_commit: bf9b3b9
git_last_commit_date: 2025-11-04 00:32:31 -0500
nebbiolo2Linux (Ubuntu 24.04.3 LTS) / x86_64  OK    OK    OK  UNNEEDED, same version is already published
taishanLinux (openEuler 24.03 LTS) / aarch64  OK    OK    ERROR  
Package 181/217HostnameOS / ArchINSTALLBUILDCHECKBUILD BIN
spatialHeatmap 2.16.0  (landing page)
Jianhai Zhang
git_last_commit: e3ad0e0
git_last_commit_date: 2025-10-29 11:02:59 -0500
nebbiolo2Linux (Ubuntu 24.04.3 LTS) / x86_64  OK    ERROR  skipped
taishanLinux (openEuler 24.03 LTS) / aarch64  OK    ERROR  skipped
Package 182/217HostnameOS / ArchINSTALLBUILDCHECKBUILD BIN
speckle 1.10.0  (landing page)
Belinda Phipson
git_last_commit: 71ee725
git_last_commit_date: 2025-10-29 11:20:18 -0500
nebbiolo2Linux (Ubuntu 24.04.3 LTS) / x86_64  OK    OK    OK  UNNEEDED, same version is already published
taishanLinux (openEuler 24.03 LTS) / aarch64  OK    OK    OK  
Package 183/217HostnameOS / ArchINSTALLBUILDCHECKBUILD BIN
spicyR 1.22.0  (landing page)
Ellis Patrick
git_last_commit: a906b18
git_last_commit_date: 2025-10-29 10:57:53 -0500
nebbiolo2Linux (Ubuntu 24.04.3 LTS) / x86_64  OK    OK    OK  UNNEEDED, same version is already published
taishanLinux (openEuler 24.03 LTS) / aarch64  OK    OK    OK  
Package 184/217HostnameOS / ArchINSTALLBUILDCHECKBUILD BIN
splatter 1.34.0  (landing page)
Luke Zappia
git_last_commit: e9a1ee1
git_last_commit_date: 2025-10-29 10:36:34 -0500
nebbiolo2Linux (Ubuntu 24.04.3 LTS) / x86_64  OK    OK    OK  UNNEEDED, same version is already published
taishanLinux (openEuler 24.03 LTS) / aarch64  OK    OK    OK  
Package 185/217HostnameOS / ArchINSTALLBUILDCHECKBUILD BIN
SplineDV 1.2.0  (landing page)
Shreyan Gupta
git_last_commit: a1275b1
git_last_commit_date: 2025-10-29 11:33:07 -0500
nebbiolo2Linux (Ubuntu 24.04.3 LTS) / x86_64  OK    OK    OK  UNNEEDED, same version is already published
taishanLinux (openEuler 24.03 LTS) / aarch64  OK    OK    OK  
Package 186/217HostnameOS / ArchINSTALLBUILDCHECKBUILD BIN
SPOTlight 1.14.0  (landing page)
Marc Elosua-Bayes
git_last_commit: fb783eb
git_last_commit_date: 2025-10-29 11:16:14 -0500
nebbiolo2Linux (Ubuntu 24.04.3 LTS) / x86_64  OK    OK    OK  UNNEEDED, same version is already published
taishanLinux (openEuler 24.03 LTS) / aarch64  OK    OK    WARNINGS  
Package 187/217HostnameOS / ArchINSTALLBUILDCHECKBUILD BIN
SpotSweeper 1.6.0  (landing page)
Michael Totty
git_last_commit: 2a9e4a7
git_last_commit_date: 2025-10-29 11:29:53 -0500
nebbiolo2Linux (Ubuntu 24.04.3 LTS) / x86_64  OK    OK    OK  UNNEEDED, same version is already published
taishanLinux (openEuler 24.03 LTS) / aarch64  OK    OK    OK  
Package 188/217HostnameOS / ArchINSTALLBUILDCHECKBUILD BIN
SPsimSeq 1.20.0  (landing page)
Joris Meys
git_last_commit: bfb4e62
git_last_commit_date: 2025-10-29 11:00:01 -0500
nebbiolo2Linux (Ubuntu 24.04.3 LTS) / x86_64  OK    OK    OK  UNNEEDED, same version is already published
taishanLinux (openEuler 24.03 LTS) / aarch64  OK    OK    OK  
Package 189/217HostnameOS / ArchINSTALLBUILDCHECKBUILD BIN
standR 1.14.0  (landing page)
Ning Liu
git_last_commit: 40f29f9
git_last_commit_date: 2025-10-29 11:16:04 -0500
nebbiolo2Linux (Ubuntu 24.04.3 LTS) / x86_64  OK    OK    OK  UNNEEDED, same version is already published
taishanLinux (openEuler 24.03 LTS) / aarch64  OK    OK    OK  
Package 190/217HostnameOS / ArchINSTALLBUILDCHECKBUILD BIN
Statial 1.12.0  (landing page)
Farhan Ameen
git_last_commit: 7de3cdd
git_last_commit_date: 2025-10-29 11:19:57 -0500
nebbiolo2Linux (Ubuntu 24.04.3 LTS) / x86_64  OK    OK    OK  UNNEEDED, same version is already published
taishanLinux (openEuler 24.03 LTS) / aarch64  OK    OK    TIMEOUT  
Package 191/217HostnameOS / ArchINSTALLBUILDCHECKBUILD BIN
stPipe 1.0.0  (landing page)
Yang Xu
git_last_commit: f234c12
git_last_commit_date: 2025-10-29 11:37:41 -0500
nebbiolo2Linux (Ubuntu 24.04.3 LTS) / x86_64  OK    OK    WARNINGS  UNNEEDED, same version is already published
taishanLinux (openEuler 24.03 LTS) / aarch64  OK    OK    WARNINGS  
Package 192/217HostnameOS / ArchINSTALLBUILDCHECKBUILD BIN
SVP 1.2.1  (landing page)
Shuangbin Xu
git_last_commit: 1d706a2
git_last_commit_date: 2025-11-03 02:07:21 -0500
nebbiolo2Linux (Ubuntu 24.04.3 LTS) / x86_64  OK    OK    OK  UNNEEDED, same version is already published
taishanLinux (openEuler 24.03 LTS) / aarch64  OK    ERROR  skipped
Package 193/217HostnameOS / ArchINSTALLBUILDCHECKBUILD BIN
switchde 1.36.0  (landing page)
Kieran Campbell
git_last_commit: c431044
git_last_commit_date: 2025-10-29 10:33:47 -0500
nebbiolo2Linux (Ubuntu 24.04.3 LTS) / x86_64  OK    OK    OK  UNNEEDED, same version is already published
taishanLinux (openEuler 24.03 LTS) / aarch64  OK    OK    OK  
Package 194/217HostnameOS / ArchINSTALLBUILDCHECKBUILD BIN
TENxIO 1.12.0  (landing page)
Marcel Ramos
git_last_commit: 4adee52
git_last_commit_date: 2025-10-29 11:19:24 -0500
nebbiolo2Linux (Ubuntu 24.04.3 LTS) / x86_64  OK    OK    OK  UNNEEDED, same version is already published
taishanLinux (openEuler 24.03 LTS) / aarch64  OK    OK    OK  
Package 195/217HostnameOS / ArchINSTALLBUILDCHECKBUILD BIN
tidySingleCellExperiment 1.20.1  (landing page)
Stefano Mangiola
git_last_commit: a4a3d0c
git_last_commit_date: 2025-11-09 19:01:51 -0500
nebbiolo2Linux (Ubuntu 24.04.3 LTS) / x86_64  OK    OK    OK  UNNEEDED, same version is already published
taishanLinux (openEuler 24.03 LTS) / aarch64  OK    OK    OK  
Package 196/217HostnameOS / ArchINSTALLBUILDCHECKBUILD BIN
tidySpatialExperiment 1.6.1  (landing page)
William Hutchison
git_last_commit: acf5111
git_last_commit_date: 2025-11-09 19:02:05 -0500
nebbiolo2Linux (Ubuntu 24.04.3 LTS) / x86_64  OK    OK    OK  UNNEEDED, same version is already published
taishanLinux (openEuler 24.03 LTS) / aarch64  OK    OK    OK  
Package 197/217HostnameOS / ArchINSTALLBUILDCHECKBUILD BIN
tpSVG 1.6.0  (landing page)
Boyi Guo
git_last_commit: a7202a9
git_last_commit_date: 2025-10-29 11:28:17 -0500
nebbiolo2Linux (Ubuntu 24.04.3 LTS) / x86_64  OK    OK    OK  UNNEEDED, same version is already published
taishanLinux (openEuler 24.03 LTS) / aarch64  OK    OK    OK  
Package 198/217HostnameOS / ArchINSTALLBUILDCHECKBUILD BIN
tradeSeq 1.24.0  (landing page)
Hector Roux de Bezieux
git_last_commit: 7eea99e
git_last_commit_date: 2025-10-29 10:55:42 -0500
nebbiolo2Linux (Ubuntu 24.04.3 LTS) / x86_64  OK    OK    OK  UNNEEDED, same version is already published
taishanLinux (openEuler 24.03 LTS) / aarch64  OK    OK    OK  
Package 199/217HostnameOS / ArchINSTALLBUILDCHECKBUILD BIN
TrajectoryUtils 1.18.0  (landing page)
Aaron Lun
git_last_commit: 4cf65d4
git_last_commit_date: 2025-10-29 11:06:03 -0500
nebbiolo2Linux (Ubuntu 24.04.3 LTS) / x86_64  OK    OK    OK  UNNEEDED, same version is already published
taishanLinux (openEuler 24.03 LTS) / aarch64  OK    OK    OK  
Package 200/217HostnameOS / ArchINSTALLBUILDCHECKBUILD BIN
traviz 1.16.0  (landing page)
Koen Van den Berge
git_last_commit: 3169085
git_last_commit_date: 2025-10-29 11:11:28 -0500
nebbiolo2Linux (Ubuntu 24.04.3 LTS) / x86_64  ERROR    ERROR  skipped
taishanLinux (openEuler 24.03 LTS) / aarch64  ERROR    ERROR  skipped
Package 201/217HostnameOS / ArchINSTALLBUILDCHECKBUILD BIN
treekoR 1.18.0  (landing page)
Adam Chan
git_last_commit: 83e186e
git_last_commit_date: 2025-10-29 11:08:22 -0500
nebbiolo2Linux (Ubuntu 24.04.3 LTS) / x86_64  OK    OK    OK  UNNEEDED, same version is already published
taishanLinux (openEuler 24.03 LTS) / aarch64  OK    OK    OK  
Package 202/217HostnameOS / ArchINSTALLBUILDCHECKBUILD BIN
TreeSummarizedExperiment 2.18.0  (landing page)
Ruizhu Huang
git_last_commit: f463a1d
git_last_commit_date: 2025-10-29 10:52:27 -0500
nebbiolo2Linux (Ubuntu 24.04.3 LTS) / x86_64  OK    OK    OK  UNNEEDED, same version is already published
taishanLinux (openEuler 24.03 LTS) / aarch64  OK    OK    OK  
Package 203/217HostnameOS / ArchINSTALLBUILDCHECKBUILD BIN
tricycle 1.18.0  (landing page)
Shijie Zheng
git_last_commit: 4fdcfb2
git_last_commit_date: 2025-10-29 11:08:17 -0500
nebbiolo2Linux (Ubuntu 24.04.3 LTS) / x86_64  OK    OK    WARNINGS  UNNEEDED, same version is already published
taishanLinux (openEuler 24.03 LTS) / aarch64  OK    OK    WARNINGS  
Package 204/217HostnameOS / ArchINSTALLBUILDCHECKBUILD BIN
TSCAN 1.48.0  (landing page)
Zhicheng Ji
git_last_commit: 7f095e0
git_last_commit_date: 2025-10-29 10:21:25 -0500
nebbiolo2Linux (Ubuntu 24.04.3 LTS) / x86_64  OK    OK    OK  UNNEEDED, same version is already published
taishanLinux (openEuler 24.03 LTS) / aarch64  OK    OK    OK  
Package 205/217HostnameOS / ArchINSTALLBUILDCHECKBUILD BIN
UCell 2.14.0  (landing page)
Massimo Andreatta
git_last_commit: 4d11456
git_last_commit_date: 2025-10-29 11:15:16 -0500
nebbiolo2Linux (Ubuntu 24.04.3 LTS) / x86_64  OK    OK    OK  UNNEEDED, same version is already published
taishanLinux (openEuler 24.03 LTS) / aarch64  OK    OK    OK  
Package 206/217HostnameOS / ArchINSTALLBUILDCHECKBUILD BIN
VAExprs 1.16.0  (landing page)
Dongmin Jung
git_last_commit: 1b7ae7b
git_last_commit_date: 2025-10-29 11:11:03 -0500
nebbiolo2Linux (Ubuntu 24.04.3 LTS) / x86_64  OK    OK    OK  UNNEEDED, same version is already published
taishanLinux (openEuler 24.03 LTS) / aarch64  OK    OK    OK  
Package 207/217HostnameOS / ArchINSTALLBUILDCHECKBUILD BIN
VDJdive 1.12.0  (landing page)
Kelly Street
git_last_commit: a0d5c4f
git_last_commit_date: 2025-10-29 11:18:28 -0500
nebbiolo2Linux (Ubuntu 24.04.3 LTS) / x86_64  OK    OK    OK  UNNEEDED, same version is already published
taishanLinux (openEuler 24.03 LTS) / aarch64  OK    OK    OK  
Package 208/217HostnameOS / ArchINSTALLBUILDCHECKBUILD BIN
velociraptor 1.20.0  (landing page)
Kevin Rue-Albrecht
git_last_commit: 67b4a9e
git_last_commit_date: 2025-10-29 11:02:39 -0500
nebbiolo2Linux (Ubuntu 24.04.3 LTS) / x86_64  OK    OK    OK  UNNEEDED, same version is already published
taishanLinux (openEuler 24.03 LTS) / aarch64  OK    ERROR  skipped
Package 209/217HostnameOS / ArchINSTALLBUILDCHECKBUILD BIN
VisiumIO 1.6.0  (landing page)
Marcel Ramos
git_last_commit: 0a06453
git_last_commit_date: 2025-10-29 11:27:23 -0500
nebbiolo2Linux (Ubuntu 24.04.3 LTS) / x86_64  OK    OK    OK  UNNEEDED, same version is already published
taishanLinux (openEuler 24.03 LTS) / aarch64  OK    OK    OK  
Package 210/217HostnameOS / ArchINSTALLBUILDCHECKBUILD BIN
visiumStitched 1.2.0  (landing page)
Nicholas J. Eagles
git_last_commit: a3f730b
git_last_commit_date: 2025-10-29 11:33:12 -0500
nebbiolo2Linux (Ubuntu 24.04.3 LTS) / x86_64  OK    OK    OK  UNNEEDED, same version is already published
taishanLinux (openEuler 24.03 LTS) / aarch64  OK    OK    OK  
Package 211/217HostnameOS / ArchINSTALLBUILDCHECKBUILD BIN
Voyager 1.12.0  (landing page)
Lambda Moses
git_last_commit: d689ab8
git_last_commit_date: 2025-10-29 11:19:14 -0500
nebbiolo2Linux (Ubuntu 24.04.3 LTS) / x86_64  OK    OK    WARNINGS  UNNEEDED, same version is already published
taishanLinux (openEuler 24.03 LTS) / aarch64  OK    OK    WARNINGS  
Package 212/217HostnameOS / ArchINSTALLBUILDCHECKBUILD BIN
waddR 1.24.0  (landing page)
Julian Flesch
git_last_commit: 6d40862
git_last_commit_date: 2025-10-29 10:55:06 -0500
nebbiolo2Linux (Ubuntu 24.04.3 LTS) / x86_64  OK    OK    ERROR  
taishanLinux (openEuler 24.03 LTS) / aarch64  OK    OK    OK  
Package 213/217HostnameOS / ArchINSTALLBUILDCHECKBUILD BIN
xCell2 1.2.0  (landing page)
Almog Angel
git_last_commit: d42142a
git_last_commit_date: 2025-10-29 11:33:51 -0500
nebbiolo2Linux (Ubuntu 24.04.3 LTS) / x86_64  OK    OK    OK  UNNEEDED, same version is already published
taishanLinux (openEuler 24.03 LTS) / aarch64  OK    OK    OK  
Package 214/217HostnameOS / ArchINSTALLBUILDCHECKBUILD BIN
XeniumIO 1.2.0  (landing page)
Marcel Ramos
git_last_commit: 727bab9
git_last_commit_date: 2025-10-29 11:34:29 -0500
nebbiolo2Linux (Ubuntu 24.04.3 LTS) / x86_64  OK    OK    OK  UNNEEDED, same version is already published
taishanLinux (openEuler 24.03 LTS) / aarch64  OK    ERROR  skipped
Package 215/217HostnameOS / ArchINSTALLBUILDCHECKBUILD BIN
xenLite 1.4.0  (landing page)
Vincent Carey
git_last_commit: cc38f6b
git_last_commit_date: 2025-10-29 11:31:51 -0500
nebbiolo2Linux (Ubuntu 24.04.3 LTS) / x86_64  OK    OK    OK  UNNEEDED, same version is already published
taishanLinux (openEuler 24.03 LTS) / aarch64  OK    ERROR  skipped
Package 216/217HostnameOS / ArchINSTALLBUILDCHECKBUILD BIN
zellkonverter 1.20.0  (landing page)
Luke Zappia
git_last_commit: cf55b0f
git_last_commit_date: 2025-10-29 11:01:36 -0500
nebbiolo2Linux (Ubuntu 24.04.3 LTS) / x86_64  OK    OK    OK  UNNEEDED, same version is already published
taishanLinux (openEuler 24.03 LTS) / aarch64  OK    OK    OK  
Package 217/217HostnameOS / ArchINSTALLBUILDCHECKBUILD BIN
zinbwave 1.32.0  (landing page)
Davide Risso
git_last_commit: cfc6ec2
git_last_commit_date: 2025-10-29 10:39:04 -0500
nebbiolo2Linux (Ubuntu 24.04.3 LTS) / x86_64  OK    OK    OK  UNNEEDED, same version is already published
taishanLinux (openEuler 24.03 LTS) / aarch64  OK    OK    OK