| Back to Multiple platform build/check report for BioC 3.21: simplified long |
|
This page was generated on 2025-04-22 13:17 -0400 (Tue, 22 Apr 2025).
| Hostname | OS | Arch (*) | R version | Installed pkgs |
|---|---|---|---|---|
| nebbiolo1 | Linux (Ubuntu 24.04.1 LTS) | x86_64 | 4.5.0 RC (2025-04-04 r88126) -- "How About a Twenty-Six" | 4831 |
| palomino7 | Windows Server 2022 Datacenter | x64 | 4.5.0 RC (2025-04-04 r88126 ucrt) -- "How About a Twenty-Six" | 4573 |
| lconway | macOS 12.7.1 Monterey | x86_64 | 4.5.0 RC (2025-04-04 r88126) -- "How About a Twenty-Six" | 4599 |
| kjohnson3 | macOS 13.7.1 Ventura | arm64 | 4.5.0 RC (2025-04-04 r88126) -- "How About a Twenty-Six" | 4553 |
| kunpeng2 | Linux (openEuler 24.03 LTS) | aarch64 | R Under development (unstable) (2025-02-19 r87757) -- "Unsuffered Consequences" | 4570 |
| Click on any hostname to see more info about the system (e.g. compilers) (*) as reported by 'uname -p', except on Windows and Mac OS X | ||||
| Package 2074/2341 | Hostname | OS / Arch | INSTALL | BUILD | CHECK | BUILD BIN | ||||||||
| SPIAT 1.10.0 (landing page) Yuzhou Feng
| nebbiolo1 | Linux (Ubuntu 24.04.1 LTS) / x86_64 | OK | OK | OK | |||||||||
| palomino7 | Windows Server 2022 Datacenter / x64 | OK | OK | OK | OK | |||||||||
| lconway | macOS 12.7.1 Monterey / x86_64 | OK | OK | OK | OK | |||||||||
| kjohnson3 | macOS 13.7.1 Ventura / arm64 | OK | OK | OK | OK | |||||||||
| kunpeng2 | Linux (openEuler 24.03 LTS) / aarch64 | OK | OK | OK | ||||||||||
|
To the developers/maintainers of the SPIAT package: - Allow up to 24 hours (and sometimes 48 hours) for your latest push to git@git.bioconductor.org:packages/SPIAT.git to reflect on this report. See Troubleshooting Build Report for more information. - Use the following Renviron settings to reproduce errors and warnings. - If 'R CMD check' started to fail recently on the Linux builder(s) over a missing dependency, add the missing dependency to 'Suggests:' in your DESCRIPTION file. See Renviron.bioc for more information. |
| Package: SPIAT |
| Version: 1.10.0 |
| Command: /Library/Frameworks/R.framework/Resources/bin/R CMD check --install=check:SPIAT.install-out.txt --library=/Library/Frameworks/R.framework/Resources/library --no-vignettes --timings SPIAT_1.10.0.tar.gz |
| StartedAt: 2025-04-21 23:47:44 -0400 (Mon, 21 Apr 2025) |
| EndedAt: 2025-04-21 23:53:46 -0400 (Mon, 21 Apr 2025) |
| EllapsedTime: 362.0 seconds |
| RetCode: 0 |
| Status: OK |
| CheckDir: SPIAT.Rcheck |
| Warnings: 0 |
##############################################################################
##############################################################################
###
### Running command:
###
### /Library/Frameworks/R.framework/Resources/bin/R CMD check --install=check:SPIAT.install-out.txt --library=/Library/Frameworks/R.framework/Resources/library --no-vignettes --timings SPIAT_1.10.0.tar.gz
###
##############################################################################
##############################################################################
* using log directory ‘/Users/biocbuild/bbs-3.21-bioc/meat/SPIAT.Rcheck’
* using R version 4.5.0 RC (2025-04-04 r88126)
* using platform: x86_64-apple-darwin20
* R was compiled by
Apple clang version 14.0.0 (clang-1400.0.29.202)
GNU Fortran (GCC) 14.2.0
* running under: macOS Monterey 12.7.6
* using session charset: UTF-8
* using option ‘--no-vignettes’
* checking for file ‘SPIAT/DESCRIPTION’ ... OK
* checking extension type ... Package
* this is package ‘SPIAT’ version ‘1.10.0’
* package encoding: UTF-8
* checking package namespace information ... OK
* checking package dependencies ... OK
* checking if this is a source package ... OK
* checking if there is a namespace ... OK
* checking for hidden files and directories ... OK
* checking for portable file names ... OK
* checking for sufficient/correct file permissions ... OK
* checking whether package ‘SPIAT’ can be installed ... OK
* checking installed package size ... OK
* checking package directory ... OK
* checking ‘build’ directory ... OK
* checking DESCRIPTION meta-information ... NOTE
License components with restrictions not permitted:
Artistic-2.0 + file LICENSE
* checking top-level files ... OK
* checking for left-over files ... OK
* checking index information ... OK
* checking package subdirectories ... OK
* checking code files for non-ASCII characters ... OK
* checking R files for syntax errors ... OK
* checking whether the package can be loaded ... OK
* checking whether the package can be loaded with stated dependencies ... OK
* checking whether the package can be unloaded cleanly ... OK
* checking whether the namespace can be loaded with stated dependencies ... OK
* checking whether the namespace can be unloaded cleanly ... OK
* checking dependencies in R code ... OK
* checking S3 generic/method consistency ... OK
* checking replacement functions ... OK
* checking foreign function calls ... OK
* checking R code for possible problems ... OK
* checking Rd files ... OK
* checking Rd metadata ... OK
* checking Rd cross-references ... OK
* checking for missing documentation entries ... OK
* checking for code/documentation mismatches ... OK
* checking Rd \usage sections ... OK
* checking Rd contents ... OK
* checking for unstated dependencies in examples ... OK
* checking contents of ‘data’ directory ... OK
* checking data for non-ASCII characters ... OK
* checking LazyData ... OK
* checking data for ASCII and uncompressed saves ... OK
* checking files in ‘vignettes’ ... OK
* checking examples ... OK
Examples with CPU (user + system) or elapsed time > 5s
user system elapsed
dimensionality_reduction_plot 18.442 0.884 19.537
calculate_percentage_of_grids 8.681 0.156 8.880
calculate_pairwise_distances_between_celltypes 5.064 0.814 5.905
* checking for unstated dependencies in ‘tests’ ... OK
* checking tests ...
Running ‘testthat.R’
OK
* checking for unstated dependencies in vignettes ... OK
* checking package vignettes ... OK
* checking running R code from vignettes ... SKIPPED
* checking re-building of vignette outputs ... SKIPPED
* checking PDF version of manual ... OK
* DONE
Status: 1 NOTE
See
‘/Users/biocbuild/bbs-3.21-bioc/meat/SPIAT.Rcheck/00check.log’
for details.
SPIAT.Rcheck/00install.out
############################################################################## ############################################################################## ### ### Running command: ### ### /Library/Frameworks/R.framework/Resources/bin/R CMD INSTALL SPIAT ### ############################################################################## ############################################################################## * installing to library ‘/Library/Frameworks/R.framework/Versions/4.5-x86_64/Resources/library’ * installing *source* package ‘SPIAT’ ... ** this is package ‘SPIAT’ version ‘1.10.0’ ** using staged installation ** R ** data *** moving datasets to lazyload DB ** inst ** byte-compile and prepare package for lazy loading ** help *** installing help indices ** building package indices ** installing vignettes ** testing if installed package can be loaded from temporary location ** testing if installed package can be loaded from final location ** testing if installed package keeps a record of temporary installation path * DONE (SPIAT)
SPIAT.Rcheck/tests/testthat.Rout
R version 4.5.0 RC (2025-04-04 r88126) -- "How About a Twenty-Six"
Copyright (C) 2025 The R Foundation for Statistical Computing
Platform: x86_64-apple-darwin20
R is free software and comes with ABSOLUTELY NO WARRANTY.
You are welcome to redistribute it under certain conditions.
Type 'license()' or 'licence()' for distribution details.
R is a collaborative project with many contributors.
Type 'contributors()' for more information and
'citation()' on how to cite R or R packages in publications.
Type 'demo()' for some demos, 'help()' for on-line help, or
'help.start()' for an HTML browser interface to help.
Type 'q()' to quit R.
> library(testthat)
> library(SPIAT)
Loading required package: SpatialExperiment
Loading required package: SingleCellExperiment
Loading required package: SummarizedExperiment
Loading required package: MatrixGenerics
Loading required package: matrixStats
Attaching package: 'MatrixGenerics'
The following objects are masked from 'package:matrixStats':
colAlls, colAnyNAs, colAnys, colAvgsPerRowSet, colCollapse,
colCounts, colCummaxs, colCummins, colCumprods, colCumsums,
colDiffs, colIQRDiffs, colIQRs, colLogSumExps, colMadDiffs,
colMads, colMaxs, colMeans2, colMedians, colMins, colOrderStats,
colProds, colQuantiles, colRanges, colRanks, colSdDiffs, colSds,
colSums2, colTabulates, colVarDiffs, colVars, colWeightedMads,
colWeightedMeans, colWeightedMedians, colWeightedSds,
colWeightedVars, rowAlls, rowAnyNAs, rowAnys, rowAvgsPerColSet,
rowCollapse, rowCounts, rowCummaxs, rowCummins, rowCumprods,
rowCumsums, rowDiffs, rowIQRDiffs, rowIQRs, rowLogSumExps,
rowMadDiffs, rowMads, rowMaxs, rowMeans2, rowMedians, rowMins,
rowOrderStats, rowProds, rowQuantiles, rowRanges, rowRanks,
rowSdDiffs, rowSds, rowSums2, rowTabulates, rowVarDiffs, rowVars,
rowWeightedMads, rowWeightedMeans, rowWeightedMedians,
rowWeightedSds, rowWeightedVars
Loading required package: GenomicRanges
Loading required package: stats4
Loading required package: BiocGenerics
Loading required package: generics
Attaching package: 'generics'
The following objects are masked from 'package:base':
as.difftime, as.factor, as.ordered, intersect, is.element, setdiff,
setequal, union
Attaching package: 'BiocGenerics'
The following objects are masked from 'package:stats':
IQR, mad, sd, var, xtabs
The following objects are masked from 'package:base':
Filter, Find, Map, Position, Reduce, anyDuplicated, aperm, append,
as.data.frame, basename, cbind, colnames, dirname, do.call,
duplicated, eval, evalq, get, grep, grepl, is.unsorted, lapply,
mapply, match, mget, order, paste, pmax, pmax.int, pmin, pmin.int,
rank, rbind, rownames, sapply, saveRDS, table, tapply, unique,
unsplit, which.max, which.min
Loading required package: S4Vectors
Attaching package: 'S4Vectors'
The following object is masked from 'package:utils':
findMatches
The following objects are masked from 'package:base':
I, expand.grid, unname
Loading required package: IRanges
Loading required package: GenomeInfoDb
Loading required package: Biobase
Welcome to Bioconductor
Vignettes contain introductory material; view with
'browseVignettes()'. To cite Bioconductor, see
'citation("Biobase")', and for packages 'citation("pkgname")'.
Attaching package: 'Biobase'
The following object is masked from 'package:MatrixGenerics':
rowMedians
The following objects are masked from 'package:matrixStats':
anyMissing, rowMedians
>
> test_check("SPIAT")
[1] "Markers had been selected in minimum distance calculation: "
[1] "Immune1" "Tumour"
[1] "Crossing of cross K function is detected for this image, indicating a potential immune ring."
[1] "The crossing happens at the 50% of the specified distance."
[1] "The alpha of Polygon is: 63.24375"
[1] "Markers had been selected in minimum distance calculation: "
[1] "Non-border" "Border"
[1] "Tumour_marker"
[1] "Immune_marker1"
[1] "Immune_marker2"
[1] "Immune_marker3"
[1] "Immune_marker4"
[1] "Tumour_marker"
[1] "Immune_marker1"
[1] "Immune_marker2"
[1] "Immune_marker3"
[1] "Immune_marker4"
[1] "Tumour_marker threshold intensity: 0.445450443784465"
[1] "Immune_marker1 threshold intensity: 0.116980867970434"
[1] "Immune_marker2 threshold intensity: 0.124283809517202"
[1] "Immune_marker3 threshold intensity: 0.0166413130263845"
[1] "Immune_marker4 threshold intensity: 0.00989731350898589"
[ FAIL 0 | WARN 0 | SKIP 0 | PASS 80 ]
>
> proc.time()
user system elapsed
62.979 3.476 66.794
SPIAT.Rcheck/SPIAT-Ex.timings
| name | user | system | elapsed | |
| AUC_of_cross_function | 0.170 | 0.010 | 0.184 | |
| R_BC | 1.884 | 0.080 | 1.975 | |
| average_marker_intensity_within_radius | 0.058 | 0.004 | 0.062 | |
| average_minimum_distance | 0.018 | 0.003 | 0.020 | |
| average_nearest_neighbor_index | 0.221 | 0.004 | 0.226 | |
| average_percentage_of_cells_within_radius | 1.239 | 0.025 | 1.270 | |
| calculate_cell_proportions | 0.011 | 0.001 | 0.012 | |
| calculate_cross_functions | 0.165 | 0.004 | 0.169 | |
| calculate_distance_to_margin | 1.203 | 0.021 | 1.228 | |
| calculate_entropy | 0.01 | 0.00 | 0.01 | |
| calculate_minimum_distances_between_celltypes | 0.016 | 0.000 | 0.017 | |
| calculate_pairwise_distances_between_celltypes | 5.064 | 0.814 | 5.905 | |
| calculate_percentage_of_grids | 8.681 | 0.156 | 8.880 | |
| calculate_proportions_of_cells_in_structure | 1.210 | 0.025 | 1.238 | |
| calculate_spatial_autocorrelation | 3.442 | 0.044 | 3.500 | |
| calculate_summary_distances_between_celltypes | 3.018 | 0.295 | 3.341 | |
| calculate_summary_distances_of_cells_to_borders | 1.303 | 0.080 | 1.395 | |
| composition_of_neighborhoods | 2.113 | 0.316 | 2.450 | |
| compute_gradient | 0.062 | 0.000 | 0.063 | |
| crossing_of_crossK | 0.127 | 0.003 | 0.130 | |
| define_celltypes | 0.732 | 0.007 | 0.743 | |
| define_structure | 1.449 | 0.053 | 1.513 | |
| dimensionality_reduction_plot | 18.442 | 0.884 | 19.537 | |
| entropy_gradient_aggregated | 0.506 | 0.021 | 0.531 | |
| format_cellprofiler_to_spe | 0.119 | 0.002 | 0.123 | |
| format_codex_to_spe | 0.102 | 0.003 | 0.107 | |
| format_colData_to_spe | 0.104 | 0.001 | 0.107 | |
| format_halo_to_spe | 0.492 | 0.095 | 0.526 | |
| format_image_to_spe | 0.116 | 0.002 | 0.119 | |
| format_inform_to_spe | 0.255 | 0.051 | 0.285 | |
| format_spe_to_ppp | 0.015 | 0.001 | 0.015 | |
| grid_metrics | 3.139 | 0.038 | 3.194 | |
| identify_bordering_cells | 0.633 | 0.008 | 0.642 | |
| identify_neighborhoods | 1.143 | 0.133 | 1.285 | |
| image_splitter | 1.034 | 0.011 | 1.048 | |
| marker_intensity_boxplot | 0.349 | 0.030 | 0.382 | |
| marker_prediction_plot | 1.432 | 0.029 | 1.471 | |
| marker_surface_plot | 0.228 | 0.058 | 0.287 | |
| marker_surface_plot_stack | 0.215 | 0.037 | 0.254 | |
| measure_association_to_cell_properties | 0.431 | 0.006 | 0.440 | |
| mixing_score_summary | 0.019 | 0.000 | 0.020 | |
| number_of_cells_within_radius | 0.011 | 0.000 | 0.013 | |
| plot_average_intensity | 0.306 | 0.003 | 0.311 | |
| plot_cell_categories | 0.210 | 0.006 | 0.217 | |
| plot_cell_distances_violin | 2.029 | 0.171 | 2.212 | |
| plot_cell_marker_levels | 0.186 | 0.005 | 0.193 | |
| plot_cell_percentages | 0.423 | 0.010 | 0.435 | |
| plot_composition_heatmap | 3.552 | 0.314 | 3.893 | |
| plot_distance_heatmap | 3.175 | 0.250 | 3.438 | |
| plot_marker_level_heatmap | 0.356 | 0.035 | 0.393 | |
| predict_phenotypes | 1.847 | 0.091 | 1.948 | |
| select_celltypes | 0.059 | 0.007 | 0.069 | |