Back to Multiple platform build/check report for BioC 3.22:   simplified   long
ABCDEFGHIJKLMNOPQR[S]TUVWXYZ

This page was generated on 2025-11-12 11:58 -0500 (Wed, 12 Nov 2025).

HostnameOSArch (*)R versionInstalled pkgs
nebbiolo2Linux (Ubuntu 24.04.3 LTS)x86_644.5.1 Patched (2025-08-23 r88802) -- "Great Square Root" 4902
taishanLinux (openEuler 24.03 LTS)aarch644.5.0 (2025-04-11) -- "How About a Twenty-Six" 4668
Click on any hostname to see more info about the system (e.g. compilers)      (*) as reported by 'uname -p', except on Windows and Mac OS X

Package 2097/2361HostnameOS / ArchINSTALLBUILDCHECKBUILD BIN
SPIAT 1.12.0  (landing page)
Yuzhou Feng
Snapshot Date: 2025-11-11 13:45 -0500 (Tue, 11 Nov 2025)
git_url: https://git.bioconductor.org/packages/SPIAT
git_branch: RELEASE_3_22
git_last_commit: 60e740a
git_last_commit_date: 2025-10-29 11:18:57 -0500 (Wed, 29 Oct 2025)
nebbiolo2Linux (Ubuntu 24.04.3 LTS) / x86_64  OK    OK    OK  UNNEEDED, same version is already published
taishanLinux (openEuler 24.03 LTS) / aarch64  OK    OK    OK  


CHECK results for SPIAT on nebbiolo2

To the developers/maintainers of the SPIAT package:
- Allow up to 24 hours (and sometimes 48 hours) for your latest push to git@git.bioconductor.org:packages/SPIAT.git to reflect on this report. See Troubleshooting Build Report for more information.
- Use the following Renviron settings to reproduce errors and warnings.
- If 'R CMD check' started to fail recently on the Linux builder(s) over a missing dependency, add the missing dependency to 'Suggests:' in your DESCRIPTION file. See Renviron.bioc for more information.

raw results


Summary

Package: SPIAT
Version: 1.12.0
Command: /home/biocbuild/bbs-3.22-bioc/R/bin/R CMD check --install=check:SPIAT.install-out.txt --library=/home/biocbuild/bbs-3.22-bioc/R/site-library --timings SPIAT_1.12.0.tar.gz
StartedAt: 2025-11-12 04:32:20 -0500 (Wed, 12 Nov 2025)
EndedAt: 2025-11-12 04:41:15 -0500 (Wed, 12 Nov 2025)
EllapsedTime: 535.4 seconds
RetCode: 0
Status:   OK  
CheckDir: SPIAT.Rcheck
Warnings: 0

Command output

##############################################################################
##############################################################################
###
### Running command:
###
###   /home/biocbuild/bbs-3.22-bioc/R/bin/R CMD check --install=check:SPIAT.install-out.txt --library=/home/biocbuild/bbs-3.22-bioc/R/site-library --timings SPIAT_1.12.0.tar.gz
###
##############################################################################
##############################################################################


* using log directory ‘/home/biocbuild/bbs-3.22-bioc/meat/SPIAT.Rcheck’
* using R version 4.5.1 Patched (2025-08-23 r88802)
* using platform: x86_64-pc-linux-gnu
* R was compiled by
    gcc (Ubuntu 13.3.0-6ubuntu2~24.04) 13.3.0
    GNU Fortran (Ubuntu 13.3.0-6ubuntu2~24.04) 13.3.0
* running under: Ubuntu 24.04.3 LTS
* using session charset: UTF-8
* checking for file ‘SPIAT/DESCRIPTION’ ... OK
* checking extension type ... Package
* this is package ‘SPIAT’ version ‘1.12.0’
* package encoding: UTF-8
* checking package namespace information ... OK
* checking package dependencies ... OK
* checking if this is a source package ... OK
* checking if there is a namespace ... OK
* checking for hidden files and directories ... OK
* checking for portable file names ... OK
* checking for sufficient/correct file permissions ... OK
* checking whether package ‘SPIAT’ can be installed ... OK
* checking installed package size ... OK
* checking package directory ... OK
* checking ‘build’ directory ... OK
* checking DESCRIPTION meta-information ... NOTE
License components with restrictions not permitted:
  Artistic-2.0 + file LICENSE
* checking top-level files ... OK
* checking for left-over files ... OK
* checking index information ... OK
* checking package subdirectories ... OK
* checking code files for non-ASCII characters ... OK
* checking R files for syntax errors ... OK
* checking whether the package can be loaded ... OK
* checking whether the package can be loaded with stated dependencies ... OK
* checking whether the package can be unloaded cleanly ... OK
* checking whether the namespace can be loaded with stated dependencies ... OK
* checking whether the namespace can be unloaded cleanly ... OK
* checking loading without being on the library search path ... OK
* checking dependencies in R code ... OK
* checking S3 generic/method consistency ... OK
* checking replacement functions ... OK
* checking foreign function calls ... OK
* checking R code for possible problems ... OK
* checking Rd files ... OK
* checking Rd metadata ... OK
* checking Rd cross-references ... OK
* checking for missing documentation entries ... OK
* checking for code/documentation mismatches ... OK
* checking Rd \usage sections ... OK
* checking Rd contents ... OK
* checking for unstated dependencies in examples ... OK
* checking contents of ‘data’ directory ... OK
* checking data for non-ASCII characters ... OK
* checking LazyData ... OK
* checking data for ASCII and uncompressed saves ... OK
* checking files in ‘vignettes’ ... OK
* checking examples ... OK
Examples with CPU (user + system) or elapsed time > 5s
                                                 user system elapsed
dimensionality_reduction_plot                  21.248  0.046  21.295
calculate_percentage_of_grids                   7.192  0.097   7.289
calculate_pairwise_distances_between_celltypes  4.736  0.290   5.026
* checking for unstated dependencies in ‘tests’ ... OK
* checking tests ...
  Running ‘testthat.R’
 OK
* checking for unstated dependencies in vignettes ... OK
* checking package vignettes ... OK
* checking re-building of vignette outputs ... OK
* checking PDF version of manual ... OK
* DONE

Status: 1 NOTE
See
  ‘/home/biocbuild/bbs-3.22-bioc/meat/SPIAT.Rcheck/00check.log’
for details.


Installation output

SPIAT.Rcheck/00install.out

##############################################################################
##############################################################################
###
### Running command:
###
###   /home/biocbuild/bbs-3.22-bioc/R/bin/R CMD INSTALL SPIAT
###
##############################################################################
##############################################################################


* installing to library ‘/home/biocbuild/bbs-3.22-bioc/R/site-library’
* installing *source* package ‘SPIAT’ ...
** this is package ‘SPIAT’ version ‘1.12.0’
** using staged installation
** R
** data
*** moving datasets to lazyload DB
** inst
** byte-compile and prepare package for lazy loading
** help
*** installing help indices
** building package indices
** installing vignettes
** testing if installed package can be loaded from temporary location
** testing if installed package can be loaded from final location
** testing if installed package keeps a record of temporary installation path
* DONE (SPIAT)

Tests output

SPIAT.Rcheck/tests/testthat.Rout


R version 4.5.1 Patched (2025-08-23 r88802) -- "Great Square Root"
Copyright (C) 2025 The R Foundation for Statistical Computing
Platform: x86_64-pc-linux-gnu

R is free software and comes with ABSOLUTELY NO WARRANTY.
You are welcome to redistribute it under certain conditions.
Type 'license()' or 'licence()' for distribution details.

R is a collaborative project with many contributors.
Type 'contributors()' for more information and
'citation()' on how to cite R or R packages in publications.

Type 'demo()' for some demos, 'help()' for on-line help, or
'help.start()' for an HTML browser interface to help.
Type 'q()' to quit R.

> library(testthat)
> library(SPIAT)
Loading required package: SpatialExperiment
Loading required package: SingleCellExperiment
Loading required package: SummarizedExperiment
Loading required package: MatrixGenerics
Loading required package: matrixStats

Attaching package: 'MatrixGenerics'

The following objects are masked from 'package:matrixStats':

    colAlls, colAnyNAs, colAnys, colAvgsPerRowSet, colCollapse,
    colCounts, colCummaxs, colCummins, colCumprods, colCumsums,
    colDiffs, colIQRDiffs, colIQRs, colLogSumExps, colMadDiffs,
    colMads, colMaxs, colMeans2, colMedians, colMins, colOrderStats,
    colProds, colQuantiles, colRanges, colRanks, colSdDiffs, colSds,
    colSums2, colTabulates, colVarDiffs, colVars, colWeightedMads,
    colWeightedMeans, colWeightedMedians, colWeightedSds,
    colWeightedVars, rowAlls, rowAnyNAs, rowAnys, rowAvgsPerColSet,
    rowCollapse, rowCounts, rowCummaxs, rowCummins, rowCumprods,
    rowCumsums, rowDiffs, rowIQRDiffs, rowIQRs, rowLogSumExps,
    rowMadDiffs, rowMads, rowMaxs, rowMeans2, rowMedians, rowMins,
    rowOrderStats, rowProds, rowQuantiles, rowRanges, rowRanks,
    rowSdDiffs, rowSds, rowSums2, rowTabulates, rowVarDiffs, rowVars,
    rowWeightedMads, rowWeightedMeans, rowWeightedMedians,
    rowWeightedSds, rowWeightedVars

Loading required package: GenomicRanges
Loading required package: stats4
Loading required package: BiocGenerics
Loading required package: generics

Attaching package: 'generics'

The following objects are masked from 'package:base':

    as.difftime, as.factor, as.ordered, intersect, is.element, setdiff,
    setequal, union


Attaching package: 'BiocGenerics'

The following objects are masked from 'package:stats':

    IQR, mad, sd, var, xtabs

The following objects are masked from 'package:base':

    Filter, Find, Map, Position, Reduce, anyDuplicated, aperm, append,
    as.data.frame, basename, cbind, colnames, dirname, do.call,
    duplicated, eval, evalq, get, grep, grepl, is.unsorted, lapply,
    mapply, match, mget, order, paste, pmax, pmax.int, pmin, pmin.int,
    rank, rbind, rownames, sapply, saveRDS, table, tapply, unique,
    unsplit, which.max, which.min

Loading required package: S4Vectors

Attaching package: 'S4Vectors'

The following object is masked from 'package:utils':

    findMatches

The following objects are masked from 'package:base':

    I, expand.grid, unname

Loading required package: IRanges
Loading required package: Seqinfo
Loading required package: Biobase
Welcome to Bioconductor

    Vignettes contain introductory material; view with
    'browseVignettes()'. To cite Bioconductor, see
    'citation("Biobase")', and for packages 'citation("pkgname")'.


Attaching package: 'Biobase'

The following object is masked from 'package:MatrixGenerics':

    rowMedians

The following objects are masked from 'package:matrixStats':

    anyMissing, rowMedians

> 
> test_check("SPIAT")
[1] "Markers had been selected in minimum distance calculation: "
[1] "Immune1" "Tumour" 
[1] "Crossing of cross K function is detected for this image, indicating a potential immune ring."
[1] "The crossing happens at the 50% of the specified distance."
[1] "The alpha of Polygon is: 63.24375"
[1] "Markers had been selected in minimum distance calculation: "
[1] "Non-border" "Border"    
[1] "Tumour_marker"
[1] "Immune_marker1"
[1] "Immune_marker2"
[1] "Immune_marker3"
[1] "Immune_marker4"
[1] "Tumour_marker"
[1] "Immune_marker1"
[1] "Immune_marker2"
[1] "Immune_marker3"
[1] "Immune_marker4"
[1] "Tumour_marker  threshold intensity:  0.445450443784465"
[1] "Immune_marker1  threshold intensity:  0.116980867970434"
[1] "Immune_marker2  threshold intensity:  0.124283809517202"
[1] "Immune_marker3  threshold intensity:  0.0166413130263845"
[1] "Immune_marker4  threshold intensity:  0.00989731350898589"
[ FAIL 0 | WARN 0 | SKIP 0 | PASS 80 ]
> 
> proc.time()
   user  system elapsed 
 64.264   1.976  66.224 

Example timings

SPIAT.Rcheck/SPIAT-Ex.timings

nameusersystemelapsed
AUC_of_cross_function0.1450.0090.153
R_BC1.7710.0801.853
average_marker_intensity_within_radius0.0460.0020.048
average_minimum_distance0.0190.0030.022
average_nearest_neighbor_index0.2110.0090.220
average_percentage_of_cells_within_radius0.9530.0070.960
calculate_cell_proportions0.0120.0000.011
calculate_cross_functions0.1490.0000.149
calculate_distance_to_margin1.0650.0011.066
calculate_entropy0.0090.0010.010
calculate_minimum_distances_between_celltypes0.0160.0000.017
calculate_pairwise_distances_between_celltypes4.7360.2905.026
calculate_percentage_of_grids7.1920.0977.289
calculate_proportions_of_cells_in_structure1.1630.0051.168
calculate_spatial_autocorrelation3.1070.0113.118
calculate_summary_distances_between_celltypes2.7770.1072.884
calculate_summary_distances_of_cells_to_borders1.0980.0811.179
composition_of_neighborhoods1.3480.1551.502
compute_gradient0.0540.0000.053
crossing_of_crossK0.1090.0000.109
define_celltypes0.6050.0000.605
define_structure1.4360.0021.439
dimensionality_reduction_plot21.248 0.04621.295
entropy_gradient_aggregated0.4820.0070.489
format_cellprofiler_to_spe0.0970.0040.101
format_codex_to_spe0.0850.0010.086
format_colData_to_spe0.0940.0010.095
format_halo_to_spe0.3770.0950.464
format_image_to_spe0.0970.0000.098
format_inform_to_spe0.1580.0700.226
format_spe_to_ppp0.0150.0030.018
grid_metrics2.5830.0412.624
identify_bordering_cells0.5890.0000.589
identify_neighborhoods2.2710.1572.427
image_splitter0.8270.0020.828
marker_intensity_boxplot0.3810.0010.381
marker_prediction_plot1.7510.0031.754
marker_surface_plot0.1950.0020.198
marker_surface_plot_stack0.2110.0020.214
measure_association_to_cell_properties0.5020.0010.503
mixing_score_summary0.0170.0000.016
number_of_cells_within_radius0.0120.0000.012
plot_average_intensity0.380.000.38
plot_cell_categories0.2790.0010.279
plot_cell_distances_violin1.1690.0011.170
plot_cell_marker_levels0.2180.0010.220
plot_cell_percentages0.5680.0000.568
plot_composition_heatmap4.2230.0614.285
plot_distance_heatmap3.1700.0613.231
plot_marker_level_heatmap0.4310.0010.431
predict_phenotypes2.3020.0012.303
select_celltypes0.0470.0000.047