| Back to Multiple platform build/check report for BioC 3.22: simplified long |
|
This page was generated on 2025-11-20 12:05 -0500 (Thu, 20 Nov 2025).
| Hostname | OS | Arch (*) | R version | Installed pkgs |
|---|---|---|---|---|
| nebbiolo2 | Linux (Ubuntu 24.04.3 LTS) | x86_64 | 4.5.2 (2025-10-31) -- "[Not] Part in a Rumble" | 4615 |
| merida1 | macOS 12.7.6 Monterey | x86_64 | 4.5.2 Patched (2025-11-05 r88990) -- "[Not] Part in a Rumble" | 4610 |
| kjohnson1 | macOS 13.7.5 Ventura | arm64 | 4.5.2 Patched (2025-11-04 r88984) -- "[Not] Part in a Rumble" | 4598 |
| taishan | Linux (openEuler 24.03 LTS) | aarch64 | 4.5.0 (2025-04-11) -- "How About a Twenty-Six" | 4668 |
| Click on any hostname to see more info about the system (e.g. compilers) (*) as reported by 'uname -p', except on Windows and Mac OS X | ||||
| Package 1743/2361 | Hostname | OS / Arch | INSTALL | BUILD | CHECK | BUILD BIN | ||||||||
| ReactomeGSA 1.24.0 (landing page) Johannes Griss
| nebbiolo2 | Linux (Ubuntu 24.04.3 LTS) / x86_64 | OK | OK | OK | |||||||||
| merida1 | macOS 12.7.6 Monterey / x86_64 | OK | OK | OK | OK | |||||||||
| kjohnson1 | macOS 13.7.5 Ventura / arm64 | OK | OK | OK | OK | |||||||||
| taishan | Linux (openEuler 24.03 LTS) / aarch64 | OK | OK | OK | ||||||||||
|
To the developers/maintainers of the ReactomeGSA package: - Allow up to 24 hours (and sometimes 48 hours) for your latest push to git@git.bioconductor.org:packages/ReactomeGSA.git to reflect on this report. See Troubleshooting Build Report for more information. - Use the following Renviron settings to reproduce errors and warnings. - If 'R CMD check' started to fail recently on the Linux builder(s) over a missing dependency, add the missing dependency to 'Suggests:' in your DESCRIPTION file. See Renviron.bioc for more information. |
| Package: ReactomeGSA |
| Version: 1.24.0 |
| Command: /Library/Frameworks/R.framework/Resources/bin/R CMD check --install=check:ReactomeGSA.install-out.txt --library=/Library/Frameworks/R.framework/Resources/library --no-vignettes --timings ReactomeGSA_1.24.0.tar.gz |
| StartedAt: 2025-11-18 12:43:31 -0500 (Tue, 18 Nov 2025) |
| EndedAt: 2025-11-18 13:11:23 -0500 (Tue, 18 Nov 2025) |
| EllapsedTime: 1672.1 seconds |
| RetCode: 0 |
| Status: OK |
| CheckDir: ReactomeGSA.Rcheck |
| Warnings: 0 |
##############################################################################
##############################################################################
###
### Running command:
###
### /Library/Frameworks/R.framework/Resources/bin/R CMD check --install=check:ReactomeGSA.install-out.txt --library=/Library/Frameworks/R.framework/Resources/library --no-vignettes --timings ReactomeGSA_1.24.0.tar.gz
###
##############################################################################
##############################################################################
* using log directory ‘/Users/biocbuild/bbs-3.22-bioc/meat/ReactomeGSA.Rcheck’
* using R version 4.5.2 Patched (2025-11-05 r88990)
* using platform: x86_64-apple-darwin20
* R was compiled by
Apple clang version 14.0.0 (clang-1400.0.29.202)
GNU Fortran (GCC) 14.2.0
* running under: macOS Monterey 12.7.6
* using session charset: UTF-8
* using option ‘--no-vignettes’
* checking for file ‘ReactomeGSA/DESCRIPTION’ ... OK
* checking extension type ... Package
* this is package ‘ReactomeGSA’ version ‘1.24.0’
* package encoding: UTF-8
* checking package namespace information ... OK
* checking package dependencies ... OK
* checking if this is a source package ... OK
* checking if there is a namespace ... OK
* checking for hidden files and directories ... OK
* checking for portable file names ... OK
* checking for sufficient/correct file permissions ... OK
* checking whether package ‘ReactomeGSA’ can be installed ... OK
* checking installed package size ... OK
* checking package directory ... OK
* checking ‘build’ directory ... OK
* checking DESCRIPTION meta-information ... OK
* checking top-level files ... OK
* checking for left-over files ... OK
* checking index information ... OK
* checking package subdirectories ... OK
* checking code files for non-ASCII characters ... OK
* checking R files for syntax errors ... OK
* checking whether the package can be loaded ... OK
* checking whether the package can be loaded with stated dependencies ... OK
* checking whether the package can be unloaded cleanly ... OK
* checking whether the namespace can be loaded with stated dependencies ... OK
* checking whether the namespace can be unloaded cleanly ... OK
* checking whether startup messages can be suppressed ... OK
* checking dependencies in R code ... OK
* checking S3 generic/method consistency ... OK
* checking replacement functions ... OK
* checking foreign function calls ... OK
* checking R code for possible problems ... NOTE
plot_correlations,ReactomeAnalysisResult: no visible binding for global
variable ‘combined_sig’
plot_correlations,ReactomeAnalysisResult: no visible binding for global
variable ‘alpha’
plot_gsva_pathway,ReactomeAnalysisResult: no visible binding for global
variable ‘cluster_id’
plot_gsva_pathway,ReactomeAnalysisResult: no visible binding for global
variable ‘expr’
plot_gsva_pca,ReactomeAnalysisResult: no visible binding for global
variable ‘gsva_result’
plot_gsva_pca,ReactomeAnalysisResult: no visible binding for global
variable ‘PC1’
plot_gsva_pca,ReactomeAnalysisResult: no visible binding for global
variable ‘PC2’
plot_heatmap,ReactomeAnalysisResult: no visible global function
definition for ‘desc’
plot_heatmap,ReactomeAnalysisResult: no visible binding for global
variable ‘n_sig’
plot_heatmap,ReactomeAnalysisResult: no visible binding for global
variable ‘dataset’
plot_heatmap,ReactomeAnalysisResult: no visible binding for global
variable ‘Name’
plot_volcano,ReactomeAnalysisResult: no visible binding for global
variable ‘av_foldchange’
plot_volcano,ReactomeAnalysisResult: no visible binding for global
variable ‘FDR’
Undefined global functions or variables:
FDR Name PC1 PC2 alpha av_foldchange cluster_id combined_sig dataset
desc expr gsva_result n_sig
* checking Rd files ... OK
* checking Rd metadata ... OK
* checking Rd cross-references ... OK
* checking for missing documentation entries ... OK
* checking for code/documentation mismatches ... OK
* checking Rd \usage sections ... OK
* checking Rd contents ... OK
* checking for unstated dependencies in examples ... OK
* checking files in ‘vignettes’ ... OK
* checking examples ... OK
Examples with CPU (user + system) or elapsed time > 5s
user system elapsed
plot_gsva_pathway 79.479 2.534 158.506
plot_gsva_heatmap-ReactomeAnalysisResult-method 78.272 2.198 111.513
plot_gsva_heatmap 78.193 2.048 157.761
analyse_sc_clusters-Seurat-method 77.148 2.192 122.420
analyse_sc_clusters 76.380 1.988 151.807
plot_gsva_pathway-ReactomeAnalysisResult-method 75.781 1.863 122.145
analyse_sc_clusters-SingleCellExperiment-method 74.986 2.005 117.792
plot_gsva_pca 72.213 2.129 204.891
plot_gsva_pca-ReactomeAnalysisResult-method 71.324 2.286 226.709
generate_pseudo_bulk_data 29.785 2.307 32.416
ReactomeAnalysisRequest 11.345 0.597 12.126
perform_reactome_analysis 5.435 0.390 41.972
load_public_dataset 2.601 0.236 29.984
* checking for unstated dependencies in ‘tests’ ... OK
* checking tests ...
Running ‘testthat.R’
OK
* checking for unstated dependencies in vignettes ... OK
* checking package vignettes ... OK
* checking running R code from vignettes ... SKIPPED
* checking re-building of vignette outputs ... SKIPPED
* checking PDF version of manual ... OK
* DONE
Status: 1 NOTE
See
‘/Users/biocbuild/bbs-3.22-bioc/meat/ReactomeGSA.Rcheck/00check.log’
for details.
ReactomeGSA.Rcheck/00install.out
############################################################################## ############################################################################## ### ### Running command: ### ### /Library/Frameworks/R.framework/Resources/bin/R CMD INSTALL ReactomeGSA ### ############################################################################## ############################################################################## * installing to library ‘/Library/Frameworks/R.framework/Versions/4.5-x86_64/Resources/library’ * installing *source* package ‘ReactomeGSA’ ... ** this is package ‘ReactomeGSA’ version ‘1.24.0’ ** using staged installation ** R ** inst ** byte-compile and prepare package for lazy loading in method for ‘analyse_sc_clusters’ with signature ‘object="Seurat"’: no definition for class “Seurat” in method for ‘analyse_sc_clusters’ with signature ‘object="SingleCellExperiment"’: no definition for class “SingleCellExperiment” in method for ‘add_dataset’ with signature ‘request="ReactomeAnalysisRequest",expression_values="EList"’: no definition for class “EList” in method for ‘add_dataset’ with signature ‘request="ReactomeAnalysisRequest",expression_values="DGEList"’: no definition for class “DGEList” in method for ‘generate_pseudo_bulk_data’ with signature ‘object="Seurat"’: no definition for class “Seurat” in method for ‘generate_pseudo_bulk_data’ with signature ‘object="SingleCellExperiment"’: no definition for class “SingleCellExperiment” ** help *** installing help indices ** building package indices ** installing vignettes ** testing if installed package can be loaded from temporary location ** testing if installed package can be loaded from final location ** testing if installed package keeps a record of temporary installation path * DONE (ReactomeGSA)
ReactomeGSA.Rcheck/tests/testthat.Rout
R version 4.5.2 Patched (2025-11-05 r88990) -- "[Not] Part in a Rumble"
Copyright (C) 2025 The R Foundation for Statistical Computing
Platform: x86_64-apple-darwin20
R is free software and comes with ABSOLUTELY NO WARRANTY.
You are welcome to redistribute it under certain conditions.
Type 'license()' or 'licence()' for distribution details.
R is a collaborative project with many contributors.
Type 'contributors()' for more information and
'citation()' on how to cite R or R packages in publications.
Type 'demo()' for some demos, 'help()' for on-line help, or
'help.start()' for an HTML browser interface to help.
Type 'q()' to quit R.
> library(testthat)
> library(ReactomeGSA)
>
> test_check("ReactomeGSA")
[ FAIL 0 | WARN 0 | SKIP 0 | PASS 17 ]
>
> proc.time()
user system elapsed
4.093 0.354 6.552
ReactomeGSA.Rcheck/ReactomeGSA-Ex.timings
| name | user | system | elapsed | |
| ReactomeAnalysisRequest | 11.345 | 0.597 | 12.126 | |
| ReactomeAnalysisResult-class | 0.334 | 0.019 | 0.355 | |
| add_dataset-ReactomeAnalysisRequest-DGEList-method | 1.764 | 0.085 | 1.978 | |
| add_dataset-ReactomeAnalysisRequest-EList-method | 1.312 | 0.099 | 1.434 | |
| add_dataset-ReactomeAnalysisRequest-ExpressionSet-method | 1.304 | 0.063 | 1.413 | |
| add_dataset-ReactomeAnalysisRequest-data.frame-method | 1.318 | 0.068 | 1.406 | |
| add_dataset-ReactomeAnalysisRequest-matrix-method | 1.319 | 0.062 | 1.404 | |
| add_dataset | 1.307 | 0.061 | 1.384 | |
| analyse_sc_clusters-Seurat-method | 77.148 | 2.192 | 122.420 | |
| analyse_sc_clusters-SingleCellExperiment-method | 74.986 | 2.005 | 117.792 | |
| analyse_sc_clusters | 76.380 | 1.988 | 151.807 | |
| find_public_datasets | 0.188 | 0.022 | 4.145 | |
| generate_metadata | 0.002 | 0.001 | 0.003 | |
| generate_pseudo_bulk_data | 29.785 | 2.307 | 32.416 | |
| get_public_species | 0.048 | 0.006 | 0.299 | |
| get_reactome_data_types | 0.097 | 0.012 | 0.791 | |
| get_reactome_methods | 0.164 | 0.025 | 1.458 | |
| get_result-ReactomeAnalysisResult-method | 0.349 | 0.029 | 0.385 | |
| get_result | 0.338 | 0.026 | 0.364 | |
| load_public_dataset | 2.601 | 0.236 | 29.984 | |
| names-ReactomeAnalysisResult-method | 0.341 | 0.026 | 0.368 | |
| open_reactome-ReactomeAnalysisResult-method | 0.335 | 0.026 | 0.362 | |
| open_reactome | 0.330 | 0.025 | 0.357 | |
| pathways-ReactomeAnalysisResult-method | 0.467 | 0.042 | 0.510 | |
| pathways | 0.364 | 0.028 | 0.394 | |
| perform_reactome_analysis | 5.435 | 0.390 | 41.972 | |
| plot_correlations-ReactomeAnalysisResult-method | 0.541 | 0.023 | 0.575 | |
| plot_correlations | 0.463 | 0.020 | 0.494 | |
| plot_gsva_heatmap-ReactomeAnalysisResult-method | 78.272 | 2.198 | 111.513 | |
| plot_gsva_heatmap | 78.193 | 2.048 | 157.761 | |
| plot_gsva_pathway-ReactomeAnalysisResult-method | 75.781 | 1.863 | 122.145 | |
| plot_gsva_pathway | 79.479 | 2.534 | 158.506 | |
| plot_gsva_pca-ReactomeAnalysisResult-method | 71.324 | 2.286 | 226.709 | |
| plot_gsva_pca | 72.213 | 2.129 | 204.891 | |
| plot_heatmap-ReactomeAnalysisResult-method | 1.127 | 0.026 | 1.626 | |
| plot_heatmap | 1.473 | 0.026 | 2.269 | |
| plot_volcano-ReactomeAnalysisResult-method | 0.408 | 0.021 | 0.644 | |
| plot_volcano | 0.464 | 0.023 | 0.736 | |
| print-ReactomeAnalysisRequest-method | 0.003 | 0.002 | 0.009 | |
| print-ReactomeAnalysisResult-method | 0.364 | 0.022 | 0.583 | |
| reactome_links-ReactomeAnalysisResult-method | 0.356 | 0.021 | 0.572 | |
| reactome_links | 0.354 | 0.021 | 0.546 | |
| result_types-ReactomeAnalysisResult-method | 0.354 | 0.021 | 0.580 | |
| result_types | 0.349 | 0.021 | 0.562 | |
| set_method-ReactomeAnalysisRequest-method | 0.003 | 0.004 | 0.011 | |
| set_method | 0.003 | 0.003 | 0.013 | |
| set_parameters-ReactomeAnalysisRequest-method | 0.003 | 0.001 | 0.004 | |
| set_parameters | 0.003 | 0.000 | 0.011 | |
| show-ReactomeAnalysisRequest-method | 0.004 | 0.002 | 0.012 | |
| show-ReactomeAnalysisResult-method | 0.364 | 0.022 | 0.584 | |