Back to Multiple platform build/check report for BioC 3.22:   simplified   long
ABCDEFGHIJKLMNOPQ[R]STUVWXYZ

This page was generated on 2025-11-01 12:03 -0400 (Sat, 01 Nov 2025).

HostnameOSArch (*)R versionInstalled pkgs
nebbiolo2Linux (Ubuntu 24.04.3 LTS)x86_644.5.1 Patched (2025-08-23 r88802) -- "Great Square Root" 4901
lconwaymacOS 12.7.6 Montereyx86_644.5.1 Patched (2025-09-10 r88807) -- "Great Square Root" 4691
kjohnson3macOS 13.7.7 Venturaarm644.5.1 Patched (2025-09-10 r88807) -- "Great Square Root" 4637
Click on any hostname to see more info about the system (e.g. compilers)      (*) as reported by 'uname -p', except on Windows and Mac OS X

Package 1743/2361HostnameOS / ArchINSTALLBUILDCHECKBUILD BIN
ReactomeGSA 1.24.0  (landing page)
Johannes Griss
Snapshot Date: 2025-10-31 13:45 -0400 (Fri, 31 Oct 2025)
git_url: https://git.bioconductor.org/packages/ReactomeGSA
git_branch: RELEASE_3_22
git_last_commit: b801062
git_last_commit_date: 2025-10-29 10:54:21 -0400 (Wed, 29 Oct 2025)
nebbiolo2Linux (Ubuntu 24.04.3 LTS) / x86_64  OK    OK    OK  UNNEEDED, same version is already published
lconwaymacOS 12.7.6 Monterey / x86_64  OK    OK    OK    OK  UNNEEDED, same version is already published
kjohnson3macOS 13.7.7 Ventura / arm64  OK    OK    OK    OK  UNNEEDED, same version is already published


CHECK results for ReactomeGSA on nebbiolo2

To the developers/maintainers of the ReactomeGSA package:
- Allow up to 24 hours (and sometimes 48 hours) for your latest push to git@git.bioconductor.org:packages/ReactomeGSA.git to reflect on this report. See Troubleshooting Build Report for more information.
- Use the following Renviron settings to reproduce errors and warnings.
- If 'R CMD check' started to fail recently on the Linux builder(s) over a missing dependency, add the missing dependency to 'Suggests:' in your DESCRIPTION file. See Renviron.bioc for more information.

raw results


Summary

Package: ReactomeGSA
Version: 1.24.0
Command: /home/biocbuild/bbs-3.22-bioc/R/bin/R CMD check --install=check:ReactomeGSA.install-out.txt --library=/home/biocbuild/bbs-3.22-bioc/R/site-library --timings ReactomeGSA_1.24.0.tar.gz
StartedAt: 2025-11-01 03:17:19 -0400 (Sat, 01 Nov 2025)
EndedAt: 2025-11-01 03:36:14 -0400 (Sat, 01 Nov 2025)
EllapsedTime: 1134.4 seconds
RetCode: 0
Status:   OK  
CheckDir: ReactomeGSA.Rcheck
Warnings: 0

Command output

##############################################################################
##############################################################################
###
### Running command:
###
###   /home/biocbuild/bbs-3.22-bioc/R/bin/R CMD check --install=check:ReactomeGSA.install-out.txt --library=/home/biocbuild/bbs-3.22-bioc/R/site-library --timings ReactomeGSA_1.24.0.tar.gz
###
##############################################################################
##############################################################################


* using log directory ‘/home/biocbuild/bbs-3.22-bioc/meat/ReactomeGSA.Rcheck’
* using R version 4.5.1 Patched (2025-08-23 r88802)
* using platform: x86_64-pc-linux-gnu
* R was compiled by
    gcc (Ubuntu 13.3.0-6ubuntu2~24.04) 13.3.0
    GNU Fortran (Ubuntu 13.3.0-6ubuntu2~24.04) 13.3.0
* running under: Ubuntu 24.04.3 LTS
* using session charset: UTF-8
* checking for file ‘ReactomeGSA/DESCRIPTION’ ... OK
* checking extension type ... Package
* this is package ‘ReactomeGSA’ version ‘1.24.0’
* package encoding: UTF-8
* checking package namespace information ... OK
* checking package dependencies ... OK
* checking if this is a source package ... OK
* checking if there is a namespace ... OK
* checking for hidden files and directories ... OK
* checking for portable file names ... OK
* checking for sufficient/correct file permissions ... OK
* checking whether package ‘ReactomeGSA’ can be installed ... OK
* checking installed package size ... OK
* checking package directory ... OK
* checking ‘build’ directory ... OK
* checking DESCRIPTION meta-information ... OK
* checking top-level files ... OK
* checking for left-over files ... OK
* checking index information ... OK
* checking package subdirectories ... OK
* checking code files for non-ASCII characters ... OK
* checking R files for syntax errors ... OK
* checking whether the package can be loaded ... OK
* checking whether the package can be loaded with stated dependencies ... OK
* checking whether the package can be unloaded cleanly ... OK
* checking whether the namespace can be loaded with stated dependencies ... OK
* checking whether the namespace can be unloaded cleanly ... OK
* checking loading without being on the library search path ... OK
* checking whether startup messages can be suppressed ... OK
* checking dependencies in R code ... OK
* checking S3 generic/method consistency ... OK
* checking replacement functions ... OK
* checking foreign function calls ... OK
* checking R code for possible problems ... NOTE
plot_correlations,ReactomeAnalysisResult: no visible binding for global
  variable ‘combined_sig’
plot_correlations,ReactomeAnalysisResult: no visible binding for global
  variable ‘alpha’
plot_gsva_pathway,ReactomeAnalysisResult: no visible binding for global
  variable ‘cluster_id’
plot_gsva_pathway,ReactomeAnalysisResult: no visible binding for global
  variable ‘expr’
plot_gsva_pca,ReactomeAnalysisResult: no visible binding for global
  variable ‘gsva_result’
plot_gsva_pca,ReactomeAnalysisResult: no visible binding for global
  variable ‘PC1’
plot_gsva_pca,ReactomeAnalysisResult: no visible binding for global
  variable ‘PC2’
plot_heatmap,ReactomeAnalysisResult: no visible global function
  definition for ‘desc’
plot_heatmap,ReactomeAnalysisResult: no visible binding for global
  variable ‘n_sig’
plot_heatmap,ReactomeAnalysisResult: no visible binding for global
  variable ‘dataset’
plot_heatmap,ReactomeAnalysisResult: no visible binding for global
  variable ‘Name’
plot_volcano,ReactomeAnalysisResult: no visible binding for global
  variable ‘av_foldchange’
plot_volcano,ReactomeAnalysisResult: no visible binding for global
  variable ‘FDR’
Undefined global functions or variables:
  FDR Name PC1 PC2 alpha av_foldchange cluster_id combined_sig dataset
  desc expr gsva_result n_sig
* checking Rd files ... OK
* checking Rd metadata ... OK
* checking Rd cross-references ... OK
* checking for missing documentation entries ... OK
* checking for code/documentation mismatches ... OK
* checking Rd \usage sections ... OK
* checking Rd contents ... OK
* checking for unstated dependencies in examples ... OK
* checking files in ‘vignettes’ ... OK
* checking examples ... OK
Examples with CPU (user + system) or elapsed time > 5s
                                                  user system elapsed
plot_gsva_heatmap-ReactomeAnalysisResult-method 38.079  2.768 106.191
plot_gsva_heatmap                               34.349  1.783  70.700
plot_gsva_pathway-ReactomeAnalysisResult-method 32.911  3.162  68.215
plot_gsva_pca                                   32.791  2.731  73.925
plot_gsva_pathway                               32.281  2.973  67.296
analyse_sc_clusters-Seurat-method               33.086  1.403  77.532
plot_gsva_pca-ReactomeAnalysisResult-method     32.090  2.220  68.037
analyse_sc_clusters-SingleCellExperiment-method 32.293  1.831  69.179
analyse_sc_clusters                             30.730  1.373  66.723
generate_pseudo_bulk_data                       13.294  1.447  14.746
perform_reactome_analysis                        6.553  1.211  54.848
load_public_dataset                              4.990  0.782  45.715
ReactomeAnalysisRequest                          4.850  0.255   5.107
find_public_datasets                             0.358  0.076   5.898
* checking for unstated dependencies in ‘tests’ ... OK
* checking tests ...
  Running ‘testthat.R’
 OK
* checking for unstated dependencies in vignettes ... OK
* checking package vignettes ... OK
* checking re-building of vignette outputs ... OK
* checking PDF version of manual ... OK
* DONE

Status: 1 NOTE
See
  ‘/home/biocbuild/bbs-3.22-bioc/meat/ReactomeGSA.Rcheck/00check.log’
for details.


Installation output

ReactomeGSA.Rcheck/00install.out

##############################################################################
##############################################################################
###
### Running command:
###
###   /home/biocbuild/bbs-3.22-bioc/R/bin/R CMD INSTALL ReactomeGSA
###
##############################################################################
##############################################################################


* installing to library ‘/home/biocbuild/bbs-3.22-bioc/R/site-library’
* installing *source* package ‘ReactomeGSA’ ...
** this is package ‘ReactomeGSA’ version ‘1.24.0’
** using staged installation
** R
** inst
** byte-compile and prepare package for lazy loading
in method for ‘analyse_sc_clusters’ with signature ‘object="Seurat"’: no definition for class “Seurat”
in method for ‘analyse_sc_clusters’ with signature ‘object="SingleCellExperiment"’: no definition for class “SingleCellExperiment”
in method for ‘add_dataset’ with signature ‘request="ReactomeAnalysisRequest",expression_values="EList"’: no definition for class “EList”
in method for ‘add_dataset’ with signature ‘request="ReactomeAnalysisRequest",expression_values="DGEList"’: no definition for class “DGEList”
in method for ‘generate_pseudo_bulk_data’ with signature ‘object="Seurat"’: no definition for class “Seurat”
in method for ‘generate_pseudo_bulk_data’ with signature ‘object="SingleCellExperiment"’: no definition for class “SingleCellExperiment”
** help
*** installing help indices
** building package indices
** installing vignettes
** testing if installed package can be loaded from temporary location
** testing if installed package can be loaded from final location
** testing if installed package keeps a record of temporary installation path
* DONE (ReactomeGSA)

Tests output

ReactomeGSA.Rcheck/tests/testthat.Rout


R version 4.5.1 Patched (2025-08-23 r88802) -- "Great Square Root"
Copyright (C) 2025 The R Foundation for Statistical Computing
Platform: x86_64-pc-linux-gnu

R is free software and comes with ABSOLUTELY NO WARRANTY.
You are welcome to redistribute it under certain conditions.
Type 'license()' or 'licence()' for distribution details.

R is a collaborative project with many contributors.
Type 'contributors()' for more information and
'citation()' on how to cite R or R packages in publications.

Type 'demo()' for some demos, 'help()' for on-line help, or
'help.start()' for an HTML browser interface to help.
Type 'q()' to quit R.

> library(testthat)
> library(ReactomeGSA)
> 
> test_check("ReactomeGSA")
[ FAIL 0 | WARN 0 | SKIP 0 | PASS 17 ]
> 
> proc.time()
   user  system elapsed 
  1.742   0.098   1.829 

Example timings

ReactomeGSA.Rcheck/ReactomeGSA-Ex.timings

nameusersystemelapsed
ReactomeAnalysisRequest4.8500.2555.107
ReactomeAnalysisResult-class0.2030.0010.204
add_dataset-ReactomeAnalysisRequest-DGEList-method0.8560.0150.873
add_dataset-ReactomeAnalysisRequest-EList-method0.5130.0020.514
add_dataset-ReactomeAnalysisRequest-ExpressionSet-method0.4950.0270.522
add_dataset-ReactomeAnalysisRequest-data.frame-method0.5050.0040.509
add_dataset-ReactomeAnalysisRequest-matrix-method0.5180.0050.523
add_dataset0.4980.0040.502
analyse_sc_clusters-Seurat-method33.086 1.40377.532
analyse_sc_clusters-SingleCellExperiment-method32.293 1.83169.179
analyse_sc_clusters30.730 1.37366.723
find_public_datasets0.3580.0765.898
generate_metadata0.0010.0000.002
generate_pseudo_bulk_data13.294 1.44714.746
get_public_species0.1580.0330.688
get_reactome_data_types0.3670.0331.293
get_reactome_methods0.4240.0481.983
get_result-ReactomeAnalysisResult-method0.5480.1200.668
get_result0.2390.0040.243
load_public_dataset 4.990 0.78245.715
names-ReactomeAnalysisResult-method0.2590.0820.341
open_reactome-ReactomeAnalysisResult-method0.2410.0340.274
open_reactome0.2390.0120.250
pathways-ReactomeAnalysisResult-method0.3090.0620.372
pathways0.2460.0520.297
perform_reactome_analysis 6.553 1.21154.848
plot_correlations-ReactomeAnalysisResult-method0.2990.0240.324
plot_correlations0.2670.0280.295
plot_gsva_heatmap-ReactomeAnalysisResult-method 38.079 2.768106.191
plot_gsva_heatmap34.349 1.78370.700
plot_gsva_pathway-ReactomeAnalysisResult-method32.911 3.16268.215
plot_gsva_pathway32.281 2.97367.296
plot_gsva_pca-ReactomeAnalysisResult-method32.090 2.22068.037
plot_gsva_pca32.791 2.73173.925
plot_heatmap-ReactomeAnalysisResult-method0.5610.0820.643
plot_heatmap0.6350.1800.814
plot_volcano-ReactomeAnalysisResult-method0.2290.0380.267
plot_volcano0.2440.0470.290
print-ReactomeAnalysisRequest-method0.0010.0010.003
print-ReactomeAnalysisResult-method0.2180.0240.241
reactome_links-ReactomeAnalysisResult-method0.2160.0130.230
reactome_links0.2190.0100.230
result_types-ReactomeAnalysisResult-method0.2400.0180.258
result_types0.2130.0140.228
set_method-ReactomeAnalysisRequest-method0.0020.0010.002
set_method0.0020.0000.002
set_parameters-ReactomeAnalysisRequest-method0.0020.0000.002
set_parameters0.0020.0000.002
show-ReactomeAnalysisRequest-method0.0010.0000.002
show-ReactomeAnalysisResult-method0.2100.0160.227