Back to Multiple platform build/check report for BioC 3.21:   simplified   long
ABCDEFGHIJKLMNOPQ[R]STUVWXYZ

This page was generated on 2025-10-06 11:38 -0400 (Mon, 06 Oct 2025).

HostnameOSArch (*)R versionInstalled pkgs
nebbiolo1Linux (Ubuntu 24.04.3 LTS)x86_644.5.1 (2025-06-13) -- "Great Square Root" 4832
merida1macOS 12.7.5 Montereyx86_644.5.1 RC (2025-06-05 r88288) -- "Great Square Root" 4613
kjohnson1macOS 13.6.6 Venturaarm644.5.1 Patched (2025-06-14 r88325) -- "Great Square Root" 4554
kunpeng2Linux (openEuler 24.03 LTS)aarch64R Under development (unstable) (2025-02-19 r87757) -- "Unsuffered Consequences" 4585
Click on any hostname to see more info about the system (e.g. compilers)      (*) as reported by 'uname -p', except on Windows and Mac OS X

Package 1685/2341HostnameOS / ArchINSTALLBUILDCHECKBUILD BIN
RAIDS 1.6.1  (landing page)
Pascal Belleau
Snapshot Date: 2025-10-02 13:40 -0400 (Thu, 02 Oct 2025)
git_url: https://git.bioconductor.org/packages/RAIDS
git_branch: RELEASE_3_21
git_last_commit: cf24404
git_last_commit_date: 2025-04-15 22:57:27 -0400 (Tue, 15 Apr 2025)
nebbiolo1Linux (Ubuntu 24.04.3 LTS) / x86_64  OK    OK    OK  UNNEEDED, same version is already published
merida1macOS 12.7.5 Monterey / x86_64  OK    OK    OK    OK  UNNEEDED, same version is already published
kjohnson1macOS 13.6.6 Ventura / arm64  OK    OK    OK    OK  UNNEEDED, same version is already published
kunpeng2Linux (openEuler 24.03 LTS) / aarch64  OK    OK    OK  


CHECK results for RAIDS on nebbiolo1

To the developers/maintainers of the RAIDS package:
- Allow up to 24 hours (and sometimes 48 hours) for your latest push to git@git.bioconductor.org:packages/RAIDS.git to reflect on this report. See Troubleshooting Build Report for more information.
- Use the following Renviron settings to reproduce errors and warnings.
- If 'R CMD check' started to fail recently on the Linux builder(s) over a missing dependency, add the missing dependency to 'Suggests:' in your DESCRIPTION file. See Renviron.bioc for more information.

raw results


Summary

Package: RAIDS
Version: 1.6.1
Command: /home/biocbuild/bbs-3.21-bioc/R/bin/R CMD check --install=check:RAIDS.install-out.txt --library=/home/biocbuild/bbs-3.21-bioc/R/site-library --timings RAIDS_1.6.1.tar.gz
StartedAt: 2025-10-06 02:32:28 -0400 (Mon, 06 Oct 2025)
EndedAt: 2025-10-06 02:41:02 -0400 (Mon, 06 Oct 2025)
EllapsedTime: 513.0 seconds
RetCode: 0
Status:   OK  
CheckDir: RAIDS.Rcheck
Warnings: 0

Command output

##############################################################################
##############################################################################
###
### Running command:
###
###   /home/biocbuild/bbs-3.21-bioc/R/bin/R CMD check --install=check:RAIDS.install-out.txt --library=/home/biocbuild/bbs-3.21-bioc/R/site-library --timings RAIDS_1.6.1.tar.gz
###
##############################################################################
##############################################################################


* using log directory ‘/home/biocbuild/bbs-3.21-bioc/meat/RAIDS.Rcheck’
* using R version 4.5.1 (2025-06-13)
* using platform: x86_64-pc-linux-gnu
* R was compiled by
    gcc (Ubuntu 13.3.0-6ubuntu2~24.04) 13.3.0
    GNU Fortran (Ubuntu 13.3.0-6ubuntu2~24.04) 13.3.0
* running under: Ubuntu 24.04.3 LTS
* using session charset: UTF-8
* checking for file ‘RAIDS/DESCRIPTION’ ... OK
* checking extension type ... Package
* this is package ‘RAIDS’ version ‘1.6.1’
* package encoding: UTF-8
* checking package namespace information ... OK
* checking package dependencies ... OK
* checking if this is a source package ... OK
* checking if there is a namespace ... OK
* checking for hidden files and directories ... OK
* checking for portable file names ... OK
* checking for sufficient/correct file permissions ... OK
* checking whether package ‘RAIDS’ can be installed ... OK
* checking installed package size ... OK
* checking package directory ... OK
* checking ‘build’ directory ... OK
* checking DESCRIPTION meta-information ... OK
* checking top-level files ... OK
* checking for left-over files ... OK
* checking index information ... OK
* checking package subdirectories ... OK
* checking code files for non-ASCII characters ... OK
* checking R files for syntax errors ... OK
* checking whether the package can be loaded ... OK
* checking whether the package can be loaded with stated dependencies ... OK
* checking whether the package can be unloaded cleanly ... OK
* checking whether the namespace can be loaded with stated dependencies ... OK
* checking whether the namespace can be unloaded cleanly ... OK
* checking loading without being on the library search path ... OK
* checking dependencies in R code ... OK
* checking S3 generic/method consistency ... OK
* checking replacement functions ... OK
* checking foreign function calls ... OK
* checking R code for possible problems ... OK
* checking Rd files ... OK
* checking Rd metadata ... OK
* checking Rd cross-references ... OK
* checking for missing documentation entries ... OK
* checking for code/documentation mismatches ... OK
* checking Rd \usage sections ... NOTE
Documented arguments not in \usage in Rd file 'wrapperAncestry.Rd':
  ‘pathGeno’

Functions with \usage entries need to have the appropriate \alias
entries, and all their arguments documented.
The \usage entries must correspond to syntactically valid R code.
See chapter ‘Writing R documentation files’ in the ‘Writing R
Extensions’ manual.
* checking Rd contents ... OK
* checking for unstated dependencies in examples ... OK
* checking contents of ‘data’ directory ... OK
* checking data for non-ASCII characters ... OK
* checking data for ASCII and uncompressed saves ... OK
* checking files in ‘vignettes’ ... OK
* checking examples ... OK
Examples with CPU (user + system) or elapsed time > 5s
                                  user system elapsed
computeAncestryFromSyntheticFile 5.167  0.335   5.503
* checking for unstated dependencies in ‘tests’ ... OK
* checking tests ...
  Running ‘testthat.R’
 OK
* checking for unstated dependencies in vignettes ... OK
* checking package vignettes ... OK
* checking re-building of vignette outputs ... OK
* checking PDF version of manual ... OK
* DONE

Status: 1 NOTE
See
  ‘/home/biocbuild/bbs-3.21-bioc/meat/RAIDS.Rcheck/00check.log’
for details.


Installation output

RAIDS.Rcheck/00install.out

##############################################################################
##############################################################################
###
### Running command:
###
###   /home/biocbuild/bbs-3.21-bioc/R/bin/R CMD INSTALL RAIDS
###
##############################################################################
##############################################################################


* installing to library ‘/home/biocbuild/bbs-3.21-bioc/R/site-library’
* installing *source* package ‘RAIDS’ ...
** this is package ‘RAIDS’ version ‘1.6.1’
** using staged installation
** R
** data
** inst
** byte-compile and prepare package for lazy loading
** help
*** installing help indices
** building package indices
** installing vignettes
** testing if installed package can be loaded from temporary location
** testing if installed package can be loaded from final location
** testing if installed package keeps a record of temporary installation path
* DONE (RAIDS)

Tests output

RAIDS.Rcheck/tests/testthat.Rout


R version 4.5.1 (2025-06-13) -- "Great Square Root"
Copyright (C) 2025 The R Foundation for Statistical Computing
Platform: x86_64-pc-linux-gnu

R is free software and comes with ABSOLUTELY NO WARRANTY.
You are welcome to redistribute it under certain conditions.
Type 'license()' or 'licence()' for distribution details.

R is a collaborative project with many contributors.
Type 'contributors()' for more information and
'citation()' on how to cite R or R packages in publications.

Type 'demo()' for some demos, 'help()' for on-line help, or
'help.start()' for an HTML browser interface to help.
Type 'q()' to quit R.

> library(testthat)
> library(RAIDS)
Loading required package: gdsfmt
Loading required package: SNPRelate
SNPRelate -- supported by Streaming SIMD Extensions 2 (SSE2)
Loading required package: GENESIS
Loading required package: dplyr

Attaching package: 'dplyr'

The following object is masked from 'package:testthat':

    matches

The following objects are masked from 'package:stats':

    filter, lag

The following objects are masked from 'package:base':

    intersect, setdiff, setequal, union

Loading required package: Rsamtools
Loading required package: GenomeInfoDb
Loading required package: BiocGenerics
Loading required package: generics

Attaching package: 'generics'

The following object is masked from 'package:dplyr':

    explain

The following objects are masked from 'package:base':

    as.difftime, as.factor, as.ordered, intersect, is.element, setdiff,
    setequal, union


Attaching package: 'BiocGenerics'

The following object is masked from 'package:dplyr':

    combine

The following objects are masked from 'package:stats':

    IQR, mad, sd, var, xtabs

The following objects are masked from 'package:base':

    Filter, Find, Map, Position, Reduce, anyDuplicated, aperm, append,
    as.data.frame, basename, cbind, colnames, dirname, do.call,
    duplicated, eval, evalq, get, grep, grepl, is.unsorted, lapply,
    mapply, match, mget, order, paste, pmax, pmax.int, pmin, pmin.int,
    rank, rbind, rownames, sapply, saveRDS, table, tapply, unique,
    unsplit, which.max, which.min

Loading required package: S4Vectors
Loading required package: stats4

Attaching package: 'S4Vectors'

The following objects are masked from 'package:dplyr':

    first, rename

The following object is masked from 'package:utils':

    findMatches

The following objects are masked from 'package:base':

    I, expand.grid, unname

Loading required package: IRanges

Attaching package: 'IRanges'

The following objects are masked from 'package:dplyr':

    collapse, desc, slice

Loading required package: GenomicRanges
Loading required package: Biostrings
Loading required package: XVector

Attaching package: 'Biostrings'

The following object is masked from 'package:base':

    strsplit

> 
> ## Run all unit tests
> test_check("RAIDS")

Attaching package: 'Matrix'

The following object is masked from 'package:S4Vectors':

    expand

[ FAIL 0 | WARN 0 | SKIP 0 | PASS 445 ]
> 
> proc.time()
   user  system elapsed 
 28.914   2.490  31.394 

Example timings

RAIDS.Rcheck/RAIDS-Ex.timings

nameusersystemelapsed
add1KG2SampleGDS0.0440.0260.078
addBlockFromDetFile0.0030.0010.004
addBlockInGDSAnnot0.0040.0020.007
addGDS1KGLDBlock0.0020.0000.002
addGDSRef0.0030.0010.004
addGDSStudyPruning0.0010.0010.002
addGeneBlockGDSRefAnnot0.7840.2501.040
addGeneBlockRefAnnot0.0020.0000.002
addRef2GDS1KG0.0050.0020.007
addStudy1Kg0.0080.0020.011
addStudyGDSSample0.0040.0030.008
addUpdateLap0.0010.0000.002
addUpdateSegment0.0000.0010.002
appendGDSRefSample0.0050.0020.007
appendGDSSampleOnly0.0010.0010.001
appendGDSgenotype0.0100.0060.016
appendGDSgenotypeMat0.0010.0010.002
calcAFMLRNA0.0050.0010.007
computeAlleleFraction0.0020.0000.002
computeAllelicFractionDNA0.1290.0380.168
computeAllelicFractionRNA0.2450.0420.287
computeAllelicImbDNAChr0.0060.0010.008
computeAncestryFromSynthetic0.0150.0060.021
computeAncestryFromSyntheticFile5.1670.3355.503
computeKNNRefSample0.0380.0130.050
computeKNNRefSynthetic1.5590.0661.624
computeLOHBlocksDNAChr0.0070.0030.011
computePCAMultiSynthetic0.0080.0030.010
computePCARefRMMulti0.1480.0160.163
computePCARefSample0.1870.0020.189
computePoolSyntheticAncestryGr0.4680.0060.474
computeSyntheticConfMat0.0130.0020.016
computeSyntheticROC0.0380.0030.041
createAUROCGraph1.0570.0921.149
createAccuracyGraph0.8510.0270.880
createProfile0.0500.0030.056
createStudy2GDS1KG1.1650.4001.564
demoKnownSuperPop1KG1.4360.0151.451
demoPCA1KG0.0070.0020.009
demoPCASyntheticProfiles1.4840.0201.505
demoPedigreeEx10.0150.0020.018
estimateAllelicFraction0.0770.0030.080
extractNucleotide0.0000.0000.001
generateGDS1KG0.0070.0050.013
generateGDS1KGgenotypeFromSNPPileup0.0400.0040.044
generateGDSRefSample0.0050.0000.004
generateGDSSNPinfo0.0020.0020.004
generateGDSgenotype0.0110.0010.012
generateGeneBlock0.0000.0010.002
generateMapSnvSel0.0030.0000.003
generatePhase1KG2GDS0.0100.0030.013
generatePhaseRef0.0110.0010.013
generateProfileGDS0.0420.0000.042
getBlockIDs0.0020.0010.003
getRef1KGPop0.0010.0020.003
getRefSuperPop0.0030.0010.003
getTableSNV0.0090.0030.012
groupChr1KGSNV0.0470.0150.061
identifyRelative0.0260.0050.032
identifyRelativeRef0.0050.0020.007
inferAncestry0.0140.0000.013
inferAncestryDNA0.0130.0010.013
inferAncestryGeneAware0.0110.0030.013
matKNNSynthetic0.0380.0020.040
pedSynthetic0.0330.0060.040
prepPed1KG0.0040.0010.005
prepPedSynthetic1KG0.0050.0010.006
prepSynthetic0.0110.0020.013
processBlockChr0.0020.0030.004
processPileupChrBin3.2850.2103.495
profileAncestry0.0190.0010.019
pruning1KGbyChr0.0020.0030.005
pruningSample0.0360.0140.050
readSNVBAM0.0010.0000.001
readSNVFileGeneric0.0040.0000.004
readSNVPileupFile0.0320.0030.035
readSNVVCF4.8740.0664.940
runExomeAncestry0.0140.0020.017
runIBDKING0.0520.0040.058
runLDPruning0.0210.0030.025
runProfileAncestry0.0160.0030.018
runRNAAncestry0.0140.0020.016
runWrapperAncestry0.0150.0020.016
selParaPCAUpQuartile4.6600.1224.783
select1KGPop0.0040.0010.005
select1KGPopForSynthetic0.0030.0020.006
snpPositionDemo0.0020.0010.003
snvListVCF0.0030.0020.004
splitSelectByPop0.0010.0010.001
syntheticGeno0.0280.0030.030
tableBlockAF0.0200.0020.021
testAlleleFractionChange0.0020.0000.001
testEmptyBox0.0000.0020.002
validateAdd1KG2SampleGDS0.0010.0010.002
validateAddStudy1Kg0.0010.0010.002
validateCharacterString000
validateComputeAncestryFromSyntheticFile0.0010.0010.003
validateComputeKNNRefSample0.0040.0000.005
validateComputeKNNRefSynthetic0.0030.0030.006
validateComputePCAMultiSynthetic0.0040.0010.005
validateComputePCARefSample0.0020.0000.001
validateComputePoolSyntheticAncestryGr0.0020.0000.002
validateComputeSyntheticRoc0.0090.0040.012
validateCreateAccuracyGraph0.0020.0000.001
validateCreateStudy2GDS1KG0.0020.0010.002
validateDataRefSynParameter0.0000.0010.001
validateEstimateAllelicFraction0.0020.0030.004
validateGDSClass0.0010.0010.001
validateGenerateGDS1KG0.0020.0000.001
validateLogical000
validatePEDStudyParameter0.0000.0010.000
validatePepSynthetic0.0020.0000.001
validatePositiveIntegerVector000
validatePrepPed1KG0.0010.0000.001
validateProfileGDSExist0.0010.0000.001
validatePruningSample0.0010.0010.002
validateRunExomeOrRNAAncestry0.0030.0020.005
validateSingleRatio000
validateStudyDataFrameParameter0.0000.0000.001
validateSyntheticGeno0.0020.0000.002
validatecreateProfile0.0020.0000.002
wrapperAncestry0.0140.0030.016