Back to Multiple platform build/check report for BioC 3.21:   simplified   long
ABCDEFGHIJKLMNOPQ[R]STUVWXYZ

This page was generated on 2025-10-06 11:40 -0400 (Mon, 06 Oct 2025).

HostnameOSArch (*)R versionInstalled pkgs
nebbiolo1Linux (Ubuntu 24.04.3 LTS)x86_644.5.1 (2025-06-13) -- "Great Square Root" 4832
merida1macOS 12.7.5 Montereyx86_644.5.1 RC (2025-06-05 r88288) -- "Great Square Root" 4613
kjohnson1macOS 13.6.6 Venturaarm644.5.1 Patched (2025-06-14 r88325) -- "Great Square Root" 4554
kunpeng2Linux (openEuler 24.03 LTS)aarch64R Under development (unstable) (2025-02-19 r87757) -- "Unsuffered Consequences" 4585
Click on any hostname to see more info about the system (e.g. compilers)      (*) as reported by 'uname -p', except on Windows and Mac OS X

Package 1685/2341HostnameOS / ArchINSTALLBUILDCHECKBUILD BIN
RAIDS 1.6.1  (landing page)
Pascal Belleau
Snapshot Date: 2025-10-02 13:40 -0400 (Thu, 02 Oct 2025)
git_url: https://git.bioconductor.org/packages/RAIDS
git_branch: RELEASE_3_21
git_last_commit: cf24404
git_last_commit_date: 2025-04-15 22:57:27 -0400 (Tue, 15 Apr 2025)
nebbiolo1Linux (Ubuntu 24.04.3 LTS) / x86_64  OK    OK    OK  UNNEEDED, same version is already published
merida1macOS 12.7.5 Monterey / x86_64  OK    OK    OK    OK  UNNEEDED, same version is already published
kjohnson1macOS 13.6.6 Ventura / arm64  OK    OK    OK    OK  UNNEEDED, same version is already published
kunpeng2Linux (openEuler 24.03 LTS) / aarch64  OK    OK    OK  


CHECK results for RAIDS on kjohnson1

To the developers/maintainers of the RAIDS package:
- Allow up to 24 hours (and sometimes 48 hours) for your latest push to git@git.bioconductor.org:packages/RAIDS.git to reflect on this report. See Troubleshooting Build Report for more information.
- Use the following Renviron settings to reproduce errors and warnings.
- If 'R CMD check' started to fail recently on the Linux builder(s) over a missing dependency, add the missing dependency to 'Suggests:' in your DESCRIPTION file. See Renviron.bioc for more information.

raw results


Summary

Package: RAIDS
Version: 1.6.1
Command: /Library/Frameworks/R.framework/Resources/bin/R CMD check --install=check:RAIDS.install-out.txt --library=/Library/Frameworks/R.framework/Resources/library --no-vignettes --timings RAIDS_1.6.1.tar.gz
StartedAt: 2025-10-04 08:27:39 -0400 (Sat, 04 Oct 2025)
EndedAt: 2025-10-04 08:35:48 -0400 (Sat, 04 Oct 2025)
EllapsedTime: 489.6 seconds
RetCode: 0
Status:   OK  
CheckDir: RAIDS.Rcheck
Warnings: 0

Command output

##############################################################################
##############################################################################
###
### Running command:
###
###   /Library/Frameworks/R.framework/Resources/bin/R CMD check --install=check:RAIDS.install-out.txt --library=/Library/Frameworks/R.framework/Resources/library --no-vignettes --timings RAIDS_1.6.1.tar.gz
###
##############################################################################
##############################################################################


* using log directory ‘/Users/biocbuild/bbs-3.21-bioc/meat/RAIDS.Rcheck’
* using R version 4.5.1 Patched (2025-06-14 r88325)
* using platform: aarch64-apple-darwin20
* R was compiled by
    Apple clang version 16.0.0 (clang-1600.0.26.6)
    GNU Fortran (GCC) 14.2.0
* running under: macOS Ventura 13.7.5
* using session charset: UTF-8
* using option ‘--no-vignettes’
* checking for file ‘RAIDS/DESCRIPTION’ ... OK
* checking extension type ... Package
* this is package ‘RAIDS’ version ‘1.6.1’
* package encoding: UTF-8
* checking package namespace information ... OK
* checking package dependencies ... OK
* checking if this is a source package ... OK
* checking if there is a namespace ... OK
* checking for hidden files and directories ... OK
* checking for portable file names ... OK
* checking for sufficient/correct file permissions ... OK
* checking whether package ‘RAIDS’ can be installed ... OK
* checking installed package size ... OK
* checking package directory ... OK
* checking ‘build’ directory ... OK
* checking DESCRIPTION meta-information ... OK
* checking top-level files ... OK
* checking for left-over files ... OK
* checking index information ... OK
* checking package subdirectories ... OK
* checking code files for non-ASCII characters ... OK
* checking R files for syntax errors ... OK
* checking whether the package can be loaded ... OK
* checking whether the package can be loaded with stated dependencies ... OK
* checking whether the package can be unloaded cleanly ... OK
* checking whether the namespace can be loaded with stated dependencies ... OK
* checking whether the namespace can be unloaded cleanly ... OK
* checking dependencies in R code ... OK
* checking S3 generic/method consistency ... OK
* checking replacement functions ... OK
* checking foreign function calls ... OK
* checking R code for possible problems ... OK
* checking Rd files ... OK
* checking Rd metadata ... OK
* checking Rd cross-references ... OK
* checking for missing documentation entries ... OK
* checking for code/documentation mismatches ... OK
* checking Rd \usage sections ... NOTE
Documented arguments not in \usage in Rd file 'wrapperAncestry.Rd':
  ‘pathGeno’

Functions with \usage entries need to have the appropriate \alias
entries, and all their arguments documented.
The \usage entries must correspond to syntactically valid R code.
See chapter ‘Writing R documentation files’ in the ‘Writing R
Extensions’ manual.
* checking Rd contents ... OK
* checking for unstated dependencies in examples ... OK
* checking contents of ‘data’ directory ... OK
* checking data for non-ASCII characters ... OK
* checking data for ASCII and uncompressed saves ... OK
* checking files in ‘vignettes’ ... OK
* checking examples ... OK
Examples with CPU (user + system) or elapsed time > 5s
                                  user system elapsed
computeAncestryFromSyntheticFile 6.248  0.283   6.690
readSNVVCF                       5.073  0.079   5.224
selParaPCAUpQuartile             4.910  0.067   5.038
* checking for unstated dependencies in ‘tests’ ... OK
* checking tests ...
  Running ‘testthat.R’
 OK
* checking for unstated dependencies in vignettes ... OK
* checking package vignettes ... OK
* checking running R code from vignettes ... SKIPPED
* checking re-building of vignette outputs ... SKIPPED
* checking PDF version of manual ... OK
* DONE

Status: 1 NOTE
See
  ‘/Users/biocbuild/bbs-3.21-bioc/meat/RAIDS.Rcheck/00check.log’
for details.


Installation output

RAIDS.Rcheck/00install.out

##############################################################################
##############################################################################
###
### Running command:
###
###   /Library/Frameworks/R.framework/Resources/bin/R CMD INSTALL RAIDS
###
##############################################################################
##############################################################################


* installing to library ‘/Library/Frameworks/R.framework/Versions/4.5-arm64/Resources/library’
* installing *source* package ‘RAIDS’ ...
** this is package ‘RAIDS’ version ‘1.6.1’
** using staged installation
** R
** data
** inst
** byte-compile and prepare package for lazy loading
** help
*** installing help indices
** building package indices
** installing vignettes
** testing if installed package can be loaded from temporary location
** testing if installed package can be loaded from final location
** testing if installed package keeps a record of temporary installation path
* DONE (RAIDS)

Tests output

RAIDS.Rcheck/tests/testthat.Rout


R version 4.5.1 Patched (2025-06-14 r88325) -- "Great Square Root"
Copyright (C) 2025 The R Foundation for Statistical Computing
Platform: aarch64-apple-darwin20

R is free software and comes with ABSOLUTELY NO WARRANTY.
You are welcome to redistribute it under certain conditions.
Type 'license()' or 'licence()' for distribution details.

R is a collaborative project with many contributors.
Type 'contributors()' for more information and
'citation()' on how to cite R or R packages in publications.

Type 'demo()' for some demos, 'help()' for on-line help, or
'help.start()' for an HTML browser interface to help.
Type 'q()' to quit R.

> library(testthat)
> library(RAIDS)
Loading required package: gdsfmt
Loading required package: SNPRelate
Loading required package: GENESIS
Loading required package: dplyr

Attaching package: 'dplyr'

The following object is masked from 'package:testthat':

    matches

The following objects are masked from 'package:stats':

    filter, lag

The following objects are masked from 'package:base':

    intersect, setdiff, setequal, union

Loading required package: Rsamtools
Loading required package: GenomeInfoDb
Loading required package: BiocGenerics
Loading required package: generics

Attaching package: 'generics'

The following object is masked from 'package:dplyr':

    explain

The following objects are masked from 'package:base':

    as.difftime, as.factor, as.ordered, intersect, is.element, setdiff,
    setequal, union


Attaching package: 'BiocGenerics'

The following object is masked from 'package:dplyr':

    combine

The following objects are masked from 'package:stats':

    IQR, mad, sd, var, xtabs

The following objects are masked from 'package:base':

    Filter, Find, Map, Position, Reduce, anyDuplicated, aperm, append,
    as.data.frame, basename, cbind, colnames, dirname, do.call,
    duplicated, eval, evalq, get, grep, grepl, is.unsorted, lapply,
    mapply, match, mget, order, paste, pmax, pmax.int, pmin, pmin.int,
    rank, rbind, rownames, sapply, saveRDS, table, tapply, unique,
    unsplit, which.max, which.min

Loading required package: S4Vectors
Loading required package: stats4

Attaching package: 'S4Vectors'

The following objects are masked from 'package:dplyr':

    first, rename

The following object is masked from 'package:utils':

    findMatches

The following objects are masked from 'package:base':

    I, expand.grid, unname

Loading required package: IRanges

Attaching package: 'IRanges'

The following objects are masked from 'package:dplyr':

    collapse, desc, slice

Loading required package: GenomicRanges
Loading required package: Biostrings
Loading required package: XVector

Attaching package: 'Biostrings'

The following object is masked from 'package:base':

    strsplit

> 
> ## Run all unit tests
> test_check("RAIDS")

Attaching package: 'Matrix'

The following object is masked from 'package:S4Vectors':

    expand

[ FAIL 0 | WARN 0 | SKIP 0 | PASS 445 ]
> 
> proc.time()
   user  system elapsed 
 33.851   2.280  36.803 

Example timings

RAIDS.Rcheck/RAIDS-Ex.timings

nameusersystemelapsed
add1KG2SampleGDS0.0550.0200.086
addBlockFromDetFile0.0030.0030.006
addBlockInGDSAnnot0.0050.0040.011
addGDS1KGLDBlock0.0020.0010.003
addGDSRef0.0030.0020.005
addGDSStudyPruning0.0010.0020.003
addGeneBlockGDSRefAnnot1.3200.1221.516
addGeneBlockRefAnnot0.0020.0020.003
addRef2GDS1KG0.0060.0050.012
addStudy1Kg0.0120.0080.022
addStudyGDSSample0.0080.0040.014
addUpdateLap0.0010.0020.003
addUpdateSegment0.0010.0020.003
appendGDSRefSample0.0070.0030.012
appendGDSSampleOnly0.0010.0020.003
appendGDSgenotype0.0150.0100.029
appendGDSgenotypeMat0.0010.0020.003
calcAFMLRNA0.0060.0040.010
computeAlleleFraction0.0030.0010.003
computeAllelicFractionDNA0.2600.0300.345
computeAllelicFractionRNA0.1530.0090.166
computeAllelicImbDNAChr0.0060.0000.007
computeAncestryFromSynthetic0.0110.0060.019
computeAncestryFromSyntheticFile6.2480.2836.690
computeKNNRefSample0.0170.0080.027
computeKNNRefSynthetic2.8320.1463.032
computeLOHBlocksDNAChr0.0100.0010.012
computePCAMultiSynthetic0.0100.0060.017
computePCARefRMMulti0.1140.0080.125
computePCARefSample0.1490.0040.157
computePoolSyntheticAncestryGr0.3740.0090.391
computeSyntheticConfMat0.0170.0080.026
computeSyntheticROC0.0430.0090.053
createAUROCGraph1.0540.0381.116
createAccuracyGraph0.8950.0150.921
createProfile0.0720.0140.092
createStudy2GDS1KG0.0670.0140.084
demoKnownSuperPop1KG1.3700.0351.426
demoPCA1KG0.0080.0060.015
demoPCASyntheticProfiles1.3880.0281.442
demoPedigreeEx10.0150.0050.020
estimateAllelicFraction0.0810.0060.091
extractNucleotide0.0000.0000.001
generateGDS1KG0.0110.0090.022
generateGDS1KGgenotypeFromSNPPileup0.0600.0120.074
generateGDSRefSample0.0040.0030.008
generateGDSSNPinfo0.0040.0030.010
generateGDSgenotype0.0120.0070.021
generateGeneBlock0.0020.0000.002
generateMapSnvSel0.0030.0020.005
generatePhase1KG2GDS0.0120.0100.024
generatePhaseRef0.0120.0100.025
generateProfileGDS0.0600.0120.075
getBlockIDs0.0030.0010.004
getRef1KGPop0.0020.0010.004
getRefSuperPop0.0020.0010.003
getTableSNV0.0130.0030.017
groupChr1KGSNV0.0580.0640.127
identifyRelative0.0110.0040.014
identifyRelativeRef0.0070.0030.011
inferAncestry0.0130.0020.014
inferAncestryDNA0.0120.0020.014
inferAncestryGeneAware0.0130.0020.015
matKNNSynthetic0.0420.0090.050
pedSynthetic0.0440.0090.053
prepPed1KG0.0050.0020.007
prepPedSynthetic1KG0.0050.0020.007
prepSynthetic0.0100.0050.016
processBlockChr0.0040.0020.005
processPileupChrBin4.5850.0434.726
profileAncestry0.0200.0070.027
pruning1KGbyChr0.0040.0020.006
pruningSample0.0440.0120.059
readSNVBAM0.0010.0000.002
readSNVFileGeneric0.0040.0010.005
readSNVPileupFile0.0530.0020.058
readSNVVCF5.0730.0795.224
runExomeAncestry0.0160.0060.021
runIBDKING0.0630.0060.071
runLDPruning0.0290.0110.040
runProfileAncestry0.0200.0070.027
runRNAAncestry0.0160.0050.021
runWrapperAncestry0.0160.0060.021
selParaPCAUpQuartile4.9100.0675.038
select1KGPop0.0040.0010.005
select1KGPopForSynthetic0.0040.0010.006
snpPositionDemo0.0020.0050.007
snvListVCF0.0020.0020.004
splitSelectByPop0.0010.0000.002
syntheticGeno0.0260.0050.033
tableBlockAF0.0090.0020.012
testAlleleFractionChange0.0010.0000.001
testEmptyBox0.0010.0000.001
validateAdd1KG2SampleGDS0.0010.0010.001
validateAddStudy1Kg0.0010.0000.001
validateCharacterString000
validateComputeAncestryFromSyntheticFile0.0010.0010.001
validateComputeKNNRefSample0.0030.0030.006
validateComputeKNNRefSynthetic0.0030.0030.006
validateComputePCAMultiSynthetic0.0020.0020.004
validateComputePCARefSample0.0010.0000.001
validateComputePoolSyntheticAncestryGr0.0010.0010.001
validateComputeSyntheticRoc0.0050.0030.008
validateCreateAccuracyGraph0.0010.0000.001
validateCreateStudy2GDS1KG0.0010.0010.001
validateDataRefSynParameter0.0010.0000.000
validateEstimateAllelicFraction0.0020.0010.003
validateGDSClass0.0010.0000.001
validateGenerateGDS1KG0.0000.0000.001
validateLogical0.0000.0010.000
validatePEDStudyParameter0.0010.0000.000
validatePepSynthetic0.0000.0000.001
validatePositiveIntegerVector000
validatePrepPed1KG0.0000.0010.000
validateProfileGDSExist000
validatePruningSample0.0010.0010.001
validateRunExomeOrRNAAncestry0.0050.0010.005
validateSingleRatio0.0010.0000.000
validateStudyDataFrameParameter0.0010.0000.000
validateSyntheticGeno0.0020.0020.004
validatecreateProfile0.0030.0010.003
wrapperAncestry0.0170.0050.022