Back to Multiple platform build/check report for BioC 3.22:   simplified   long
ABCDEFGHIJKLMNOPQ[R]STUVWXYZ

This page was generated on 2025-11-03 12:03 -0500 (Mon, 03 Nov 2025).

HostnameOSArch (*)R versionInstalled pkgs
nebbiolo2Linux (Ubuntu 24.04.3 LTS)x86_644.5.1 Patched (2025-08-23 r88802) -- "Great Square Root" 4902
lconwaymacOS 12.7.6 Montereyx86_644.5.1 Patched (2025-09-10 r88807) -- "Great Square Root" 4692
kjohnson3macOS 13.7.7 Venturaarm644.5.1 Patched (2025-09-10 r88807) -- "Great Square Root" 4638
Click on any hostname to see more info about the system (e.g. compilers)      (*) as reported by 'uname -p', except on Windows and Mac OS X

Package 1702/2361HostnameOS / ArchINSTALLBUILDCHECKBUILD BIN
RAIDS 1.8.0  (landing page)
Pascal Belleau
Snapshot Date: 2025-11-02 13:45 -0500 (Sun, 02 Nov 2025)
git_url: https://git.bioconductor.org/packages/RAIDS
git_branch: RELEASE_3_22
git_last_commit: 4c9a678
git_last_commit_date: 2025-10-29 11:25:36 -0500 (Wed, 29 Oct 2025)
nebbiolo2Linux (Ubuntu 24.04.3 LTS) / x86_64  OK    OK    OK  UNNEEDED, same version is already published
lconwaymacOS 12.7.6 Monterey / x86_64  OK    OK    OK    OK  UNNEEDED, same version is already published
kjohnson3macOS 13.7.7 Ventura / arm64  OK    OK    OK    OK  UNNEEDED, same version is already published


CHECK results for RAIDS on nebbiolo2

To the developers/maintainers of the RAIDS package:
- Allow up to 24 hours (and sometimes 48 hours) for your latest push to git@git.bioconductor.org:packages/RAIDS.git to reflect on this report. See Troubleshooting Build Report for more information.
- Use the following Renviron settings to reproduce errors and warnings.
- If 'R CMD check' started to fail recently on the Linux builder(s) over a missing dependency, add the missing dependency to 'Suggests:' in your DESCRIPTION file. See Renviron.bioc for more information.

raw results


Summary

Package: RAIDS
Version: 1.8.0
Command: /home/biocbuild/bbs-3.22-bioc/R/bin/R CMD check --install=check:RAIDS.install-out.txt --library=/home/biocbuild/bbs-3.22-bioc/R/site-library --timings RAIDS_1.8.0.tar.gz
StartedAt: 2025-11-03 03:21:58 -0500 (Mon, 03 Nov 2025)
EndedAt: 2025-11-03 03:30:40 -0500 (Mon, 03 Nov 2025)
EllapsedTime: 521.7 seconds
RetCode: 0
Status:   OK  
CheckDir: RAIDS.Rcheck
Warnings: 0

Command output

##############################################################################
##############################################################################
###
### Running command:
###
###   /home/biocbuild/bbs-3.22-bioc/R/bin/R CMD check --install=check:RAIDS.install-out.txt --library=/home/biocbuild/bbs-3.22-bioc/R/site-library --timings RAIDS_1.8.0.tar.gz
###
##############################################################################
##############################################################################


* using log directory ‘/home/biocbuild/bbs-3.22-bioc/meat/RAIDS.Rcheck’
* using R version 4.5.1 Patched (2025-08-23 r88802)
* using platform: x86_64-pc-linux-gnu
* R was compiled by
    gcc (Ubuntu 13.3.0-6ubuntu2~24.04) 13.3.0
    GNU Fortran (Ubuntu 13.3.0-6ubuntu2~24.04) 13.3.0
* running under: Ubuntu 24.04.3 LTS
* using session charset: UTF-8
* checking for file ‘RAIDS/DESCRIPTION’ ... OK
* checking extension type ... Package
* this is package ‘RAIDS’ version ‘1.8.0’
* package encoding: UTF-8
* checking package namespace information ... OK
* checking package dependencies ... OK
* checking if this is a source package ... OK
* checking if there is a namespace ... OK
* checking for hidden files and directories ... OK
* checking for portable file names ... OK
* checking for sufficient/correct file permissions ... OK
* checking whether package ‘RAIDS’ can be installed ... OK
* checking installed package size ... OK
* checking package directory ... OK
* checking ‘build’ directory ... OK
* checking DESCRIPTION meta-information ... OK
* checking top-level files ... OK
* checking for left-over files ... OK
* checking index information ... OK
* checking package subdirectories ... OK
* checking code files for non-ASCII characters ... OK
* checking R files for syntax errors ... OK
* checking whether the package can be loaded ... OK
* checking whether the package can be loaded with stated dependencies ... OK
* checking whether the package can be unloaded cleanly ... OK
* checking whether the namespace can be loaded with stated dependencies ... OK
* checking whether the namespace can be unloaded cleanly ... OK
* checking loading without being on the library search path ... OK
* checking dependencies in R code ... OK
* checking S3 generic/method consistency ... OK
* checking replacement functions ... OK
* checking foreign function calls ... OK
* checking R code for possible problems ... OK
* checking Rd files ... OK
* checking Rd metadata ... OK
* checking Rd cross-references ... OK
* checking for missing documentation entries ... OK
* checking for code/documentation mismatches ... OK
* checking Rd \usage sections ... NOTE
Documented arguments not in \usage in Rd file 'wrapperAncestry.Rd':
  ‘pathGeno’

Functions with \usage entries need to have the appropriate \alias
entries, and all their arguments documented.
The \usage entries must correspond to syntactically valid R code.
See chapter ‘Writing R documentation files’ in the ‘Writing R
Extensions’ manual.
* checking Rd contents ... OK
* checking for unstated dependencies in examples ... OK
* checking contents of ‘data’ directory ... OK
* checking data for non-ASCII characters ... OK
* checking data for ASCII and uncompressed saves ... OK
* checking files in ‘vignettes’ ... OK
* checking examples ... OK
Examples with CPU (user + system) or elapsed time > 5s
                                  user system elapsed
computeAncestryFromSyntheticFile 5.118  0.147   5.265
readSNVBAM                       5.188  0.062   5.251
* checking for unstated dependencies in ‘tests’ ... OK
* checking tests ...
  Running ‘testthat.R’
 OK
* checking for unstated dependencies in vignettes ... OK
* checking package vignettes ... OK
* checking re-building of vignette outputs ... OK
* checking PDF version of manual ... OK
* DONE

Status: 1 NOTE
See
  ‘/home/biocbuild/bbs-3.22-bioc/meat/RAIDS.Rcheck/00check.log’
for details.


Installation output

RAIDS.Rcheck/00install.out

##############################################################################
##############################################################################
###
### Running command:
###
###   /home/biocbuild/bbs-3.22-bioc/R/bin/R CMD INSTALL RAIDS
###
##############################################################################
##############################################################################


* installing to library ‘/home/biocbuild/bbs-3.22-bioc/R/site-library’
* installing *source* package ‘RAIDS’ ...
** this is package ‘RAIDS’ version ‘1.8.0’
** using staged installation
** R
** data
** inst
** byte-compile and prepare package for lazy loading
** help
*** installing help indices
** building package indices
** installing vignettes
** testing if installed package can be loaded from temporary location
** testing if installed package can be loaded from final location
** testing if installed package keeps a record of temporary installation path
* DONE (RAIDS)

Tests output

RAIDS.Rcheck/tests/testthat.Rout


R version 4.5.1 Patched (2025-08-23 r88802) -- "Great Square Root"
Copyright (C) 2025 The R Foundation for Statistical Computing
Platform: x86_64-pc-linux-gnu

R is free software and comes with ABSOLUTELY NO WARRANTY.
You are welcome to redistribute it under certain conditions.
Type 'license()' or 'licence()' for distribution details.

R is a collaborative project with many contributors.
Type 'contributors()' for more information and
'citation()' on how to cite R or R packages in publications.

Type 'demo()' for some demos, 'help()' for on-line help, or
'help.start()' for an HTML browser interface to help.
Type 'q()' to quit R.

> library(testthat)
> library(RAIDS)
Loading required package: gdsfmt
Loading required package: SNPRelate
SNPRelate -- supported by Streaming SIMD Extensions 2 (SSE2)
Loading required package: GENESIS
Loading required package: dplyr

Attaching package: 'dplyr'

The following object is masked from 'package:testthat':

    matches

The following objects are masked from 'package:stats':

    filter, lag

The following objects are masked from 'package:base':

    intersect, setdiff, setequal, union

Loading required package: Rsamtools
Loading required package: Seqinfo
Loading required package: BiocGenerics
Loading required package: generics

Attaching package: 'generics'

The following object is masked from 'package:dplyr':

    explain

The following objects are masked from 'package:base':

    as.difftime, as.factor, as.ordered, intersect, is.element, setdiff,
    setequal, union


Attaching package: 'BiocGenerics'

The following object is masked from 'package:dplyr':

    combine

The following objects are masked from 'package:stats':

    IQR, mad, sd, var, xtabs

The following objects are masked from 'package:base':

    Filter, Find, Map, Position, Reduce, anyDuplicated, aperm, append,
    as.data.frame, basename, cbind, colnames, dirname, do.call,
    duplicated, eval, evalq, get, grep, grepl, is.unsorted, lapply,
    mapply, match, mget, order, paste, pmax, pmax.int, pmin, pmin.int,
    rank, rbind, rownames, sapply, saveRDS, table, tapply, unique,
    unsplit, which.max, which.min

Loading required package: GenomicRanges
Loading required package: stats4
Loading required package: S4Vectors

Attaching package: 'S4Vectors'

The following objects are masked from 'package:dplyr':

    first, rename

The following object is masked from 'package:utils':

    findMatches

The following objects are masked from 'package:base':

    I, expand.grid, unname

Loading required package: IRanges

Attaching package: 'IRanges'

The following objects are masked from 'package:dplyr':

    collapse, desc, slice

Loading required package: Biostrings
Loading required package: XVector

Attaching package: 'Biostrings'

The following object is masked from 'package:base':

    strsplit

> 
> ## Run all unit tests
> test_check("RAIDS")

Attaching package: 'Matrix'

The following object is masked from 'package:S4Vectors':

    expand

[ FAIL 0 | WARN 0 | SKIP 0 | PASS 478 ]
> 
> proc.time()
   user  system elapsed 
 35.652   1.636  37.290 

Example timings

RAIDS.Rcheck/RAIDS-Ex.timings

nameusersystemelapsed
add1KG2SampleGDS0.0490.0160.084
addBlockFromDetFile0.0020.0000.003
addBlockInGDSAnnot0.0040.0010.010
addGDS1KGLDBlock0.0010.0000.002
addGDSRef0.0030.0000.006
addGDSStudyPruning0.0000.0010.003
addGeneBlockGDSRefAnnot0.8180.0850.908
addGeneBlockRefAnnot0.0020.0000.002
addRef2GDS1KG0.0040.0010.005
addStudy1Kg0.0090.0010.026
addStudyGDSSample0.0060.0010.012
addUpdateLap0.0010.0000.002
addUpdateSegment0.0000.0000.002
appendGDSRefSample0.0060.0010.011
appendGDSSampleOnly0.0010.0000.002
appendGDSgenotype0.0130.0000.024
appendGDSgenotypeMat0.0010.0000.003
calcAFMLRNA0.0030.0020.005
computeAlleleFraction0.0020.0000.002
computeAllelicFractionDNA0.1310.0010.132
computeAllelicFractionRNA0.2170.0020.220
computeAllelicImbDNAChr0.0060.0000.007
computeAncestryFromSynthetic0.0160.0010.017
computeAncestryFromSyntheticFile5.1180.1475.265
computeKNNRefSample0.0140.0040.018
computeKNNRefSynthetic1.4820.0341.516
computeLOHBlocksDNAChr0.0070.0010.008
computePCAMultiSynthetic0.0070.0010.008
computePCARefRMMulti0.1520.0120.164
computePCARefSample0.1830.0000.183
computePoolSyntheticAncestryGr0.4670.0020.469
computeSyntheticConfMat0.0110.0040.015
computeSyntheticROC0.0370.0020.039
createAUROCGraph0.9360.0651.001
createAccuracyGraph0.8310.0090.841
createProfile0.0500.0020.063
createStudy2GDS1KG0.0490.0020.061
demoKnownSuperPop1KG2.6250.1702.794
demoPCA1KG0.0060.0020.007
demoPCASyntheticProfiles1.3960.0001.396
demoPedigreeEx10.0140.0000.014
estimateAllelicFraction0.0730.0000.074
extractNucleotide000
generateGDS1KG0.0130.0000.020
generateGDS1KGgenotypeFromSNPPileup0.0450.0020.056
generateGDSRefSample0.0040.0000.007
generateGDSSNPinfo0.0030.0020.010
generateGDSgenotype0.0110.0020.022
generateGeneBlock0.0010.0000.001
generateMapSnvSel0.0020.0000.003
generatePhase1KG2GDS0.0110.0020.022
generatePhaseRef0.0110.0010.020
generateProfileGDS0.0400.0030.055
getBlockIDs0.0010.0010.003
getRef1KGPop0.0030.0000.003
getRefSuperPop0.0020.0000.002
getTableSNV0.0070.0030.010
groupChr1KGSNV0.0420.0090.051
identifyRelative0.0070.0010.008
identifyRelativeRef0.0040.0010.005
inferAncestry0.0120.0000.012
inferAncestryDNA0.0120.0000.012
inferAncestryGeneAware0.0110.0010.012
matKNNSynthetic0.0360.0010.037
pedSynthetic0.0360.0010.037
prepPed1KG0.0030.0010.004
prepPedSynthetic1KG0.0030.0010.006
prepSynthetic0.0100.0000.012
processBlockChr0.0020.0000.003
processPileupChrBin3.1170.0533.170
profileAncestry0.0150.0010.016
pruning1KGbyChr0.0030.0000.004
pruningSample0.0340.0050.040
readSNVBAM5.1880.0625.251
readSNVFileGeneric0.0030.0010.005
readSNVPileupFile0.0590.0000.059
readSNVVCF4.8160.0794.896
runExomeAncestry0.0130.0020.016
runIBDKING0.0530.0010.055
runLDPruning0.0190.0040.023
runProfileAncestry0.0160.0010.017
runRNAAncestry0.0150.0000.015
runWrapperAncestry0.0130.0020.015
selParaPCAUpQuartile4.5960.0474.642
select1KGPop0.0020.0020.004
select1KGPopForSynthetic0.0040.0000.004
snpPositionDemo0.0020.0000.002
snvListVCF0.0020.0010.003
splitSelectByPop0.0010.0000.001
syntheticGeno0.0230.0040.032
tableBlockAF0.0180.0020.020
testAlleleFractionChange0.0000.0000.001
testEmptyBox0.0010.0000.001
validateAccuracyGraphInternal000
validateAdd1KG2SampleGDS0.0010.0000.002
validateAddStudy1Kg0.0020.0000.002
validateCharacterString000
validateComputeAncestryFromSyntheticFile0.0010.0000.002
validateComputeKNNRefSample0.0040.0000.004
validateComputeKNNRefSynthetic0.0040.0010.005
validateComputePCAMultiSynthetic0.0040.0000.004
validateComputePCARefSample0.0010.0000.001
validateComputePoolSyntheticAncestryGr0.0010.0000.002
validateComputeSyntheticRoc0.0080.0020.011
validateCreateAccuracyGraph0.0010.0000.001
validateCreateStudy2GDS1KG0.0020.0000.002
validateDataRefSynParameter0.0000.0000.001
validateEstimateAllelicFraction0.0030.0000.003
validateGDSClass0.0010.0000.001
validateGenerateGDS1KG0.0010.0000.001
validateLogical000
validatePEDStudyParameter000
validatePepSynthetic0.0010.0000.001
validatePositiveIntegerVector000
validatePrepPed1KG000
validateProfileGDSExist0.0000.0010.000
validatePruningSample0.0010.0000.001
validateRunExomeOrRNAAncestry0.0030.0000.004
validateSingleRatio000
validateStudyDataFrameParameter0.0010.0000.000
validateSyntheticGeno0.0010.0010.001
validatecreateAUROCGraph0.0000.0010.001
validatecreateProfile0.0020.0000.002
wrapperAncestry0.0270.0040.031