Back to Multiple platform build/check report for BioC 3.22:   simplified   long
ABCDEFGHIJKLMNOPQ[R]STUVWXYZ

This page was generated on 2025-11-04 12:04 -0500 (Tue, 04 Nov 2025).

HostnameOSArch (*)R versionInstalled pkgs
nebbiolo2Linux (Ubuntu 24.04.3 LTS)x86_644.5.1 Patched (2025-08-23 r88802) -- "Great Square Root" 4902
lconwaymacOS 12.7.6 Montereyx86_644.5.1 Patched (2025-09-10 r88807) -- "Great Square Root" 4692
kjohnson3macOS 13.7.7 Venturaarm644.5.1 Patched (2025-09-10 r88807) -- "Great Square Root" 4638
Click on any hostname to see more info about the system (e.g. compilers)      (*) as reported by 'uname -p', except on Windows and Mac OS X

Package 1702/2361HostnameOS / ArchINSTALLBUILDCHECKBUILD BIN
RAIDS 1.8.0  (landing page)
Pascal Belleau
Snapshot Date: 2025-11-03 13:45 -0500 (Mon, 03 Nov 2025)
git_url: https://git.bioconductor.org/packages/RAIDS
git_branch: RELEASE_3_22
git_last_commit: 4c9a678
git_last_commit_date: 2025-10-29 11:25:36 -0500 (Wed, 29 Oct 2025)
nebbiolo2Linux (Ubuntu 24.04.3 LTS) / x86_64  OK    OK    OK  UNNEEDED, same version is already published
lconwaymacOS 12.7.6 Monterey / x86_64  OK    OK    OK    OK  UNNEEDED, same version is already published
kjohnson3macOS 13.7.7 Ventura / arm64  OK    OK    OK    OK  UNNEEDED, same version is already published


CHECK results for RAIDS on lconway

To the developers/maintainers of the RAIDS package:
- Allow up to 24 hours (and sometimes 48 hours) for your latest push to git@git.bioconductor.org:packages/RAIDS.git to reflect on this report. See Troubleshooting Build Report for more information.
- Use the following Renviron settings to reproduce errors and warnings.
- If 'R CMD check' started to fail recently on the Linux builder(s) over a missing dependency, add the missing dependency to 'Suggests:' in your DESCRIPTION file. See Renviron.bioc for more information.

raw results


Summary

Package: RAIDS
Version: 1.8.0
Command: /Library/Frameworks/R.framework/Resources/bin/R CMD check --install=check:RAIDS.install-out.txt --library=/Library/Frameworks/R.framework/Resources/library --no-vignettes --timings RAIDS_1.8.0.tar.gz
StartedAt: 2025-11-03 23:35:14 -0500 (Mon, 03 Nov 2025)
EndedAt: 2025-11-03 23:43:26 -0500 (Mon, 03 Nov 2025)
EllapsedTime: 492.1 seconds
RetCode: 0
Status:   OK  
CheckDir: RAIDS.Rcheck
Warnings: 0

Command output

##############################################################################
##############################################################################
###
### Running command:
###
###   /Library/Frameworks/R.framework/Resources/bin/R CMD check --install=check:RAIDS.install-out.txt --library=/Library/Frameworks/R.framework/Resources/library --no-vignettes --timings RAIDS_1.8.0.tar.gz
###
##############################################################################
##############################################################################


* using log directory ‘/Users/biocbuild/bbs-3.22-bioc/meat/RAIDS.Rcheck’
* using R version 4.5.1 Patched (2025-09-10 r88807)
* using platform: x86_64-apple-darwin20
* R was compiled by
    Apple clang version 14.0.0 (clang-1400.0.29.202)
    GNU Fortran (GCC) 14.2.0
* running under: macOS Monterey 12.7.6
* using session charset: UTF-8
* using option ‘--no-vignettes’
* checking for file ‘RAIDS/DESCRIPTION’ ... OK
* checking extension type ... Package
* this is package ‘RAIDS’ version ‘1.8.0’
* package encoding: UTF-8
* checking package namespace information ... OK
* checking package dependencies ... OK
* checking if this is a source package ... OK
* checking if there is a namespace ... OK
* checking for hidden files and directories ... OK
* checking for portable file names ... OK
* checking for sufficient/correct file permissions ... OK
* checking whether package ‘RAIDS’ can be installed ... OK
* checking installed package size ... OK
* checking package directory ... OK
* checking ‘build’ directory ... OK
* checking DESCRIPTION meta-information ... OK
* checking top-level files ... OK
* checking for left-over files ... OK
* checking index information ... OK
* checking package subdirectories ... OK
* checking code files for non-ASCII characters ... OK
* checking R files for syntax errors ... OK
* checking whether the package can be loaded ... OK
* checking whether the package can be loaded with stated dependencies ... OK
* checking whether the package can be unloaded cleanly ... OK
* checking whether the namespace can be loaded with stated dependencies ... OK
* checking whether the namespace can be unloaded cleanly ... OK
* checking dependencies in R code ... OK
* checking S3 generic/method consistency ... OK
* checking replacement functions ... OK
* checking foreign function calls ... OK
* checking R code for possible problems ... OK
* checking Rd files ... OK
* checking Rd metadata ... OK
* checking Rd cross-references ... OK
* checking for missing documentation entries ... OK
* checking for code/documentation mismatches ... OK
* checking Rd \usage sections ... NOTE
Documented arguments not in \usage in Rd file 'wrapperAncestry.Rd':
  ‘pathGeno’

Functions with \usage entries need to have the appropriate \alias
entries, and all their arguments documented.
The \usage entries must correspond to syntactically valid R code.
See chapter ‘Writing R documentation files’ in the ‘Writing R
Extensions’ manual.
* checking Rd contents ... OK
* checking for unstated dependencies in examples ... OK
* checking contents of ‘data’ directory ... OK
* checking data for non-ASCII characters ... OK
* checking data for ASCII and uncompressed saves ... OK
* checking files in ‘vignettes’ ... OK
* checking examples ... OK
Examples with CPU (user + system) or elapsed time > 5s
                                  user system elapsed
computeAncestryFromSyntheticFile 7.303  0.232   7.585
readSNVVCF                       6.231  0.055   6.307
selParaPCAUpQuartile             6.064  0.037   6.123
readSNVBAM                       5.768  0.019   5.803
* checking for unstated dependencies in ‘tests’ ... OK
* checking tests ...
  Running ‘testthat.R’
 OK
* checking for unstated dependencies in vignettes ... OK
* checking package vignettes ... OK
* checking running R code from vignettes ... SKIPPED
* checking re-building of vignette outputs ... SKIPPED
* checking PDF version of manual ... OK
* DONE

Status: 1 NOTE
See
  ‘/Users/biocbuild/bbs-3.22-bioc/meat/RAIDS.Rcheck/00check.log’
for details.


Installation output

RAIDS.Rcheck/00install.out

##############################################################################
##############################################################################
###
### Running command:
###
###   /Library/Frameworks/R.framework/Resources/bin/R CMD INSTALL RAIDS
###
##############################################################################
##############################################################################


* installing to library ‘/Library/Frameworks/R.framework/Versions/4.5-x86_64/Resources/library’
* installing *source* package ‘RAIDS’ ...
** this is package ‘RAIDS’ version ‘1.8.0’
** using staged installation
** R
** data
** inst
** byte-compile and prepare package for lazy loading
** help
*** installing help indices
** building package indices
** installing vignettes
** testing if installed package can be loaded from temporary location
** testing if installed package can be loaded from final location
** testing if installed package keeps a record of temporary installation path
* DONE (RAIDS)

Tests output

RAIDS.Rcheck/tests/testthat.Rout


R version 4.5.1 Patched (2025-09-10 r88807) -- "Great Square Root"
Copyright (C) 2025 The R Foundation for Statistical Computing
Platform: x86_64-apple-darwin20

R is free software and comes with ABSOLUTELY NO WARRANTY.
You are welcome to redistribute it under certain conditions.
Type 'license()' or 'licence()' for distribution details.

R is a collaborative project with many contributors.
Type 'contributors()' for more information and
'citation()' on how to cite R or R packages in publications.

Type 'demo()' for some demos, 'help()' for on-line help, or
'help.start()' for an HTML browser interface to help.
Type 'q()' to quit R.

> library(testthat)
> library(RAIDS)
Loading required package: gdsfmt
Loading required package: SNPRelate
SNPRelate -- supported by Streaming SIMD Extensions 2 (SSE2)
Loading required package: GENESIS
Loading required package: dplyr

Attaching package: 'dplyr'

The following object is masked from 'package:testthat':

    matches

The following objects are masked from 'package:stats':

    filter, lag

The following objects are masked from 'package:base':

    intersect, setdiff, setequal, union

Loading required package: Rsamtools
Loading required package: Seqinfo
Loading required package: BiocGenerics
Loading required package: generics

Attaching package: 'generics'

The following object is masked from 'package:dplyr':

    explain

The following objects are masked from 'package:base':

    as.difftime, as.factor, as.ordered, intersect, is.element, setdiff,
    setequal, union


Attaching package: 'BiocGenerics'

The following object is masked from 'package:dplyr':

    combine

The following objects are masked from 'package:stats':

    IQR, mad, sd, var, xtabs

The following objects are masked from 'package:base':

    Filter, Find, Map, Position, Reduce, anyDuplicated, aperm, append,
    as.data.frame, basename, cbind, colnames, dirname, do.call,
    duplicated, eval, evalq, get, grep, grepl, is.unsorted, lapply,
    mapply, match, mget, order, paste, pmax, pmax.int, pmin, pmin.int,
    rank, rbind, rownames, sapply, saveRDS, table, tapply, unique,
    unsplit, which.max, which.min

Loading required package: GenomicRanges
Loading required package: stats4
Loading required package: S4Vectors

Attaching package: 'S4Vectors'

The following objects are masked from 'package:dplyr':

    first, rename

The following object is masked from 'package:utils':

    findMatches

The following objects are masked from 'package:base':

    I, expand.grid, unname

Loading required package: IRanges

Attaching package: 'IRanges'

The following objects are masked from 'package:dplyr':

    collapse, desc, slice

Loading required package: Biostrings
Loading required package: XVector

Attaching package: 'Biostrings'

The following object is masked from 'package:base':

    strsplit

> 
> ## Run all unit tests
> test_check("RAIDS")

Attaching package: 'Matrix'

The following object is masked from 'package:S4Vectors':

    expand

[ FAIL 0 | WARN 0 | SKIP 0 | PASS 478 ]
> 
> proc.time()
   user  system elapsed 
 40.659   2.516  43.634 

Example timings

RAIDS.Rcheck/RAIDS-Ex.timings

nameusersystemelapsed
add1KG2SampleGDS0.0560.0220.089
addBlockFromDetFile0.0020.0040.008
addBlockInGDSAnnot0.0060.0050.012
addGDS1KGLDBlock0.0020.0040.006
addGDSRef0.0030.0040.007
addGDSStudyPruning0.0010.0030.003
addGeneBlockGDSRefAnnot1.1730.1151.320
addGeneBlockRefAnnot0.0020.0030.005
addRef2GDS1KG0.0050.0050.011
addStudy1Kg0.0110.0090.022
addStudyGDSSample0.0080.0050.015
addUpdateLap0.0010.0020.004
addUpdateSegment0.0010.0020.003
appendGDSRefSample0.0060.0040.011
appendGDSSampleOnly0.0010.0020.003
appendGDSgenotype0.0160.0130.034
appendGDSgenotypeMat0.0010.0020.004
calcAFMLRNA0.0050.0030.009
computeAlleleFraction0.0030.0000.004
computeAllelicFractionDNA0.1510.0110.165
computeAllelicFractionRNA0.2640.0070.273
computeAllelicImbDNAChr0.0080.0020.010
computeAncestryFromSynthetic0.0160.0070.024
computeAncestryFromSyntheticFile7.3030.2327.585
computeKNNRefSample0.0160.0050.020
computeKNNRefSynthetic2.6960.1012.810
computeLOHBlocksDNAChr0.0130.0030.015
computePCAMultiSynthetic0.0080.0040.012
computePCARefRMMulti0.2530.0060.262
computePCARefSample0.3570.0030.362
computePoolSyntheticAncestryGr0.5890.0160.606
computeSyntheticConfMat0.0130.0040.017
computeSyntheticROC0.0480.0070.054
createAUROCGraph0.9930.0551.054
createAccuracyGraph0.8880.0080.900
createProfile0.0700.0150.087
createStudy2GDS1KG0.0660.0150.083
demoKnownSuperPop1KG1.5730.0481.630
demoPCA1KG0.0060.0040.010
demoPCASyntheticProfiles1.5200.0411.568
demoPedigreeEx10.0170.0030.022
estimateAllelicFraction0.0890.0070.099
extractNucleotide0.0000.0010.001
generateGDS1KG0.0160.0120.029
generateGDS1KGgenotypeFromSNPPileup0.0570.0140.073
generateGDSRefSample0.0060.0030.010
generateGDSSNPinfo0.0050.0050.011
generateGDSgenotype0.0170.0120.032
generateGeneBlock0.0010.0010.003
generateMapSnvSel0.0030.0040.008
generatePhase1KG2GDS0.0170.0160.035
generatePhaseRef0.0150.0120.029
generateProfileGDS0.0560.0160.075
getBlockIDs0.0020.0010.003
getRef1KGPop0.0030.0010.005
getRefSuperPop0.0030.0010.004
getTableSNV0.0140.0040.019
groupChr1KGSNV0.0850.1120.228
identifyRelative0.0090.0040.013
identifyRelativeRef0.0080.0040.011
inferAncestry0.0120.0020.014
inferAncestryDNA0.0150.0020.017
inferAncestryGeneAware0.0170.0010.019
matKNNSynthetic0.0480.0070.055
pedSynthetic0.0500.0080.059
prepPed1KG0.0050.0020.007
prepPedSynthetic1KG0.0060.0010.008
prepSynthetic0.0110.0050.017
processBlockChr0.0020.0010.004
processPileupChrBin3.5340.0693.625
profileAncestry0.0210.0050.027
pruning1KGbyChr0.0040.0020.006
pruningSample0.0390.0110.050
readSNVBAM5.7680.0195.803
readSNVFileGeneric0.0040.0010.006
readSNVPileupFile0.0470.0010.049
readSNVVCF6.2310.0556.307
runExomeAncestry0.0170.0030.021
runIBDKING0.0420.0040.049
runLDPruning0.0200.0090.029
runProfileAncestry0.0180.0030.021
runRNAAncestry0.0190.0040.022
runWrapperAncestry0.0200.0050.025
selParaPCAUpQuartile6.0640.0376.123
select1KGPop0.0040.0010.006
select1KGPopForSynthetic0.0050.0010.007
snpPositionDemo0.0030.0020.005
snvListVCF0.0040.0030.006
splitSelectByPop0.0020.0010.001
syntheticGeno0.0290.0060.036
tableBlockAF0.0200.0020.022
testAlleleFractionChange0.0010.0000.001
testEmptyBox0.0020.0000.002
validateAccuracyGraphInternal000
validateAdd1KG2SampleGDS0.0020.0010.002
validateAddStudy1Kg0.0020.0010.003
validateCharacterString0.0000.0000.001
validateComputeAncestryFromSyntheticFile0.0010.0020.003
validateComputeKNNRefSample0.0030.0030.006
validateComputeKNNRefSynthetic0.0050.0050.010
validateComputePCAMultiSynthetic0.0040.0030.006
validateComputePCARefSample0.0020.0000.002
validateComputePoolSyntheticAncestryGr0.0020.0010.003
validateComputeSyntheticRoc0.0110.0040.015
validateCreateAccuracyGraph0.0020.0010.003
validateCreateStudy2GDS1KG0.0030.0010.004
validateDataRefSynParameter0.0010.0000.001
validateEstimateAllelicFraction0.0040.0020.006
validateGDSClass0.0020.0010.003
validateGenerateGDS1KG0.0020.0010.002
validateLogical0.0000.0010.000
validatePEDStudyParameter0.0010.0000.001
validatePepSynthetic0.0020.0010.002
validatePositiveIntegerVector000
validatePrepPed1KG0.0010.0000.002
validateProfileGDSExist0.0010.0000.002
validatePruningSample0.0020.0010.003
validateRunExomeOrRNAAncestry0.0040.0010.005
validateSingleRatio000
validateStudyDataFrameParameter0.0010.0000.000
validateSyntheticGeno0.0020.0020.003
validatecreateAUROCGraph0.0020.0010.003
validatecreateProfile0.0030.0010.004
wrapperAncestry0.0180.0030.022