Back to Multiple platform build/check report for BioC 3.21:   simplified   long
ABCDEFGHIJKLMNO[P]QRSTUVWXYZ

This page was generated on 2025-10-16 11:39 -0400 (Thu, 16 Oct 2025).

HostnameOSArch (*)R versionInstalled pkgs
nebbiolo1Linux (Ubuntu 24.04.3 LTS)x86_644.5.1 (2025-06-13) -- "Great Square Root" 4833
merida1macOS 12.7.6 Montereyx86_644.5.1 RC (2025-06-05 r88288) -- "Great Square Root" 4614
kjohnson1macOS 13.7.5 Venturaarm644.5.1 Patched (2025-06-14 r88325) -- "Great Square Root" 4555
kunpeng2Linux (openEuler 24.03 LTS)aarch64R Under development (unstable) (2025-02-19 r87757) -- "Unsuffered Consequences" 4586
Click on any hostname to see more info about the system (e.g. compilers)      (*) as reported by 'uname -p', except on Windows and Mac OS X

Package 1577/2341HostnameOS / ArchINSTALLBUILDCHECKBUILD BIN
PhyloProfile 2.0.6  (landing page)
Vinh Tran
Snapshot Date: 2025-10-13 13:40 -0400 (Mon, 13 Oct 2025)
git_url: https://git.bioconductor.org/packages/PhyloProfile
git_branch: RELEASE_3_21
git_last_commit: a0b5fbc
git_last_commit_date: 2025-06-23 15:02:10 -0400 (Mon, 23 Jun 2025)
nebbiolo1Linux (Ubuntu 24.04.3 LTS) / x86_64  OK    OK    OK  UNNEEDED, same version is already published
merida1macOS 12.7.6 Monterey / x86_64  OK    OK    OK    OK  UNNEEDED, same version is already published
kjohnson1macOS 13.7.5 Ventura / arm64  OK    OK    OK    OK  UNNEEDED, same version is already published
kunpeng2Linux (openEuler 24.03 LTS) / aarch64  OK    OK    OK  


CHECK results for PhyloProfile on merida1

To the developers/maintainers of the PhyloProfile package:
- Allow up to 24 hours (and sometimes 48 hours) for your latest push to git@git.bioconductor.org:packages/PhyloProfile.git to reflect on this report. See Troubleshooting Build Report for more information.
- Use the following Renviron settings to reproduce errors and warnings.
- If 'R CMD check' started to fail recently on the Linux builder(s) over a missing dependency, add the missing dependency to 'Suggests:' in your DESCRIPTION file. See Renviron.bioc for more information.

raw results


Summary

Package: PhyloProfile
Version: 2.0.6
Command: /Library/Frameworks/R.framework/Resources/bin/R CMD check --install=check:PhyloProfile.install-out.txt --library=/Library/Frameworks/R.framework/Resources/library --no-vignettes --timings PhyloProfile_2.0.6.tar.gz
StartedAt: 2025-10-14 08:12:08 -0400 (Tue, 14 Oct 2025)
EndedAt: 2025-10-14 08:18:34 -0400 (Tue, 14 Oct 2025)
EllapsedTime: 385.1 seconds
RetCode: 0
Status:   OK  
CheckDir: PhyloProfile.Rcheck
Warnings: 0

Command output

##############################################################################
##############################################################################
###
### Running command:
###
###   /Library/Frameworks/R.framework/Resources/bin/R CMD check --install=check:PhyloProfile.install-out.txt --library=/Library/Frameworks/R.framework/Resources/library --no-vignettes --timings PhyloProfile_2.0.6.tar.gz
###
##############################################################################
##############################################################################


* using log directory ‘/Users/biocbuild/bbs-3.21-bioc/meat/PhyloProfile.Rcheck’
* using R version 4.5.1 RC (2025-06-05 r88288)
* using platform: x86_64-apple-darwin20
* R was compiled by
    Apple clang version 14.0.0 (clang-1400.0.29.202)
    GNU Fortran (GCC) 14.2.0
* running under: macOS Monterey 12.7.6
* using session charset: UTF-8
* using option ‘--no-vignettes’
* checking for file ‘PhyloProfile/DESCRIPTION’ ... OK
* this is package ‘PhyloProfile’ version ‘2.0.6’
* package encoding: UTF-8
* checking package namespace information ... OK
* checking package dependencies ... INFO
Imports includes 32 non-default packages.
Importing from so many packages makes the package vulnerable to any of
them becoming unavailable.  Move as many as possible to Suggests and
use conditionally.
* checking if this is a source package ... OK
* checking if there is a namespace ... OK
* checking for hidden files and directories ... OK
* checking for portable file names ... OK
* checking for sufficient/correct file permissions ... OK
* checking whether package ‘PhyloProfile’ can be installed ... OK
* checking installed package size ... OK
* checking package directory ... OK
* checking ‘build’ directory ... OK
* checking DESCRIPTION meta-information ... OK
* checking top-level files ... OK
* checking for left-over files ... OK
* checking index information ... OK
* checking package subdirectories ... OK
* checking code files for non-ASCII characters ... OK
* checking R files for syntax errors ... OK
* checking whether the package can be loaded ... OK
* checking whether the package can be loaded with stated dependencies ... OK
* checking whether the package can be unloaded cleanly ... OK
* checking whether the namespace can be loaded with stated dependencies ... OK
* checking whether the namespace can be unloaded cleanly ... OK
* checking dependencies in R code ... OK
* checking S3 generic/method consistency ... OK
* checking replacement functions ... OK
* checking foreign function calls ... OK
* checking R code for possible problems ... OK
* checking Rd files ... OK
* checking Rd metadata ... OK
* checking Rd cross-references ... OK
* checking for missing documentation entries ... OK
* checking for code/documentation mismatches ... OK
* checking Rd \usage sections ... OK
* checking Rd contents ... OK
* checking for unstated dependencies in examples ... OK
* checking contents of ‘data’ directory ... OK
* checking data for non-ASCII characters ... OK
* checking data for ASCII and uncompressed saves ... OK
* checking files in ‘vignettes’ ... OK
* checking examples ... OK
Examples with CPU (user + system) or elapsed time > 5s
                     user system elapsed
heatmapPlottingFast 6.198  0.312   6.381
createArchiPlot     5.396  0.070   5.499
* checking for unstated dependencies in ‘tests’ ... OK
* checking tests ...
  Running ‘testthat.R’
 OK
* checking for unstated dependencies in vignettes ... OK
* checking package vignettes ... OK
* checking running R code from vignettes ... SKIPPED
* checking re-building of vignette outputs ... SKIPPED
* checking PDF version of manual ... OK
* DONE

Status: OK


Installation output

PhyloProfile.Rcheck/00install.out

##############################################################################
##############################################################################
###
### Running command:
###
###   /Library/Frameworks/R.framework/Resources/bin/R CMD INSTALL PhyloProfile
###
##############################################################################
##############################################################################


* installing to library ‘/Library/Frameworks/R.framework/Versions/4.5-x86_64/Resources/library’
* installing *source* package ‘PhyloProfile’ ...
** this is package ‘PhyloProfile’ version ‘2.0.6’
** using staged installation
** R
** data
** inst
** byte-compile and prepare package for lazy loading
** help
*** installing help indices
** building package indices
** installing vignettes
** testing if installed package can be loaded from temporary location
** testing if installed package can be loaded from final location
** testing if installed package keeps a record of temporary installation path
* DONE (PhyloProfile)

Tests output

PhyloProfile.Rcheck/tests/testthat.Rout


R version 4.5.1 RC (2025-06-05 r88288) -- "Great Square Root"
Copyright (C) 2025 The R Foundation for Statistical Computing
Platform: x86_64-apple-darwin20

R is free software and comes with ABSOLUTELY NO WARRANTY.
You are welcome to redistribute it under certain conditions.
Type 'license()' or 'licence()' for distribution details.

R is a collaborative project with many contributors.
Type 'contributors()' for more information and
'citation()' on how to cite R or R packages in publications.

Type 'demo()' for some demos, 'help()' for on-line help, or
'help.start()' for an HTML browser interface to help.
Type 'q()' to quit R.

> library(testthat)
> library(PhyloProfile)
> 
> test_check("PhyloProfile")
[ FAIL 0 | WARN 0 | SKIP 0 | PASS 22 ]
> 
> proc.time()
   user  system elapsed 
 14.780   0.981  15.915 

Example timings

PhyloProfile.Rcheck/PhyloProfile-Ex.timings

nameusersystemelapsed
addDimRedTaxaColors1.5720.0811.667
addFeatureColors0.0610.0100.072
addRankDivisionPlot2.4430.0572.510
calcPresSpec0.0680.0090.077
checkColorPalette0.0010.0000.001
checkInputValidity0.0090.0030.012
checkNewick0.0050.0020.006
checkOmaID0.0000.0010.001
checkOverlapDomains0.0300.0050.034
clusterDataDend0.0390.0070.047
compareMedianTaxonGroups0.0580.0120.069
compareTaxonGroups0.6710.0140.687
createArchiPlot5.3960.0705.499
createDimRedPlotData1.3740.0421.419
createGeneAgePlot0.7620.0050.768
createLongMatrix0.0290.0190.049
createPercentageDistributionData0.1420.0220.166
createProfileFromOma0.0010.0010.001
createUnrootedTree0.0320.0020.034
createVarDistPlot0.6320.0070.641
createVariableDistributionData0.0140.0100.024
createVariableDistributionDataSubset0.0140.0040.018
dataCustomizedPlot0.0670.0050.073
dataFeatureTaxGroup0.0270.0040.031
dataMainPlot0.0800.0230.103
dataVarDistTaxGroup0.0090.0050.015
dimReduction1.3260.0221.350
estimateGeneAge0.2700.0200.292
fastaParser0.0690.0030.075
featureDistTaxPlot0.8050.0090.861
filterProfileData0.2660.0720.370
fromInputToProfile0.3690.0160.428
geneAgePlotDf0.0160.0010.017
generateSinglePlot1.2610.0111.405
getAllDomainsOma0.0000.0010.001
getAllFastaOma0.0010.0010.001
getCommonAncestor0.0830.0120.107
getCoreGene0.2010.0200.258
getDataClustering0.0380.0060.048
getDataForOneOma000
getDendrogram0.1050.0040.126
getDistanceMatrix0.0350.0020.042
getDomainFolder0.0000.0010.001
getFastaFromFasInput0.0280.0020.035
getFastaFromFile0.0210.0020.026
getFastaFromFolder0.0140.0020.018
getIDsRank0.0450.0040.051
getInputTaxaID0.0040.0030.007
getInputTaxaName0.0230.0050.033
getNameList0.0430.0590.112
getOmaDataForOneOrtholog000
getOmaDomainFromURL000
getOmaMembers0.0000.0000.001
getQualColForVector0.0000.0000.001
getSelectedFastaOma000
getSelectedTaxonNames0.0370.0080.050
getTaxHierarchy0.0330.0030.042
getTaxonomyInfo0.0290.0030.037
getTaxonomyMatrix0.2240.2320.477
getTaxonomyRanks0.0000.0010.002
gridArrangeSharedLegend0.0000.0010.002
groupLabelDimRedData0.1040.0130.121
heatmapPlotting1.0440.0071.061
heatmapPlottingFast6.1980.3126.381
highlightProfilePlot1.1710.0271.320
id2name0.0080.0010.011
joinPlotMergeLegends2.0770.0142.276
linearizeArchitecture0.0180.0010.022
mainTaxonomyRank0.0010.0010.002
modifyFeatureName0.0360.0420.088
pairDomainPlotting1.4360.0101.655
parseDomainInput0.0350.0380.078
parseInfoProfile0.2580.0200.303
plotDimRed2.7820.0263.094
plotDimRed3D2.0650.0912.371
prepareDimRedData0.1060.0140.151
processNcbiTaxonomy0.0000.0010.001
processOrthoID0.2360.1030.427
qualitativeColours0.0010.0000.001
rankIndexing0.1430.0060.173
reduceProfile0.1070.0020.118
resolveOverlapFeatures0.0340.0020.038
runPhyloProfile0.0010.0000.000
singleDomainPlotting0.6310.0060.683
sortDomains0.0160.0020.018
sortDomainsByList0.0190.0020.021
sortInputTaxa0.0660.0110.080
sortTaxaFromTree0.0310.0010.033
taxonomyTableCreator0.2170.0070.233
varDistTaxPlot2.8450.0172.974
wideToLong0.0230.0300.054
xmlParser0.0330.0080.041