Back to Multiple platform build/check report for BioC 3.21:   simplified   long
ABCDEFGHIJKLMNO[P]QRSTUVWXYZ

This page was generated on 2025-10-06 11:40 -0400 (Mon, 06 Oct 2025).

HostnameOSArch (*)R versionInstalled pkgs
nebbiolo1Linux (Ubuntu 24.04.3 LTS)x86_644.5.1 (2025-06-13) -- "Great Square Root" 4832
merida1macOS 12.7.5 Montereyx86_644.5.1 RC (2025-06-05 r88288) -- "Great Square Root" 4613
kjohnson1macOS 13.6.6 Venturaarm644.5.1 Patched (2025-06-14 r88325) -- "Great Square Root" 4554
kunpeng2Linux (openEuler 24.03 LTS)aarch64R Under development (unstable) (2025-02-19 r87757) -- "Unsuffered Consequences" 4585
Click on any hostname to see more info about the system (e.g. compilers)      (*) as reported by 'uname -p', except on Windows and Mac OS X

Package 1577/2341HostnameOS / ArchINSTALLBUILDCHECKBUILD BIN
PhyloProfile 2.0.6  (landing page)
Vinh Tran
Snapshot Date: 2025-10-02 13:40 -0400 (Thu, 02 Oct 2025)
git_url: https://git.bioconductor.org/packages/PhyloProfile
git_branch: RELEASE_3_21
git_last_commit: a0b5fbc
git_last_commit_date: 2025-06-23 15:02:10 -0400 (Mon, 23 Jun 2025)
nebbiolo1Linux (Ubuntu 24.04.3 LTS) / x86_64  OK    OK    OK  UNNEEDED, same version is already published
merida1macOS 12.7.5 Monterey / x86_64  OK    OK    OK    OK  UNNEEDED, same version is already published
kjohnson1macOS 13.6.6 Ventura / arm64  OK    OK    OK    OK  UNNEEDED, same version is already published
kunpeng2Linux (openEuler 24.03 LTS) / aarch64  OK    OK    OK  


CHECK results for PhyloProfile on kjohnson1

To the developers/maintainers of the PhyloProfile package:
- Allow up to 24 hours (and sometimes 48 hours) for your latest push to git@git.bioconductor.org:packages/PhyloProfile.git to reflect on this report. See Troubleshooting Build Report for more information.
- Use the following Renviron settings to reproduce errors and warnings.
- If 'R CMD check' started to fail recently on the Linux builder(s) over a missing dependency, add the missing dependency to 'Suggests:' in your DESCRIPTION file. See Renviron.bioc for more information.

raw results


Summary

Package: PhyloProfile
Version: 2.0.6
Command: /Library/Frameworks/R.framework/Resources/bin/R CMD check --install=check:PhyloProfile.install-out.txt --library=/Library/Frameworks/R.framework/Resources/library --no-vignettes --timings PhyloProfile_2.0.6.tar.gz
StartedAt: 2025-10-04 07:08:23 -0400 (Sat, 04 Oct 2025)
EndedAt: 2025-10-04 07:11:44 -0400 (Sat, 04 Oct 2025)
EllapsedTime: 200.9 seconds
RetCode: 0
Status:   OK  
CheckDir: PhyloProfile.Rcheck
Warnings: 0

Command output

##############################################################################
##############################################################################
###
### Running command:
###
###   /Library/Frameworks/R.framework/Resources/bin/R CMD check --install=check:PhyloProfile.install-out.txt --library=/Library/Frameworks/R.framework/Resources/library --no-vignettes --timings PhyloProfile_2.0.6.tar.gz
###
##############################################################################
##############################################################################


* using log directory ‘/Users/biocbuild/bbs-3.21-bioc/meat/PhyloProfile.Rcheck’
* using R version 4.5.1 Patched (2025-06-14 r88325)
* using platform: aarch64-apple-darwin20
* R was compiled by
    Apple clang version 16.0.0 (clang-1600.0.26.6)
    GNU Fortran (GCC) 14.2.0
* running under: macOS Ventura 13.7.5
* using session charset: UTF-8
* using option ‘--no-vignettes’
* checking for file ‘PhyloProfile/DESCRIPTION’ ... OK
* this is package ‘PhyloProfile’ version ‘2.0.6’
* package encoding: UTF-8
* checking package namespace information ... OK
* checking package dependencies ... INFO
Imports includes 32 non-default packages.
Importing from so many packages makes the package vulnerable to any of
them becoming unavailable.  Move as many as possible to Suggests and
use conditionally.
* checking if this is a source package ... OK
* checking if there is a namespace ... OK
* checking for hidden files and directories ... OK
* checking for portable file names ... OK
* checking for sufficient/correct file permissions ... OK
* checking whether package ‘PhyloProfile’ can be installed ... OK
* checking installed package size ... OK
* checking package directory ... OK
* checking ‘build’ directory ... OK
* checking DESCRIPTION meta-information ... OK
* checking top-level files ... OK
* checking for left-over files ... OK
* checking index information ... OK
* checking package subdirectories ... OK
* checking code files for non-ASCII characters ... OK
* checking R files for syntax errors ... OK
* checking whether the package can be loaded ... OK
* checking whether the package can be loaded with stated dependencies ... OK
* checking whether the package can be unloaded cleanly ... OK
* checking whether the namespace can be loaded with stated dependencies ... OK
* checking whether the namespace can be unloaded cleanly ... OK
* checking dependencies in R code ... OK
* checking S3 generic/method consistency ... OK
* checking replacement functions ... OK
* checking foreign function calls ... OK
* checking R code for possible problems ... OK
* checking Rd files ... OK
* checking Rd metadata ... OK
* checking Rd cross-references ... OK
* checking for missing documentation entries ... OK
* checking for code/documentation mismatches ... OK
* checking Rd \usage sections ... OK
* checking Rd contents ... OK
* checking for unstated dependencies in examples ... OK
* checking contents of ‘data’ directory ... OK
* checking data for non-ASCII characters ... OK
* checking data for ASCII and uncompressed saves ... OK
* checking files in ‘vignettes’ ... OK
* checking examples ... OK
Examples with CPU (user + system) or elapsed time > 5s
                     user system elapsed
heatmapPlottingFast 5.831  0.218   5.872
* checking for unstated dependencies in ‘tests’ ... OK
* checking tests ...
  Running ‘testthat.R’
 OK
* checking for unstated dependencies in vignettes ... OK
* checking package vignettes ... OK
* checking running R code from vignettes ... SKIPPED
* checking re-building of vignette outputs ... SKIPPED
* checking PDF version of manual ... OK
* DONE

Status: OK


Installation output

PhyloProfile.Rcheck/00install.out

##############################################################################
##############################################################################
###
### Running command:
###
###   /Library/Frameworks/R.framework/Resources/bin/R CMD INSTALL PhyloProfile
###
##############################################################################
##############################################################################


* installing to library ‘/Library/Frameworks/R.framework/Versions/4.5-arm64/Resources/library’
* installing *source* package ‘PhyloProfile’ ...
** this is package ‘PhyloProfile’ version ‘2.0.6’
** using staged installation
** R
** data
** inst
** byte-compile and prepare package for lazy loading
** help
*** installing help indices
** building package indices
** installing vignettes
** testing if installed package can be loaded from temporary location
** testing if installed package can be loaded from final location
** testing if installed package keeps a record of temporary installation path
* DONE (PhyloProfile)

Tests output

PhyloProfile.Rcheck/tests/testthat.Rout


R version 4.5.1 Patched (2025-06-14 r88325) -- "Great Square Root"
Copyright (C) 2025 The R Foundation for Statistical Computing
Platform: aarch64-apple-darwin20

R is free software and comes with ABSOLUTELY NO WARRANTY.
You are welcome to redistribute it under certain conditions.
Type 'license()' or 'licence()' for distribution details.

R is a collaborative project with many contributors.
Type 'contributors()' for more information and
'citation()' on how to cite R or R packages in publications.

Type 'demo()' for some demos, 'help()' for on-line help, or
'help.start()' for an HTML browser interface to help.
Type 'q()' to quit R.

> library(testthat)
> library(PhyloProfile)
> 
> test_check("PhyloProfile")
[ FAIL 0 | WARN 0 | SKIP 0 | PASS 22 ]
> 
> proc.time()
   user  system elapsed 
  8.175   0.646   9.017 

Example timings

PhyloProfile.Rcheck/PhyloProfile-Ex.timings

nameusersystemelapsed
addDimRedTaxaColors0.8430.0390.887
addFeatureColors0.0310.0050.037
addRankDivisionPlot1.6340.0531.688
calcPresSpec0.0410.0040.045
checkColorPalette0.0010.0010.001
checkInputValidity0.0040.0010.005
checkNewick0.0030.0000.004
checkOmaID000
checkOverlapDomains0.0150.0010.017
clusterDataDend0.0180.0020.021
compareMedianTaxonGroups0.0250.0040.029
compareTaxonGroups0.0320.0050.037
createArchiPlot2.1220.0382.162
createDimRedPlotData0.7420.0350.777
createGeneAgePlot0.3260.0020.330
createLongMatrix0.0160.0060.023
createPercentageDistributionData0.0760.0140.090
createProfileFromOma000
createUnrootedTree0.0130.0010.013
createVarDistPlot0.2630.0030.266
createVariableDistributionData0.0090.0040.012
createVariableDistributionDataSubset0.0090.0020.011
dataCustomizedPlot0.0330.0020.035
dataFeatureTaxGroup0.0150.0020.017
dataMainPlot0.0440.0070.053
dataVarDistTaxGroup0.0060.0020.008
dimReduction0.7370.0140.750
estimateGeneAge0.1370.0160.153
fastaParser0.0340.0020.036
featureDistTaxPlot0.3240.0040.332
filterProfileData0.1430.0280.171
fromInputToProfile0.1730.0110.187
geneAgePlotDf0.0090.0000.010
generateSinglePlot0.5470.0050.554
getAllDomainsOma0.0010.0000.000
getAllFastaOma0.0000.0010.000
getCommonAncestor0.0330.0040.037
getCoreGene0.1130.0120.125
getDataClustering0.0180.0020.020
getDataForOneOma000
getDendrogram0.0520.0030.056
getDistanceMatrix0.0170.0010.018
getDomainFolder0.0000.0000.001
getFastaFromFasInput0.0150.0010.016
getFastaFromFile0.0090.0010.012
getFastaFromFolder0.0060.0010.008
getIDsRank0.0140.0020.015
getInputTaxaID0.0030.0010.004
getInputTaxaName0.0110.0030.015
getNameList0.0220.0190.041
getOmaDataForOneOrtholog0.0010.0000.000
getOmaDomainFromURL000
getOmaMembers000
getQualColForVector000
getSelectedFastaOma0.0000.0010.000
getSelectedTaxonNames0.0210.0050.026
getTaxHierarchy0.0150.0010.016
getTaxonomyInfo0.0130.0010.014
getTaxonomyMatrix0.0950.0740.170
getTaxonomyRanks0.0000.0010.000
gridArrangeSharedLegend000
groupLabelDimRedData0.0620.0070.069
heatmapPlotting0.4410.0040.448
heatmapPlottingFast5.8310.2185.872
highlightProfilePlot0.5220.0290.559
id2name0.0060.0010.007
joinPlotMergeLegends0.8380.0110.862
linearizeArchitecture0.0080.0010.009
mainTaxonomyRank0.0000.0010.001
modifyFeatureName0.0200.0220.042
pairDomainPlotting0.5960.0070.608
parseDomainInput0.0190.0140.033
parseInfoProfile0.1110.0150.126
plotDimRed1.2830.0211.336
plotDimRed3D1.0080.0381.049
prepareDimRedData0.0510.0070.058
processNcbiTaxonomy0.0000.0010.000
processOrthoID0.1490.0760.282
qualitativeColours000
rankIndexing0.0460.0020.048
reduceProfile0.0650.0020.067
resolveOverlapFeatures0.0170.0010.017
runPhyloProfile000
singleDomainPlotting0.2740.0030.284
sortDomains0.0080.0010.009
sortDomainsByList0.0110.0010.015
sortInputTaxa0.0330.0080.045
sortTaxaFromTree0.0120.0020.013
taxonomyTableCreator0.0790.0040.084
varDistTaxPlot1.0340.0101.058
wideToLong0.0060.0020.009
xmlParser0.0100.0020.012