Back to Multiple platform build/check report for BioC 3.22:   simplified   long
ABCDEFGHIJKLMNO[P]QRSTUVWXYZ

This page was generated on 2025-11-04 12:04 -0500 (Tue, 04 Nov 2025).

HostnameOSArch (*)R versionInstalled pkgs
nebbiolo2Linux (Ubuntu 24.04.3 LTS)x86_644.5.1 Patched (2025-08-23 r88802) -- "Great Square Root" 4902
lconwaymacOS 12.7.6 Montereyx86_644.5.1 Patched (2025-09-10 r88807) -- "Great Square Root" 4692
kjohnson3macOS 13.7.7 Venturaarm644.5.1 Patched (2025-09-10 r88807) -- "Great Square Root" 4638
Click on any hostname to see more info about the system (e.g. compilers)      (*) as reported by 'uname -p', except on Windows and Mac OS X

Package 1596/2361HostnameOS / ArchINSTALLBUILDCHECKBUILD BIN
PhyloProfile 2.2.0  (landing page)
Vinh Tran
Snapshot Date: 2025-11-03 13:45 -0500 (Mon, 03 Nov 2025)
git_url: https://git.bioconductor.org/packages/PhyloProfile
git_branch: RELEASE_3_22
git_last_commit: aa891b5
git_last_commit_date: 2025-10-29 10:53:26 -0500 (Wed, 29 Oct 2025)
nebbiolo2Linux (Ubuntu 24.04.3 LTS) / x86_64  OK    OK    OK  UNNEEDED, same version is already published
lconwaymacOS 12.7.6 Monterey / x86_64  OK    OK    OK    OK  UNNEEDED, same version is already published
kjohnson3macOS 13.7.7 Ventura / arm64  OK    OK    OK    OK  UNNEEDED, same version is already published


CHECK results for PhyloProfile on lconway

To the developers/maintainers of the PhyloProfile package:
- Allow up to 24 hours (and sometimes 48 hours) for your latest push to git@git.bioconductor.org:packages/PhyloProfile.git to reflect on this report. See Troubleshooting Build Report for more information.
- Use the following Renviron settings to reproduce errors and warnings.
- If 'R CMD check' started to fail recently on the Linux builder(s) over a missing dependency, add the missing dependency to 'Suggests:' in your DESCRIPTION file. See Renviron.bioc for more information.

raw results


Summary

Package: PhyloProfile
Version: 2.2.0
Command: /Library/Frameworks/R.framework/Resources/bin/R CMD check --install=check:PhyloProfile.install-out.txt --library=/Library/Frameworks/R.framework/Resources/library --no-vignettes --timings PhyloProfile_2.2.0.tar.gz
StartedAt: 2025-11-03 23:19:58 -0500 (Mon, 03 Nov 2025)
EndedAt: 2025-11-03 23:23:19 -0500 (Mon, 03 Nov 2025)
EllapsedTime: 200.2 seconds
RetCode: 0
Status:   OK  
CheckDir: PhyloProfile.Rcheck
Warnings: 0

Command output

##############################################################################
##############################################################################
###
### Running command:
###
###   /Library/Frameworks/R.framework/Resources/bin/R CMD check --install=check:PhyloProfile.install-out.txt --library=/Library/Frameworks/R.framework/Resources/library --no-vignettes --timings PhyloProfile_2.2.0.tar.gz
###
##############################################################################
##############################################################################


* using log directory ‘/Users/biocbuild/bbs-3.22-bioc/meat/PhyloProfile.Rcheck’
* using R version 4.5.1 Patched (2025-09-10 r88807)
* using platform: x86_64-apple-darwin20
* R was compiled by
    Apple clang version 14.0.0 (clang-1400.0.29.202)
    GNU Fortran (GCC) 14.2.0
* running under: macOS Monterey 12.7.6
* using session charset: UTF-8
* using option ‘--no-vignettes’
* checking for file ‘PhyloProfile/DESCRIPTION’ ... OK
* this is package ‘PhyloProfile’ version ‘2.2.0’
* package encoding: UTF-8
* checking package namespace information ... OK
* checking package dependencies ... INFO
Imports includes 31 non-default packages.
Importing from so many packages makes the package vulnerable to any of
them becoming unavailable.  Move as many as possible to Suggests and
use conditionally.
* checking if this is a source package ... OK
* checking if there is a namespace ... OK
* checking for hidden files and directories ... OK
* checking for portable file names ... OK
* checking for sufficient/correct file permissions ... OK
* checking whether package ‘PhyloProfile’ can be installed ... OK
* checking installed package size ... OK
* checking package directory ... OK
* checking ‘build’ directory ... OK
* checking DESCRIPTION meta-information ... OK
* checking top-level files ... OK
* checking for left-over files ... OK
* checking index information ... OK
* checking package subdirectories ... OK
* checking code files for non-ASCII characters ... OK
* checking R files for syntax errors ... OK
* checking whether the package can be loaded ... OK
* checking whether the package can be loaded with stated dependencies ... OK
* checking whether the package can be unloaded cleanly ... OK
* checking whether the namespace can be loaded with stated dependencies ... OK
* checking whether the namespace can be unloaded cleanly ... OK
* checking dependencies in R code ... OK
* checking S3 generic/method consistency ... OK
* checking replacement functions ... OK
* checking foreign function calls ... OK
* checking R code for possible problems ... OK
* checking Rd files ... OK
* checking Rd metadata ... OK
* checking Rd cross-references ... OK
* checking for missing documentation entries ... OK
* checking for code/documentation mismatches ... OK
* checking Rd \usage sections ... OK
* checking Rd contents ... OK
* checking for unstated dependencies in examples ... OK
* checking contents of ‘data’ directory ... OK
* checking data for non-ASCII characters ... OK
* checking data for ASCII and uncompressed saves ... OK
* checking files in ‘vignettes’ ... OK
* checking examples ... OK
* checking for unstated dependencies in ‘tests’ ... OK
* checking tests ...
  Running ‘testthat.R’
 OK
* checking for unstated dependencies in vignettes ... OK
* checking package vignettes ... OK
* checking running R code from vignettes ... SKIPPED
* checking re-building of vignette outputs ... SKIPPED
* checking PDF version of manual ... OK
* DONE

Status: OK


Installation output

PhyloProfile.Rcheck/00install.out

##############################################################################
##############################################################################
###
### Running command:
###
###   /Library/Frameworks/R.framework/Resources/bin/R CMD INSTALL PhyloProfile
###
##############################################################################
##############################################################################


* installing to library ‘/Library/Frameworks/R.framework/Versions/4.5-x86_64/Resources/library’
* installing *source* package ‘PhyloProfile’ ...
** this is package ‘PhyloProfile’ version ‘2.2.0’
** using staged installation
** R
** data
** inst
** byte-compile and prepare package for lazy loading
** help
*** installing help indices
** building package indices
** installing vignettes
** testing if installed package can be loaded from temporary location
** testing if installed package can be loaded from final location
** testing if installed package keeps a record of temporary installation path
* DONE (PhyloProfile)

Tests output

PhyloProfile.Rcheck/tests/testthat.Rout


R version 4.5.1 Patched (2025-09-10 r88807) -- "Great Square Root"
Copyright (C) 2025 The R Foundation for Statistical Computing
Platform: x86_64-apple-darwin20

R is free software and comes with ABSOLUTELY NO WARRANTY.
You are welcome to redistribute it under certain conditions.
Type 'license()' or 'licence()' for distribution details.

R is a collaborative project with many contributors.
Type 'contributors()' for more information and
'citation()' on how to cite R or R packages in publications.

Type 'demo()' for some demos, 'help()' for on-line help, or
'help.start()' for an HTML browser interface to help.
Type 'q()' to quit R.

> library(testthat)
> library(PhyloProfile)
> 
> test_check("PhyloProfile")
[ FAIL 0 | WARN 0 | SKIP 0 | PASS 22 ]
> 
> proc.time()
   user  system elapsed 
  8.145   0.597   8.801 

Example timings

PhyloProfile.Rcheck/PhyloProfile-Ex.timings

nameusersystemelapsed
addDimRedTaxaColors0.8740.0370.923
addFeatureColors0.0330.0040.039
addRankDivisionPlot1.7290.0421.787
calcPresSpec0.0430.0030.046
checkColorPalette0.0010.0000.001
checkInputValidity0.0050.0010.007
checkNewick0.0030.0010.004
checkOmaID0.0000.0000.001
checkOverlapDomains0.0180.0010.020
clusterDataDend0.0170.0010.020
compareMedianTaxonGroups0.0210.0020.023
compareTaxonGroups0.0250.0030.028
createArchiPlot2.3070.0392.363
createDimRedPlotData0.6890.0180.711
createGeneAgePlot0.3770.0050.387
createLongMatrix0.0160.0090.025
createPercentageDistributionData0.0830.0150.099
createProfileFromOma000
createUnrootedTree0.0140.0020.015
createVarDistPlot0.3200.0050.329
createVariableDistributionData0.0070.0040.013
createVariableDistributionDataSubset0.0080.0020.010
dataCustomizedPlot0.0340.0020.036
dataFeatureTaxGroup0.0140.0030.016
dataMainPlot0.0450.0080.053
dataVarDistTaxGroup0.0060.0020.008
dimReduction0.7100.0150.731
estimateGeneAge0.1410.0140.156
fastaParser0.0330.0020.035
featureDistTaxPlot0.4080.0090.422
filterProfileData0.1240.0320.157
fromInputToProfile0.1780.0110.191
geneAgePlotDf0.0070.0000.007
generateSinglePlot0.5370.0080.551
getAllDomainsOma0.0000.0000.001
getAllFastaOma0.0010.0000.001
getCommonAncestor0.0340.0050.038
getCoreGene0.1040.0120.117
getDataClustering0.0180.0030.020
getDataForOneOma0.0000.0000.001
getDendrogram0.0520.0020.055
getDistanceMatrix0.0200.0010.022
getDomainFolder0.0000.0000.001
getFastaFromFasInput0.0140.0010.015
getFastaFromFile0.0110.0010.012
getFastaFromFolder0.0090.0010.010
getIDsRank0.0210.0020.024
getInputTaxaID0.0020.0010.003
getInputTaxaName0.0100.0030.014
getNameList0.0200.0230.044
getOmaDataForOneOrtholog000
getOmaDomainFromURL000
getOmaMembers000
getQualColForVector0.0000.0010.000
getSelectedFastaOma000
getSelectedTaxonNames0.0170.0040.021
getTaxHierarchy0.0330.0010.035
getTaxonomyInfo0.0130.0010.015
getTaxonomyMatrix0.0870.0780.168
getTaxonomyRanks0.0000.0000.001
gridArrangeSharedLegend0.0000.0010.000
groupLabelDimRedData0.0550.0070.062
heatmapPlotting0.4750.0050.483
heatmapPlottingFast4.7870.2124.759
highlightProfilePlot0.5260.0250.554
id2name0.0050.0020.007
joinPlotMergeLegends0.8650.0100.883
linearizeArchitecture0.0100.0010.011
mainTaxonomyRank0.0000.0010.001
modifyFeatureName0.0180.0370.057
pairDomainPlotting0.5930.0050.601
parseDomainInput0.0160.0230.042
parseInfoProfile0.1200.0090.130
plotDimRed1.1290.0201.156
plotDimRed3D0.9600.0531.017
prepareDimRedData0.0520.0060.059
processNcbiTaxonomy000
processOrthoID0.1270.0690.255
qualitativeColours000
rankIndexing0.0420.0020.045
reduceProfile0.0520.0010.052
resolveOverlapFeatures0.0190.0020.020
runPhyloProfile0.0800.0430.140
singleDomainPlotting0.2770.0030.281
sortDomains0.0080.0010.009
sortDomainsByList0.0090.0010.010
sortInputTaxa0.0240.0060.031
sortTaxaFromTree0.0100.0010.011
taxonomyTableCreator0.0860.0040.091
varDistTaxPlot1.6070.0241.642
wideToLong0.0100.0060.015
xmlParser0.0130.0020.017