Back to Multiple platform build/check report for BioC 3.22:   simplified   long
ABCDEFGHIJKLMNO[P]QRSTUVWXYZ

This page was generated on 2025-11-11 12:03 -0500 (Tue, 11 Nov 2025).

HostnameOSArch (*)R versionInstalled pkgs
nebbiolo2Linux (Ubuntu 24.04.3 LTS)x86_644.5.1 Patched (2025-08-23 r88802) -- "Great Square Root" 4902
kjohnson3macOS 13.7.7 Venturaarm644.5.1 Patched (2025-09-10 r88807) -- "Great Square Root" 4638
Click on any hostname to see more info about the system (e.g. compilers)      (*) as reported by 'uname -p', except on Windows and Mac OS X

Package 1596/2361HostnameOS / ArchINSTALLBUILDCHECKBUILD BIN
PhyloProfile 2.2.1  (landing page)
Vinh Tran
Snapshot Date: 2025-11-10 13:45 -0500 (Mon, 10 Nov 2025)
git_url: https://git.bioconductor.org/packages/PhyloProfile
git_branch: RELEASE_3_22
git_last_commit: 0e73eed
git_last_commit_date: 2025-11-03 17:20:22 -0500 (Mon, 03 Nov 2025)
nebbiolo2Linux (Ubuntu 24.04.3 LTS) / x86_64  OK    OK    OK  UNNEEDED, same version is already published
kjohnson3macOS 13.7.7 Ventura / arm64  OK    OK    OK    OK  UNNEEDED, same version is already published


CHECK results for PhyloProfile on kjohnson3

To the developers/maintainers of the PhyloProfile package:
- Allow up to 24 hours (and sometimes 48 hours) for your latest push to git@git.bioconductor.org:packages/PhyloProfile.git to reflect on this report. See Troubleshooting Build Report for more information.
- Use the following Renviron settings to reproduce errors and warnings.
- If 'R CMD check' started to fail recently on the Linux builder(s) over a missing dependency, add the missing dependency to 'Suggests:' in your DESCRIPTION file. See Renviron.bioc for more information.

raw results


Summary

Package: PhyloProfile
Version: 2.2.1
Command: /Library/Frameworks/R.framework/Resources/bin/R CMD check --install=check:PhyloProfile.install-out.txt --library=/Library/Frameworks/R.framework/Resources/library --no-vignettes --timings PhyloProfile_2.2.1.tar.gz
StartedAt: 2025-11-10 21:38:20 -0500 (Mon, 10 Nov 2025)
EndedAt: 2025-11-10 21:39:27 -0500 (Mon, 10 Nov 2025)
EllapsedTime: 66.8 seconds
RetCode: 0
Status:   OK  
CheckDir: PhyloProfile.Rcheck
Warnings: 0

Command output

##############################################################################
##############################################################################
###
### Running command:
###
###   /Library/Frameworks/R.framework/Resources/bin/R CMD check --install=check:PhyloProfile.install-out.txt --library=/Library/Frameworks/R.framework/Resources/library --no-vignettes --timings PhyloProfile_2.2.1.tar.gz
###
##############################################################################
##############################################################################


* using log directory ‘/Users/biocbuild/bbs-3.22-bioc/meat/PhyloProfile.Rcheck’
* using R version 4.5.1 Patched (2025-09-10 r88807)
* using platform: aarch64-apple-darwin20
* R was compiled by
    Apple clang version 16.0.0 (clang-1600.0.26.6)
    GNU Fortran (GCC) 14.2.0
* running under: macOS Ventura 13.7.7
* using session charset: UTF-8
* using option ‘--no-vignettes’
* checking for file ‘PhyloProfile/DESCRIPTION’ ... OK
* this is package ‘PhyloProfile’ version ‘2.2.1’
* package encoding: UTF-8
* checking package namespace information ... OK
* checking package dependencies ... INFO
Imports includes 31 non-default packages.
Importing from so many packages makes the package vulnerable to any of
them becoming unavailable.  Move as many as possible to Suggests and
use conditionally.
* checking if this is a source package ... OK
* checking if there is a namespace ... OK
* checking for hidden files and directories ... OK
* checking for portable file names ... OK
* checking for sufficient/correct file permissions ... OK
* checking whether package ‘PhyloProfile’ can be installed ... OK
* checking installed package size ... OK
* checking package directory ... OK
* checking ‘build’ directory ... OK
* checking DESCRIPTION meta-information ... OK
* checking top-level files ... OK
* checking for left-over files ... OK
* checking index information ... OK
* checking package subdirectories ... OK
* checking code files for non-ASCII characters ... OK
* checking R files for syntax errors ... OK
* checking whether the package can be loaded ... OK
* checking whether the package can be loaded with stated dependencies ... OK
* checking whether the package can be unloaded cleanly ... OK
* checking whether the namespace can be loaded with stated dependencies ... OK
* checking whether the namespace can be unloaded cleanly ... OK
* checking dependencies in R code ... OK
* checking S3 generic/method consistency ... OK
* checking replacement functions ... OK
* checking foreign function calls ... OK
* checking R code for possible problems ... OK
* checking Rd files ... OK
* checking Rd metadata ... OK
* checking Rd cross-references ... OK
* checking for missing documentation entries ... OK
* checking for code/documentation mismatches ... OK
* checking Rd \usage sections ... OK
* checking Rd contents ... OK
* checking for unstated dependencies in examples ... OK
* checking contents of ‘data’ directory ... OK
* checking data for non-ASCII characters ... OK
* checking data for ASCII and uncompressed saves ... OK
* checking files in ‘vignettes’ ... OK
* checking examples ... OK
* checking for unstated dependencies in ‘tests’ ... OK
* checking tests ...
  Running ‘testthat.R’
 OK
* checking for unstated dependencies in vignettes ... OK
* checking package vignettes ... OK
* checking running R code from vignettes ... SKIPPED
* checking re-building of vignette outputs ... SKIPPED
* checking PDF version of manual ... OK
* DONE

Status: OK


Installation output

PhyloProfile.Rcheck/00install.out

##############################################################################
##############################################################################
###
### Running command:
###
###   /Library/Frameworks/R.framework/Resources/bin/R CMD INSTALL PhyloProfile
###
##############################################################################
##############################################################################


* installing to library ‘/Library/Frameworks/R.framework/Versions/4.5-arm64/Resources/library’
* installing *source* package ‘PhyloProfile’ ...
** this is package ‘PhyloProfile’ version ‘2.2.1’
** using staged installation
** R
** data
** inst
** byte-compile and prepare package for lazy loading
** help
*** installing help indices
** building package indices
** installing vignettes
** testing if installed package can be loaded from temporary location
** testing if installed package can be loaded from final location
** testing if installed package keeps a record of temporary installation path
* DONE (PhyloProfile)

Tests output

PhyloProfile.Rcheck/tests/testthat.Rout


R version 4.5.1 Patched (2025-09-10 r88807) -- "Great Square Root"
Copyright (C) 2025 The R Foundation for Statistical Computing
Platform: aarch64-apple-darwin20

R is free software and comes with ABSOLUTELY NO WARRANTY.
You are welcome to redistribute it under certain conditions.
Type 'license()' or 'licence()' for distribution details.

R is a collaborative project with many contributors.
Type 'contributors()' for more information and
'citation()' on how to cite R or R packages in publications.

Type 'demo()' for some demos, 'help()' for on-line help, or
'help.start()' for an HTML browser interface to help.
Type 'q()' to quit R.

> library(testthat)
> library(PhyloProfile)
> 
> test_check("PhyloProfile")
[ FAIL 0 | WARN 0 | SKIP 0 | PASS 22 ]
> 
> proc.time()
   user  system elapsed 
  2.834   0.162   2.994 

Example timings

PhyloProfile.Rcheck/PhyloProfile-Ex.timings

nameusersystemelapsed
addDimRedTaxaColors0.2970.0090.308
addFeatureColors0.0110.0020.012
addRankDivisionPlot0.3310.0080.340
calcPresSpec0.0120.0010.014
checkColorPalette0.0000.0000.001
checkInputValidity0.0010.0000.002
checkNewick0.0010.0010.001
checkOmaID000
checkOverlapDomains0.0060.0010.006
clusterDataDend0.0060.0010.007
compareMedianTaxonGroups0.2290.0060.235
compareTaxonGroups0.0100.0010.012
createArchiPlot0.6310.0110.641
createDimRedPlotData0.2340.0050.238
createGeneAgePlot0.1040.0010.105
createLongMatrix0.0050.0020.008
createPercentageDistributionData0.0240.0040.028
createProfileFromOma000
createUnrootedTree0.0040.0000.005
createVarDistPlot0.0830.0010.085
createVariableDistributionData0.0030.0020.004
createVariableDistributionDataSubset0.0020.0000.003
dataCustomizedPlot0.0100.0010.010
dataFeatureTaxGroup0.0040.0000.005
dataMainPlot0.0130.0020.014
dataVarDistTaxGroup0.0020.0010.002
dimReduction0.2490.0040.254
estimateGeneAge0.0400.0050.044
fastaParser0.0100.0000.011
featureDistTaxPlot0.1030.0010.104
filterProfileData0.0370.0080.045
fromInputToProfile0.0570.0030.060
geneAgePlotDf0.0030.0000.003
generateSinglePlot0.1450.0010.146
getAllDomainsOma000
getAllFastaOma000
getCommonAncestor0.0090.0010.011
getCoreGene0.0290.0050.034
getDataClustering0.0050.0000.006
getDataForOneOma000
getDendrogram0.0140.0000.015
getDistanceMatrix0.0050.0000.005
getDomainFolder000
getFastaFromFasInput0.0040.0010.005
getFastaFromFile0.0020.0000.004
getFastaFromFolder0.0020.0010.002
getIDsRank0.0050.0010.007
getInputTaxaID0.0010.0000.002
getInputTaxaName0.0040.0020.004
getNameList0.0070.0070.014
getOmaDataForOneOrtholog000
getOmaDomainFromURL000
getOmaMembers000
getQualColForVector0.0000.0000.001
getSelectedFastaOma000
getSelectedTaxonNames0.0060.0020.008
getTaxHierarchy0.0050.0010.005
getTaxonomyInfo0.0030.0000.004
getTaxonomyMatrix0.0370.0250.062
getTaxonomyRanks0.0000.0010.000
gridArrangeSharedLegend000
groupLabelDimRedData0.0190.0020.021
heatmapPlotting0.1290.0010.130
heatmapPlottingFast2.0470.0401.968
highlightProfilePlot0.1590.0080.167
id2name0.0010.0000.002
joinPlotMergeLegends0.2180.0010.219
linearizeArchitecture0.0030.0000.002
mainTaxonomyRank000
modifyFeatureName0.0060.0050.010
pairDomainPlotting0.1660.0010.166
parseDomainInput0.0060.0040.010
parseInfoProfile0.0380.0060.043
plotDimRed0.3600.0050.365
plotDimRed3D0.3190.0110.330
prepareDimRedData0.0150.0020.017
processNcbiTaxonomy0.0000.0000.001
processOrthoID0.0440.0200.082
qualitativeColours0.0000.0000.001
rankIndexing0.0140.0000.015
reduceProfile0.0140.0000.015
resolveOverlapFeatures0.0060.0010.005
runPhyloProfile0.0280.0130.043
singleDomainPlotting0.0870.0010.088
sortDomains0.0020.0000.003
sortDomainsByList0.0030.0000.003
sortInputTaxa0.0090.0030.011
sortTaxaFromTree0.0040.0000.004
taxonomyTableCreator0.0260.0010.027
varDistTaxPlot0.3530.0090.361
wideToLong0.0040.0020.006
xmlParser0.0050.0010.006