Back to Multiple platform build/check report for BioC 3.21: simplified long |
|
This page was generated on 2025-10-16 11:38 -0400 (Thu, 16 Oct 2025).
Hostname | OS | Arch (*) | R version | Installed pkgs |
---|---|---|---|---|
nebbiolo1 | Linux (Ubuntu 24.04.3 LTS) | x86_64 | 4.5.1 (2025-06-13) -- "Great Square Root" | 4833 |
merida1 | macOS 12.7.6 Monterey | x86_64 | 4.5.1 RC (2025-06-05 r88288) -- "Great Square Root" | 4614 |
kjohnson1 | macOS 13.7.5 Ventura | arm64 | 4.5.1 Patched (2025-06-14 r88325) -- "Great Square Root" | 4555 |
kunpeng2 | Linux (openEuler 24.03 LTS) | aarch64 | R Under development (unstable) (2025-02-19 r87757) -- "Unsuffered Consequences" | 4586 |
Click on any hostname to see more info about the system (e.g. compilers) (*) as reported by 'uname -p', except on Windows and Mac OS X |
Package 1484/2341 | Hostname | OS / Arch | INSTALL | BUILD | CHECK | BUILD BIN | ||||||||
OmnipathR 3.16.2 (landing page) Denes Turei
| nebbiolo1 | Linux (Ubuntu 24.04.3 LTS) / x86_64 | OK | OK | OK | ![]() | ||||||||
merida1 | macOS 12.7.6 Monterey / x86_64 | OK | OK | OK | OK | ![]() | ||||||||
kjohnson1 | macOS 13.7.5 Ventura / arm64 | OK | OK | OK | OK | ![]() | ||||||||
kunpeng2 | Linux (openEuler 24.03 LTS) / aarch64 | OK | OK | OK | ||||||||||
To the developers/maintainers of the OmnipathR package: - Allow up to 24 hours (and sometimes 48 hours) for your latest push to git@git.bioconductor.org:packages/OmnipathR.git to reflect on this report. See Troubleshooting Build Report for more information. - Use the following Renviron settings to reproduce errors and warnings. - If 'R CMD check' started to fail recently on the Linux builder(s) over a missing dependency, add the missing dependency to 'Suggests:' in your DESCRIPTION file. See Renviron.bioc for more information. |
Package: OmnipathR |
Version: 3.16.2 |
Command: /home/biocbuild/bbs-3.21-bioc/R/bin/R CMD check --install=check:OmnipathR.install-out.txt --library=/home/biocbuild/bbs-3.21-bioc/R/site-library --timings OmnipathR_3.16.2.tar.gz |
StartedAt: 2025-10-16 01:49:26 -0400 (Thu, 16 Oct 2025) |
EndedAt: 2025-10-16 02:19:52 -0400 (Thu, 16 Oct 2025) |
EllapsedTime: 1826.2 seconds |
RetCode: 0 |
Status: OK |
CheckDir: OmnipathR.Rcheck |
Warnings: 0 |
############################################################################## ############################################################################## ### ### Running command: ### ### /home/biocbuild/bbs-3.21-bioc/R/bin/R CMD check --install=check:OmnipathR.install-out.txt --library=/home/biocbuild/bbs-3.21-bioc/R/site-library --timings OmnipathR_3.16.2.tar.gz ### ############################################################################## ############################################################################## * using log directory ‘/home/biocbuild/bbs-3.21-bioc/meat/OmnipathR.Rcheck’ * using R version 4.5.1 (2025-06-13) * using platform: x86_64-pc-linux-gnu * R was compiled by gcc (Ubuntu 13.3.0-6ubuntu2~24.04) 13.3.0 GNU Fortran (Ubuntu 13.3.0-6ubuntu2~24.04) 13.3.0 * running under: Ubuntu 24.04.3 LTS * using session charset: UTF-8 * checking for file ‘OmnipathR/DESCRIPTION’ ... OK * checking extension type ... Package * this is package ‘OmnipathR’ version ‘3.16.2’ * package encoding: UTF-8 * checking package namespace information ... OK * checking package dependencies ... INFO Imports includes 35 non-default packages. Importing from so many packages makes the package vulnerable to any of them becoming unavailable. Move as many as possible to Suggests and use conditionally. * checking if this is a source package ... OK * checking if there is a namespace ... OK * checking for hidden files and directories ... OK * checking for portable file names ... OK * checking for sufficient/correct file permissions ... OK * checking whether package ‘OmnipathR’ can be installed ... OK * checking installed package size ... OK * checking package directory ... OK * checking DESCRIPTION meta-information ... OK * checking top-level files ... OK * checking for left-over files ... OK * checking index information ... OK * checking package subdirectories ... OK * checking code files for non-ASCII characters ... OK * checking R files for syntax errors ... OK * checking whether the package can be loaded ... OK * checking whether the package can be loaded with stated dependencies ... OK * checking whether the package can be unloaded cleanly ... OK * checking whether the namespace can be loaded with stated dependencies ... OK * checking whether the namespace can be unloaded cleanly ... OK * checking loading without being on the library search path ... OK * checking whether startup messages can be suppressed ... NOTE [2025-10-16 01:49:55] [TRACE] [OmnipathR] Reading JSON from `/home/biocbuild/.cache/OmnipathR/cache.json` (encoding: UTF-8). [2025-10-16 01:49:55] [TRACE] [OmnipathR] JSON validation successful: TRUE [2025-10-16 01:49:55] [INFO] [OmnipathR] Initialized cache: `/home/biocbuild/.cache/OmnipathR`. [2025-10-16 01:49:55] [INFO] [OmnipathR] Package `OmnipathR` packaged: NA [2025-10-16 01:49:55] [INFO] [OmnipathR] Package `OmnipathR` date/publication: 2025-10-15 [2025-10-16 01:49:55] [INFO] [OmnipathR] Package `OmnipathR` built: R 4.5.1; ; 2025-10-15 19:08:19 UTC; unix [2025-10-16 01:49:55] [INFO] [OmnipathR] Package `OmnipathR` version: 3.16.2 [2025-10-16 01:49:55] [INFO] [OmnipathR] Package `OmnipathR` repository: Bioconductor 3.21 [2025-10-16 01:49:56] [INFO] [OmnipathR] Session info: [version=R version 4.5.1 (2025-06-13); os=Ubuntu 24.04.3 LTS; system=x86_64, linux-gnu; ui=X11; language=(EN); collate=C; ctype=en_US.UTF-8; tz=America/New_York; date=2025-10-16; pandoc=2.7.3 @ /usr/bin/ (via rmarkdown); quarto=1.5.57 @ /usr/local/bin/quarto] [2025-10-16 01:49:56] [INFO] [OmnipathR] External libraries: [cairo=1.18.0; cairoFT=; pango=1.52.1; png=1.6.43; jpeg=8.0; tiff=LIBTIFF, Version 4.5.1; tcl=8.6.14; curl=8.5.0; zlib=1.3; bzlib=1.0.8, 13-Jul-2019; xz=5.4.5; deflate=1.19; PCRE=10.42 2022-12-11; ICU=74.2; TRE=TRE 0.8.0 R_fixes (BSD); iconv=glibc 2.39; readline=8.2; BLAS=/home/biocbuild/bbs-3.21-bioc/R/lib/libRblas.so; lapack=/usr/lib/x86_64-linux-gnu/lapack/liblapack.so.3.12.0; lapack_version=3.12.0] [2025-10-16 01:49:56] [INFO] [OmnipathR] Loaded packages: backports 1.5.0(2024-05-23); bit 4.6.0(2025-03-06); bit64 4.6.0-1(2025-01-16); blob 1.2.4(2023-03-17); cachem 1.1.0(2024-05-16); cellranger 1.1.0(2016-07-27); checkmate 2.3.3(2025-08-18); chromote 0.5.1(2025-04-24); cli 3.6.5(2025-04-23); crayon 1.5.3(2024-06-20); curl 7.0.0(2025-08-19); DBI 1.2.3(2024-06-02); digest 0.6.37(2024-08-19); dplyr 1.1.4(2023-11-17); evaluate 1.0.5(2025-08-27); fastmap 1.2.0(2024-05-15); fs 1.6.6(2025-04-12); generics 0.1.4(2025-05-09); glue 1.8.0(2024-09-30); hms 1.1.3(2023-03-21); htmltools 0.5.8.1(2024-04-04); httr 1.4.7(2023-08-15); httr2 1.2.1(2025-07-22); igraph 2.2.0(2025-10-13); jsonlite 2.0.0(2025-03-27); knitr 1.50(2025-03-16); later 1.4.4(2025-08-27); lifecycle 1.0.4(2023-11-07); logger 0.4.1(2025-09-11); lubridate 1.9.4(2024-12-08); magrittr 2.0.4(2025-09-12); memoise 2.0.1(2021-11-26); OmnipathR 3.16.2(2025-10-15); pillar 1.11.1(2025-09-17); pkgconfig 2.0.3(2019-09-22); prettyunits 1.2.0(2023-09-24); processx 3.8.6(2025-02-21); progress 1.2.3(2023-12-06); promises 1.3.3(2025-05-29); ps 1.9.1(2025-04-12); purrr 1.1.0(2025-07-10); R.methodsS3 1.8.2(2022-06-13); R.oo 1.27.1(2025-05-02); R.utils 2.13.0(2025-02-24); R6 2.6.1(2025-02-15); rappdirs 0.3.3(2021-01-31); Rcpp 1.1.0(2025-07-02); readr 2.1.5(2024-01-10); readxl 1.4.5(2025-03-07); rlang 1.1.6(2025-04-11); rmarkdown 2.30(2025-09-28); RSQLite 2.4.3(2025-08-20); rvest 1.0.5(2025-08-29); sessioninfo 1.2.3(2025-02-05); stringi 1.8.7(2025-03-27); stringr 1.5.2(2025-09-08); tibble 3.3.0(2025-06-08); tidyr 1.3.1(2024-01-24); tidyselect 1.2.1(2024-03-11); timechange 0.3.0(2024-01-18); tzdb 0.5.0(2025-03-15); vctrs 0.6.5(2023-12-01); websocket 1.4.4(2025-04-10); withr 3.0.2(2024-10-28); xfun 0.53(2025-08-19); XML 3.99-0.19(2025-08-22); xml2 1.4.0(2025-08-20); yaml 2.3.10(2024-07-26); zip 2.3.3(2025-05-13) [2025-10-16 01:49:56] [INFO] [OmnipathR] CURL: version: 8.5.0; headers: 8.5.0; ssl_version: OpenSSL/3.0.13; libz_version: 1.3; libssh_version: libssh/0.10.6/openssl/zlib; libidn_version: 2.3.7; host: x86_64-pc-linux-gnu; protocols: dict, file, ftp, ftps, gopher, gophers, http, https, imap, imaps, ldap, ldaps, mqtt, pop3, pop3s, rtmp, rtmpe, rtmps, rtmpt, rtmpte, rtmpts, rtsp, scp, sftp, smb, smbs, smtp, smtps, telnet, tftp; ipv6: TRUE; http2: TRUE; idn: TRUE; url_parser: TRUE [2025-10-16 01:49:56] [TRACE] [OmnipathR] Running on a build server, wiping cache. [2025-10-16 01:49:56] [TRACE] [OmnipathR] Cache is at `/home/biocbuild/.cache/OmnipathR`. [2025-10-16 01:49:56] [TRACE] [OmnipathR] Contains 1 files. [2025-10-16 01:49:56] [TRACE] [OmnipathR] Cache is locked: FALSE. [2025-10-16 01:49:56] [TRACE] [OmnipathR] Reading JSON from `/home/biocbuild/.cache/OmnipathR/cache.json` (encoding: UTF-8). [2025-10-16 01:49:56] [TRACE] [OmnipathR] JSON validation successful: TRUE [2025-10-16 01:49:56] [SUCCESS] [OmnipathR] Removing all cache contents from `/home/biocbuild/.cache/OmnipathR`. [2025-10-16 01:49:56] [TRACE] [OmnipathR] Pandoc version: `2.7.3`. [2025-10-16 01:49:56] [TRACE] [OmnipathR] Reading JSON from `/home/biocbuild/bbs-3.21-bioc/R/site-library/OmnipathR/db/db_def.json` (encoding: UTF-8). [2025-10-16 01:49:56] [TRACE] [OmnipathR] JSON validation successful: TRUE [2025-10-16 01:49:56] [TRACE] [OmnipathR] Reading JSON from `/home/biocbuild/bbs-3.21-bioc/R/site-library/OmnipathR/internal/magic_bytes.json` (encoding: UTF-8). [2025-10-16 01:49:56] [TRACE] [OmnipathR] JSON validation successful: TRUE [2025-10-16 01:49:56] [TRACE] [OmnipathR] Reading JSON from `/home/biocbuild/bbs-3.21-bioc/R/site-library/OmnipathR/internal/urls.json` (encoding: UTF-8). [2025-10-16 01:49:56] [TRACE] [OmnipathR] JSON validation successful: TRUE [2025-10-16 01:49:56] [TRACE] [OmnipathR] Reading JSON from `/home/biocbuild/bbs-3.21-bioc/R/site-library/OmnipathR/internal/id_types.json` (encoding: UTF-8). [2025-10-16 01:49:56] [TRACE] [OmnipathR] JSON validation successful: TRUE [2025-10-16 01:49:56] [TRACE] [OmnipathR] Cache locked: FALSE It looks like this package (or a package it requires) has a startup message which cannot be suppressed: see ?packageStartupMessage. * checking dependencies in R code ... OK * checking S3 generic/method consistency ... OK * checking replacement functions ... OK * checking foreign function calls ... OK * checking R code for possible problems ... NOTE [2025-10-16 01:50:13] [TRACE] [OmnipathR] Reading JSON from `/home/biocbuild/.cache/OmnipathR/cache.json` (encoding: UTF-8). [2025-10-16 01:50:13] [TRACE] [OmnipathR] JSON validation successful: TRUE [2025-10-16 01:50:13] [INFO] [OmnipathR] Initialized cache: `/home/biocbuild/.cache/OmnipathR`. [2025-10-16 01:50:13] [INFO] [OmnipathR] Package `OmnipathR` packaged: NA [2025-10-16 01:50:13] [INFO] [OmnipathR] Package `OmnipathR` date/publication: 2025-10-15 [2025-10-16 01:50:13] [INFO] [OmnipathR] Package `OmnipathR` built: R 4.5.1; ; 2025-10-15 19:08:19 UTC; unix [2025-10-16 01:50:13] [INFO] [OmnipathR] Package `OmnipathR` version: 3.16.2 [2025-10-16 01:50:13] [INFO] [OmnipathR] Package `OmnipathR` repository: Bioconductor 3.21 [2025-10-16 01:50:13] [INFO] [OmnipathR] Session info: [version=R version 4.5.1 (2025-06-13); os=Ubuntu 24.04.3 LTS; system=x86_64, linux-gnu; ui=X11; language=(EN); collate=C; ctype=en_US.UTF-8; tz=America/New_York; date=2025-10-16; pandoc=2.7.3 @ /usr/bin/ (via rmarkdown); quarto=1.5.57 @ /usr/local/bin/quarto] [2025-10-16 01:50:13] [INFO] [OmnipathR] External libraries: [cairo=1.18.0; cairoFT=; pango=1.52.1; png=1.6.43; jpeg=8.0; tiff=LIBTIFF, Version 4.5.1; tcl=8.6.14; curl=8.5.0; zlib=1.3; bzlib=1.0.8, 13-Jul-2019; xz=5.4.5; deflate=1.19; PCRE=10.42 2022-12-11; ICU=74.2; TRE=TRE 0.8.0 R_fixes (BSD); iconv=glibc 2.39; readline=8.2; BLAS=/home/biocbuild/bbs-3.21-bioc/R/lib/libRblas.so; lapack=/usr/lib/x86_64-linux-gnu/lapack/liblapack.so.3.12.0; lapack_version=3.12.0] [2025-10-16 01:50:14] [INFO] [OmnipathR] Loaded packages: backports 1.5.0(2024-05-23); bit 4.6.0(2025-03-06); bit64 4.6.0-1(2025-01-16); blob 1.2.4(2023-03-17); cachem 1.1.0(2024-05-16); cellranger 1.1.0(2016-07-27); checkmate 2.3.3(2025-08-18); chromote 0.5.1(2025-04-24); cli 3.6.5(2025-04-23); crayon 1.5.3(2024-06-20); curl 7.0.0(2025-08-19); DBI 1.2.3(2024-06-02); digest 0.6.37(2024-08-19); dplyr 1.1.4(2023-11-17); evaluate 1.0.5(2025-08-27); fastmap 1.2.0(2024-05-15); fs 1.6.6(2025-04-12); generics 0.1.4(2025-05-09); glue 1.8.0(2024-09-30); hms 1.1.3(2023-03-21); htmltools 0.5.8.1(2024-04-04); httr 1.4.7(2023-08-15); httr2 1.2.1(2025-07-22); igraph 2.2.0(2025-10-13); jsonlite 2.0.0(2025-03-27); knitr 1.50(2025-03-16); later 1.4.4(2025-08-27); lifecycle 1.0.4(2023-11-07); logger 0.4.1(2025-09-11); lubridate 1.9.4(2024-12-08); magrittr 2.0.4(2025-09-12); memoise 2.0.1(2021-11-26); OmnipathR 3.16.2(2025-10-15); pillar 1.11.1(2025-09-17); pkgconfig 2.0.3(2019-09-22); prettyunits 1.2.0(2023-09-24); processx 3.8.6(2025-02-21); progress 1.2.3(2023-12-06); promises 1.3.3(2025-05-29); ps 1.9.1(2025-04-12); purrr 1.1.0(2025-07-10); R.methodsS3 1.8.2(2022-06-13); R.oo 1.27.1(2025-05-02); R.utils 2.13.0(2025-02-24); R6 2.6.1(2025-02-15); rappdirs 0.3.3(2021-01-31); Rcpp 1.1.0(2025-07-02); readr 2.1.5(2024-01-10); readxl 1.4.5(2025-03-07); rlang 1.1.6(2025-04-11); rmarkdown 2.30(2025-09-28); RSQLite 2.4.3(2025-08-20); rvest 1.0.5(2025-08-29); sessioninfo 1.2.3(2025-02-05); stringi 1.8.7(2025-03-27); stringr 1.5.2(2025-09-08); tibble 3.3.0(2025-06-08); tidyr 1.3.1(2024-01-24); tidyselect 1.2.1(2024-03-11); timechange 0.3.0(2024-01-18); tzdb 0.5.0(2025-03-15); vctrs 0.6.5(2023-12-01); websocket 1.4.4(2025-04-10); withr 3.0.2(2024-10-28); xfun 0.53(2025-08-19); XML 3.99-0.19(2025-08-22); xml2 1.4.0(2025-08-20); yaml 2.3.10(2024-07-26); zip 2.3.3(2025-05-13) [2025-10-16 01:50:14] [INFO] [OmnipathR] CURL: version: 8.5.0; headers: 8.5.0; ssl_version: OpenSSL/3.0.13; libz_version: 1.3; libssh_version: libssh/0.10.6/openssl/zlib; libidn_version: 2.3.7; host: x86_64-pc-linux-gnu; protocols: dict, file, ftp, ftps, gopher, gophers, http, https, imap, imaps, ldap, ldaps, mqtt, pop3, pop3s, rtmp, rtmpe, rtmps, rtmpt, rtmpte, rtmpts, rtsp, scp, sftp, smb, smbs, smtp, smtps, telnet, tftp; ipv6: TRUE; http2: TRUE; idn: TRUE; url_parser: TRUE [2025-10-16 01:50:14] [TRACE] [OmnipathR] Running on a build server, wiping cache. [2025-10-16 01:50:14] [TRACE] [OmnipathR] Cache is at `/home/biocbuild/.cache/OmnipathR`. [2025-10-16 01:50:14] [TRACE] [OmnipathR] Contains 1 files. [2025-10-16 01:50:14] [TRACE] [OmnipathR] Cache is locked: FALSE. [2025-10-16 01:50:14] [TRACE] [OmnipathR] Reading JSON from `/home/biocbuild/.cache/OmnipathR/cache.json` (encoding: UTF-8). [2025-10-16 01:50:14] [TRACE] [OmnipathR] JSON validation successful: TRUE [2025-10-16 01:50:14] [SUCCESS] [OmnipathR] Removing all cache contents from `/home/biocbuild/.cache/OmnipathR`. [2025-10-16 01:50:14] [TRACE] [OmnipathR] Pandoc version: `2.7.3`. [2025-10-16 01:50:14] [TRACE] [OmnipathR] Reading JSON from `/home/biocbuild/bbs-3.21-bioc/R/site-library/OmnipathR/db/db_def.json` (encoding: UTF-8). [2025-10-16 01:50:14] [TRACE] [OmnipathR] JSON validation successful: TRUE [2025-10-16 01:50:14] [TRACE] [OmnipathR] Reading JSON from `/home/biocbuild/bbs-3.21-bioc/R/site-library/OmnipathR/internal/magic_bytes.json` (encoding: UTF-8). [2025-10-16 01:50:14] [TRACE] [OmnipathR] JSON validation successful: TRUE [2025-10-16 01:50:14] [TRACE] [OmnipathR] Reading JSON from `/home/biocbuild/bbs-3.21-bioc/R/site-library/OmnipathR/internal/urls.json` (encoding: UTF-8). [2025-10-16 01:50:14] [TRACE] [OmnipathR] JSON validation successful: TRUE [2025-10-16 01:50:14] [TRACE] [OmnipathR] Reading JSON from `/home/biocbuild/bbs-3.21-bioc/R/site-library/OmnipathR/internal/id_types.json` (encoding: UTF-8). [2025-10-16 01:50:14] [TRACE] [OmnipathR] JSON validation successful: TRUE [2025-10-16 01:50:14] [TRACE] [OmnipathR] Cache locked: FALSE * checking Rd files ... OK * checking Rd metadata ... OK * checking Rd cross-references ... OK * checking for missing documentation entries ... OK * checking for code/documentation mismatches ... OK * checking Rd \usage sections ... OK * checking Rd contents ... OK * checking for unstated dependencies in examples ... OK * checking R/sysdata.rda ... OK * checking files in ‘vignettes’ ... OK * checking examples ... OK Examples with CPU (user + system) or elapsed time > 5s user system elapsed annotation_categories 89.692 0.070 91.134 omnipath-interactions 54.589 4.431 112.887 curated_ligrec_stats 38.454 2.664 105.156 filter_extra_attrs 24.446 4.730 29.906 nichenet_gr_network_omnipath 25.814 1.528 34.326 giant_component 23.771 1.340 36.551 go_annot_download 19.992 1.225 25.075 nichenet_signaling_network_omnipath 16.108 1.103 22.189 with_extra_attrs 15.217 1.925 21.792 has_extra_attrs 14.627 1.721 17.404 translate_ids_multi 14.066 0.844 33.987 extra_attrs_to_cols 12.859 1.274 14.154 omnipath_for_cosmos 12.133 0.929 34.340 extra_attr_values 11.178 1.369 14.824 pivot_annotations 9.245 0.601 18.429 filter_by_resource 7.578 0.262 10.206 extra_attrs 6.584 1.107 7.721 curated_ligand_receptor_interactions 6.456 0.760 16.070 static_table 6.726 0.349 7.923 filter_intercell 5.887 0.417 10.254 print_interactions 5.908 0.256 10.211 find_all_paths 5.148 0.094 5.240 signed_ptms 4.508 0.237 5.328 kegg_conv 2.718 0.307 14.836 ensembl_id_mapping_table 2.279 0.161 19.296 uniprot_full_id_mapping_table 2.289 0.144 14.509 kegg_picture 1.846 0.070 6.842 all_uniprots 1.437 0.143 13.320 metalinksdb_sqlite 1.246 0.277 11.515 kegg_link 1.226 0.128 7.372 translate_ids 1.074 0.051 11.193 kegg_rm_prefix 0.680 0.052 5.186 * checking for unstated dependencies in ‘tests’ ... OK * checking tests ... Running ‘testthat.R’ OK * checking for unstated dependencies in vignettes ... OK * checking package vignettes ... OK * checking re-building of vignette outputs ... OK * checking PDF version of manual ... OK * DONE Status: 2 NOTEs See ‘/home/biocbuild/bbs-3.21-bioc/meat/OmnipathR.Rcheck/00check.log’ for details.
OmnipathR.Rcheck/00install.out
############################################################################## ############################################################################## ### ### Running command: ### ### /home/biocbuild/bbs-3.21-bioc/R/bin/R CMD INSTALL OmnipathR ### ############################################################################## ############################################################################## * installing to library ‘/home/biocbuild/bbs-3.21-bioc/R/site-library’ * installing *source* package ‘OmnipathR’ ... ** this is package ‘OmnipathR’ version ‘3.16.2’ ** using staged installation ** R ** inst ** byte-compile and prepare package for lazy loading ** help *** installing help indices *** copying figures ** building package indices ** installing vignettes ** testing if installed package can be loaded from temporary location [2025-10-15 15:08:33] [TRACE] [OmnipathR] Reading JSON from `/home/biocbuild/.cache/OmnipathR/cache.json` (encoding: UTF-8). [2025-10-15 15:08:33] [TRACE] [OmnipathR] JSON validation successful: TRUE [2025-10-15 15:08:33] [INFO] [OmnipathR] Initialized cache: `/home/biocbuild/.cache/OmnipathR`. [2025-10-15 15:08:33] [INFO] [OmnipathR] Package `OmnipathR` packaged: NA [2025-10-15 15:08:33] [INFO] [OmnipathR] Package `OmnipathR` date/publication: 2025-10-15 [2025-10-15 15:08:33] [INFO] [OmnipathR] Package `OmnipathR` built: R 4.5.1; ; 2025-10-15 19:08:19 UTC; unix [2025-10-15 15:08:33] [INFO] [OmnipathR] Package `OmnipathR` version: 3.16.2 [2025-10-15 15:08:33] [INFO] [OmnipathR] Package `OmnipathR` repository: Bioconductor 3.21 [2025-10-15 15:08:33] [INFO] [OmnipathR] Session info: [version=R version 4.5.1 (2025-06-13); os=Ubuntu 24.04.3 LTS; system=x86_64, linux-gnu; ui=X11; language=(EN); collate=C; ctype=en_US.UTF-8; tz=America/New_York; date=2025-10-15; pandoc=2.7.3 @ /usr/bin/ (via rmarkdown); quarto=1.5.57 @ /usr/local/bin/quarto] [2025-10-15 15:08:33] [INFO] [OmnipathR] External libraries: [cairo=1.18.0; cairoFT=; pango=1.52.1; png=1.6.43; jpeg=8.0; tiff=LIBTIFF, Version 4.5.1; tcl=8.6.14; curl=8.5.0; zlib=1.3; bzlib=1.0.8, 13-Jul-2019; xz=5.4.5; deflate=1.19; PCRE=10.42 2022-12-11; ICU=74.2; TRE=TRE 0.8.0 R_fixes (BSD); iconv=glibc 2.39; readline=8.2; BLAS=/home/biocbuild/bbs-3.21-bioc/R/lib/libRblas.so; lapack=/usr/lib/x86_64-linux-gnu/lapack/liblapack.so.3.12.0; lapack_version=3.12.0] [2025-10-15 15:08:34] [INFO] [OmnipathR] Loaded packages: backports 1.5.0(2024-05-23); bit 4.6.0(2025-03-06); bit64 4.6.0-1(2025-01-16); blob 1.2.4(2023-03-17); cachem 1.1.0(2024-05-16); cellranger 1.1.0(2016-07-27); checkmate 2.3.3(2025-08-18); chromote 0.5.1(2025-04-24); cli 3.6.5(2025-04-23); crayon 1.5.3(2024-06-20); curl 7.0.0(2025-08-19); DBI 1.2.3(2024-06-02); digest 0.6.37(2024-08-19); dplyr 1.1.4(2023-11-17); evaluate 1.0.5(2025-08-27); fastmap 1.2.0(2024-05-15); fs 1.6.6(2025-04-12); generics 0.1.4(2025-05-09); glue 1.8.0(2024-09-30); hms 1.1.3(2023-03-21); htmltools 0.5.8.1(2024-04-04); httr 1.4.7(2023-08-15); httr2 1.2.1(2025-07-22); igraph 2.2.0(2025-10-13); jsonlite 2.0.0(2025-03-27); knitr 1.50(2025-03-16); later 1.4.4(2025-08-27); lifecycle 1.0.4(2023-11-07); logger 0.4.1(2025-09-11); lubridate 1.9.4(2024-12-08); magrittr 2.0.4(2025-09-12); memoise 2.0.1(2021-11-26); OmnipathR 3.16.2(2025-10-15); pillar 1.11.1(2025-09-17); pkgconfig 2.0.3(2019-09-22); prettyunits 1.2.0(2023-09-24); processx 3.8.6(2025-02-21); progress 1.2.3(2023-12-06); promises 1.3.3(2025-05-29); ps 1.9.1(2025-04-12); purrr 1.1.0(2025-07-10); R.methodsS3 1.8.2(2022-06-13); R.oo 1.27.1(2025-05-02); R.utils 2.13.0(2025-02-24); R6 2.6.1(2025-02-15); rappdirs 0.3.3(2021-01-31); Rcpp 1.1.0(2025-07-02); readr 2.1.5(2024-01-10); readxl 1.4.5(2025-03-07); rlang 1.1.6(2025-04-11); rmarkdown 2.30(2025-09-28); RSQLite 2.4.3(2025-08-20); rvest 1.0.5(2025-08-29); sessioninfo 1.2.3(2025-02-05); stringi 1.8.7(2025-03-27); stringr 1.5.2(2025-09-08); tibble 3.3.0(2025-06-08); tidyr 1.3.1(2024-01-24); tidyselect 1.2.1(2024-03-11); timechange 0.3.0(2024-01-18); tzdb 0.5.0(2025-03-15); vctrs 0.6.5(2023-12-01); websocket 1.4.4(2025-04-10); withr 3.0.2(2024-10-28); xfun 0.53(2025-08-19); XML 3.99-0.19(2025-08-22); xml2 1.4.0(2025-08-20); yaml 2.3.10(2024-07-26); zip 2.3.3(2025-05-13) [2025-10-15 15:08:34] [INFO] [OmnipathR] CURL: version: 8.5.0; headers: 8.5.0; ssl_version: OpenSSL/3.0.13; libz_version: 1.3; libssh_version: libssh/0.10.6/openssl/zlib; libidn_version: 2.3.7; host: x86_64-pc-linux-gnu; protocols: dict, file, ftp, ftps, gopher, gophers, http, https, imap, imaps, ldap, ldaps, mqtt, pop3, pop3s, rtmp, rtmpe, rtmps, rtmpt, rtmpte, rtmpts, rtsp, scp, sftp, smb, smbs, smtp, smtps, telnet, tftp; ipv6: TRUE; http2: TRUE; idn: TRUE; url_parser: TRUE [2025-10-15 15:08:34] [TRACE] [OmnipathR] Running on a build server, wiping cache. [2025-10-15 15:08:34] [TRACE] [OmnipathR] Cache is at `/home/biocbuild/.cache/OmnipathR`. [2025-10-15 15:08:34] [TRACE] [OmnipathR] Contains 8 files. [2025-10-15 15:08:34] [TRACE] [OmnipathR] Cache is locked: FALSE. [2025-10-15 15:08:34] [TRACE] [OmnipathR] Reading JSON from `/home/biocbuild/.cache/OmnipathR/cache.json` (encoding: UTF-8). [2025-10-15 15:08:34] [TRACE] [OmnipathR] JSON validation successful: TRUE [2025-10-15 15:08:34] [SUCCESS] [OmnipathR] Removing all cache contents from `/home/biocbuild/.cache/OmnipathR`. [2025-10-15 15:08:34] [TRACE] [OmnipathR] Pandoc version: `2.7.3`. [2025-10-15 15:08:34] [TRACE] [OmnipathR] Reading JSON from `/home/biocbuild/bbs-3.21-bioc/R/site-library/00LOCK-OmnipathR/00new/OmnipathR/db/db_def.json` (encoding: UTF-8). [2025-10-15 15:08:34] [TRACE] [OmnipathR] JSON validation successful: TRUE [2025-10-15 15:08:34] [TRACE] [OmnipathR] Reading JSON from `/home/biocbuild/bbs-3.21-bioc/R/site-library/00LOCK-OmnipathR/00new/OmnipathR/internal/magic_bytes.json` (encoding: UTF-8). [2025-10-15 15:08:34] [TRACE] [OmnipathR] JSON validation successful: TRUE [2025-10-15 15:08:34] [TRACE] [OmnipathR] Reading JSON from `/home/biocbuild/bbs-3.21-bioc/R/site-library/00LOCK-OmnipathR/00new/OmnipathR/internal/urls.json` (encoding: UTF-8). [2025-10-15 15:08:34] [TRACE] [OmnipathR] JSON validation successful: TRUE [2025-10-15 15:08:34] [TRACE] [OmnipathR] Reading JSON from `/home/biocbuild/bbs-3.21-bioc/R/site-library/00LOCK-OmnipathR/00new/OmnipathR/internal/id_types.json` (encoding: UTF-8). [2025-10-15 15:08:34] [TRACE] [OmnipathR] JSON validation successful: TRUE [2025-10-15 15:08:34] [TRACE] [OmnipathR] Cache locked: FALSE ** testing if installed package can be loaded from final location [2025-10-15 15:08:36] [TRACE] [OmnipathR] Reading JSON from `/home/biocbuild/.cache/OmnipathR/cache.json` (encoding: UTF-8). [2025-10-15 15:08:36] [TRACE] [OmnipathR] JSON validation successful: TRUE [2025-10-15 15:08:36] [INFO] [OmnipathR] Initialized cache: `/home/biocbuild/.cache/OmnipathR`. [2025-10-15 15:08:36] [INFO] [OmnipathR] Package `OmnipathR` packaged: NA [2025-10-15 15:08:36] [INFO] [OmnipathR] Package `OmnipathR` date/publication: 2025-10-15 [2025-10-15 15:08:36] [INFO] [OmnipathR] Package `OmnipathR` built: R 4.5.1; ; 2025-10-15 19:08:19 UTC; unix [2025-10-15 15:08:36] [INFO] [OmnipathR] Package `OmnipathR` version: 3.16.2 [2025-10-15 15:08:36] [INFO] [OmnipathR] Package `OmnipathR` repository: Bioconductor 3.21 [2025-10-15 15:08:36] [INFO] [OmnipathR] Session info: [version=R version 4.5.1 (2025-06-13); os=Ubuntu 24.04.3 LTS; system=x86_64, linux-gnu; ui=X11; language=(EN); collate=C; ctype=en_US.UTF-8; tz=America/New_York; date=2025-10-15; pandoc=2.7.3 @ /usr/bin/ (via rmarkdown); quarto=1.5.57 @ /usr/local/bin/quarto] [2025-10-15 15:08:36] [INFO] [OmnipathR] External libraries: [cairo=1.18.0; cairoFT=; pango=1.52.1; png=1.6.43; jpeg=8.0; tiff=LIBTIFF, Version 4.5.1; tcl=8.6.14; curl=8.5.0; zlib=1.3; bzlib=1.0.8, 13-Jul-2019; xz=5.4.5; deflate=1.19; PCRE=10.42 2022-12-11; ICU=74.2; TRE=TRE 0.8.0 R_fixes (BSD); iconv=glibc 2.39; readline=8.2; BLAS=/home/biocbuild/bbs-3.21-bioc/R/lib/libRblas.so; lapack=/usr/lib/x86_64-linux-gnu/lapack/liblapack.so.3.12.0; lapack_version=3.12.0] [2025-10-15 15:08:36] [INFO] [OmnipathR] Loaded packages: backports 1.5.0(2024-05-23); bit 4.6.0(2025-03-06); bit64 4.6.0-1(2025-01-16); blob 1.2.4(2023-03-17); cachem 1.1.0(2024-05-16); cellranger 1.1.0(2016-07-27); checkmate 2.3.3(2025-08-18); chromote 0.5.1(2025-04-24); cli 3.6.5(2025-04-23); crayon 1.5.3(2024-06-20); curl 7.0.0(2025-08-19); DBI 1.2.3(2024-06-02); digest 0.6.37(2024-08-19); dplyr 1.1.4(2023-11-17); evaluate 1.0.5(2025-08-27); fastmap 1.2.0(2024-05-15); fs 1.6.6(2025-04-12); generics 0.1.4(2025-05-09); glue 1.8.0(2024-09-30); hms 1.1.3(2023-03-21); htmltools 0.5.8.1(2024-04-04); httr 1.4.7(2023-08-15); httr2 1.2.1(2025-07-22); igraph 2.2.0(2025-10-13); jsonlite 2.0.0(2025-03-27); knitr 1.50(2025-03-16); later 1.4.4(2025-08-27); lifecycle 1.0.4(2023-11-07); logger 0.4.1(2025-09-11); lubridate 1.9.4(2024-12-08); magrittr 2.0.4(2025-09-12); memoise 2.0.1(2021-11-26); OmnipathR 3.16.2(2025-10-15); pillar 1.11.1(2025-09-17); pkgconfig 2.0.3(2019-09-22); prettyunits 1.2.0(2023-09-24); processx 3.8.6(2025-02-21); progress 1.2.3(2023-12-06); promises 1.3.3(2025-05-29); ps 1.9.1(2025-04-12); purrr 1.1.0(2025-07-10); R.methodsS3 1.8.2(2022-06-13); R.oo 1.27.1(2025-05-02); R.utils 2.13.0(2025-02-24); R6 2.6.1(2025-02-15); rappdirs 0.3.3(2021-01-31); Rcpp 1.1.0(2025-07-02); readr 2.1.5(2024-01-10); readxl 1.4.5(2025-03-07); rlang 1.1.6(2025-04-11); rmarkdown 2.30(2025-09-28); RSQLite 2.4.3(2025-08-20); rvest 1.0.5(2025-08-29); sessioninfo 1.2.3(2025-02-05); stringi 1.8.7(2025-03-27); stringr 1.5.2(2025-09-08); tibble 3.3.0(2025-06-08); tidyr 1.3.1(2024-01-24); tidyselect 1.2.1(2024-03-11); timechange 0.3.0(2024-01-18); tzdb 0.5.0(2025-03-15); vctrs 0.6.5(2023-12-01); websocket 1.4.4(2025-04-10); withr 3.0.2(2024-10-28); xfun 0.53(2025-08-19); XML 3.99-0.19(2025-08-22); xml2 1.4.0(2025-08-20); yaml 2.3.10(2024-07-26); zip 2.3.3(2025-05-13) [2025-10-15 15:08:36] [INFO] [OmnipathR] CURL: version: 8.5.0; headers: 8.5.0; ssl_version: OpenSSL/3.0.13; libz_version: 1.3; libssh_version: libssh/0.10.6/openssl/zlib; libidn_version: 2.3.7; host: x86_64-pc-linux-gnu; protocols: dict, file, ftp, ftps, gopher, gophers, http, https, imap, imaps, ldap, ldaps, mqtt, pop3, pop3s, rtmp, rtmpe, rtmps, rtmpt, rtmpte, rtmpts, rtsp, scp, sftp, smb, smbs, smtp, smtps, telnet, tftp; ipv6: TRUE; http2: TRUE; idn: TRUE; url_parser: TRUE [2025-10-15 15:08:36] [TRACE] [OmnipathR] Running on a build server, wiping cache. [2025-10-15 15:08:36] [TRACE] [OmnipathR] Cache is at `/home/biocbuild/.cache/OmnipathR`. [2025-10-15 15:08:36] [TRACE] [OmnipathR] Contains 1 files. [2025-10-15 15:08:36] [TRACE] [OmnipathR] Cache is locked: FALSE. [2025-10-15 15:08:36] [TRACE] [OmnipathR] Reading JSON from `/home/biocbuild/.cache/OmnipathR/cache.json` (encoding: UTF-8). [2025-10-15 15:08:36] [TRACE] [OmnipathR] JSON validation successful: TRUE [2025-10-15 15:08:36] [SUCCESS] [OmnipathR] Removing all cache contents from `/home/biocbuild/.cache/OmnipathR`. [2025-10-15 15:08:36] [TRACE] [OmnipathR] Pandoc version: `2.7.3`. [2025-10-15 15:08:36] [TRACE] [OmnipathR] Reading JSON from `/home/biocbuild/bbs-3.21-bioc/R/site-library/OmnipathR/db/db_def.json` (encoding: UTF-8). [2025-10-15 15:08:37] [TRACE] [OmnipathR] JSON validation successful: TRUE [2025-10-15 15:08:37] [TRACE] [OmnipathR] Reading JSON from `/home/biocbuild/bbs-3.21-bioc/R/site-library/OmnipathR/internal/magic_bytes.json` (encoding: UTF-8). [2025-10-15 15:08:37] [TRACE] [OmnipathR] JSON validation successful: TRUE [2025-10-15 15:08:37] [TRACE] [OmnipathR] Reading JSON from `/home/biocbuild/bbs-3.21-bioc/R/site-library/OmnipathR/internal/urls.json` (encoding: UTF-8). [2025-10-15 15:08:37] [TRACE] [OmnipathR] JSON validation successful: TRUE [2025-10-15 15:08:37] [TRACE] [OmnipathR] Reading JSON from `/home/biocbuild/bbs-3.21-bioc/R/site-library/OmnipathR/internal/id_types.json` (encoding: UTF-8). [2025-10-15 15:08:37] [TRACE] [OmnipathR] JSON validation successful: TRUE [2025-10-15 15:08:37] [TRACE] [OmnipathR] Cache locked: FALSE ** testing if installed package keeps a record of temporary installation path * DONE (OmnipathR)
OmnipathR.Rcheck/tests/testthat.Rout
R version 4.5.1 (2025-06-13) -- "Great Square Root" Copyright (C) 2025 The R Foundation for Statistical Computing Platform: x86_64-pc-linux-gnu R is free software and comes with ABSOLUTELY NO WARRANTY. You are welcome to redistribute it under certain conditions. Type 'license()' or 'licence()' for distribution details. R is a collaborative project with many contributors. Type 'contributors()' for more information and 'citation()' on how to cite R or R packages in publications. Type 'demo()' for some demos, 'help()' for on-line help, or 'help.start()' for an HTML browser interface to help. Type 'q()' to quit R. > #!/usr/bin/env Rscript > > # > # This file is part of the `OmnipathR` R package > # > # Copyright > # 2018-2024 > # Saez Lab, Uniklinik RWTH Aachen, Heidelberg University > # > # File author(s): Alberto Valdeolivas > # Dénes Türei (turei.denes@gmail.com) > # Attila Gábor > # > # Distributed under the MIT (Expat) License. > # See accompanying file `LICENSE` or find a copy at > # https://directory.fsf.org/wiki/License:Expat > # > # Website: https://r.omnipathdb.org/ > # Git repo: https://github.com/saezlab/OmnipathR > # > > > library(testthat) > library(OmnipathR) [2025-10-16 02:05:45] [TRACE] [OmnipathR] Reading JSON from `/home/biocbuild/.cache/OmnipathR/cache.json` (encoding: UTF-8). [2025-10-16 02:05:45] [TRACE] [OmnipathR] JSON validation successful: TRUE [2025-10-16 02:05:45] [INFO] [OmnipathR] Initialized cache: `/home/biocbuild/.cache/OmnipathR`. [2025-10-16 02:05:45] [INFO] [OmnipathR] Package `OmnipathR` packaged: NA [2025-10-16 02:05:45] [INFO] [OmnipathR] Package `OmnipathR` date/publication: 2025-10-15 [2025-10-16 02:05:45] [INFO] [OmnipathR] Package `OmnipathR` built: R 4.5.1; ; 2025-10-15 19:08:19 UTC; unix [2025-10-16 02:05:45] [INFO] [OmnipathR] Package `OmnipathR` version: 3.16.2 [2025-10-16 02:05:45] [INFO] [OmnipathR] Package `OmnipathR` repository: Bioconductor 3.21 [2025-10-16 02:05:46] [INFO] [OmnipathR] Session info: [version=R version 4.5.1 (2025-06-13); os=Ubuntu 24.04.3 LTS; system=x86_64, linux-gnu; ui=X11; language=C; collate=C; ctype=en_US.UTF-8; tz=America/New_York; date=2025-10-16; pandoc=2.7.3 @ /usr/bin/ (via rmarkdown); quarto=1.5.57 @ /usr/local/bin/quarto] [2025-10-16 02:05:46] [INFO] [OmnipathR] External libraries: [cairo=1.18.0; cairoFT=; pango=1.52.1; png=1.6.43; jpeg=8.0; tiff=LIBTIFF, Version 4.5.1; tcl=8.6.14; curl=8.5.0; zlib=1.3; bzlib=1.0.8, 13-Jul-2019; xz=5.4.5; deflate=1.19; PCRE=10.42 2022-12-11; ICU=74.2; TRE=TRE 0.8.0 R_fixes (BSD); iconv=glibc 2.39; readline=8.2; BLAS=/home/biocbuild/bbs-3.21-bioc/R/lib/libRblas.so; lapack=/usr/lib/x86_64-linux-gnu/lapack/liblapack.so.3.12.0; lapack_version=3.12.0] [2025-10-16 02:05:46] [INFO] [OmnipathR] Loaded packages: backports 1.5.0(2024-05-23); bit 4.6.0(2025-03-06); bit64 4.6.0-1(2025-01-16); blob 1.2.4(2023-03-17); brio 1.1.5(2024-04-24); cachem 1.1.0(2024-05-16); cellranger 1.1.0(2016-07-27); checkmate 2.3.3(2025-08-18); cli 3.6.5(2025-04-23); crayon 1.5.3(2024-06-20); curl 7.0.0(2025-08-19); DBI 1.2.3(2024-06-02); digest 0.6.37(2024-08-19); dplyr 1.1.4(2023-11-17); evaluate 1.0.5(2025-08-27); fastmap 1.2.0(2024-05-15); fs 1.6.6(2025-04-12); generics 0.1.4(2025-05-09); glue 1.8.0(2024-09-30); hms 1.1.3(2023-03-21); htmltools 0.5.8.1(2024-04-04); httr 1.4.7(2023-08-15); httr2 1.2.1(2025-07-22); igraph 2.2.0(2025-10-13); jsonlite 2.0.0(2025-03-27); knitr 1.50(2025-03-16); later 1.4.4(2025-08-27); lifecycle 1.0.4(2023-11-07); logger 0.4.1(2025-09-11); lubridate 1.9.4(2024-12-08); magrittr 2.0.4(2025-09-12); memoise 2.0.1(2021-11-26); OmnipathR 3.16.2(2025-10-15); pillar 1.11.1(2025-09-17); pkgconfig 2.0.3(2019-09-22); prettyunits 1.2.0(2023-09-24); progress 1.2.3(2023-12-06); purrr 1.1.0(2025-07-10); R.methodsS3 1.8.2(2022-06-13); R.oo 1.27.1(2025-05-02); R.utils 2.13.0(2025-02-24); R6 2.6.1(2025-02-15); rappdirs 0.3.3(2021-01-31); Rcpp 1.1.0(2025-07-02); readr 2.1.5(2024-01-10); readxl 1.4.5(2025-03-07); rlang 1.1.6(2025-04-11); rmarkdown 2.30(2025-09-28); RSQLite 2.4.3(2025-08-20); rvest 1.0.5(2025-08-29); sessioninfo 1.2.3(2025-02-05); stringi 1.8.7(2025-03-27); stringr 1.5.2(2025-09-08); testthat 3.2.3(2025-01-13); tibble 3.3.0(2025-06-08); tidyr 1.3.1(2024-01-24); tidyselect 1.2.1(2024-03-11); timechange 0.3.0(2024-01-18); tzdb 0.5.0(2025-03-15); vctrs 0.6.5(2023-12-01); withr 3.0.2(2024-10-28); xfun 0.53(2025-08-19); XML 3.99-0.19(2025-08-22); xml2 1.4.0(2025-08-20); yaml 2.3.10(2024-07-26); zip 2.3.3(2025-05-13) [2025-10-16 02:05:46] [INFO] [OmnipathR] CURL: version: 8.5.0; headers: 8.5.0; ssl_version: OpenSSL/3.0.13; libz_version: 1.3; libssh_version: libssh/0.10.6/openssl/zlib; libidn_version: 2.3.7; host: x86_64-pc-linux-gnu; protocols: dict, file, ftp, ftps, gopher, gophers, http, https, imap, imaps, ldap, ldaps, mqtt, pop3, pop3s, rtmp, rtmpe, rtmps, rtmpt, rtmpte, rtmpts, rtsp, scp, sftp, smb, smbs, smtp, smtps, telnet, tftp; ipv6: TRUE; http2: TRUE; idn: TRUE; url_parser: TRUE [2025-10-16 02:05:46] [TRACE] [OmnipathR] Running on a build server, wiping cache. [2025-10-16 02:05:46] [TRACE] [OmnipathR] Cache is at `/home/biocbuild/.cache/OmnipathR`. [2025-10-16 02:05:46] [TRACE] [OmnipathR] Contains 21 files. [2025-10-16 02:05:46] [TRACE] [OmnipathR] Cache is locked: FALSE. [2025-10-16 02:05:46] [TRACE] [OmnipathR] Reading JSON from `/home/biocbuild/.cache/OmnipathR/cache.json` (encoding: UTF-8). [2025-10-16 02:05:46] [TRACE] [OmnipathR] JSON validation successful: TRUE [2025-10-16 02:05:46] [SUCCESS] [OmnipathR] Removing all cache contents from `/home/biocbuild/.cache/OmnipathR`. [2025-10-16 02:05:46] [TRACE] [OmnipathR] Pandoc version: `2.7.3`. [2025-10-16 02:05:46] [TRACE] [OmnipathR] Reading JSON from `/home/biocbuild/bbs-3.21-bioc/R/site-library/OmnipathR/db/db_def.json` (encoding: UTF-8). [2025-10-16 02:05:46] [TRACE] [OmnipathR] JSON validation successful: TRUE [2025-10-16 02:05:46] [TRACE] [OmnipathR] Reading JSON from `/home/biocbuild/bbs-3.21-bioc/R/site-library/OmnipathR/internal/magic_bytes.json` (encoding: UTF-8). [2025-10-16 02:05:46] [TRACE] [OmnipathR] JSON validation successful: TRUE [2025-10-16 02:05:46] [TRACE] [OmnipathR] Reading JSON from `/home/biocbuild/bbs-3.21-bioc/R/site-library/OmnipathR/internal/urls.json` (encoding: UTF-8). [2025-10-16 02:05:46] [TRACE] [OmnipathR] JSON validation successful: TRUE [2025-10-16 02:05:46] [TRACE] [OmnipathR] Reading JSON from `/home/biocbuild/bbs-3.21-bioc/R/site-library/OmnipathR/internal/id_types.json` (encoding: UTF-8). [2025-10-16 02:05:46] [TRACE] [OmnipathR] JSON validation successful: TRUE [2025-10-16 02:05:46] [TRACE] [OmnipathR] Cache locked: FALSE > > test_check('OmnipathR') [ FAIL 0 | WARN 11 | SKIP 0 | PASS 38 ] [ FAIL 0 | WARN 11 | SKIP 0 | PASS 38 ] > > proc.time() user system elapsed 18.324 1.641 47.926
OmnipathR.Rcheck/OmnipathR-Ex.timings
name | user | system | elapsed | |
OmnipathR | 0.000 | 0.000 | 0.001 | |
all_uniprot_acs | 0.017 | 0.002 | 0.019 | |
all_uniprots | 1.437 | 0.143 | 13.320 | |
ancestors | 0.007 | 0.001 | 0.008 | |
annotated_network | 1.307 | 0.088 | 4.273 | |
annotation_categories | 89.692 | 0.070 | 91.134 | |
annotation_resources | 0.133 | 0.012 | 0.742 | |
annotations | 0.598 | 0.038 | 1.366 | |
biomart_query | 1.053 | 0.075 | 3.808 | |
bioplex1 | 0.009 | 0.000 | 0.009 | |
bioplex2 | 0.008 | 0.000 | 0.008 | |
bioplex3 | 0.008 | 0.000 | 0.007 | |
bioplex_all | 0.009 | 0.000 | 0.008 | |
bioplex_hct116_1 | 0.007 | 0.000 | 0.008 | |
bma_motif_es | 0.627 | 0.066 | 1.636 | |
bma_motif_vs | 0.270 | 0.004 | 0.896 | |
chalmers_gem | 0.007 | 0.002 | 0.009 | |
chalmers_gem_id_mapping_table | 0.007 | 0.001 | 0.008 | |
chalmers_gem_id_type | 0.002 | 0.000 | 0.002 | |
chalmers_gem_metabolites | 0.007 | 0.001 | 0.008 | |
chalmers_gem_network | 0.007 | 0.001 | 0.008 | |
chalmers_gem_raw | 0.006 | 0.002 | 0.008 | |
chalmers_gem_reactions | 0.007 | 0.001 | 0.008 | |
common_name | 0.028 | 0.001 | 0.029 | |
complex_genes | 0.738 | 0.023 | 2.394 | |
complex_resources | 0.169 | 0.007 | 0.724 | |
complexes | 0.287 | 0.015 | 0.884 | |
consensuspathdb_download | 0.001 | 0.000 | 0.001 | |
consensuspathdb_raw_table | 0.009 | 0.000 | 0.009 | |
cosmos_pkn | 0 | 0 | 0 | |
curated_ligand_receptor_interactions | 6.456 | 0.760 | 16.070 | |
curated_ligrec_stats | 38.454 | 2.664 | 105.156 | |
database_summary | 1.593 | 0.066 | 2.863 | |
descendants | 0.012 | 0.003 | 0.015 | |
ensembl_dataset | 0.015 | 0.002 | 0.017 | |
ensembl_id_mapping_table | 2.279 | 0.161 | 19.296 | |
ensembl_id_type | 0.002 | 0.000 | 0.002 | |
ensembl_name | 0.059 | 0.005 | 0.064 | |
ensembl_organisms | 0.129 | 0.017 | 0.145 | |
ensembl_organisms_raw | 0.104 | 0.008 | 0.112 | |
ensembl_orthology | 0.000 | 0.001 | 0.001 | |
enzsub_graph | 2.003 | 0.138 | 4.200 | |
enzsub_resources | 0.143 | 0.002 | 0.734 | |
enzyme_substrate | 1.030 | 0.021 | 1.637 | |
evex_download | 0.008 | 0.001 | 0.009 | |
evidences | 0 | 0 | 0 | |
extra_attr_values | 11.178 | 1.369 | 14.824 | |
extra_attrs | 6.584 | 1.107 | 7.721 | |
extra_attrs_to_cols | 12.859 | 1.274 | 14.154 | |
filter_by_resource | 7.578 | 0.262 | 10.206 | |
filter_extra_attrs | 24.446 | 4.730 | 29.906 | |
filter_intercell | 5.887 | 0.417 | 10.254 | |
filter_intercell_network | 0.018 | 0.002 | 0.020 | |
find_all_paths | 5.148 | 0.094 | 5.240 | |
from_evidences | 0.000 | 0.001 | 0.000 | |
get_db | 0 | 0 | 0 | |
get_ontology_db | 0.01 | 0.00 | 0.01 | |
giant_component | 23.771 | 1.340 | 36.551 | |
go_annot_download | 19.992 | 1.225 | 25.075 | |
go_annot_slim | 0.001 | 0.000 | 0.001 | |
go_ontology_download | 0.022 | 0.001 | 0.046 | |
guide2pharma_download | 0.024 | 0.001 | 0.049 | |
harmonizome_download | 0.024 | 0.003 | 0.051 | |
has_extra_attrs | 14.627 | 1.721 | 17.404 | |
hmdb_id_mapping_table | 0.007 | 0.002 | 0.009 | |
hmdb_id_type | 0.002 | 0.000 | 0.002 | |
hmdb_metabolite_fields | 0.001 | 0.000 | 0.001 | |
hmdb_protein_fields | 0.001 | 0.000 | 0.001 | |
hmdb_table | 0.009 | 0.000 | 0.009 | |
homologene_download | 0.007 | 0.001 | 0.009 | |
homologene_raw | 0.019 | 0.002 | 0.021 | |
homologene_uniprot_orthology | 0.009 | 0.001 | 0.009 | |
hpo_download | 3.267 | 0.196 | 3.956 | |
htridb_download | 0.012 | 0.000 | 0.013 | |
id_translation_resources | 0.000 | 0.001 | 0.000 | |
id_types | 0.059 | 0.000 | 0.059 | |
inbiomap_download | 0 | 0 | 0 | |
inbiomap_raw | 0 | 0 | 0 | |
interaction_datasets | 0.682 | 0.029 | 1.023 | |
interaction_graph | 0.453 | 0.013 | 1.279 | |
interaction_resources | 0.092 | 0.005 | 0.774 | |
interaction_types | 0.065 | 0.001 | 0.066 | |
intercell | 0.889 | 0.054 | 1.743 | |
intercell_categories | 0.677 | 0.044 | 0.897 | |
intercell_consensus_filter | 1.941 | 0.344 | 4.969 | |
intercell_generic_categories | 0.116 | 0.023 | 0.276 | |
intercell_network | 0.029 | 0.002 | 0.066 | |
intercell_resources | 0.188 | 0.013 | 1.031 | |
intercell_summary | 0.105 | 0.027 | 0.258 | |
is_ontology_id | 0.001 | 0.000 | 0.000 | |
is_swissprot | 0.065 | 0.003 | 0.134 | |
is_trembl | 0.068 | 0.003 | 0.141 | |
is_uniprot | 0.023 | 0.001 | 0.049 | |
kegg_api_templates | 0.001 | 0.006 | 0.017 | |
kegg_conv | 2.718 | 0.307 | 14.836 | |
kegg_databases | 0.000 | 0.001 | 0.001 | |
kegg_ddi | 1.478 | 0.082 | 3.256 | |
kegg_find | 1.727 | 0.126 | 3.958 | |
kegg_info | 0.042 | 0.010 | 0.052 | |
kegg_link | 1.226 | 0.128 | 7.372 | |
kegg_list | 0.587 | 0.044 | 1.546 | |
kegg_open | 0.012 | 0.003 | 0.015 | |
kegg_operations | 0 | 0 | 0 | |
kegg_organism_codes | 0.026 | 0.114 | 0.140 | |
kegg_organisms | 0.026 | 0.010 | 0.036 | |
kegg_pathway_annotations | 0.001 | 0.000 | 0.000 | |
kegg_pathway_download | 0.015 | 0.001 | 0.016 | |
kegg_pathway_list | 0.015 | 0.000 | 0.015 | |
kegg_pathways_download | 0.001 | 0.000 | 0.000 | |
kegg_picture | 1.846 | 0.070 | 6.842 | |
kegg_process | 0.019 | 0.002 | 0.021 | |
kegg_query | 0.008 | 0.001 | 0.009 | |
kegg_request | 0.060 | 0.002 | 0.062 | |
kegg_rm_prefix | 0.680 | 0.052 | 5.186 | |
latin_name | 0.064 | 0.001 | 0.065 | |
load_db | 0.070 | 0.011 | 0.081 | |
metalinksdb_sqlite | 1.246 | 0.277 | 11.515 | |
metalinksdb_table | 0.424 | 0.053 | 0.495 | |
metalinksdb_tables | 0.038 | 0.003 | 0.041 | |
ncbi_taxid | 0.137 | 0.010 | 0.148 | |
nichenet_build_model | 0.000 | 0.001 | 0.001 | |
nichenet_expression_data | 0.017 | 0.002 | 0.019 | |
nichenet_gr_network | 0.043 | 0.008 | 0.051 | |
nichenet_gr_network_evex | 0.014 | 0.003 | 0.018 | |
nichenet_gr_network_harmonizome | 0.018 | 0.001 | 0.019 | |
nichenet_gr_network_htridb | 0.015 | 0.002 | 0.017 | |
nichenet_gr_network_omnipath | 25.814 | 1.528 | 34.326 | |
nichenet_gr_network_pathwaycommons | 0.007 | 0.002 | 0.010 | |
nichenet_gr_network_regnetwork | 0.008 | 0.000 | 0.009 | |
nichenet_gr_network_remap | 0.007 | 0.002 | 0.008 | |
nichenet_gr_network_trrust | 0.005 | 0.004 | 0.009 | |
nichenet_ligand_activities | 0.000 | 0.000 | 0.001 | |
nichenet_ligand_target_links | 0.000 | 0.000 | 0.001 | |
nichenet_ligand_target_matrix | 0 | 0 | 0 | |
nichenet_lr_network | 0.020 | 0.006 | 0.027 | |
nichenet_lr_network_guide2pharma | 0.046 | 0.000 | 0.047 | |
nichenet_lr_network_omnipath | 0.024 | 0.003 | 0.026 | |
nichenet_lr_network_ramilowski | 0.008 | 0.000 | 0.008 | |
nichenet_main | 0.000 | 0.001 | 0.000 | |
nichenet_networks | 0.037 | 0.003 | 0.041 | |
nichenet_optimization | 0.000 | 0.000 | 0.001 | |
nichenet_remove_orphan_ligands | 0.020 | 0.004 | 0.025 | |
nichenet_results_dir | 0 | 0 | 0 | |
nichenet_signaling_network | 0.027 | 0.000 | 0.027 | |
nichenet_signaling_network_cpdb | 0.009 | 0.000 | 0.008 | |
nichenet_signaling_network_evex | 0.007 | 0.002 | 0.008 | |
nichenet_signaling_network_harmonizome | 0.006 | 0.002 | 0.008 | |
nichenet_signaling_network_inbiomap | 0 | 0 | 0 | |
nichenet_signaling_network_omnipath | 16.108 | 1.103 | 22.189 | |
nichenet_signaling_network_pathwaycommons | 0.149 | 0.005 | 0.188 | |
nichenet_signaling_network_vinayagam | 0.027 | 0.000 | 0.037 | |
nichenet_test | 0.001 | 0.000 | 0.000 | |
nichenet_workarounds | 0 | 0 | 0 | |
obo_parser | 0.222 | 0.015 | 0.416 | |
oma_code | 0.081 | 0.003 | 0.163 | |
oma_organisms | 0.176 | 0.031 | 0.410 | |
oma_pairwise | 0.025 | 0.003 | 0.053 | |
oma_pairwise_genesymbols | 0.024 | 0.004 | 0.054 | |
oma_pairwise_translated | 0.027 | 0.004 | 0.061 | |
omnipath-interactions | 54.589 | 4.431 | 112.887 | |
omnipath_cache_autoclean | 0.000 | 0.000 | 0.001 | |
omnipath_cache_clean | 0.018 | 0.001 | 0.019 | |
omnipath_cache_clean_db | 0.193 | 0.020 | 0.283 | |
omnipath_cache_download_ready | 1.060 | 0.137 | 1.944 | |
omnipath_cache_filter_versions | 0.227 | 0.034 | 0.562 | |
omnipath_cache_get | 0.208 | 0.034 | 0.518 | |
omnipath_cache_key | 0.005 | 0.000 | 0.020 | |
omnipath_cache_latest_or_new | 0.281 | 0.033 | 0.732 | |
omnipath_cache_load | 1.104 | 0.073 | 3.942 | |
omnipath_cache_move_in | 0.333 | 0.044 | 0.573 | |
omnipath_cache_remove | 0.206 | 0.023 | 0.391 | |
omnipath_cache_save | 0.337 | 0.041 | 0.672 | |
omnipath_cache_search | 0.002 | 0.000 | 0.002 | |
omnipath_cache_set_ext | 0.206 | 0.018 | 0.451 | |
omnipath_cache_update_status | 0.279 | 0.064 | 0.443 | |
omnipath_cache_wipe | 0 | 0 | 0 | |
omnipath_config_path | 0.003 | 0.000 | 0.006 | |
omnipath_for_cosmos | 12.133 | 0.929 | 34.340 | |
omnipath_load_config | 0 | 0 | 0 | |
omnipath_log | 0.000 | 0.000 | 0.001 | |
omnipath_logfile | 0.002 | 0.000 | 0.002 | |
omnipath_msg | 0.003 | 0.002 | 0.005 | |
omnipath_query | 3.176 | 0.186 | 3.362 | |
omnipath_reset_config | 0 | 0 | 0 | |
omnipath_save_config | 0.001 | 0.000 | 0.001 | |
omnipath_set_cachedir | 0.020 | 0.002 | 0.022 | |
omnipath_set_console_loglevel | 0.003 | 0.000 | 0.004 | |
omnipath_set_logfile_loglevel | 0.003 | 0.000 | 0.004 | |
omnipath_set_loglevel | 0.002 | 0.000 | 0.002 | |
omnipath_show_db | 0.056 | 0.002 | 0.059 | |
omnipath_unlock_cache_db | 0 | 0 | 0 | |
only_from | 0.001 | 0.000 | 0.001 | |
ontology_ensure_id | 0.000 | 0.001 | 0.001 | |
ontology_ensure_name | 0.000 | 0.001 | 0.001 | |
ontology_name_id | 0.000 | 0.001 | 0.001 | |
organism_for | 0.042 | 0.000 | 0.042 | |
pathwaycommons_download | 0.001 | 0.000 | 0.001 | |
pivot_annotations | 9.245 | 0.601 | 18.429 | |
preppi_download | 0.000 | 0.000 | 0.001 | |
preppi_filter | 0.000 | 0.001 | 0.001 | |
print_bma_motif_es | 0.647 | 0.076 | 1.520 | |
print_bma_motif_vs | 0.209 | 0.016 | 0.844 | |
print_interactions | 5.908 | 0.256 | 10.211 | |
print_path_es | 0.828 | 0.062 | 2.397 | |
print_path_vs | 2.222 | 0.176 | 4.964 | |
pubmed_open | 3.487 | 0.099 | 3.583 | |
query_info | 0.335 | 0.006 | 0.517 | |
ramilowski_download | 0 | 0 | 0 | |
ramp_id_mapping_table | 0.001 | 0.001 | 0.000 | |
ramp_id_type | 0.002 | 0.000 | 0.002 | |
ramp_sqlite | 0.000 | 0.001 | 0.000 | |
ramp_table | 0 | 0 | 0 | |
ramp_tables | 0 | 0 | 0 | |
regnetwork_directions | 0 | 0 | 0 | |
regnetwork_download | 0.001 | 0.001 | 0.001 | |
relations_list_to_table | 0.072 | 0.008 | 0.178 | |
relations_table_to_graph | 0 | 0 | 0 | |
relations_table_to_list | 0.062 | 0.009 | 0.084 | |
remap_dorothea_download | 0.001 | 0.000 | 0.001 | |
remap_filtered | 0.000 | 0.000 | 0.001 | |
remap_tf_target_download | 0.000 | 0.000 | 0.001 | |
resource_info | 0.387 | 0.061 | 0.631 | |
resources | 0.082 | 0.012 | 0.794 | |
resources_colname | 1.157 | 0.050 | 3.900 | |
resources_in | 3.384 | 0.217 | 3.604 | |
show_network | 0.000 | 0.000 | 0.001 | |
signed_ptms | 4.508 | 0.237 | 5.328 | |
simplify_intercell_network | 0.000 | 0.000 | 0.001 | |
static_table | 6.726 | 0.349 | 7.923 | |
static_tables | 0.105 | 0.005 | 0.114 | |
stitch_actions | 0.000 | 0.002 | 0.002 | |
stitch_links | 0.001 | 0.000 | 0.001 | |
stitch_network | 0.002 | 0.000 | 0.001 | |
stitch_remove_prefixes | 0.011 | 0.003 | 0.014 | |
swap_relations | 0.144 | 0.014 | 0.173 | |
swissprots_only | 0.075 | 0.002 | 0.077 | |
tfcensus_download | 1.036 | 0.034 | 1.214 | |
translate_ids | 1.074 | 0.051 | 11.193 | |
translate_ids_multi | 14.066 | 0.844 | 33.987 | |
trembls_only | 0.108 | 0.009 | 0.118 | |
trrust_download | 0.002 | 0.000 | 0.003 | |
uniprot_full_id_mapping_table | 2.289 | 0.144 | 14.509 | |
uniprot_genesymbol_cleanup | 0 | 0 | 0 | |
uniprot_id_mapping_table | 0.001 | 0.000 | 0.002 | |
uniprot_id_type | 0.005 | 0.000 | 0.004 | |
uniprot_idmapping_id_types | 0.728 | 0.024 | 1.566 | |
unique_intercell_network | 0.001 | 0.000 | 0.002 | |
unnest_evidences | 0.001 | 0.000 | 0.001 | |
uploadlists_id_type | 0.004 | 0.000 | 0.004 | |
vinayagam_download | 0.001 | 0.000 | 0.001 | |
walk_ontology_tree | 0.002 | 0.000 | 0.002 | |
with_extra_attrs | 15.217 | 1.925 | 21.792 | |
with_references | 1.482 | 0.094 | 3.860 | |
zenodo_download | 0.001 | 0.001 | 0.001 | |