| Back to Multiple platform build/check report for BioC 3.22: simplified long |
|
This page was generated on 2025-11-24 12:06 -0500 (Mon, 24 Nov 2025).
| Hostname | OS | Arch (*) | R version | Installed pkgs |
|---|---|---|---|---|
| nebbiolo2 | Linux (Ubuntu 24.04.3 LTS) | x86_64 | 4.5.2 (2025-10-31) -- "[Not] Part in a Rumble" | 4873 |
| merida1 | macOS 12.7.6 Monterey | x86_64 | 4.5.2 Patched (2025-11-05 r88990) -- "[Not] Part in a Rumble" | 4654 |
| kjohnson1 | macOS 13.7.5 Ventura | arm64 | 4.5.2 Patched (2025-11-04 r88984) -- "[Not] Part in a Rumble" | 4600 |
| taishan | Linux (openEuler 24.03 LTS) | aarch64 | 4.5.0 (2025-04-11) -- "How About a Twenty-Six" | 4668 |
| Click on any hostname to see more info about the system (e.g. compilers) (*) as reported by 'uname -p', except on Windows and Mac OS X | ||||
| Package 1505/2361 | Hostname | OS / Arch | INSTALL | BUILD | CHECK | BUILD BIN | ||||||||
| OmnipathR 3.18.2 (landing page) Denes Turei
| nebbiolo2 | Linux (Ubuntu 24.04.3 LTS) / x86_64 | OK | OK | OK | |||||||||
| merida1 | macOS 12.7.6 Monterey / x86_64 | OK | TIMEOUT | skipped | skipped | |||||||||
| kjohnson1 | macOS 13.7.5 Ventura / arm64 | OK | OK | OK | OK | |||||||||
| taishan | Linux (openEuler 24.03 LTS) / aarch64 | OK | OK | OK | ||||||||||
|
To the developers/maintainers of the OmnipathR package: - Allow up to 24 hours (and sometimes 48 hours) for your latest push to git@git.bioconductor.org:packages/OmnipathR.git to reflect on this report. See Troubleshooting Build Report for more information. - Use the following Renviron settings to reproduce errors and warnings. - If 'R CMD check' started to fail recently on the Linux builder(s) over a missing dependency, add the missing dependency to 'Suggests:' in your DESCRIPTION file. See Renviron.bioc for more information. |
| Package: OmnipathR |
| Version: 3.18.2 |
| Command: /Library/Frameworks/R.framework/Resources/bin/R CMD check --install=check:OmnipathR.install-out.txt --library=/Library/Frameworks/R.framework/Resources/library --no-vignettes --timings OmnipathR_3.18.2.tar.gz |
| StartedAt: 2025-11-22 15:57:13 -0500 (Sat, 22 Nov 2025) |
| EndedAt: 2025-11-22 16:23:08 -0500 (Sat, 22 Nov 2025) |
| EllapsedTime: 1554.6 seconds |
| RetCode: 0 |
| Status: OK |
| CheckDir: OmnipathR.Rcheck |
| Warnings: 0 |
##############################################################################
##############################################################################
###
### Running command:
###
### /Library/Frameworks/R.framework/Resources/bin/R CMD check --install=check:OmnipathR.install-out.txt --library=/Library/Frameworks/R.framework/Resources/library --no-vignettes --timings OmnipathR_3.18.2.tar.gz
###
##############################################################################
##############################################################################
* using log directory ‘/Users/biocbuild/bbs-3.22-bioc/meat/OmnipathR.Rcheck’
* using R version 4.5.2 Patched (2025-11-04 r88984)
* using platform: aarch64-apple-darwin20
* R was compiled by
Apple clang version 16.0.0 (clang-1600.0.26.6)
GNU Fortran (GCC) 14.2.0
* running under: macOS Ventura 13.7.8
* using session charset: UTF-8
* using option ‘--no-vignettes’
* checking for file ‘OmnipathR/DESCRIPTION’ ... OK
* checking extension type ... Package
* this is package ‘OmnipathR’ version ‘3.18.2’
* package encoding: UTF-8
* checking package namespace information ... OK
* checking package dependencies ... INFO
Imports includes 35 non-default packages.
Importing from so many packages makes the package vulnerable to any of
them becoming unavailable. Move as many as possible to Suggests and
use conditionally.
* checking if this is a source package ... OK
* checking if there is a namespace ... OK
* checking for hidden files and directories ... OK
* checking for portable file names ... OK
* checking for sufficient/correct file permissions ... OK
* checking whether package ‘OmnipathR’ can be installed ... OK
* checking installed package size ... OK
* checking package directory ... OK
* checking DESCRIPTION meta-information ... OK
* checking top-level files ... OK
* checking for left-over files ... OK
* checking index information ... OK
* checking package subdirectories ... OK
* checking code files for non-ASCII characters ... OK
* checking R files for syntax errors ... OK
* checking whether the package can be loaded ... OK
* checking whether the package can be loaded with stated dependencies ... OK
* checking whether the package can be unloaded cleanly ... OK
* checking whether the namespace can be loaded with stated dependencies ... OK
* checking whether the namespace can be unloaded cleanly ... OK
* checking whether startup messages can be suppressed ... NOTE
[2025-11-22 15:58:02] [TRACE] [OmnipathR] Reading JSON from `/Users/biocbuild/Library/Caches/OmnipathR/cache.json` (encoding: UTF-8).
[2025-11-22 15:58:02] [TRACE] [OmnipathR] JSON validation successful: TRUE
[2025-11-22 15:58:02] [INFO] [OmnipathR] Initialized cache: `/Users/biocbuild/Library/Caches/OmnipathR`.
[2025-11-22 15:58:02] [INFO] [OmnipathR] Package `OmnipathR` packaged: NA
[2025-11-22 15:58:02] [INFO] [OmnipathR] Package `OmnipathR` date/publication: 2025-11-20
[2025-11-22 15:58:02] [INFO] [OmnipathR] Package `OmnipathR` built: R 4.5.2; ; 2025-11-20 21:11:05 UTC; unix
[2025-11-22 15:58:02] [INFO] [OmnipathR] Package `OmnipathR` version: 3.18.2
[2025-11-22 15:58:02] [INFO] [OmnipathR] Package `OmnipathR` repository: Bioconductor 3.22
[2025-11-22 15:58:03] [INFO] [OmnipathR] Session info: [version=R version 4.5.2 Patched (2025-11-04 r88984); os=macOS Ventura 13.7.8; system=aarch64, darwin20; ui=X11; language=(EN); collate=C; ctype=en_US.UTF-8; tz=America/New_York; date=2025-11-22; pandoc=3.6.4 @ /opt/homebrew/bin/ (via rmarkdown); quarto=1.4.553 @ /usr/local/bin/quarto]
[2025-11-22 15:58:03] [INFO] [OmnipathR] External libraries: [cairo=1.17.6; cairoFT=; pango=1.50.14; png=1.6.44; jpeg=9.5; tiff=LIBTIFF, Version 4.5.0; tcl=8.6.13; curl=8.7.1; zlib=1.2.11; bzlib=1.0.8, 13-Jul-2019; xz=5.6.3; deflate=1.23; PCRE=10.44 2024-06-07; ICU=70.2; TRE=TRE 0.8.0 R_fixes (BSD); iconv=Apple or GNU libiconv 1.11 /Library/Frameworks/R.framework/Versions/4.5-arm64/Resources/lib/libR.dylib; readline=5.2; BLAS=/System/Library/Frameworks/Accelerate.framework/Versions/A/Frameworks/vecLib.framework/Versions/A/libBLAS.dylib; lapack=/Library/Frameworks/R.framework/Versions/4.5-arm64/Resources/lib/libRlapack.dylib; lapack_version=3.12.1]
[2025-11-22 15:58:03] [INFO] [OmnipathR] Loaded packages: backports 1.5.0(2024-05-23); bit 4.6.0(2025-03-06); bit64 4.6.0-1(2025-01-16); blob 1.2.4(2023-03-17); cachem 1.1.0(2024-05-16); cellranger 1.1.0(2016-07-27); checkmate 2.3.3(2025-08-18); chromote 0.5.1(2025-04-24); cli 3.6.5(2025-04-23); crayon 1.5.3(2024-06-20); curl 7.0.0(2025-08-19); DBI 1.2.3(2024-06-02); digest 0.6.39(2025-11-19); dplyr 1.1.4(2023-11-17); evaluate 1.0.5(2025-08-27); fastmap 1.2.0(2024-05-15); fs 1.6.6(2025-04-12); generics 0.1.4(2025-05-09); glue 1.8.0(2024-09-30); hms 1.1.4(2025-10-17); htmltools 0.5.8.1(2024-04-04); httr 1.4.7(2023-08-15); httr2 1.2.1(2025-07-22); igraph 2.2.1(2025-10-27); jsonlite 2.0.0(2025-03-27); knitr 1.50(2025-03-16); later 1.4.4(2025-08-27); lifecycle 1.0.4(2023-11-07); logger 0.4.1(2025-09-11); lubridate 1.9.4(2024-12-08); magrittr 2.0.4(2025-09-12); memoise 2.0.1(2021-11-26); OmnipathR 3.18.2(2025-11-20); otel 0.2.0(2025-08-29); pillar 1.11.1(2025-09-17); pkgconfig 2.0.3(2019-09-22); prettyunits 1.2.0(2023-09-24); processx 3.8.6(2025-02-21); progress 1.2.3(2023-12-06); promises 1.5.0(2025-11-01); ps 1.9.1(2025-04-12); purrr 1.2.0(2025-11-04); R.methodsS3 1.8.2(2022-06-13); R.oo 1.27.1(2025-05-02); R.utils 2.13.0(2025-02-24); R6 2.6.1(2025-02-15); rappdirs 0.3.3(2021-01-31); Rcpp 1.1.0(2025-07-02); readr 2.1.6(2025-11-14); readxl 1.4.5(2025-03-07); rlang 1.1.6(2025-04-11); rmarkdown 2.30(2025-09-28); RSQLite 2.4.4(2025-11-10); rvest 1.0.5(2025-08-29); sessioninfo 1.2.3(2025-02-05); stringi 1.8.7(2025-03-27); stringr 1.6.0(2025-11-04); tibble 3.3.0(2025-06-08); tidyr 1.3.1(2024-01-24); tidyselect 1.2.1(2024-03-11); timechange 0.3.0(2024-01-18); tzdb 0.5.0(2025-03-15); vctrs 0.6.5(2023-12-01); websocket 1.4.4(2025-04-10); withr 3.0.2(2024-10-28); xfun 0.54(2025-10-30); XML 3.99-0.20(2025-11-08); xml2 1.5.0(2025-11-17); yaml 2.3.10(2024-07-26); zip 2.3.3(2025-05-13)
[2025-11-22 15:58:03] [INFO] [OmnipathR] CURL: version: 8.14.1; headers: 8.14.1; ssl_version: LibreSSL/3.3.6 (SecureTransport); libz_version: 1.2.11; libssh_version: NA; libidn_version: NA; host: aarch64-apple-darwin23.6.0; protocols: dict, file, ftp, ftps, gopher, gophers, http, https, imap, imaps, ldap, ldaps, mqtt, pop3, pop3s, rtsp, smb, smbs, smtp, smtps, telnet, tftp, ws, wss; ipv6: TRUE; http2: TRUE; idn: FALSE; url_parser: TRUE
[2025-11-22 15:58:03] [TRACE] [OmnipathR] Running on a build server, wiping cache.
[2025-11-22 15:58:03] [TRACE] [OmnipathR] Cache is at `/Users/biocbuild/Library/Caches/OmnipathR`.
[2025-11-22 15:58:03] [TRACE] [OmnipathR] Contains 1 files.
[2025-11-22 15:58:04] [TRACE] [OmnipathR] Cache is locked: FALSE.
[2025-11-22 15:58:04] [TRACE] [OmnipathR] Reading JSON from `/Users/biocbuild/Library/Caches/OmnipathR/cache.json` (encoding: UTF-8).
[2025-11-22 15:58:04] [TRACE] [OmnipathR] JSON validation successful: TRUE
[2025-11-22 15:58:04] [SUCCESS] [OmnipathR] Removing all cache contents from `/Users/biocbuild/Library/Caches/OmnipathR`.
[2025-11-22 15:58:04] [TRACE] [OmnipathR] Pandoc version: `3.6.4`.
[2025-11-22 15:58:04] [TRACE] [OmnipathR] Reading JSON from `/Library/Frameworks/R.framework/Versions/4.5-arm64/Resources/library/OmnipathR/db/db_def.json` (encoding: UTF-8).
[2025-11-22 15:58:04] [TRACE] [OmnipathR] JSON validation successful: TRUE
[2025-11-22 15:58:04] [TRACE] [OmnipathR] Reading JSON from `/Library/Frameworks/R.framework/Versions/4.5-arm64/Resources/library/OmnipathR/internal/magic_bytes.json` (encoding: UTF-8).
[2025-11-22 15:58:04] [TRACE] [OmnipathR] JSON validation successful: TRUE
[2025-11-22 15:58:04] [TRACE] [OmnipathR] Reading JSON from `/Library/Frameworks/R.framework/Versions/4.5-arm64/Resources/library/OmnipathR/internal/urls.json` (encoding: UTF-8).
[2025-11-22 15:58:04] [TRACE] [OmnipathR] JSON validation successful: TRUE
[2025-11-22 15:58:04] [TRACE] [OmnipathR] Reading JSON from `/Library/Frameworks/R.framework/Versions/4.5-arm64/Resources/library/OmnipathR/internal/id_types.json` (encoding: UTF-8).
[2025-11-22 15:58:04] [TRACE] [OmnipathR] JSON validation successful: TRUE
[2025-11-22 15:58:04] [TRACE] [OmnipathR] Cache locked: FALSE
It looks like this package (or a package it requires) has a startup
message which cannot be suppressed: see ?packageStartupMessage.
* checking dependencies in R code ... OK
* checking S3 generic/method consistency ... OK
* checking replacement functions ... OK
* checking foreign function calls ... OK
* checking R code for possible problems ... NOTE
[2025-11-22 15:58:40] [TRACE] [OmnipathR] Reading JSON from `/Users/biocbuild/Library/Caches/OmnipathR/cache.json` (encoding: UTF-8).
[2025-11-22 15:58:40] [TRACE] [OmnipathR] JSON validation successful: TRUE
[2025-11-22 15:58:40] [INFO] [OmnipathR] Initialized cache: `/Users/biocbuild/Library/Caches/OmnipathR`.
[2025-11-22 15:58:40] [INFO] [OmnipathR] Package `OmnipathR` packaged: NA
[2025-11-22 15:58:40] [INFO] [OmnipathR] Package `OmnipathR` date/publication: 2025-11-20
[2025-11-22 15:58:40] [INFO] [OmnipathR] Package `OmnipathR` built: R 4.5.2; ; 2025-11-20 21:11:05 UTC; unix
[2025-11-22 15:58:40] [INFO] [OmnipathR] Package `OmnipathR` version: 3.18.2
[2025-11-22 15:58:40] [INFO] [OmnipathR] Package `OmnipathR` repository: Bioconductor 3.22
[2025-11-22 15:58:41] [INFO] [OmnipathR] Session info: [version=R version 4.5.2 Patched (2025-11-04 r88984); os=macOS Ventura 13.7.8; system=aarch64, darwin20; ui=X11; language=(EN); collate=C; ctype=en_US.UTF-8; tz=America/New_York; date=2025-11-22; pandoc=3.6.4 @ /opt/homebrew/bin/ (via rmarkdown); quarto=1.4.553 @ /usr/local/bin/quarto]
[2025-11-22 15:58:41] [INFO] [OmnipathR] External libraries: [cairo=1.17.6; cairoFT=; pango=1.50.14; png=1.6.44; jpeg=9.5; tiff=LIBTIFF, Version 4.5.0; tcl=8.6.13; curl=8.7.1; zlib=1.2.11; bzlib=1.0.8, 13-Jul-2019; xz=5.6.3; deflate=1.23; PCRE=10.44 2024-06-07; ICU=70.2; TRE=TRE 0.8.0 R_fixes (BSD); iconv=Apple or GNU libiconv 1.11 /Library/Frameworks/R.framework/Versions/4.5-arm64/Resources/lib/libR.dylib; readline=5.2; BLAS=/System/Library/Frameworks/Accelerate.framework/Versions/A/Frameworks/vecLib.framework/Versions/A/libBLAS.dylib; lapack=/Library/Frameworks/R.framework/Versions/4.5-arm64/Resources/lib/libRlapack.dylib; lapack_version=3.12.1]
[2025-11-22 15:58:42] [INFO] [OmnipathR] Loaded packages: backports 1.5.0(2024-05-23); bit 4.6.0(2025-03-06); bit64 4.6.0-1(2025-01-16); blob 1.2.4(2023-03-17); cachem 1.1.0(2024-05-16); cellranger 1.1.0(2016-07-27); checkmate 2.3.3(2025-08-18); chromote 0.5.1(2025-04-24); cli 3.6.5(2025-04-23); crayon 1.5.3(2024-06-20); curl 7.0.0(2025-08-19); DBI 1.2.3(2024-06-02); digest 0.6.39(2025-11-19); dplyr 1.1.4(2023-11-17); evaluate 1.0.5(2025-08-27); fastmap 1.2.0(2024-05-15); fs 1.6.6(2025-04-12); generics 0.1.4(2025-05-09); glue 1.8.0(2024-09-30); hms 1.1.4(2025-10-17); htmltools 0.5.8.1(2024-04-04); httr 1.4.7(2023-08-15); httr2 1.2.1(2025-07-22); igraph 2.2.1(2025-10-27); jsonlite 2.0.0(2025-03-27); knitr 1.50(2025-03-16); later 1.4.4(2025-08-27); lifecycle 1.0.4(2023-11-07); logger 0.4.1(2025-09-11); lubridate 1.9.4(2024-12-08); magrittr 2.0.4(2025-09-12); memoise 2.0.1(2021-11-26); OmnipathR 3.18.2(2025-11-20); otel 0.2.0(2025-08-29); pillar 1.11.1(2025-09-17); pkgconfig 2.0.3(2019-09-22); prettyunits 1.2.0(2023-09-24); processx 3.8.6(2025-02-21); progress 1.2.3(2023-12-06); promises 1.5.0(2025-11-01); ps 1.9.1(2025-04-12); purrr 1.2.0(2025-11-04); R.methodsS3 1.8.2(2022-06-13); R.oo 1.27.1(2025-05-02); R.utils 2.13.0(2025-02-24); R6 2.6.1(2025-02-15); rappdirs 0.3.3(2021-01-31); Rcpp 1.1.0(2025-07-02); readr 2.1.6(2025-11-14); readxl 1.4.5(2025-03-07); rlang 1.1.6(2025-04-11); rmarkdown 2.30(2025-09-28); RSQLite 2.4.4(2025-11-10); rvest 1.0.5(2025-08-29); sessioninfo 1.2.3(2025-02-05); stringi 1.8.7(2025-03-27); stringr 1.6.0(2025-11-04); tibble 3.3.0(2025-06-08); tidyr 1.3.1(2024-01-24); tidyselect 1.2.1(2024-03-11); timechange 0.3.0(2024-01-18); tzdb 0.5.0(2025-03-15); vctrs 0.6.5(2023-12-01); websocket 1.4.4(2025-04-10); withr 3.0.2(2024-10-28); xfun 0.54(2025-10-30); XML 3.99-0.20(2025-11-08); xml2 1.5.0(2025-11-17); yaml 2.3.10(2024-07-26); zip 2.3.3(2025-05-13)
[2025-11-22 15:58:42] [INFO] [OmnipathR] CURL: version: 8.14.1; headers: 8.14.1; ssl_version: LibreSSL/3.3.6 (SecureTransport); libz_version: 1.2.11; libssh_version: NA; libidn_version: NA; host: aarch64-apple-darwin23.6.0; protocols: dict, file, ftp, ftps, gopher, gophers, http, https, imap, imaps, ldap, ldaps, mqtt, pop3, pop3s, rtsp, smb, smbs, smtp, smtps, telnet, tftp, ws, wss; ipv6: TRUE; http2: TRUE; idn: FALSE; url_parser: TRUE
[2025-11-22 15:58:42] [TRACE] [OmnipathR] Running on a build server, wiping cache.
[2025-11-22 15:58:42] [TRACE] [OmnipathR] Cache is at `/Users/biocbuild/Library/Caches/OmnipathR`.
[2025-11-22 15:58:42] [TRACE] [OmnipathR] Contains 1 files.
[2025-11-22 15:58:42] [TRACE] [OmnipathR] Cache is locked: FALSE.
[2025-11-22 15:58:42] [TRACE] [OmnipathR] Reading JSON from `/Users/biocbuild/Library/Caches/OmnipathR/cache.json` (encoding: UTF-8).
[2025-11-22 15:58:42] [TRACE] [OmnipathR] JSON validation successful: TRUE
[2025-11-22 15:58:42] [SUCCESS] [OmnipathR] Removing all cache contents from `/Users/biocbuild/Library/Caches/OmnipathR`.
[2025-11-22 15:58:42] [TRACE] [OmnipathR] Pandoc version: `3.6.4`.
[2025-11-22 15:58:42] [TRACE] [OmnipathR] Reading JSON from `/Library/Frameworks/R.framework/Versions/4.5-arm64/Resources/library/OmnipathR/db/db_def.json` (encoding: UTF-8).
[2025-11-22 15:58:42] [TRACE] [OmnipathR] JSON validation successful: TRUE
[2025-11-22 15:58:42] [TRACE] [OmnipathR] Reading JSON from `/Library/Frameworks/R.framework/Versions/4.5-arm64/Resources/library/OmnipathR/internal/magic_bytes.json` (encoding: UTF-8).
[2025-11-22 15:58:42] [TRACE] [OmnipathR] JSON validation successful: TRUE
[2025-11-22 15:58:42] [TRACE] [OmnipathR] Reading JSON from `/Library/Frameworks/R.framework/Versions/4.5-arm64/Resources/library/OmnipathR/internal/urls.json` (encoding: UTF-8).
[2025-11-22 15:58:42] [TRACE] [OmnipathR] JSON validation successful: TRUE
[2025-11-22 15:58:42] [TRACE] [OmnipathR] Reading JSON from `/Library/Frameworks/R.framework/Versions/4.5-arm64/Resources/library/OmnipathR/internal/id_types.json` (encoding: UTF-8).
[2025-11-22 15:58:42] [TRACE] [OmnipathR] JSON validation successful: TRUE
[2025-11-22 15:58:42] [TRACE] [OmnipathR] Cache locked: FALSE
cosmos_ksn: no visible binding for global variable ‘enzyme_genesymbol’
Undefined global functions or variables:
enzyme_genesymbol
* checking Rd files ... OK
* checking Rd metadata ... OK
* checking Rd cross-references ... OK
* checking for missing documentation entries ... OK
* checking for code/documentation mismatches ... OK
* checking Rd \usage sections ... OK
* checking Rd contents ... OK
* checking for unstated dependencies in examples ... OK
* checking R/sysdata.rda ... OK
* checking files in ‘vignettes’ ... OK
* checking examples ... OK
Examples with CPU (user + system) or elapsed time > 5s
user system elapsed
annotation_categories 103.389 0.600 147.638
curated_ligrec_stats 46.057 5.268 94.092
omnipath-interactions 40.239 3.542 81.965
filter_extra_attrs 33.837 9.351 76.476
all_uniprots 30.036 3.736 63.689
uniprot_organisms 25.704 3.030 70.133
extra_attrs_to_cols 18.771 2.882 37.455
nichenet_gr_network_omnipath 19.086 2.061 39.291
with_extra_attrs 16.929 2.633 45.405
extra_attr_values 15.325 2.719 31.797
nichenet_signaling_network_omnipath 15.183 1.498 28.224
go_annot_download 15.771 0.872 24.191
giant_component 13.972 1.085 27.533
omnipath_for_cosmos 12.851 1.062 38.726
pivot_annotations 12.119 0.915 26.789
extra_attrs 10.164 2.176 20.676
has_extra_attrs 9.859 2.435 21.726
filter_by_resource 11.310 0.788 21.216
translate_ids_multi 11.200 0.811 35.043
curated_ligand_receptor_interactions 8.513 1.237 17.989
filter_intercell 8.795 0.448 16.694
find_all_paths 8.635 0.567 15.041
print_interactions 7.751 0.629 16.045
static_table 7.921 0.448 13.099
signed_ptms 6.714 0.429 11.898
pubmed_open 5.328 0.391 10.179
resources_in 4.587 0.319 8.280
omnipath_query 4.461 0.355 8.416
hpo_download 3.522 0.265 6.783
print_path_vs 3.248 0.340 5.961
ensembl_id_mapping_table 3.165 0.263 21.429
kegg_conv 2.039 0.232 13.726
translate_ids 1.623 0.249 11.824
uniprot_full_id_mapping_table 1.481 0.238 14.756
kinasephos 1.475 0.176 15.055
kegg_rm_prefix 1.091 0.117 5.746
kegg_link 1.017 0.110 6.306
* checking for unstated dependencies in ‘tests’ ... OK
* checking tests ...
Running ‘testthat.R’
OK
* checking for unstated dependencies in vignettes ... OK
* checking package vignettes ... OK
* checking running R code from vignettes ... SKIPPED
* checking re-building of vignette outputs ... SKIPPED
* checking PDF version of manual ... OK
* DONE
Status: 2 NOTEs
See
‘/Users/biocbuild/bbs-3.22-bioc/meat/OmnipathR.Rcheck/00check.log’
for details.
OmnipathR.Rcheck/00install.out
############################################################################## ############################################################################## ### ### Running command: ### ### /Library/Frameworks/R.framework/Resources/bin/R CMD INSTALL OmnipathR ### ############################################################################## ############################################################################## * installing to library ‘/Library/Frameworks/R.framework/Versions/4.5-arm64/Resources/library’ * installing *source* package ‘OmnipathR’ ... ** this is package ‘OmnipathR’ version ‘3.18.2’ ** using staged installation ** R ** inst ** byte-compile and prepare package for lazy loading ** help *** installing help indices *** copying figures ** building package indices ** installing vignettes ** testing if installed package can be loaded from temporary location [2025-11-20 16:11:21] [TRACE] [OmnipathR] Reading JSON from `/Users/biocbuild/Library/Caches/OmnipathR/cache.json` (encoding: UTF-8). [2025-11-20 16:11:21] [TRACE] [OmnipathR] JSON validation successful: TRUE [2025-11-20 16:11:21] [INFO] [OmnipathR] Initialized cache: `/Users/biocbuild/Library/Caches/OmnipathR`. [2025-11-20 16:11:21] [INFO] [OmnipathR] Package `OmnipathR` packaged: NA [2025-11-20 16:11:21] [INFO] [OmnipathR] Package `OmnipathR` date/publication: 2025-11-20 [2025-11-20 16:11:21] [INFO] [OmnipathR] Package `OmnipathR` built: R 4.5.2; ; 2025-11-20 21:11:05 UTC; unix [2025-11-20 16:11:21] [INFO] [OmnipathR] Package `OmnipathR` version: 3.18.2 [2025-11-20 16:11:21] [INFO] [OmnipathR] Package `OmnipathR` repository: Bioconductor 3.22 [2025-11-20 16:11:22] [INFO] [OmnipathR] Session info: [version=R version 4.5.2 Patched (2025-11-04 r88984); os=macOS Ventura 13.7.8; system=aarch64, darwin20; ui=X11; language=(EN); collate=C; ctype=en_US.UTF-8; tz=America/New_York; date=2025-11-20; pandoc=3.6.4 @ /opt/homebrew/bin/ (via rmarkdown); quarto=1.4.553 @ /usr/local/bin/quarto] [2025-11-20 16:11:22] [INFO] [OmnipathR] External libraries: [cairo=1.17.6; cairoFT=; pango=1.50.14; png=1.6.44; jpeg=9.5; tiff=LIBTIFF, Version 4.5.0; tcl=8.6.13; curl=8.7.1; zlib=1.2.11; bzlib=1.0.8, 13-Jul-2019; xz=5.6.3; deflate=1.23; PCRE=10.44 2024-06-07; ICU=70.2; TRE=TRE 0.8.0 R_fixes (BSD); iconv=Apple or GNU libiconv 1.11 /Library/Frameworks/R.framework/Versions/4.5-arm64/Resources/lib/libR.dylib; readline=5.2; BLAS=/System/Library/Frameworks/Accelerate.framework/Versions/A/Frameworks/vecLib.framework/Versions/A/libBLAS.dylib; lapack=/Library/Frameworks/R.framework/Versions/4.5-arm64/Resources/lib/libRlapack.dylib; lapack_version=3.12.1] [2025-11-20 16:11:22] [INFO] [OmnipathR] Loaded packages: backports 1.5.0(2024-05-23); bit 4.6.0(2025-03-06); bit64 4.6.0-1(2025-01-16); blob 1.2.4(2023-03-17); cachem 1.1.0(2024-05-16); cellranger 1.1.0(2016-07-27); checkmate 2.3.3(2025-08-18); chromote 0.5.1(2025-04-24); cli 3.6.5(2025-04-23); crayon 1.5.3(2024-06-20); curl 7.0.0(2025-08-19); DBI 1.2.3(2024-06-02); digest 0.6.39(2025-11-19); dplyr 1.1.4(2023-11-17); evaluate 1.0.5(2025-08-27); fastmap 1.2.0(2024-05-15); fs 1.6.6(2025-04-12); generics 0.1.4(2025-05-09); glue 1.8.0(2024-09-30); hms 1.1.4(2025-10-17); htmltools 0.5.8.1(2024-04-04); httr 1.4.7(2023-08-15); httr2 1.2.1(2025-07-22); igraph 2.2.1(2025-10-27); jsonlite 2.0.0(2025-03-27); knitr 1.50(2025-03-16); later 1.4.4(2025-08-27); lifecycle 1.0.4(2023-11-07); logger 0.4.1(2025-09-11); lubridate 1.9.4(2024-12-08); magrittr 2.0.4(2025-09-12); memoise 2.0.1(2021-11-26); OmnipathR 3.18.2(2025-11-20); otel 0.2.0(2025-08-29); pillar 1.11.1(2025-09-17); pkgconfig 2.0.3(2019-09-22); prettyunits 1.2.0(2023-09-24); processx 3.8.6(2025-02-21); progress 1.2.3(2023-12-06); promises 1.5.0(2025-11-01); ps 1.9.1(2025-04-12); purrr 1.2.0(2025-11-04); R.methodsS3 1.8.2(2022-06-13); R.oo 1.27.1(2025-05-02); R.utils 2.13.0(2025-02-24); R6 2.6.1(2025-02-15); rappdirs 0.3.3(2021-01-31); Rcpp 1.1.0(2025-07-02); readr 2.1.6(2025-11-14); readxl 1.4.5(2025-03-07); rlang 1.1.6(2025-04-11); rmarkdown 2.30(2025-09-28); RSQLite 2.4.4(2025-11-10); rvest 1.0.5(2025-08-29); sessioninfo 1.2.3(2025-02-05); stringi 1.8.7(2025-03-27); stringr 1.6.0(2025-11-04); tibble 3.3.0(2025-06-08); tidyr 1.3.1(2024-01-24); tidyselect 1.2.1(2024-03-11); timechange 0.3.0(2024-01-18); tzdb 0.5.0(2025-03-15); vctrs 0.6.5(2023-12-01); websocket 1.4.4(2025-04-10); withr 3.0.2(2024-10-28); xfun 0.54(2025-10-30); XML 3.99-0.20(2025-11-08); xml2 1.5.0(2025-11-17); yaml 2.3.10(2024-07-26); zip 2.3.3(2025-05-13) [2025-11-20 16:11:22] [INFO] [OmnipathR] CURL: version: 8.14.1; headers: 8.14.1; ssl_version: LibreSSL/3.3.6 (SecureTransport); libz_version: 1.2.11; libssh_version: NA; libidn_version: NA; host: aarch64-apple-darwin23.6.0; protocols: dict, file, ftp, ftps, gopher, gophers, http, https, imap, imaps, ldap, ldaps, mqtt, pop3, pop3s, rtsp, smb, smbs, smtp, smtps, telnet, tftp, ws, wss; ipv6: TRUE; http2: TRUE; idn: FALSE; url_parser: TRUE [2025-11-20 16:11:22] [TRACE] [OmnipathR] Running on a build server, wiping cache. [2025-11-20 16:11:22] [TRACE] [OmnipathR] Cache is at `/Users/biocbuild/Library/Caches/OmnipathR`. [2025-11-20 16:11:22] [TRACE] [OmnipathR] Contains 1 files. [2025-11-20 16:11:22] [TRACE] [OmnipathR] Cache is locked: FALSE. [2025-11-20 16:11:22] [TRACE] [OmnipathR] Reading JSON from `/Users/biocbuild/Library/Caches/OmnipathR/cache.json` (encoding: UTF-8). [2025-11-20 16:11:22] [TRACE] [OmnipathR] JSON validation successful: TRUE [2025-11-20 16:11:22] [SUCCESS] [OmnipathR] Removing all cache contents from `/Users/biocbuild/Library/Caches/OmnipathR`. [2025-11-20 16:11:22] [TRACE] [OmnipathR] Pandoc version: `3.6.4`. [2025-11-20 16:11:22] [TRACE] [OmnipathR] Reading JSON from `/Library/Frameworks/R.framework/Versions/4.5-arm64/Resources/library/00LOCK-OmnipathR/00new/OmnipathR/db/db_def.json` (encoding: UTF-8). [2025-11-20 16:11:22] [TRACE] [OmnipathR] JSON validation successful: TRUE [2025-11-20 16:11:22] [TRACE] [OmnipathR] Reading JSON from `/Library/Frameworks/R.framework/Versions/4.5-arm64/Resources/library/00LOCK-OmnipathR/00new/OmnipathR/internal/magic_bytes.json` (encoding: UTF-8). [2025-11-20 16:11:22] [TRACE] [OmnipathR] JSON validation successful: TRUE [2025-11-20 16:11:22] [TRACE] [OmnipathR] Reading JSON from `/Library/Frameworks/R.framework/Versions/4.5-arm64/Resources/library/00LOCK-OmnipathR/00new/OmnipathR/internal/urls.json` (encoding: UTF-8). [2025-11-20 16:11:22] [TRACE] [OmnipathR] JSON validation successful: TRUE [2025-11-20 16:11:22] [TRACE] [OmnipathR] Reading JSON from `/Library/Frameworks/R.framework/Versions/4.5-arm64/Resources/library/00LOCK-OmnipathR/00new/OmnipathR/internal/id_types.json` (encoding: UTF-8). [2025-11-20 16:11:22] [TRACE] [OmnipathR] JSON validation successful: TRUE [2025-11-20 16:11:22] [TRACE] [OmnipathR] Cache locked: FALSE ** testing if installed package can be loaded from final location [2025-11-20 16:11:25] [TRACE] [OmnipathR] Reading JSON from `/Users/biocbuild/Library/Caches/OmnipathR/cache.json` (encoding: UTF-8). [2025-11-20 16:11:25] [TRACE] [OmnipathR] JSON validation successful: TRUE [2025-11-20 16:11:25] [INFO] [OmnipathR] Initialized cache: `/Users/biocbuild/Library/Caches/OmnipathR`. [2025-11-20 16:11:25] [INFO] [OmnipathR] Package `OmnipathR` packaged: NA [2025-11-20 16:11:25] [INFO] [OmnipathR] Package `OmnipathR` date/publication: 2025-11-20 [2025-11-20 16:11:25] [INFO] [OmnipathR] Package `OmnipathR` built: R 4.5.2; ; 2025-11-20 21:11:05 UTC; unix [2025-11-20 16:11:25] [INFO] [OmnipathR] Package `OmnipathR` version: 3.18.2 [2025-11-20 16:11:25] [INFO] [OmnipathR] Package `OmnipathR` repository: Bioconductor 3.22 [2025-11-20 16:11:25] [INFO] [OmnipathR] Session info: [version=R version 4.5.2 Patched (2025-11-04 r88984); os=macOS Ventura 13.7.8; system=aarch64, darwin20; ui=X11; language=(EN); collate=C; ctype=en_US.UTF-8; tz=America/New_York; date=2025-11-20; pandoc=3.6.4 @ /opt/homebrew/bin/ (via rmarkdown); quarto=1.4.553 @ /usr/local/bin/quarto] [2025-11-20 16:11:26] [INFO] [OmnipathR] External libraries: [cairo=1.17.6; cairoFT=; pango=1.50.14; png=1.6.44; jpeg=9.5; tiff=LIBTIFF, Version 4.5.0; tcl=8.6.13; curl=8.7.1; zlib=1.2.11; bzlib=1.0.8, 13-Jul-2019; xz=5.6.3; deflate=1.23; PCRE=10.44 2024-06-07; ICU=70.2; TRE=TRE 0.8.0 R_fixes (BSD); iconv=Apple or GNU libiconv 1.11 /Library/Frameworks/R.framework/Versions/4.5-arm64/Resources/lib/libR.dylib; readline=5.2; BLAS=/System/Library/Frameworks/Accelerate.framework/Versions/A/Frameworks/vecLib.framework/Versions/A/libBLAS.dylib; lapack=/Library/Frameworks/R.framework/Versions/4.5-arm64/Resources/lib/libRlapack.dylib; lapack_version=3.12.1] [2025-11-20 16:11:26] [INFO] [OmnipathR] Loaded packages: backports 1.5.0(2024-05-23); bit 4.6.0(2025-03-06); bit64 4.6.0-1(2025-01-16); blob 1.2.4(2023-03-17); cachem 1.1.0(2024-05-16); cellranger 1.1.0(2016-07-27); checkmate 2.3.3(2025-08-18); chromote 0.5.1(2025-04-24); cli 3.6.5(2025-04-23); crayon 1.5.3(2024-06-20); curl 7.0.0(2025-08-19); DBI 1.2.3(2024-06-02); digest 0.6.39(2025-11-19); dplyr 1.1.4(2023-11-17); evaluate 1.0.5(2025-08-27); fastmap 1.2.0(2024-05-15); fs 1.6.6(2025-04-12); generics 0.1.4(2025-05-09); glue 1.8.0(2024-09-30); hms 1.1.4(2025-10-17); htmltools 0.5.8.1(2024-04-04); httr 1.4.7(2023-08-15); httr2 1.2.1(2025-07-22); igraph 2.2.1(2025-10-27); jsonlite 2.0.0(2025-03-27); knitr 1.50(2025-03-16); later 1.4.4(2025-08-27); lifecycle 1.0.4(2023-11-07); logger 0.4.1(2025-09-11); lubridate 1.9.4(2024-12-08); magrittr 2.0.4(2025-09-12); memoise 2.0.1(2021-11-26); OmnipathR 3.18.2(2025-11-20); otel 0.2.0(2025-08-29); pillar 1.11.1(2025-09-17); pkgconfig 2.0.3(2019-09-22); prettyunits 1.2.0(2023-09-24); processx 3.8.6(2025-02-21); progress 1.2.3(2023-12-06); promises 1.5.0(2025-11-01); ps 1.9.1(2025-04-12); purrr 1.2.0(2025-11-04); R.methodsS3 1.8.2(2022-06-13); R.oo 1.27.1(2025-05-02); R.utils 2.13.0(2025-02-24); R6 2.6.1(2025-02-15); rappdirs 0.3.3(2021-01-31); Rcpp 1.1.0(2025-07-02); readr 2.1.6(2025-11-14); readxl 1.4.5(2025-03-07); rlang 1.1.6(2025-04-11); rmarkdown 2.30(2025-09-28); RSQLite 2.4.4(2025-11-10); rvest 1.0.5(2025-08-29); sessioninfo 1.2.3(2025-02-05); stringi 1.8.7(2025-03-27); stringr 1.6.0(2025-11-04); tibble 3.3.0(2025-06-08); tidyr 1.3.1(2024-01-24); tidyselect 1.2.1(2024-03-11); timechange 0.3.0(2024-01-18); tzdb 0.5.0(2025-03-15); vctrs 0.6.5(2023-12-01); websocket 1.4.4(2025-04-10); withr 3.0.2(2024-10-28); xfun 0.54(2025-10-30); XML 3.99-0.20(2025-11-08); xml2 1.5.0(2025-11-17); yaml 2.3.10(2024-07-26); zip 2.3.3(2025-05-13) [2025-11-20 16:11:26] [INFO] [OmnipathR] CURL: version: 8.14.1; headers: 8.14.1; ssl_version: LibreSSL/3.3.6 (SecureTransport); libz_version: 1.2.11; libssh_version: NA; libidn_version: NA; host: aarch64-apple-darwin23.6.0; protocols: dict, file, ftp, ftps, gopher, gophers, http, https, imap, imaps, ldap, ldaps, mqtt, pop3, pop3s, rtsp, smb, smbs, smtp, smtps, telnet, tftp, ws, wss; ipv6: TRUE; http2: TRUE; idn: FALSE; url_parser: TRUE [2025-11-20 16:11:26] [TRACE] [OmnipathR] Running on a build server, wiping cache. [2025-11-20 16:11:26] [TRACE] [OmnipathR] Cache is at `/Users/biocbuild/Library/Caches/OmnipathR`. [2025-11-20 16:11:26] [TRACE] [OmnipathR] Contains 1 files. [2025-11-20 16:11:26] [TRACE] [OmnipathR] Cache is locked: FALSE. [2025-11-20 16:11:26] [TRACE] [OmnipathR] Reading JSON from `/Users/biocbuild/Library/Caches/OmnipathR/cache.json` (encoding: UTF-8). [2025-11-20 16:11:26] [TRACE] [OmnipathR] JSON validation successful: TRUE [2025-11-20 16:11:26] [SUCCESS] [OmnipathR] Removing all cache contents from `/Users/biocbuild/Library/Caches/OmnipathR`. [2025-11-20 16:11:26] [TRACE] [OmnipathR] Pandoc version: `3.6.4`. [2025-11-20 16:11:26] [TRACE] [OmnipathR] Reading JSON from `/Library/Frameworks/R.framework/Versions/4.5-arm64/Resources/library/OmnipathR/db/db_def.json` (encoding: UTF-8). [2025-11-20 16:11:26] [TRACE] [OmnipathR] JSON validation successful: TRUE [2025-11-20 16:11:26] [TRACE] [OmnipathR] Reading JSON from `/Library/Frameworks/R.framework/Versions/4.5-arm64/Resources/library/OmnipathR/internal/magic_bytes.json` (encoding: UTF-8). [2025-11-20 16:11:26] [TRACE] [OmnipathR] JSON validation successful: TRUE [2025-11-20 16:11:26] [TRACE] [OmnipathR] Reading JSON from `/Library/Frameworks/R.framework/Versions/4.5-arm64/Resources/library/OmnipathR/internal/urls.json` (encoding: UTF-8). [2025-11-20 16:11:26] [TRACE] [OmnipathR] JSON validation successful: TRUE [2025-11-20 16:11:26] [TRACE] [OmnipathR] Reading JSON from `/Library/Frameworks/R.framework/Versions/4.5-arm64/Resources/library/OmnipathR/internal/id_types.json` (encoding: UTF-8). [2025-11-20 16:11:26] [TRACE] [OmnipathR] JSON validation successful: TRUE [2025-11-20 16:11:26] [TRACE] [OmnipathR] Cache locked: FALSE ** testing if installed package keeps a record of temporary installation path * DONE (OmnipathR)
OmnipathR.Rcheck/tests/testthat.Rout
R version 4.5.2 Patched (2025-11-04 r88984) -- "[Not] Part in a Rumble"
Copyright (C) 2025 The R Foundation for Statistical Computing
Platform: aarch64-apple-darwin20
R is free software and comes with ABSOLUTELY NO WARRANTY.
You are welcome to redistribute it under certain conditions.
Type 'license()' or 'licence()' for distribution details.
R is a collaborative project with many contributors.
Type 'contributors()' for more information and
'citation()' on how to cite R or R packages in publications.
Type 'demo()' for some demos, 'help()' for on-line help, or
'help.start()' for an HTML browser interface to help.
Type 'q()' to quit R.
> #!/usr/bin/env Rscript
>
> #
> # This file is part of the `OmnipathR` R package
> #
> # Copyright
> # 2018-2024
> # Saez Lab, Uniklinik RWTH Aachen, Heidelberg University
> #
> # File author(s): Alberto Valdeolivas
> # Dénes Türei (turei.denes@gmail.com)
> # Attila Gábor
> #
> # Distributed under the MIT (Expat) License.
> # See accompanying file `LICENSE` or find a copy at
> # https://directory.fsf.org/wiki/License:Expat
> #
> # Website: https://r.omnipathdb.org/
> # Git repo: https://github.com/saezlab/OmnipathR
> #
>
>
> library(testthat)
> library(OmnipathR)
[2025-11-22 16:20:52] [TRACE] [OmnipathR] Reading JSON from `/Users/biocbuild/Library/Caches/OmnipathR/cache.json` (encoding: UTF-8).
[2025-11-22 16:20:52] [TRACE] [OmnipathR] JSON validation successful: TRUE
[2025-11-22 16:20:52] [INFO] [OmnipathR] Initialized cache: `/Users/biocbuild/Library/Caches/OmnipathR`.
[2025-11-22 16:20:52] [INFO] [OmnipathR] Package `OmnipathR` packaged: NA
[2025-11-22 16:20:52] [INFO] [OmnipathR] Package `OmnipathR` date/publication: 2025-11-20
[2025-11-22 16:20:52] [INFO] [OmnipathR] Package `OmnipathR` built: R 4.5.2; ; 2025-11-20 21:11:05 UTC; unix
[2025-11-22 16:20:52] [INFO] [OmnipathR] Package `OmnipathR` version: 3.18.2
[2025-11-22 16:20:52] [INFO] [OmnipathR] Package `OmnipathR` repository: Bioconductor 3.22
[2025-11-22 16:20:52] [INFO] [OmnipathR] Session info: [version=R version 4.5.2 Patched (2025-11-04 r88984); os=macOS Ventura 13.7.8; system=aarch64, darwin20; ui=X11; language=C; collate=C; ctype=en_US.UTF-8; tz=America/New_York; date=2025-11-22; pandoc=3.6.4 @ /opt/homebrew/bin/ (via rmarkdown); quarto=1.4.553 @ /usr/local/bin/quarto]
[2025-11-22 16:20:53] [INFO] [OmnipathR] External libraries: [cairo=1.17.6; cairoFT=; pango=1.50.14; png=1.6.44; jpeg=9.5; tiff=LIBTIFF, Version 4.5.0; tcl=8.6.13; curl=8.7.1; zlib=1.2.11; bzlib=1.0.8, 13-Jul-2019; xz=5.6.3; deflate=1.23; PCRE=10.44 2024-06-07; ICU=70.2; TRE=TRE 0.8.0 R_fixes (BSD); iconv=Apple or GNU libiconv 1.11 /Library/Frameworks/R.framework/Versions/4.5-arm64/Resources/lib/libR.dylib; readline=5.2; BLAS=/System/Library/Frameworks/Accelerate.framework/Versions/A/Frameworks/vecLib.framework/Versions/A/libBLAS.dylib; lapack=/Library/Frameworks/R.framework/Versions/4.5-arm64/Resources/lib/libRlapack.dylib; lapack_version=3.12.1]
[2025-11-22 16:20:53] [INFO] [OmnipathR] Loaded packages: backports 1.5.0(2024-05-23); bit 4.6.0(2025-03-06); bit64 4.6.0-1(2025-01-16); blob 1.2.4(2023-03-17); brio 1.1.5(2024-04-24); cachem 1.1.0(2024-05-16); cellranger 1.1.0(2016-07-27); checkmate 2.3.3(2025-08-18); chromote 0.5.1(2025-04-24); cli 3.6.5(2025-04-23); crayon 1.5.3(2024-06-20); curl 7.0.0(2025-08-19); DBI 1.2.3(2024-06-02); digest 0.6.39(2025-11-19); dplyr 1.1.4(2023-11-17); evaluate 1.0.5(2025-08-27); fastmap 1.2.0(2024-05-15); fs 1.6.6(2025-04-12); generics 0.1.4(2025-05-09); glue 1.8.0(2024-09-30); hms 1.1.4(2025-10-17); htmltools 0.5.8.1(2024-04-04); httr 1.4.7(2023-08-15); httr2 1.2.1(2025-07-22); igraph 2.2.1(2025-10-27); jsonlite 2.0.0(2025-03-27); knitr 1.50(2025-03-16); later 1.4.4(2025-08-27); lifecycle 1.0.4(2023-11-07); logger 0.4.1(2025-09-11); lubridate 1.9.4(2024-12-08); magrittr 2.0.4(2025-09-12); memoise 2.0.1(2021-11-26); OmnipathR 3.18.2(2025-11-20); otel 0.2.0(2025-08-29); pillar 1.11.1(2025-09-17); pkgconfig 2.0.3(2019-09-22); prettyunits 1.2.0(2023-09-24); processx 3.8.6(2025-02-21); progress 1.2.3(2023-12-06); promises 1.5.0(2025-11-01); ps 1.9.1(2025-04-12); purrr 1.2.0(2025-11-04); R.methodsS3 1.8.2(2022-06-13); R.oo 1.27.1(2025-05-02); R.utils 2.13.0(2025-02-24); R6 2.6.1(2025-02-15); rappdirs 0.3.3(2021-01-31); Rcpp 1.1.0(2025-07-02); readr 2.1.6(2025-11-14); readxl 1.4.5(2025-03-07); rlang 1.1.6(2025-04-11); rmarkdown 2.30(2025-09-28); RSQLite 2.4.4(2025-11-10); rvest 1.0.5(2025-08-29); sessioninfo 1.2.3(2025-02-05); stringi 1.8.7(2025-03-27); stringr 1.6.0(2025-11-04); testthat 3.3.0(2025-11-13); tibble 3.3.0(2025-06-08); tidyr 1.3.1(2024-01-24); tidyselect 1.2.1(2024-03-11); timechange 0.3.0(2024-01-18); tzdb 0.5.0(2025-03-15); vctrs 0.6.5(2023-12-01); websocket 1.4.4(2025-04-10); withr 3.0.2(2024-10-28); xfun 0.54(2025-10-30); XML 3.99-0.20(2025-11-08); xml2 1.5.0(2025-11-17); yaml 2.3.10(2024-07-26); zip 2.3.3(2025-05-13)
[2025-11-22 16:20:53] [INFO] [OmnipathR] CURL: version: 8.14.1; headers: 8.14.1; ssl_version: LibreSSL/3.3.6 (SecureTransport); libz_version: 1.2.11; libssh_version: NA; libidn_version: NA; host: aarch64-apple-darwin23.6.0; protocols: dict, file, ftp, ftps, gopher, gophers, http, https, imap, imaps, ldap, ldaps, mqtt, pop3, pop3s, rtsp, smb, smbs, smtp, smtps, telnet, tftp, ws, wss; ipv6: TRUE; http2: TRUE; idn: FALSE; url_parser: TRUE
[2025-11-22 16:20:53] [TRACE] [OmnipathR] Running on a build server, wiping cache.
[2025-11-22 16:20:53] [TRACE] [OmnipathR] Cache is at `/Users/biocbuild/Library/Caches/OmnipathR`.
[2025-11-22 16:20:53] [TRACE] [OmnipathR] Contains 22 files.
[2025-11-22 16:20:53] [TRACE] [OmnipathR] Cache is locked: FALSE.
[2025-11-22 16:20:53] [TRACE] [OmnipathR] Reading JSON from `/Users/biocbuild/Library/Caches/OmnipathR/cache.json` (encoding: UTF-8).
[2025-11-22 16:20:53] [TRACE] [OmnipathR] JSON validation successful: TRUE
[2025-11-22 16:20:53] [SUCCESS] [OmnipathR] Removing all cache contents from `/Users/biocbuild/Library/Caches/OmnipathR`.
[2025-11-22 16:20:53] [TRACE] [OmnipathR] Pandoc version: `3.6.4`.
[2025-11-22 16:20:53] [TRACE] [OmnipathR] Reading JSON from `/Library/Frameworks/R.framework/Versions/4.5-arm64/Resources/library/OmnipathR/db/db_def.json` (encoding: UTF-8).
[2025-11-22 16:20:53] [TRACE] [OmnipathR] JSON validation successful: TRUE
[2025-11-22 16:20:53] [TRACE] [OmnipathR] Reading JSON from `/Library/Frameworks/R.framework/Versions/4.5-arm64/Resources/library/OmnipathR/internal/magic_bytes.json` (encoding: UTF-8).
[2025-11-22 16:20:53] [TRACE] [OmnipathR] JSON validation successful: TRUE
[2025-11-22 16:20:53] [TRACE] [OmnipathR] Reading JSON from `/Library/Frameworks/R.framework/Versions/4.5-arm64/Resources/library/OmnipathR/internal/urls.json` (encoding: UTF-8).
[2025-11-22 16:20:53] [TRACE] [OmnipathR] JSON validation successful: TRUE
[2025-11-22 16:20:53] [TRACE] [OmnipathR] Reading JSON from `/Library/Frameworks/R.framework/Versions/4.5-arm64/Resources/library/OmnipathR/internal/id_types.json` (encoding: UTF-8).
[2025-11-22 16:20:53] [TRACE] [OmnipathR] JSON validation successful: TRUE
[2025-11-22 16:20:53] [TRACE] [OmnipathR] Cache locked: FALSE
>
> test_check('OmnipathR')
[ FAIL 0 | WARN 12 | SKIP 0 | PASS 38 ]
[ FAIL 0 | WARN 12 | SKIP 0 | PASS 38 ]
>
> proc.time()
user system elapsed
56.198 7.195 109.364
OmnipathR.Rcheck/OmnipathR-Ex.timings
| name | user | system | elapsed | |
| OmnipathR | 0.000 | 0.001 | 0.004 | |
| all_uniprot_acs | 0.023 | 0.004 | 0.042 | |
| all_uniprots | 30.036 | 3.736 | 63.689 | |
| ancestors | 0.015 | 0.004 | 0.033 | |
| annotated_network | 1.836 | 0.181 | 3.818 | |
| annotation_categories | 103.389 | 0.600 | 147.638 | |
| annotation_resources | 0.072 | 0.011 | 0.300 | |
| annotations | 0.728 | 0.069 | 1.427 | |
| biomart_query | 1.580 | 0.129 | 3.461 | |
| bioplex1 | 0.013 | 0.002 | 0.022 | |
| bioplex2 | 0.014 | 0.002 | 0.022 | |
| bioplex3 | 0.013 | 0.003 | 0.030 | |
| bioplex_all | 0.013 | 0.003 | 0.025 | |
| bioplex_hct116_1 | 0.011 | 0.002 | 0.016 | |
| bma_motif_es | 0.847 | 0.093 | 1.729 | |
| bma_motif_vs | 0.273 | 0.032 | 0.552 | |
| chalmers_gem | 0.013 | 0.003 | 0.040 | |
| chalmers_gem_id_mapping_table | 0.012 | 0.002 | 0.020 | |
| chalmers_gem_id_type | 0.003 | 0.000 | 0.004 | |
| chalmers_gem_metabolites | 0.013 | 0.002 | 0.022 | |
| chalmers_gem_network | 0.015 | 0.003 | 0.029 | |
| chalmers_gem_raw | 0.011 | 0.003 | 0.019 | |
| chalmers_gem_reactions | 0.012 | 0.002 | 0.016 | |
| common_name | 0.154 | 0.009 | 0.225 | |
| complex_genes | 0.993 | 0.101 | 2.055 | |
| complex_resources | 0.074 | 0.012 | 0.162 | |
| complexes | 0.240 | 0.028 | 0.404 | |
| consensuspathdb_download | 0.000 | 0.001 | 0.000 | |
| consensuspathdb_raw_table | 0.015 | 0.003 | 0.031 | |
| cosmos_pkn | 0.001 | 0.000 | 0.000 | |
| curated_ligand_receptor_interactions | 8.513 | 1.237 | 17.989 | |
| curated_ligrec_stats | 46.057 | 5.268 | 94.092 | |
| database_summary | 1.792 | 0.185 | 3.158 | |
| descendants | 0.012 | 0.002 | 0.014 | |
| ensembl_dataset | 0.070 | 0.003 | 0.085 | |
| ensembl_id_mapping_table | 3.165 | 0.263 | 21.429 | |
| ensembl_id_type | 0.002 | 0.001 | 0.004 | |
| ensembl_name | 0.706 | 0.025 | 1.292 | |
| ensembl_organisms | 0.154 | 0.026 | 0.240 | |
| ensembl_organisms_raw | 0.158 | 0.032 | 0.377 | |
| ensembl_orthology | 0 | 0 | 0 | |
| enzsub_graph | 2.610 | 0.216 | 4.784 | |
| enzsub_resources | 0.072 | 0.010 | 0.179 | |
| enzyme_substrate | 1.355 | 0.108 | 2.621 | |
| evex_download | 0.013 | 0.002 | 0.031 | |
| evidences | 0 | 0 | 0 | |
| extra_attr_values | 15.325 | 2.719 | 31.797 | |
| extra_attrs | 10.164 | 2.176 | 20.676 | |
| extra_attrs_to_cols | 18.771 | 2.882 | 37.455 | |
| filter_by_resource | 11.310 | 0.788 | 21.216 | |
| filter_extra_attrs | 33.837 | 9.351 | 76.476 | |
| filter_intercell | 8.795 | 0.448 | 16.694 | |
| filter_intercell_network | 0.027 | 0.005 | 0.055 | |
| find_all_paths | 8.635 | 0.567 | 15.041 | |
| from_evidences | 0.000 | 0.001 | 0.000 | |
| get_db | 0.000 | 0.000 | 0.001 | |
| get_ontology_db | 0.011 | 0.002 | 0.014 | |
| giant_component | 13.972 | 1.085 | 27.533 | |
| go_annot_download | 15.771 | 0.872 | 24.191 | |
| go_annot_slim | 0 | 0 | 0 | |
| go_ontology_download | 0.011 | 0.002 | 0.017 | |
| guide2pharma_download | 0.011 | 0.003 | 0.015 | |
| harmonizome_download | 0.009 | 0.002 | 0.013 | |
| has_extra_attrs | 9.859 | 2.435 | 21.726 | |
| hmdb_id_mapping_table | 0.013 | 0.003 | 0.022 | |
| hmdb_id_type | 0.003 | 0.001 | 0.004 | |
| hmdb_metabolite_fields | 0.000 | 0.001 | 0.001 | |
| hmdb_protein_fields | 0.001 | 0.000 | 0.000 | |
| hmdb_table | 0.012 | 0.002 | 0.015 | |
| homologene_download | 0.013 | 0.003 | 0.020 | |
| homologene_raw | 0.144 | 0.007 | 0.238 | |
| homologene_uniprot_orthology | 0.014 | 0.003 | 0.021 | |
| hpo_download | 3.522 | 0.265 | 6.783 | |
| htridb_download | 0.011 | 0.003 | 0.019 | |
| id_translation_resources | 0.000 | 0.001 | 0.001 | |
| id_types | 0.073 | 0.013 | 0.244 | |
| inbiomap_download | 0.001 | 0.001 | 0.000 | |
| inbiomap_raw | 0 | 0 | 0 | |
| interaction_datasets | 0.940 | 0.094 | 1.457 | |
| interaction_graph | 0.548 | 0.041 | 0.882 | |
| interaction_resources | 0.074 | 0.014 | 0.194 | |
| interaction_types | 0.105 | 0.015 | 0.275 | |
| intercell | 0.957 | 0.092 | 1.739 | |
| intercell_categories | 0.878 | 0.102 | 1.542 | |
| intercell_consensus_filter | 1.955 | 0.178 | 3.779 | |
| intercell_generic_categories | 0.116 | 0.014 | 0.173 | |
| intercell_network | 0.015 | 0.004 | 0.025 | |
| intercell_resources | 0.075 | 0.013 | 0.174 | |
| intercell_summary | 0.110 | 0.026 | 0.178 | |
| is_ontology_id | 0 | 0 | 0 | |
| is_swissprot | 0.076 | 0.008 | 0.102 | |
| is_trembl | 0.080 | 0.010 | 0.132 | |
| is_uniprot | 0.066 | 0.009 | 0.105 | |
| kegg_api_templates | 0.001 | 0.006 | 0.012 | |
| kegg_conv | 2.039 | 0.232 | 13.726 | |
| kegg_databases | 0.000 | 0.000 | 0.001 | |
| kegg_ddi | 0.911 | 0.106 | 3.094 | |
| kegg_find | 0.929 | 0.104 | 3.472 | |
| kegg_info | 0.014 | 0.003 | 0.032 | |
| kegg_link | 1.017 | 0.110 | 6.306 | |
| kegg_list | 0.942 | 0.108 | 3.064 | |
| kegg_open | 0.013 | 0.003 | 0.025 | |
| kegg_operations | 0.001 | 0.001 | 0.001 | |
| kegg_organism_codes | 0.027 | 0.078 | 0.162 | |
| kegg_organisms | 0.037 | 0.009 | 0.085 | |
| kegg_pathway_annotations | 0.000 | 0.000 | 0.001 | |
| kegg_pathway_download | 0.015 | 0.003 | 0.027 | |
| kegg_pathway_list | 0.013 | 0.003 | 0.027 | |
| kegg_pathways_download | 0.000 | 0.001 | 0.000 | |
| kegg_picture | 1.707 | 0.080 | 4.634 | |
| kegg_process | 0.029 | 0.006 | 0.066 | |
| kegg_query | 0.010 | 0.001 | 0.013 | |
| kegg_request | 0.096 | 0.013 | 0.195 | |
| kegg_rm_prefix | 1.091 | 0.117 | 5.746 | |
| kinasephos | 1.475 | 0.176 | 15.055 | |
| latin_name | 0.319 | 0.019 | 0.551 | |
| load_db | 0.111 | 0.022 | 0.204 | |
| metalinksdb_sqlite | 1.314 | 0.231 | 2.563 | |
| metalinksdb_table | 0.356 | 0.071 | 0.807 | |
| metalinksdb_tables | 0.029 | 0.006 | 0.084 | |
| ncbi_taxid | 0.311 | 0.016 | 0.471 | |
| nichenet_build_model | 0.000 | 0.000 | 0.001 | |
| nichenet_expression_data | 0.014 | 0.003 | 0.032 | |
| nichenet_gr_network | 0.041 | 0.009 | 0.065 | |
| nichenet_gr_network_evex | 0.015 | 0.004 | 0.032 | |
| nichenet_gr_network_harmonizome | 0.015 | 0.003 | 0.027 | |
| nichenet_gr_network_htridb | 0.015 | 0.002 | 0.033 | |
| nichenet_gr_network_omnipath | 19.086 | 2.061 | 39.291 | |
| nichenet_gr_network_pathwaycommons | 0.014 | 0.003 | 0.021 | |
| nichenet_gr_network_regnetwork | 0.014 | 0.003 | 0.039 | |
| nichenet_gr_network_remap | 0.014 | 0.002 | 0.027 | |
| nichenet_gr_network_trrust | 0.012 | 0.002 | 0.015 | |
| nichenet_ligand_activities | 0.000 | 0.001 | 0.000 | |
| nichenet_ligand_target_links | 0.000 | 0.001 | 0.001 | |
| nichenet_ligand_target_matrix | 0.000 | 0.000 | 0.001 | |
| nichenet_lr_network | 0.042 | 0.007 | 0.104 | |
| nichenet_lr_network_guide2pharma | 0.014 | 0.003 | 0.023 | |
| nichenet_lr_network_omnipath | 0.038 | 0.008 | 0.066 | |
| nichenet_lr_network_ramilowski | 0.015 | 0.003 | 0.034 | |
| nichenet_main | 0.001 | 0.000 | 0.001 | |
| nichenet_networks | 0.147 | 0.017 | 0.293 | |
| nichenet_optimization | 0.000 | 0.000 | 0.001 | |
| nichenet_remove_orphan_ligands | 0.055 | 0.010 | 0.112 | |
| nichenet_results_dir | 0.000 | 0.001 | 0.000 | |
| nichenet_signaling_network | 0.042 | 0.009 | 0.074 | |
| nichenet_signaling_network_cpdb | 0.013 | 0.002 | 0.016 | |
| nichenet_signaling_network_evex | 0.014 | 0.002 | 0.027 | |
| nichenet_signaling_network_harmonizome | 0.014 | 0.002 | 0.018 | |
| nichenet_signaling_network_inbiomap | 0 | 0 | 0 | |
| nichenet_signaling_network_omnipath | 15.183 | 1.498 | 28.224 | |
| nichenet_signaling_network_pathwaycommons | 0.017 | 0.003 | 0.033 | |
| nichenet_signaling_network_vinayagam | 0.015 | 0.003 | 0.037 | |
| nichenet_test | 0 | 0 | 0 | |
| nichenet_workarounds | 0.000 | 0.001 | 0.000 | |
| obo_parser | 0.134 | 0.030 | 0.587 | |
| oma_code | 0.169 | 0.008 | 0.258 | |
| oma_organisms | 0.094 | 0.016 | 0.187 | |
| oma_pairwise | 0.012 | 0.003 | 0.015 | |
| oma_pairwise_genesymbols | 0.011 | 0.002 | 0.014 | |
| oma_pairwise_translated | 0.011 | 0.002 | 0.014 | |
| omnipath-interactions | 40.239 | 3.542 | 81.965 | |
| omnipath_cache_autoclean | 0.000 | 0.001 | 0.000 | |
| omnipath_cache_clean | 0.010 | 0.004 | 0.018 | |
| omnipath_cache_clean_db | 0.111 | 0.023 | 0.178 | |
| omnipath_cache_download_ready | 0.451 | 0.106 | 1.050 | |
| omnipath_cache_filter_versions | 0.079 | 0.027 | 0.281 | |
| omnipath_cache_get | 0.083 | 0.012 | 0.167 | |
| omnipath_cache_key | 0.001 | 0.000 | 0.001 | |
| omnipath_cache_latest_or_new | 0.061 | 0.016 | 0.159 | |
| omnipath_cache_load | 0.644 | 0.064 | 1.422 | |
| omnipath_cache_move_in | 0.204 | 0.060 | 0.456 | |
| omnipath_cache_remove | 0.126 | 0.037 | 0.223 | |
| omnipath_cache_save | 0.259 | 0.053 | 0.722 | |
| omnipath_cache_search | 0.000 | 0.000 | 0.002 | |
| omnipath_cache_set_ext | 0.106 | 0.033 | 0.225 | |
| omnipath_cache_update_status | 0.112 | 0.030 | 0.190 | |
| omnipath_cache_wipe | 0 | 0 | 0 | |
| omnipath_config_path | 0.001 | 0.000 | 0.002 | |
| omnipath_for_cosmos | 12.851 | 1.062 | 38.726 | |
| omnipath_load_config | 0.000 | 0.001 | 0.001 | |
| omnipath_log | 0 | 0 | 0 | |
| omnipath_logfile | 0.003 | 0.001 | 0.003 | |
| omnipath_msg | 0.005 | 0.001 | 0.011 | |
| omnipath_query | 4.461 | 0.355 | 8.416 | |
| omnipath_reset_config | 0.000 | 0.002 | 0.001 | |
| omnipath_save_config | 0.000 | 0.001 | 0.001 | |
| omnipath_set_cachedir | 0.035 | 0.008 | 0.058 | |
| omnipath_set_console_loglevel | 0.004 | 0.001 | 0.005 | |
| omnipath_set_logfile_loglevel | 0.003 | 0.000 | 0.004 | |
| omnipath_set_loglevel | 0.005 | 0.000 | 0.006 | |
| omnipath_show_db | 0.078 | 0.015 | 0.126 | |
| omnipath_unlock_cache_db | 0 | 0 | 0 | |
| only_from | 0.000 | 0.001 | 0.001 | |
| ontology_ensure_id | 0.000 | 0.000 | 0.001 | |
| ontology_ensure_name | 0 | 0 | 0 | |
| ontology_name_id | 0.001 | 0.000 | 0.002 | |
| organism_for | 0.213 | 0.011 | 0.298 | |
| pathwaycommons_download | 0.001 | 0.001 | 0.009 | |
| pivot_annotations | 12.119 | 0.915 | 26.789 | |
| preppi_download | 0.001 | 0.001 | 0.002 | |
| preppi_filter | 0.001 | 0.001 | 0.002 | |
| print_bma_motif_es | 0.787 | 0.081 | 1.250 | |
| print_bma_motif_vs | 0.206 | 0.021 | 0.412 | |
| print_interactions | 7.751 | 0.629 | 16.045 | |
| print_path_es | 1.188 | 0.075 | 1.779 | |
| print_path_vs | 3.248 | 0.340 | 5.961 | |
| pubmed_open | 5.328 | 0.391 | 10.179 | |
| query_info | 0.673 | 0.051 | 1.222 | |
| ramilowski_download | 0.000 | 0.001 | 0.002 | |
| ramp_id_mapping_table | 0.001 | 0.000 | 0.001 | |
| ramp_id_type | 0.004 | 0.000 | 0.028 | |
| ramp_sqlite | 0.001 | 0.000 | 0.001 | |
| ramp_table | 0.001 | 0.000 | 0.001 | |
| ramp_tables | 0.001 | 0.000 | 0.001 | |
| recon3d | 0.001 | 0.000 | 0.002 | |
| recon3d_raw | 0.000 | 0.000 | 0.003 | |
| recon3d_raw_vmh | 0.001 | 0.000 | 0.001 | |
| regnetwork_directions | 0.001 | 0.000 | 0.001 | |
| regnetwork_download | 0.001 | 0.000 | 0.001 | |
| relations_list_to_table | 0.134 | 0.047 | 0.671 | |
| relations_table_to_graph | 0 | 0 | 0 | |
| relations_table_to_list | 0.100 | 0.032 | 0.187 | |
| remap_dorothea_download | 0.001 | 0.000 | 0.001 | |
| remap_filtered | 0.000 | 0.001 | 0.001 | |
| remap_tf_target_download | 0.000 | 0.000 | 0.001 | |
| resource_info | 0.743 | 0.137 | 1.411 | |
| resources | 0.063 | 0.012 | 0.342 | |
| resources_colname | 1.654 | 0.072 | 3.094 | |
| resources_in | 4.587 | 0.319 | 8.280 | |
| show_network | 0.001 | 0.000 | 0.000 | |
| signed_ptms | 6.714 | 0.429 | 11.898 | |
| simplify_intercell_network | 0.001 | 0.000 | 0.001 | |
| static_table | 7.921 | 0.448 | 13.099 | |
| static_tables | 0.061 | 0.010 | 0.087 | |
| stitch_actions | 0.001 | 0.000 | 0.001 | |
| stitch_links | 0.000 | 0.000 | 0.001 | |
| stitch_network | 0.001 | 0.000 | 0.002 | |
| stitch_remove_prefixes | 0.012 | 0.002 | 0.046 | |
| swap_relations | 0.101 | 0.031 | 0.181 | |
| swissprots_only | 0.169 | 0.009 | 0.236 | |
| tfcensus_download | 0.883 | 0.111 | 1.840 | |
| translate_ids | 1.623 | 0.249 | 11.824 | |
| translate_ids_multi | 11.200 | 0.811 | 35.043 | |
| trembls_only | 0.176 | 0.008 | 0.289 | |
| trrust_download | 0.001 | 0.001 | 0.001 | |
| uniprot_full_id_mapping_table | 1.481 | 0.238 | 14.756 | |
| uniprot_genesymbol_cleanup | 0 | 0 | 0 | |
| uniprot_id_mapping_table | 0.001 | 0.001 | 0.001 | |
| uniprot_id_type | 0.004 | 0.002 | 0.030 | |
| uniprot_idmapping_id_types | 0.793 | 0.071 | 2.292 | |
| uniprot_organisms | 25.704 | 3.030 | 70.133 | |
| unique_intercell_network | 0.001 | 0.000 | 0.001 | |
| unnest_evidences | 0.000 | 0.000 | 0.001 | |
| uploadlists_id_type | 0.003 | 0.001 | 0.008 | |
| vinayagam_download | 0.001 | 0.001 | 0.002 | |
| walk_ontology_tree | 0.002 | 0.001 | 0.002 | |
| with_extra_attrs | 16.929 | 2.633 | 45.405 | |
| with_references | 1.282 | 0.110 | 2.268 | |
| zenodo_download | 0.002 | 0.001 | 0.003 | |