| Back to Multiple platform build/check report for BioC 3.21: simplified long |
|
This page was generated on 2025-10-16 11:39 -0400 (Thu, 16 Oct 2025).
| Hostname | OS | Arch (*) | R version | Installed pkgs |
|---|---|---|---|---|
| nebbiolo1 | Linux (Ubuntu 24.04.3 LTS) | x86_64 | 4.5.1 (2025-06-13) -- "Great Square Root" | 4833 |
| merida1 | macOS 12.7.6 Monterey | x86_64 | 4.5.1 RC (2025-06-05 r88288) -- "Great Square Root" | 4614 |
| kjohnson1 | macOS 13.7.5 Ventura | arm64 | 4.5.1 Patched (2025-06-14 r88325) -- "Great Square Root" | 4555 |
| kunpeng2 | Linux (openEuler 24.03 LTS) | aarch64 | R Under development (unstable) (2025-02-19 r87757) -- "Unsuffered Consequences" | 4586 |
| Click on any hostname to see more info about the system (e.g. compilers) (*) as reported by 'uname -p', except on Windows and Mac OS X | ||||
| Package 799/2341 | Hostname | OS / Arch | INSTALL | BUILD | CHECK | BUILD BIN | ||||||||
| GeDi 1.4.0 (landing page) Annekathrin Nedwed
| nebbiolo1 | Linux (Ubuntu 24.04.3 LTS) / x86_64 | OK | OK | ERROR | |||||||||
| merida1 | macOS 12.7.6 Monterey / x86_64 | OK | OK | ERROR | OK | |||||||||
| kjohnson1 | macOS 13.7.5 Ventura / arm64 | OK | OK | ERROR | OK | |||||||||
| kunpeng2 | Linux (openEuler 24.03 LTS) / aarch64 | OK | OK | ERROR | ||||||||||
|
To the developers/maintainers of the GeDi package: - Allow up to 24 hours (and sometimes 48 hours) for your latest push to git@git.bioconductor.org:packages/GeDi.git to reflect on this report. See Troubleshooting Build Report for more information. - Use the following Renviron settings to reproduce errors and warnings. - If 'R CMD check' started to fail recently on the Linux builder(s) over a missing dependency, add the missing dependency to 'Suggests:' in your DESCRIPTION file. See Renviron.bioc for more information. |
| Package: GeDi |
| Version: 1.4.0 |
| Command: /Library/Frameworks/R.framework/Resources/bin/R CMD check --install=check:GeDi.install-out.txt --library=/Library/Frameworks/R.framework/Resources/library --no-vignettes --timings GeDi_1.4.0.tar.gz |
| StartedAt: 2025-10-14 04:07:00 -0400 (Tue, 14 Oct 2025) |
| EndedAt: 2025-10-14 04:30:30 -0400 (Tue, 14 Oct 2025) |
| EllapsedTime: 1409.2 seconds |
| RetCode: 1 |
| Status: ERROR |
| CheckDir: GeDi.Rcheck |
| Warnings: NA |
##############################################################################
##############################################################################
###
### Running command:
###
### /Library/Frameworks/R.framework/Resources/bin/R CMD check --install=check:GeDi.install-out.txt --library=/Library/Frameworks/R.framework/Resources/library --no-vignettes --timings GeDi_1.4.0.tar.gz
###
##############################################################################
##############################################################################
* using log directory ‘/Users/biocbuild/bbs-3.21-bioc/meat/GeDi.Rcheck’
* using R version 4.5.1 RC (2025-06-05 r88288)
* using platform: x86_64-apple-darwin20
* R was compiled by
Apple clang version 14.0.0 (clang-1400.0.29.202)
GNU Fortran (GCC) 14.2.0
* running under: macOS Monterey 12.7.6
* using session charset: UTF-8
* using option ‘--no-vignettes’
* checking for file ‘GeDi/DESCRIPTION’ ... OK
* this is package ‘GeDi’ version ‘1.4.0’
* package encoding: UTF-8
* checking package namespace information ... OK
* checking package dependencies ... INFO
Imports includes 29 non-default packages.
Importing from so many packages makes the package vulnerable to any of
them becoming unavailable. Move as many as possible to Suggests and
use conditionally.
* checking if this is a source package ... OK
* checking if there is a namespace ... OK
* checking for hidden files and directories ... OK
* checking for portable file names ... OK
* checking for sufficient/correct file permissions ... OK
* checking whether package ‘GeDi’ can be installed ... OK
* checking installed package size ... OK
* checking package directory ... OK
* checking ‘build’ directory ... OK
* checking DESCRIPTION meta-information ... OK
* checking top-level files ... OK
* checking for left-over files ... OK
* checking index information ... OK
* checking package subdirectories ... OK
* checking code files for non-ASCII characters ... OK
* checking R files for syntax errors ... OK
* checking whether the package can be loaded ... OK
* checking whether the package can be loaded with stated dependencies ... OK
* checking whether the package can be unloaded cleanly ... OK
* checking whether the namespace can be loaded with stated dependencies ... OK
* checking whether the namespace can be unloaded cleanly ... OK
* checking whether startup messages can be suppressed ... OK
* checking dependencies in R code ... OK
* checking S3 generic/method consistency ... OK
* checking replacement functions ... OK
* checking foreign function calls ... OK
* checking R code for possible problems ... OK
* checking Rd files ... OK
* checking Rd metadata ... OK
* checking Rd cross-references ... NOTE
Found the following Rd file(s) with Rd \link{} targets missing package
anchors:
buildClusterGraph.Rd: igraph
dot-graphMetricsGenesetsDT.Rd: igraph
getAnnotation.Rd: STRINGdb
getId.Rd: STRINGdb
getPPI.Rd: STRINGdb
getStringDB.Rd: STRINGdb
Please provide package anchors for all Rd \link{} targets not in the
package itself and the base packages.
* checking for missing documentation entries ... OK
* checking for code/documentation mismatches ... OK
* checking Rd \usage sections ... OK
* checking Rd contents ... OK
* checking for unstated dependencies in examples ... OK
* checking contents of ‘data’ directory ... OK
* checking data for non-ASCII characters ... OK
* checking data for ASCII and uncompressed saves ... OK
* checking files in ‘vignettes’ ... OK
* checking examples ... OK
Examples with CPU (user + system) or elapsed time > 5s
user system elapsed
getAnnotation 155.687 5.719 174.336
getPPI 114.687 3.335 125.222
goDistance 10.149 1.181 12.257
scaleGO 10.289 0.948 12.246
getStringDB 0.196 0.033 22.616
* checking for unstated dependencies in ‘tests’ ... OK
* checking tests ...
Running ‘testthat.R’
ERROR
Running the tests in ‘tests/testthat.R’ failed.
Last 13 lines of output:
[ FAIL 4 | WARN 9 | SKIP 0 | PASS 181 ]
══ Failed tests ════════════════════════════════════════════════════════════════
── Failure ('test-distance_dendro.R:11:3'): distanceDendro runs correctly ──────
`dendro` has type 'object', not 'list'.
── Failure ('test-distance_dendro.R:15:3'): distanceDendro runs correctly ──────
`dendro` has type 'object', not 'list'.
── Failure ('test-gs_histogram.R:27:3'): gsHistogram runs correctly ────────────
`histogram` has type 'object', not 'list'.
── Failure ('test-gs_histogram.R:30:3'): gsHistogram runs correctly ────────────
`histogram` has type 'object', not 'list'.
[ FAIL 4 | WARN 9 | SKIP 0 | PASS 181 ]
Error: Test failures
Execution halted
* checking for unstated dependencies in vignettes ... OK
* checking package vignettes ... OK
* checking running R code from vignettes ... SKIPPED
* checking re-building of vignette outputs ... SKIPPED
* checking PDF version of manual ... OK
* DONE
Status: 1 ERROR, 1 NOTE
See
‘/Users/biocbuild/bbs-3.21-bioc/meat/GeDi.Rcheck/00check.log’
for details.
GeDi.Rcheck/00install.out
############################################################################## ############################################################################## ### ### Running command: ### ### /Library/Frameworks/R.framework/Resources/bin/R CMD INSTALL GeDi ### ############################################################################## ############################################################################## * installing to library ‘/Library/Frameworks/R.framework/Versions/4.5-x86_64/Resources/library’ * installing *source* package ‘GeDi’ ... ** this is package ‘GeDi’ version ‘1.4.0’ ** using staged installation ** R ** data ** inst ** byte-compile and prepare package for lazy loading ** help *** installing help indices *** copying figures ** building package indices ** installing vignettes ** testing if installed package can be loaded from temporary location ** testing if installed package can be loaded from final location ** testing if installed package keeps a record of temporary installation path * DONE (GeDi)
GeDi.Rcheck/tests/testthat.Rout.fail
R version 4.5.1 RC (2025-06-05 r88288) -- "Great Square Root"
Copyright (C) 2025 The R Foundation for Statistical Computing
Platform: x86_64-apple-darwin20
R is free software and comes with ABSOLUTELY NO WARRANTY.
You are welcome to redistribute it under certain conditions.
Type 'license()' or 'licence()' for distribution details.
R is a collaborative project with many contributors.
Type 'contributors()' for more information and
'citation()' on how to cite R or R packages in publications.
Type 'demo()' for some demos, 'help()' for on-line help, or
'help.start()' for an HTML browser interface to help.
Type 'q()' to quit R.
> library(testthat)
> library(GeDi)
>
> test_check("GeDi")
trying URL 'https://stringdb-downloads.org/download/protein.aliases.v12.0/9606.protein.aliases.v12.0.txt.gz'
Content type 'application/octet-stream' length 19777800 bytes (18.9 MB)
==================================================
downloaded 18.9 MB
trying URL 'https://stringdb-downloads.org/download/protein.info.v12.0/9606.protein.info.v12.0.txt.gz'
Content type 'application/octet-stream' length 1970090 bytes (1.9 MB)
==================================================
downloaded 1.9 MB
trying URL 'https://stringdb-downloads.org/download/protein.links.v12.0/9606.protein.links.v12.0.txt.gz'
Content type 'application/octet-stream' length 83164437 bytes (79.3 MB)
==================================================
downloaded 79.3 MB
preparing gene to GO mapping data...
preparing gene to GO mapping data...
[ FAIL 4 | WARN 9 | SKIP 0 | PASS 181 ]
══ Failed tests ════════════════════════════════════════════════════════════════
── Failure ('test-distance_dendro.R:11:3'): distanceDendro runs correctly ──────
`dendro` has type 'object', not 'list'.
── Failure ('test-distance_dendro.R:15:3'): distanceDendro runs correctly ──────
`dendro` has type 'object', not 'list'.
── Failure ('test-gs_histogram.R:27:3'): gsHistogram runs correctly ────────────
`histogram` has type 'object', not 'list'.
── Failure ('test-gs_histogram.R:30:3'): gsHistogram runs correctly ────────────
`histogram` has type 'object', not 'list'.
[ FAIL 4 | WARN 9 | SKIP 0 | PASS 181 ]
Error: Test failures
Execution halted
GeDi.Rcheck/GeDi-Ex.timings
| name | user | system | elapsed | |
| GeDi | 0.011 | 0.004 | 0.015 | |
| buildClusterGraph | 0.289 | 0.007 | 0.298 | |
| buildGraph | 0.013 | 0.000 | 0.014 | |
| buildHistogramData | 0.019 | 0.004 | 0.023 | |
| calculateJaccard | 0.018 | 0.003 | 0.022 | |
| calculateKappa | 0.037 | 0.003 | 0.041 | |
| calculateSorensenDice | 0.017 | 0.003 | 0.021 | |
| checkInclusion | 0.017 | 0.003 | 0.019 | |
| clustering | 0.293 | 0.009 | 0.305 | |
| deprecated | 0.000 | 0.001 | 0.000 | |
| distanceDendro | 0.385 | 0.013 | 0.398 | |
| distanceHeatmap | 0.376 | 0.017 | 0.394 | |
| enrichmentWordcloud | 0.577 | 0.014 | 0.593 | |
| fuzzyClustering | 0.015 | 0.003 | 0.018 | |
| getAdjacencyMatrix | 0.155 | 0.003 | 0.159 | |
| getAnnotation | 155.687 | 5.719 | 174.336 | |
| getBipartiteGraph | 0.021 | 0.002 | 0.025 | |
| getClusterAdjacencyMatrix | 0.080 | 0.005 | 0.089 | |
| getGraphTitle | 0.009 | 0.001 | 0.011 | |
| getId | 0.260 | 0.018 | 2.242 | |
| getInteractionScore | 0.074 | 0.030 | 0.104 | |
| getJaccardMatrix | 3.956 | 0.107 | 4.211 | |
| getKappaMatrix | 2.266 | 0.309 | 2.739 | |
| getMeetMinMatrix | 1.911 | 0.301 | 2.333 | |
| getPPI | 114.687 | 3.335 | 125.222 | |
| getSorensenDiceMatrix | 1.692 | 0.027 | 1.737 | |
| getStringDB | 0.196 | 0.033 | 22.616 | |
| getpMMMatrix | 2.408 | 0.108 | 2.668 | |
| goDistance | 10.149 | 1.181 | 12.257 | |
| gsHistogram | 0.284 | 0.027 | 0.333 | |
| kMeansClustering | 0.029 | 0.009 | 0.040 | |
| kNN_clustering | 0.017 | 0.007 | 0.026 | |
| louvainClustering | 0.143 | 0.012 | 0.171 | |
| markovClustering | 0.173 | 0.016 | 0.211 | |
| pMMlocal | 0.074 | 0.013 | 0.096 | |
| pamClustering | 0.012 | 0.008 | 0.022 | |
| prepareGenesetData | 0.020 | 0.007 | 0.031 | |
| scaleGO | 10.289 | 0.948 | 12.246 | |
| seedFinding | 0.019 | 0.006 | 0.027 | |