Back to Multiple platform build/check report for BioC 3.22:   simplified   long
ABCDEF[G]HIJKLMNOPQRSTUVWXYZ

This page was generated on 2025-11-12 11:58 -0500 (Wed, 12 Nov 2025).

HostnameOSArch (*)R versionInstalled pkgs
nebbiolo2Linux (Ubuntu 24.04.3 LTS)x86_644.5.1 Patched (2025-08-23 r88802) -- "Great Square Root" 4902
taishanLinux (openEuler 24.03 LTS)aarch644.5.0 (2025-04-11) -- "How About a Twenty-Six" 4668
Click on any hostname to see more info about the system (e.g. compilers)      (*) as reported by 'uname -p', except on Windows and Mac OS X

Package 809/2361HostnameOS / ArchINSTALLBUILDCHECKBUILD BIN
GeDi 1.6.0  (landing page)
Annekathrin Nedwed
Snapshot Date: 2025-11-11 13:45 -0500 (Tue, 11 Nov 2025)
git_url: https://git.bioconductor.org/packages/GeDi
git_branch: RELEASE_3_22
git_last_commit: 308bc6a
git_last_commit_date: 2025-10-29 11:29:41 -0500 (Wed, 29 Oct 2025)
nebbiolo2Linux (Ubuntu 24.04.3 LTS) / x86_64  OK    OK    ERROR  
taishanLinux (openEuler 24.03 LTS) / aarch64  OK    OK    ERROR  


CHECK results for GeDi on taishan

To the developers/maintainers of the GeDi package:
- Allow up to 24 hours (and sometimes 48 hours) for your latest push to git@git.bioconductor.org:packages/GeDi.git to reflect on this report. See Troubleshooting Build Report for more information.
- Use the following Renviron settings to reproduce errors and warnings.
- If 'R CMD check' started to fail recently on the Linux builder(s) over a missing dependency, add the missing dependency to 'Suggests:' in your DESCRIPTION file. See Renviron.bioc for more information.
- See Martin Grigorov's blog post for how to debug Linux ARM64 related issues on a x86_64 host.

raw results


Summary

Package: GeDi
Version: 1.6.0
Command: /home/biocbuild/R/R/bin/R CMD check --install=check:GeDi.install-out.txt --library=/home/biocbuild/R/R/site-library --no-vignettes --timings GeDi_1.6.0.tar.gz
StartedAt: 2025-11-11 09:57:14 -0000 (Tue, 11 Nov 2025)
EndedAt: 2025-11-11 10:23:47 -0000 (Tue, 11 Nov 2025)
EllapsedTime: 1593.2 seconds
RetCode: 1
Status:   ERROR  
CheckDir: GeDi.Rcheck
Warnings: NA

Command output

##############################################################################
##############################################################################
###
### Running command:
###
###   /home/biocbuild/R/R/bin/R CMD check --install=check:GeDi.install-out.txt --library=/home/biocbuild/R/R/site-library --no-vignettes --timings GeDi_1.6.0.tar.gz
###
##############################################################################
##############################################################################


* using log directory ‘/home/biocbuild/bbs-3.22-bioc/meat/GeDi.Rcheck’
* using R version 4.5.0 (2025-04-11)
* using platform: aarch64-unknown-linux-gnu
* R was compiled by
    aarch64-unknown-linux-gnu-gcc (GCC) 14.2.0
    GNU Fortran (GCC) 14.2.0
* running under: openEuler 24.03 (LTS)
* using session charset: UTF-8
* using option ‘--no-vignettes’
* checking for file ‘GeDi/DESCRIPTION’ ... OK
* this is package ‘GeDi’ version ‘1.6.0’
* package encoding: UTF-8
* checking package namespace information ... OK
* checking package dependencies ... INFO
Imports includes 29 non-default packages.
Importing from so many packages makes the package vulnerable to any of
them becoming unavailable.  Move as many as possible to Suggests and
use conditionally.
* checking if this is a source package ... OK
* checking if there is a namespace ... OK
* checking for hidden files and directories ... OK
* checking for portable file names ... OK
* checking for sufficient/correct file permissions ... OK
* checking whether package ‘GeDi’ can be installed ... OK
* checking installed package size ... OK
* checking package directory ... OK
* checking ‘build’ directory ... OK
* checking DESCRIPTION meta-information ... OK
* checking top-level files ... OK
* checking for left-over files ... OK
* checking index information ... OK
* checking package subdirectories ... OK
* checking code files for non-ASCII characters ... OK
* checking R files for syntax errors ... OK
* checking whether the package can be loaded ... OK
* checking whether the package can be loaded with stated dependencies ... OK
* checking whether the package can be unloaded cleanly ... OK
* checking whether the namespace can be loaded with stated dependencies ... OK
* checking whether the namespace can be unloaded cleanly ... OK
* checking loading without being on the library search path ... OK
* checking whether startup messages can be suppressed ... OK
* checking dependencies in R code ... OK
* checking S3 generic/method consistency ... OK
* checking replacement functions ... OK
* checking foreign function calls ... OK
* checking R code for possible problems ... OK
* checking Rd files ... OK
* checking Rd metadata ... OK
* checking Rd cross-references ... NOTE
Found the following Rd file(s) with Rd \link{} targets missing package
anchors:
  buildClusterGraph.Rd: igraph
  dot-graphMetricsGenesetsDT.Rd: igraph
  getAnnotation.Rd: STRINGdb
  getId.Rd: STRINGdb
  getPPI.Rd: STRINGdb
  getStringDB.Rd: STRINGdb
Please provide package anchors for all Rd \link{} targets not in the
package itself and the base packages.
* checking for missing documentation entries ... OK
* checking for code/documentation mismatches ... OK
* checking Rd \usage sections ... OK
* checking Rd contents ... OK
* checking for unstated dependencies in examples ... OK
* checking contents of ‘data’ directory ... OK
* checking data for non-ASCII characters ... OK
* checking data for ASCII and uncompressed saves ... OK
* checking files in ‘vignettes’ ... OK
* checking examples ... OK
Examples with CPU (user + system) or elapsed time > 5s
                 user system elapsed
getAnnotation 103.054  5.943 325.647
getPPI         73.522  1.669  76.225
scaleGO         7.958  0.256   8.226
goDistance      7.299  0.403   7.716
getId           0.162  0.021  12.517
getStringDB     0.164  0.016  69.649
* checking for unstated dependencies in ‘tests’ ... OK
* checking tests ...
  Running ‘testthat.R’
 ERROR
Running the tests in ‘tests/testthat.R’ failed.
Last 13 lines of output:
  ══ Failed tests ════════════════════════════════════════════════════════════════
  ── Failure ('test-distance_dendro.R:11:3'): distanceDendro runs correctly ──────
  `dendro` has type 'object', not 'list'.
  ── Failure ('test-distance_dendro.R:15:3'): distanceDendro runs correctly ──────
  `dendro` has type 'object', not 'list'.
  ── Failure ('test-gs_histogram.R:27:3'): gsHistogram runs correctly ────────────
  `histogram` has type 'object', not 'list'.
  ── Failure ('test-gs_histogram.R:30:3'): gsHistogram runs correctly ────────────
  `histogram` has type 'object', not 'list'.
  
  [ FAIL 4 | WARN 9 | SKIP 0 | PASS 181 ]
  Error: Test failures
  In addition: Warning message:
  In for (i in seq_len(n)) { : closing unused connection 4 ()
  Execution halted
* checking for unstated dependencies in vignettes ... OK
* checking package vignettes ... OK
* checking running R code from vignettes ... SKIPPED
* checking re-building of vignette outputs ... SKIPPED
* checking PDF version of manual ... OK
* DONE

Status: 1 ERROR, 1 NOTE
See
  ‘/home/biocbuild/bbs-3.22-bioc/meat/GeDi.Rcheck/00check.log’
for details.


Installation output

GeDi.Rcheck/00install.out

##############################################################################
##############################################################################
###
### Running command:
###
###   /home/biocbuild/R/R/bin/R CMD INSTALL GeDi
###
##############################################################################
##############################################################################


* installing to library ‘/home/biocbuild/R/R-4.5.0/site-library’
* installing *source* package ‘GeDi’ ...
** this is package ‘GeDi’ version ‘1.6.0’
** using staged installation
** R
** data
** inst
** byte-compile and prepare package for lazy loading
** help
*** installing help indices
*** copying figures
** building package indices
** installing vignettes
** testing if installed package can be loaded from temporary location
** testing if installed package can be loaded from final location
** testing if installed package keeps a record of temporary installation path
* DONE (GeDi)

Tests output

GeDi.Rcheck/tests/testthat.Rout.fail


R version 4.5.0 (2025-04-11) -- "How About a Twenty-Six"
Copyright (C) 2025 The R Foundation for Statistical Computing
Platform: aarch64-unknown-linux-gnu

R is free software and comes with ABSOLUTELY NO WARRANTY.
You are welcome to redistribute it under certain conditions.
Type 'license()' or 'licence()' for distribution details.

R is a collaborative project with many contributors.
Type 'contributors()' for more information and
'citation()' on how to cite R or R packages in publications.

Type 'demo()' for some demos, 'help()' for on-line help, or
'help.start()' for an HTML browser interface to help.
Type 'q()' to quit R.

> library(testthat)
> library(GeDi)

> 
> test_check("GeDi")
trying URL 'https://stringdb-downloads.org/download/protein.aliases.v12.0/9606.protein.aliases.v12.0.txt.gz'
Content type 'application/octet-stream' length 19777800 bytes (18.9 MB)
==================================================
downloaded 18.9 MB

trying URL 'https://stringdb-downloads.org/download/protein.info.v12.0/9606.protein.info.v12.0.txt.gz'
Content type 'application/octet-stream' length 1970090 bytes (1.9 MB)
==================================================
downloaded 1.9 MB

trying URL 'https://stringdb-downloads.org/download/protein.links.v12.0/9606.protein.links.v12.0.txt.gz'
Content type 'application/octet-stream' length 83164437 bytes (79.3 MB)
==================================================
downloaded 79.3 MB


preparing gene to GO mapping data...
preparing gene to GO mapping data...
[ FAIL 4 | WARN 9 | SKIP 0 | PASS 181 ]

══ Failed tests ════════════════════════════════════════════════════════════════
── Failure ('test-distance_dendro.R:11:3'): distanceDendro runs correctly ──────
`dendro` has type 'object', not 'list'.
── Failure ('test-distance_dendro.R:15:3'): distanceDendro runs correctly ──────
`dendro` has type 'object', not 'list'.
── Failure ('test-gs_histogram.R:27:3'): gsHistogram runs correctly ────────────
`histogram` has type 'object', not 'list'.
── Failure ('test-gs_histogram.R:30:3'): gsHistogram runs correctly ────────────
`histogram` has type 'object', not 'list'.

[ FAIL 4 | WARN 9 | SKIP 0 | PASS 181 ]
Error: Test failures
In addition: Warning message:
In for (i in seq_len(n)) { : closing unused connection 4 ()
Execution halted

Example timings

GeDi.Rcheck/GeDi-Ex.timings

nameusersystemelapsed
GeDi0.0080.0000.008
buildClusterGraph0.2530.0120.267
buildGraph0.0090.0000.008
buildHistogramData0.010.000.01
calculateJaccard0.0100.0000.009
calculateKappa0.0170.0000.017
calculateSorensenDice0.0090.0000.010
checkInclusion0.0100.0000.011
clustering0.1980.0080.209
deprecated000
distanceDendro0.2210.0000.222
distanceHeatmap0.1760.0040.182
enrichmentWordcloud0.3240.0040.332
fuzzyClustering0.0590.0000.058
getAdjacencyMatrix0.1030.0000.103
getAnnotation103.054 5.943325.647
getBipartiteGraph0.0130.0000.012
getClusterAdjacencyMatrix0.0520.0040.056
getGraphTitle0.0060.0010.005
getId 0.162 0.02112.517
getInteractionScore0.0360.0000.036
getJaccardMatrix1.4130.0841.501
getKappaMatrix4.1190.2154.346
getMeetMinMatrix0.9730.0080.984
getPPI73.522 1.66976.225
getSorensenDiceMatrix0.6950.0000.698
getStringDB 0.164 0.01669.649
getpMMMatrix1.2890.0361.329
goDistance7.2990.4037.716
gsHistogram0.1430.0040.147
kMeansClustering0.0180.0000.019
kNN_clustering0.0110.0000.014
louvainClustering0.0790.0040.082
markovClustering0.1010.0000.101
pMMlocal0.0320.0040.036
pamClustering0.0080.0000.008
prepareGenesetData0.010.000.01
scaleGO7.9580.2568.226
seedFinding0.0100.0000.011