Back to Multiple platform build/check report for BioC 3.22:   simplified   long
ABCDE[F]GHIJKLMNOPQRSTUVWXYZ

This page was generated on 2025-11-24 12:04 -0500 (Mon, 24 Nov 2025).

HostnameOSArch (*)R versionInstalled pkgs
nebbiolo2Linux (Ubuntu 24.04.3 LTS)x86_644.5.2 (2025-10-31) -- "[Not] Part in a Rumble" 4873
merida1macOS 12.7.6 Montereyx86_644.5.2 Patched (2025-11-05 r88990) -- "[Not] Part in a Rumble" 4654
kjohnson1macOS 13.7.5 Venturaarm644.5.2 Patched (2025-11-04 r88984) -- "[Not] Part in a Rumble" 4600
taishanLinux (openEuler 24.03 LTS)aarch644.5.0 (2025-04-11) -- "How About a Twenty-Six" 4668
Click on any hostname to see more info about the system (e.g. compilers)      (*) as reported by 'uname -p', except on Windows and Mac OS X

Package 765/2361HostnameOS / ArchINSTALLBUILDCHECKBUILD BIN
FlowSOM 2.18.0  (landing page)
Sofie Van Gassen
Snapshot Date: 2025-11-20 15:01 -0500 (Thu, 20 Nov 2025)
git_url: https://git.bioconductor.org/packages/FlowSOM
git_branch: RELEASE_3_22
git_last_commit: b942a41
git_last_commit_date: 2025-10-29 10:23:19 -0500 (Wed, 29 Oct 2025)
nebbiolo2Linux (Ubuntu 24.04.3 LTS) / x86_64  OK    OK    OK  UNNEEDED, same version is already published
merida1macOS 12.7.6 Monterey / x86_64  OK    OK    OK    OK  UNNEEDED, same version is already published
kjohnson1macOS 13.7.5 Ventura / arm64  OK    OK    OK    OK  UNNEEDED, same version is already published
taishanLinux (openEuler 24.03 LTS) / aarch64  OK    OK    OK  


CHECK results for FlowSOM on merida1

To the developers/maintainers of the FlowSOM package:
- Allow up to 24 hours (and sometimes 48 hours) for your latest push to git@git.bioconductor.org:packages/FlowSOM.git to reflect on this report. See Troubleshooting Build Report for more information.
- Use the following Renviron settings to reproduce errors and warnings.
- If 'R CMD check' started to fail recently on the Linux builder(s) over a missing dependency, add the missing dependency to 'Suggests:' in your DESCRIPTION file. See Renviron.bioc for more information.

raw results


Summary

Package: FlowSOM
Version: 2.18.0
Command: /Library/Frameworks/R.framework/Resources/bin/R CMD check --install=check:FlowSOM.install-out.txt --library=/Library/Frameworks/R.framework/Resources/library --no-vignettes --timings FlowSOM_2.18.0.tar.gz
StartedAt: 2025-11-21 05:14:24 -0500 (Fri, 21 Nov 2025)
EndedAt: 2025-11-21 05:33:48 -0500 (Fri, 21 Nov 2025)
EllapsedTime: 1164.1 seconds
RetCode: 0
Status:   OK  
CheckDir: FlowSOM.Rcheck
Warnings: 0

Command output

##############################################################################
##############################################################################
###
### Running command:
###
###   /Library/Frameworks/R.framework/Resources/bin/R CMD check --install=check:FlowSOM.install-out.txt --library=/Library/Frameworks/R.framework/Resources/library --no-vignettes --timings FlowSOM_2.18.0.tar.gz
###
##############################################################################
##############################################################################


* using log directory ‘/Users/biocbuild/bbs-3.22-bioc/meat/FlowSOM.Rcheck’
* using R version 4.5.2 Patched (2025-11-05 r88990)
* using platform: x86_64-apple-darwin20
* R was compiled by
    Apple clang version 14.0.0 (clang-1400.0.29.202)
    GNU Fortran (GCC) 14.2.0
* running under: macOS Monterey 12.7.6
* using session charset: UTF-8
* using option ‘--no-vignettes’
* checking for file ‘FlowSOM/DESCRIPTION’ ... OK
* this is package ‘FlowSOM’ version ‘2.18.0’
* package encoding: UTF-8
* checking package namespace information ... OK
* checking package dependencies ... OK
* checking if this is a source package ... OK
* checking if there is a namespace ... OK
* checking for hidden files and directories ... OK
* checking for portable file names ... OK
* checking for sufficient/correct file permissions ... OK
* checking whether package ‘FlowSOM’ can be installed ... OK
* used C compiler: ‘Apple clang version 14.0.0 (clang-1400.0.29.202)’
* used SDK: ‘MacOSX11.3.1.sdk’
* checking installed package size ... OK
* checking package directory ... OK
* checking ‘build’ directory ... OK
* checking DESCRIPTION meta-information ... OK
* checking top-level files ... OK
* checking for left-over files ... OK
* checking index information ... OK
* checking package subdirectories ... OK
* checking code files for non-ASCII characters ... OK
* checking R files for syntax errors ... OK
* checking whether the package can be loaded ... OK
* checking whether the package can be loaded with stated dependencies ... OK
* checking whether the package can be unloaded cleanly ... OK
* checking whether the namespace can be loaded with stated dependencies ... OK
* checking whether the namespace can be unloaded cleanly ... OK
* checking whether startup messages can be suppressed ... OK
* checking dependencies in R code ... OK
* checking S3 generic/method consistency ... OK
* checking replacement functions ... OK
* checking foreign function calls ... OK
* checking R code for possible problems ... OK
* checking Rd files ... NOTE
checkRd: (-1) PlotDimRed.Rd:55: Lost braces
    55 | of the dimred default = function(dimred){dimred$Y}.}
       |                                         ^
* checking Rd metadata ... OK
* checking Rd cross-references ... NOTE
Non-topic package-anchored link(s) in Rd file 'pipe.Rd':
  ‘[magrittr:pipe]{%>%}’

See section 'Cross-references' in the 'Writing R Extensions' manual.
* checking for missing documentation entries ... OK
* checking for code/documentation mismatches ... OK
* checking Rd \usage sections ... OK
* checking Rd contents ... OK
* checking for unstated dependencies in examples ... OK
* checking line endings in C/C++/Fortran sources/headers ... OK
* checking compiled code ... NOTE
Note: information on .o files is not available
* checking sizes of PDF files under ‘inst/doc’ ... OK
* checking files in ‘vignettes’ ... OK
* checking examples ... OK
Examples with CPU (user + system) or elapsed time > 5s
                                    user system elapsed
FlowSOMmary                       99.218  2.299 108.811
PlotDimRed                        74.437  2.627  81.484
PlotOutliers                      70.251  1.330  78.649
PlotMarker                        37.274  1.183  40.287
UpdateMetaclusters                35.336  1.496  39.940
PlotStars                         30.561  1.152  34.395
GroupStats                        27.809  0.856  30.574
FlowSOM                           23.400  1.064  25.789
PlotGroups                        23.434  1.017  25.559
Plot2DScatters                    21.326  0.747  23.881
QueryMultiple                     20.778  0.536  23.513
query_multiple                    20.575  0.583  22.276
AddAnnotation                     17.967  0.739  20.106
PlotManualBars                    17.422  0.938  19.277
QueryStarPlot                     14.807  0.353  16.239
GetFlowJoLabels                   14.045  0.645  15.054
PlotNode                          13.599  0.770  15.276
UpdateNodeSize                    13.400  0.283  14.374
PlotNumbers                       13.005  0.661  14.440
PlotVariable                      12.688  0.762  15.406
PlotPies                          12.348  0.818  13.701
GetFeatures                       11.898  0.357  13.208
PlotFlowSOM                       11.383  0.744  13.013
CountGroups                       11.496  0.627  12.538
SaveClustersToFCS                  9.757  0.849  11.128
PlotLabels                         9.716  0.691  10.572
MetaclusterMFIs                    9.279  0.886  10.863
NMetaclusters                      9.399  0.748  10.784
NClusters                          8.791  0.769  10.031
TestOutliers                       8.857  0.681  10.193
PlotOverview2D                     8.651  0.562   9.782
GetMetaclusterPercentagesPositive  8.496  0.630   9.537
MetaclusterCVs                     8.119  0.811   9.232
FlowSOMSubset                      8.480  0.412   9.845
GetPercentages                     8.272  0.576  10.106
print.FlowSOM                      8.009  0.749   9.049
GetMetaclusterCVs                  7.968  0.776   9.012
GetMFIs                            8.039  0.643   9.242
GetMetaclusters                    8.056  0.583   9.241
GetMetaclusterMFIs                 8.011  0.516   8.961
GetClusters                        7.849  0.402   9.036
GetClusterPercentagesPositive      7.811  0.411   8.952
GetClusterMFIs                     7.755  0.407   8.720
GetCounts                          7.713  0.409   8.625
NewData                            7.608  0.501   9.188
ReadInput                          6.508  0.618   7.445
MetaClustering                     6.519  0.489   7.358
metaClustering_consensus           5.099  0.555   5.743
* checking for unstated dependencies in vignettes ... OK
* checking package vignettes ... OK
* checking running R code from vignettes ... SKIPPED
* checking re-building of vignette outputs ... SKIPPED
* checking PDF version of manual ... OK
* DONE

Status: 3 NOTEs
See
  ‘/Users/biocbuild/bbs-3.22-bioc/meat/FlowSOM.Rcheck/00check.log’
for details.


Installation output

FlowSOM.Rcheck/00install.out

##############################################################################
##############################################################################
###
### Running command:
###
###   /Library/Frameworks/R.framework/Resources/bin/R CMD INSTALL FlowSOM
###
##############################################################################
##############################################################################


* installing to library ‘/Library/Frameworks/R.framework/Versions/4.5-x86_64/Resources/library’
* installing *source* package ‘FlowSOM’ ...
** this is package ‘FlowSOM’ version ‘2.18.0’
** using staged installation
** libs
using C compiler: ‘Apple clang version 14.0.0 (clang-1400.0.29.202)’
using SDK: ‘MacOSX11.3.1.sdk’
clang -arch x86_64 -I"/Library/Frameworks/R.framework/Resources/include" -DNDEBUG   -I/opt/R/x86_64/include    -fPIC  -falign-functions=64 -Wall -g -O2  -c som.c -o som.o
clang -arch x86_64 -dynamiclib -Wl,-headerpad_max_install_names -undefined dynamic_lookup -L/Library/Frameworks/R.framework/Resources/lib -L/opt/R/x86_64/lib -o FlowSOM.so som.o -F/Library/Frameworks/R.framework/.. -framework R
installing to /Library/Frameworks/R.framework/Versions/4.5-x86_64/Resources/library/00LOCK-FlowSOM/00new/FlowSOM/libs
** R
** inst
** byte-compile and prepare package for lazy loading
** help
*** installing help indices
** building package indices
** installing vignettes
** testing if installed package can be loaded from temporary location
** checking absolute paths in shared objects and dynamic libraries
** testing if installed package can be loaded from final location
** testing if installed package keeps a record of temporary installation path
* DONE (FlowSOM)

Tests output


Example timings

FlowSOM.Rcheck/FlowSOM-Ex.timings

nameusersystemelapsed
AddAnnotation17.967 0.73920.106
AggregateFlowFrames0.1900.0120.213
BuildMST2.7320.0802.942
BuildSOM2.5820.0902.799
CountGroups11.496 0.62712.538
FMeasure0.0040.0010.004
FlowSOM23.400 1.06425.789
FlowSOMSubset8.4800.4129.845
FlowSOMmary 99.218 2.299108.811
GetChannels0.0720.0060.080
GetClusterMFIs7.7550.4078.720
GetClusterPercentagesPositive7.8110.4118.952
GetClusters7.8490.4029.036
GetCounts7.7130.4098.625
GetFeatures11.898 0.35713.208
GetFlowJoLabels14.045 0.64515.054
GetMFIs8.0390.6439.242
GetMarkers0.0730.0050.080
GetMetaclusterCVs7.9680.7769.012
GetMetaclusterMFIs8.0110.5168.961
GetMetaclusterPercentagesPositive8.4960.6309.537
GetMetaclusters8.0560.5839.241
GetPercentages 8.272 0.57610.106
GroupStats27.809 0.85630.574
Initialize_KWSP0.0120.0000.014
Initialize_PCA0.0010.0000.002
MetaClustering6.5190.4897.358
MetaclusterCVs8.1190.8119.232
MetaclusterMFIs 9.279 0.88610.863
NClusters 8.791 0.76910.031
NMetaclusters 9.399 0.74810.784
NewData7.6080.5019.188
Plot2DScatters21.326 0.74723.881
PlotCenters2.5510.0782.764
PlotClusters2D2.3590.0942.554
PlotDimRed74.437 2.62781.484
PlotFileScatters2.8770.0503.130
PlotFlowSOM11.383 0.74413.013
PlotGroups23.434 1.01725.559
PlotLabels 9.716 0.69110.572
PlotManualBars17.422 0.93819.277
PlotMarker37.274 1.18340.287
PlotNode13.599 0.77015.276
PlotNumbers13.005 0.66114.440
PlotOutliers70.251 1.33078.649
PlotOverview2D8.6510.5629.782
PlotPies12.348 0.81813.701
PlotSD4.4530.1614.819
PlotStars30.561 1.15234.395
PlotVariable12.688 0.76215.406
Purity0.0020.0010.004
QueryMultiple20.778 0.53623.513
QueryStarPlot14.807 0.35316.239
ReadInput6.5080.6187.445
SaveClustersToFCS 9.757 0.84911.128
TestOutliers 8.857 0.68110.193
UpdateMetaclusters35.336 1.49639.940
UpdateNodeSize13.400 0.28314.374
get_channels0.0730.0040.077
get_markers0.0740.0050.080
metaClustering_consensus5.0990.5555.743
plotStarLegend1.0280.0071.044
print.FlowSOM8.0090.7499.049
query_multiple20.575 0.58322.276