Back to Multiple platform build/check report for BioC 3.22:   simplified   long
ABCDE[F]GHIJKLMNOPQRSTUVWXYZ

This page was generated on 2025-11-12 11:57 -0500 (Wed, 12 Nov 2025).

HostnameOSArch (*)R versionInstalled pkgs
nebbiolo2Linux (Ubuntu 24.04.3 LTS)x86_644.5.1 Patched (2025-08-23 r88802) -- "Great Square Root" 4902
taishanLinux (openEuler 24.03 LTS)aarch644.5.0 (2025-04-11) -- "How About a Twenty-Six" 4668
Click on any hostname to see more info about the system (e.g. compilers)      (*) as reported by 'uname -p', except on Windows and Mac OS X

Package 765/2361HostnameOS / ArchINSTALLBUILDCHECKBUILD BIN
FlowSOM 2.18.0  (landing page)
Sofie Van Gassen
Snapshot Date: 2025-11-11 13:45 -0500 (Tue, 11 Nov 2025)
git_url: https://git.bioconductor.org/packages/FlowSOM
git_branch: RELEASE_3_22
git_last_commit: b942a41
git_last_commit_date: 2025-10-29 10:23:19 -0500 (Wed, 29 Oct 2025)
nebbiolo2Linux (Ubuntu 24.04.3 LTS) / x86_64  OK    OK    OK  UNNEEDED, same version is already published
taishanLinux (openEuler 24.03 LTS) / aarch64  OK    OK    OK  


CHECK results for FlowSOM on nebbiolo2

To the developers/maintainers of the FlowSOM package:
- Allow up to 24 hours (and sometimes 48 hours) for your latest push to git@git.bioconductor.org:packages/FlowSOM.git to reflect on this report. See Troubleshooting Build Report for more information.
- Use the following Renviron settings to reproduce errors and warnings.
- If 'R CMD check' started to fail recently on the Linux builder(s) over a missing dependency, add the missing dependency to 'Suggests:' in your DESCRIPTION file. See Renviron.bioc for more information.

raw results


Summary

Package: FlowSOM
Version: 2.18.0
Command: /home/biocbuild/bbs-3.22-bioc/R/bin/R CMD check --install=check:FlowSOM.install-out.txt --library=/home/biocbuild/bbs-3.22-bioc/R/site-library --timings FlowSOM_2.18.0.tar.gz
StartedAt: 2025-11-11 23:47:55 -0500 (Tue, 11 Nov 2025)
EndedAt: 2025-11-11 23:57:43 -0500 (Tue, 11 Nov 2025)
EllapsedTime: 588.7 seconds
RetCode: 0
Status:   OK  
CheckDir: FlowSOM.Rcheck
Warnings: 0

Command output

##############################################################################
##############################################################################
###
### Running command:
###
###   /home/biocbuild/bbs-3.22-bioc/R/bin/R CMD check --install=check:FlowSOM.install-out.txt --library=/home/biocbuild/bbs-3.22-bioc/R/site-library --timings FlowSOM_2.18.0.tar.gz
###
##############################################################################
##############################################################################


* using log directory ‘/home/biocbuild/bbs-3.22-bioc/meat/FlowSOM.Rcheck’
* using R version 4.5.1 Patched (2025-08-23 r88802)
* using platform: x86_64-pc-linux-gnu
* R was compiled by
    gcc (Ubuntu 13.3.0-6ubuntu2~24.04) 13.3.0
    GNU Fortran (Ubuntu 13.3.0-6ubuntu2~24.04) 13.3.0
* running under: Ubuntu 24.04.3 LTS
* using session charset: UTF-8
* checking for file ‘FlowSOM/DESCRIPTION’ ... OK
* this is package ‘FlowSOM’ version ‘2.18.0’
* package encoding: UTF-8
* checking package namespace information ... OK
* checking package dependencies ... OK
* checking if this is a source package ... OK
* checking if there is a namespace ... OK
* checking for hidden files and directories ... OK
* checking for portable file names ... OK
* checking for sufficient/correct file permissions ... OK
* checking whether package ‘FlowSOM’ can be installed ... OK
* used C compiler: ‘gcc (Ubuntu 13.3.0-6ubuntu2~24.04) 13.3.0’
* checking installed package size ... OK
* checking package directory ... OK
* checking ‘build’ directory ... OK
* checking DESCRIPTION meta-information ... OK
* checking top-level files ... OK
* checking for left-over files ... OK
* checking index information ... OK
* checking package subdirectories ... OK
* checking code files for non-ASCII characters ... OK
* checking R files for syntax errors ... OK
* checking whether the package can be loaded ... OK
* checking whether the package can be loaded with stated dependencies ... OK
* checking whether the package can be unloaded cleanly ... OK
* checking whether the namespace can be loaded with stated dependencies ... OK
* checking whether the namespace can be unloaded cleanly ... OK
* checking loading without being on the library search path ... OK
* checking whether startup messages can be suppressed ... OK
* checking dependencies in R code ... OK
* checking S3 generic/method consistency ... OK
* checking replacement functions ... OK
* checking foreign function calls ... OK
* checking R code for possible problems ... OK
* checking Rd files ... NOTE
checkRd: (-1) PlotDimRed.Rd:55: Lost braces
    55 | of the dimred default = function(dimred){dimred$Y}.}
       |                                         ^
* checking Rd metadata ... OK
* checking Rd cross-references ... NOTE
Non-topic package-anchored link(s) in Rd file 'pipe.Rd':
  ‘[magrittr:pipe]{%>%}’

See section 'Cross-references' in the 'Writing R Extensions' manual.
* checking for missing documentation entries ... OK
* checking for code/documentation mismatches ... OK
* checking Rd \usage sections ... OK
* checking Rd contents ... OK
* checking for unstated dependencies in examples ... OK
* checking line endings in C/C++/Fortran sources/headers ... OK
* checking compiled code ... NOTE
Note: information on .o files is not available
* checking files in ‘vignettes’ ... OK
* checking examples ... OK
Examples with CPU (user + system) or elapsed time > 5s
                     user system elapsed
FlowSOMmary        50.465  0.481  50.769
PlotDimRed         43.590  0.147  43.693
PlotOutliers       29.678  0.026  29.704
PlotMarker         16.901  0.096  16.997
UpdateMetaclusters 15.425  0.016  15.442
PlotStars          13.582  0.018  13.602
GroupStats         11.522  0.056  11.580
FlowSOM            10.969  0.143  11.115
PlotGroups         10.289  0.013  10.302
Plot2DScatters      9.405  0.019   9.416
query_multiple      9.371  0.012   9.383
QueryMultiple       9.334  0.006   9.341
AddAnnotation       8.343  0.378   8.721
PlotManualBars      7.532  0.009   7.542
QueryStarPlot       7.141  0.011   7.152
GetFlowJoLabels     6.656  0.059   6.716
PlotPies            6.554  0.029   6.585
PlotNode            6.400  0.008   6.408
PlotNumbers         6.357  0.037   6.395
PlotVariable        6.373  0.013   6.387
UpdateNodeSize      5.567  0.016   5.583
PlotFlowSOM         5.250  0.046   5.297
CountGroups         5.194  0.077   5.272
SaveClustersToFCS   5.105  0.010   5.115
NClusters           5.091  0.010   5.102
MetaclusterMFIs     5.054  0.008   5.063
* checking for unstated dependencies in vignettes ... OK
* checking package vignettes ... OK
* checking re-building of vignette outputs ... OK
* checking PDF version of manual ... OK
* DONE

Status: 3 NOTEs
See
  ‘/home/biocbuild/bbs-3.22-bioc/meat/FlowSOM.Rcheck/00check.log’
for details.


Installation output

FlowSOM.Rcheck/00install.out

##############################################################################
##############################################################################
###
### Running command:
###
###   /home/biocbuild/bbs-3.22-bioc/R/bin/R CMD INSTALL FlowSOM
###
##############################################################################
##############################################################################


* installing to library ‘/home/biocbuild/bbs-3.22-bioc/R/site-library’
* installing *source* package ‘FlowSOM’ ...
** this is package ‘FlowSOM’ version ‘2.18.0’
** using staged installation
** libs
using C compiler: ‘gcc (Ubuntu 13.3.0-6ubuntu2~24.04) 13.3.0’
gcc -std=gnu2x -I"/home/biocbuild/bbs-3.22-bioc/R/include" -DNDEBUG   -I/usr/local/include    -fpic  -g -O2  -Wall -Werror=format-security -c som.c -o som.o
gcc -std=gnu2x -shared -L/home/biocbuild/bbs-3.22-bioc/R/lib -L/usr/local/lib -o FlowSOM.so som.o -L/home/biocbuild/bbs-3.22-bioc/R/lib -lR
installing to /home/biocbuild/bbs-3.22-bioc/R/site-library/00LOCK-FlowSOM/00new/FlowSOM/libs
** R
** inst
** byte-compile and prepare package for lazy loading
** help
*** installing help indices
** building package indices
** installing vignettes
** testing if installed package can be loaded from temporary location
** checking absolute paths in shared objects and dynamic libraries
** testing if installed package can be loaded from final location
** testing if installed package keeps a record of temporary installation path
* DONE (FlowSOM)

Tests output


Example timings

FlowSOM.Rcheck/FlowSOM-Ex.timings

nameusersystemelapsed
AddAnnotation8.3430.3788.721
AggregateFlowFrames0.0670.0070.074
BuildMST1.0250.0361.061
BuildSOM1.0550.0301.085
CountGroups5.1940.0775.272
FMeasure0.0010.0000.002
FlowSOM10.969 0.14311.115
FlowSOMSubset3.9380.0233.962
FlowSOMmary50.465 0.48150.769
GetChannels0.0270.0000.027
GetClusterMFIs3.9770.0474.025
GetClusterPercentagesPositive3.9330.0213.955
GetClusters3.9580.0263.984
GetCounts4.2730.0234.296
GetFeatures4.9330.0064.939
GetFlowJoLabels6.6560.0596.716
GetMFIs4.0790.0164.096
GetMarkers0.0260.0010.027
GetMetaclusterCVs4.0680.0484.117
GetMetaclusterMFIs4.1380.0064.146
GetMetaclusterPercentagesPositive4.0150.0494.064
GetMetaclusters3.9880.0244.012
GetPercentages4.3770.0094.388
GroupStats11.522 0.05611.580
Initialize_KWSP0.0040.0000.004
Initialize_PCA0.0010.0000.001
MetaClustering2.5510.0302.581
MetaclusterCVs4.2510.0154.265
MetaclusterMFIs5.0540.0085.063
NClusters5.0910.0105.102
NMetaclusters4.9620.0124.976
NewData3.7430.0073.751
Plot2DScatters9.4050.0199.416
PlotCenters1.5140.0011.516
PlotClusters2D101
PlotDimRed43.590 0.14743.693
PlotFileScatters1.0630.0261.090
PlotFlowSOM5.2500.0465.297
PlotGroups10.289 0.01310.302
PlotLabels4.8570.0734.930
PlotManualBars7.5320.0097.542
PlotMarker16.901 0.09616.997
PlotNode6.4000.0086.408
PlotNumbers6.3570.0376.395
PlotOutliers29.678 0.02629.704
PlotOverview2D4.8990.0844.983
PlotPies6.5540.0296.585
PlotSD1.9280.0111.939
PlotStars13.582 0.01813.602
PlotVariable6.3730.0136.387
Purity0.0010.0000.000
QueryMultiple9.3340.0069.341
QueryStarPlot7.1410.0117.152
ReadInput2.7400.0322.773
SaveClustersToFCS5.1050.0105.115
TestOutliers4.4570.0084.465
UpdateMetaclusters15.425 0.01615.442
UpdateNodeSize5.5670.0165.583
get_channels0.0270.0000.028
get_markers0.0280.0000.028
metaClustering_consensus2.4380.0062.444
plotStarLegend0.4430.0010.444
print.FlowSOM4.1390.0074.147
query_multiple9.3710.0129.383