Back to Multiple platform build/check report for BioC 3.22:   simplified   long
ABC[D]EFGHIJKLMNOPQRSTUVWXYZ

This page was generated on 2025-11-04 12:03 -0500 (Tue, 04 Nov 2025).

HostnameOSArch (*)R versionInstalled pkgs
nebbiolo2Linux (Ubuntu 24.04.3 LTS)x86_644.5.1 Patched (2025-08-23 r88802) -- "Great Square Root" 4902
lconwaymacOS 12.7.6 Montereyx86_644.5.1 Patched (2025-09-10 r88807) -- "Great Square Root" 4692
kjohnson3macOS 13.7.7 Venturaarm644.5.1 Patched (2025-09-10 r88807) -- "Great Square Root" 4638
Click on any hostname to see more info about the system (e.g. compilers)      (*) as reported by 'uname -p', except on Windows and Mac OS X

Package 523/2361HostnameOS / ArchINSTALLBUILDCHECKBUILD BIN
DAPAR 1.42.0  (landing page)
Samuel Wieczorek
Snapshot Date: 2025-11-03 13:45 -0500 (Mon, 03 Nov 2025)
git_url: https://git.bioconductor.org/packages/DAPAR
git_branch: RELEASE_3_22
git_last_commit: c9303a2
git_last_commit_date: 2025-10-29 10:28:00 -0500 (Wed, 29 Oct 2025)
nebbiolo2Linux (Ubuntu 24.04.3 LTS) / x86_64  OK    OK    OK  UNNEEDED, same version is already published
lconwaymacOS 12.7.6 Monterey / x86_64  OK    OK    OK    OK  UNNEEDED, same version is already published
kjohnson3macOS 13.7.7 Ventura / arm64  OK    OK    OK    OK  UNNEEDED, same version is already published


CHECK results for DAPAR on lconway

To the developers/maintainers of the DAPAR package:
- Allow up to 24 hours (and sometimes 48 hours) for your latest push to git@git.bioconductor.org:packages/DAPAR.git to reflect on this report. See Troubleshooting Build Report for more information.
- Use the following Renviron settings to reproduce errors and warnings.
- If 'R CMD check' started to fail recently on the Linux builder(s) over a missing dependency, add the missing dependency to 'Suggests:' in your DESCRIPTION file. See Renviron.bioc for more information.

raw results


Summary

Package: DAPAR
Version: 1.42.0
Command: /Library/Frameworks/R.framework/Resources/bin/R CMD check --install=check:DAPAR.install-out.txt --library=/Library/Frameworks/R.framework/Resources/library --no-vignettes --timings DAPAR_1.42.0.tar.gz
StartedAt: 2025-11-03 20:35:37 -0500 (Mon, 03 Nov 2025)
EndedAt: 2025-11-03 20:46:04 -0500 (Mon, 03 Nov 2025)
EllapsedTime: 627.0 seconds
RetCode: 0
Status:   OK  
CheckDir: DAPAR.Rcheck
Warnings: 0

Command output

##############################################################################
##############################################################################
###
### Running command:
###
###   /Library/Frameworks/R.framework/Resources/bin/R CMD check --install=check:DAPAR.install-out.txt --library=/Library/Frameworks/R.framework/Resources/library --no-vignettes --timings DAPAR_1.42.0.tar.gz
###
##############################################################################
##############################################################################


* using log directory ‘/Users/biocbuild/bbs-3.22-bioc/meat/DAPAR.Rcheck’
* using R version 4.5.1 Patched (2025-09-10 r88807)
* using platform: x86_64-apple-darwin20
* R was compiled by
    Apple clang version 14.0.0 (clang-1400.0.29.202)
    GNU Fortran (GCC) 14.2.0
* running under: macOS Monterey 12.7.6
* using session charset: UTF-8
* using option ‘--no-vignettes’
* checking for file ‘DAPAR/DESCRIPTION’ ... OK
* checking extension type ... Package
* this is package ‘DAPAR’ version ‘1.42.0’
* package encoding: UTF-8
* checking package namespace information ... OK
* checking package dependencies ... INFO
Vignette dependency required without any vignettes: ‘knitr’
* checking if this is a source package ... OK
* checking if there is a namespace ... OK
* checking for hidden files and directories ... OK
* checking for portable file names ... OK
* checking for sufficient/correct file permissions ... OK
* checking whether package ‘DAPAR’ can be installed ... OK
* checking installed package size ... OK
* checking package directory ... OK
* checking DESCRIPTION meta-information ... OK
* checking top-level files ... OK
* checking for left-over files ... OK
* checking index information ... OK
* checking package subdirectories ... OK
* checking code files for non-ASCII characters ... OK
* checking R files for syntax errors ... OK
* checking whether the package can be loaded ... OK
* checking whether the package can be loaded with stated dependencies ... OK
* checking whether the package can be unloaded cleanly ... OK
* checking whether the namespace can be loaded with stated dependencies ... OK
* checking whether the namespace can be unloaded cleanly ... OK
* checking whether startup messages can be suppressed ... OK
* checking dependencies in R code ... OK
* checking S3 generic/method consistency ... OK
* checking replacement functions ... OK
* checking foreign function calls ... OK
* checking R code for possible problems ... NOTE
Check_Dataset_Validity: no visible global function definition for
  ‘exprs’
OWAnova: no visible global function definition for ‘aov’
aggregateIterParallel: no visible binding for global variable ‘cond’
averageIntensities: no visible binding for global variable ‘condition’
averageIntensities: no visible binding for global variable ‘feature’
averageIntensities: no visible binding for global variable ‘intensity’
createMSnset: no visible global function definition for
  ‘installed.packages’
createMSnset: no visible binding for global variable ‘Prostar.loc’
createMSnset2: no visible global function definition for
  ‘installed.packages’
createMSnset2: no visible binding for global variable ‘Prostar.loc’
diffAnaVolcanoplot_rCharts: no visible binding for global variable ‘x’
diffAnaVolcanoplot_rCharts: no visible binding for global variable ‘y’
diffAnaVolcanoplot_rCharts: no visible binding for global variable ‘g’
display.CC.visNet: no visible binding for global variable
  ‘layout_nicely’
getTextForGOAnalysis: no visible binding for global variable
  ‘textGOParams’
getTextForGOAnalysis: no visible binding for global variable ‘input’
globalAdjPval: no visible global function definition for ‘stack’
heatmapForMissingValues: no visible binding for global variable ‘par’
limmaCompleteTest: no visible binding for global variable ‘A’
limmaCompleteTest: no visible binding for global variable ‘B’
limmaCompleteTest: no visible binding for global variable ‘P.Value’
pepa.test: no visible global function definition for ‘nodes<-’
testAnovaModels : <anonymous>: no visible global function definition
  for ‘TukeyHSD’
visualizeClusters: no visible binding for global variable
  ‘adjusted_pvalues’
visualizeClusters: no visible binding for global variable ‘Condition’
visualizeClusters: no visible binding for global variable ‘Intensity’
visualizeClusters: no visible binding for global variable
  ‘FDR_threshold’
visualizeClusters: no visible binding for global variable ‘feature’
wrapperClassic1wayAnova: no visible binding for global variable
  ‘Pr(>F)1’
wrapperRunClustering: no visible global function definition for ‘str_c’
Undefined global functions or variables:
  A B Condition FDR_threshold Intensity P.Value Pr(>F)1 Prostar.loc
  TukeyHSD adjusted_pvalues aov cond condition exprs feature g input
  installed.packages intensity layout_nicely nodes<- par stack str_c
  textGOParams x y
Consider adding
  importFrom("graphics", "par")
  importFrom("stats", "TukeyHSD", "aov")
  importFrom("utils", "installed.packages", "stack")
to your NAMESPACE file.
* checking Rd files ... OK
* checking Rd metadata ... OK
* checking Rd cross-references ... OK
* checking for missing documentation entries ... OK
* checking for code/documentation mismatches ... OK
* checking Rd \usage sections ... OK
* checking Rd contents ... OK
* checking for unstated dependencies in examples ... OK
* checking examples ... OK
Examples with CPU (user + system) or elapsed time > 5s
                                   user system elapsed
wrapper.compareNormalizationD_HC 61.395 30.225  91.358
wrapper.dapar.impute.mi          14.619  1.375  17.102
barplotEnrichGO_HC                8.422  2.090  10.735
checkClusterability               3.723  2.404   6.106
group_GO                          5.168  0.790   6.138
barplotGroupGO_HC                 4.915  0.724   5.703
enrich_GO                         4.767  0.662   5.645
scatterplotEnrichGO_HC            4.744  0.608   5.414
densityPlotD_HC                   3.525  1.556   5.074
* checking for unstated dependencies in ‘tests’ ... OK
* checking tests ...
  Running ‘testthat.R’
 OK
* checking PDF version of manual ... OK
* DONE

Status: 1 NOTE
See
  ‘/Users/biocbuild/bbs-3.22-bioc/meat/DAPAR.Rcheck/00check.log’
for details.


Installation output

DAPAR.Rcheck/00install.out

##############################################################################
##############################################################################
###
### Running command:
###
###   /Library/Frameworks/R.framework/Resources/bin/R CMD INSTALL DAPAR
###
##############################################################################
##############################################################################


* installing to library ‘/Library/Frameworks/R.framework/Versions/4.5-x86_64/Resources/library’
* installing *source* package ‘DAPAR’ ...
** this is package ‘DAPAR’ version ‘1.42.0’
** using staged installation
** R
** inst
** byte-compile and prepare package for lazy loading
** help
*** installing help indices
** building package indices
** testing if installed package can be loaded from temporary location
** testing if installed package can be loaded from final location
** testing if installed package keeps a record of temporary installation path
* DONE (DAPAR)

Tests output

DAPAR.Rcheck/tests/testthat.Rout


R version 4.5.1 Patched (2025-09-10 r88807) -- "Great Square Root"
Copyright (C) 2025 The R Foundation for Statistical Computing
Platform: x86_64-apple-darwin20

R is free software and comes with ABSOLUTELY NO WARRANTY.
You are welcome to redistribute it under certain conditions.
Type 'license()' or 'licence()' for distribution details.

R is a collaborative project with many contributors.
Type 'contributors()' for more information and
'citation()' on how to cite R or R packages in publications.

Type 'demo()' for some demos, 'help()' for on-line help, or
'help.start()' for an HTML browser interface to help.
Type 'q()' to quit R.

> library(testthat)
> library(DAPAR)

This is the 'DAPAR' version 1.42.0.

  To get started, visit
    http://www.prostar-proteomics.org/


> 
> test_check("DAPAR")

 Iterations: 

 1 / 1  - Imputation MNAR OK - 
Imputation MCAR in progress - 
3 % - 6 % - 9 % - 12 % - 15 % - 18 % - 21 % - 24 % - 27 % - 30 % - 33 % - 36 % - 39 % - 42 % - 45 % - 48 % - 51 % - 54 % - 57 % - 60 % - 63 % - 66 % - 69 % - 72 % - 75 % - 78 % - 81 % - 84 % - 87 % - 90 % - 93 % - 96 % - 99 % - 
 Iterations: 

 1 / 1  - Imputation MNAR OK - 
Imputation MCAR in progress - 
3 % - 6 % - 9 % - 12 % - 15 % - 18 % - 21 % - 24 % - 27 % - 30 % - 33 % - 36 % - 39 % - 42 % - 45 % - 48 % - 51 % - 54 % - 57 % - 60 % - 63 % - 66 % - 69 % - 72 % - 75 % - 78 % - 81 % - 84 % - 87 % - 90 % - 93 % - 96 % - 99 % - 
 Imputation in condition  1 ...
 In progress: 10 % - 20 % - 30 % - 40 % - 50 % - 60 % - 70 % - 80 % - 90 % - 100 % - 
 Imputation in condition  2 ...
 In progress: 10 % - 20 % - 30 % - 40 % - 50 % - 60 % - 70 % - 80 % - 90 % - 100 % - [ FAIL 0 | WARN 17 | SKIP 0 | PASS 66 ]

[ FAIL 0 | WARN 17 | SKIP 0 | PASS 66 ]
> 
> proc.time()
   user  system elapsed 
 37.098   1.680  39.025 

Example timings

DAPAR.Rcheck/DAPAR-Ex.timings

nameusersystemelapsed
AggregateMetacell0.5870.0220.657
BuildAdjacencyMatrix0.4720.0130.568
BuildColumnToProteinDataset0.5230.0170.624
BuildMetaCell0.7860.0611.146
CVDistD_HC3.1910.2253.790
Children0.0040.0000.004
CountPep0.4760.0060.486
ExtendPalette0.0220.0010.024
GOAnalysisSave000
GetCC2.4110.0432.511
GetColorsForConditions0.4360.0070.448
GetDetailedNbPeptides0.4490.0050.457
GetDetailedNbPeptidesUsed000
GetIndices_BasedOnConditions0.4280.0040.435
GetIndices_MetacellFiltering0.4340.0060.444
GetIndices_WholeLine0.4470.0070.456
GetIndices_WholeMatrix0.4570.0070.467
GetKeyId0.4440.0060.451
GetMatAdj0.4930.0050.501
GetMetacell000
GetMetacellTags0.4350.0060.445
GetNbPeptidesUsed0.4520.0060.461
GetNbTags0.0010.0000.000
GetSoftAvailables0.0010.0000.001
GetTypeofData0.4360.0070.447
Get_AllComparisons0.2850.0240.319
GlobalQuantileAlignment0.4560.0050.464
GraphPepProt0.4590.0060.469
LH0000
LH0.lm0.0000.0010.001
LH10.0010.0000.000
LH1.lm000
LOESS1.1600.0171.185
MeanCentering0.4530.0150.472
MetaCellFiltering0.5690.0070.579
MetacellFilteringScope0.0000.0010.000
Metacell_DIA_NN0.5640.0130.585
Metacell_generic0.5010.0140.520
Metacell_maxquant0.5140.0190.541
Metacell_proline0.5170.0180.550
NumericalFiltering0.4770.0080.491
NumericalgetIndicesOfLinesToRemove0.5120.0080.531
OWAnova0.0060.0000.007
QuantileCentering0.4810.0160.503
SetCC2.2530.0222.295
SetMatAdj0.5000.0080.516
Set_POV_MEC_tags0.4390.0060.449
StringBasedFiltering0.4820.0080.496
StringBasedFiltering20.4630.0100.484
SumByColumns1.4070.0401.463
SymFilteringOperators0.0000.0010.001
UpdateMetacellAfterImputation0.4430.0060.453
aggregateIter0.5830.0070.594
aggregateIterParallel0.0010.0000.001
aggregateMean0.5050.0080.517
aggregateSum0.5950.0080.606
aggregateTopn0.5170.0060.525
applyAnovasOnProteins0.1370.0030.141
averageIntensities0.6380.1560.827
barplotEnrichGO_HC 8.422 2.09010.735
barplotGroupGO_HC4.9150.7245.703
boxPlotD_HC0.2850.1010.389
buildGraph1.6460.0431.700
check.conditions0.4270.0290.472
check.design0.4540.0810.609
checkClusterability3.7232.4046.106
classic1wayAnova0.0000.0000.001
compareNormalizationD_HC0.1720.0620.234
compute.selection.table0.7530.1640.933
compute_t_tests1.2400.2151.470
corrMatrixD_HC0.5460.0820.634
createMSnset2.0140.1032.135
createMSnset21.9310.0912.030
dapar_hc_ExportMenu0.1530.1790.337
dapar_hc_chart0.0650.0590.124
deleteLinesFromIndices0.4950.0200.520
densityPlotD_HC3.5251.5565.074
diffAnaComputeAdjustedPValues0.2010.0360.238
diffAnaComputeFDR000
diffAnaGetSignificant0.3230.0660.390
diffAnaSave0.2820.0550.338
diffAnaVolcanoplot0.1840.0240.208
diffAnaVolcanoplot_rCharts0.4390.1310.571
display.CC.visNet1.7590.0871.862
enrich_GO4.7670.6625.645
finalizeAggregation0.0000.0010.001
findMECBlock0.5090.0160.531
formatHSDResults000
formatLimmaResult0.1830.0260.209
formatPHResults000
formatPHTResults000
fudge2LRT000
get.pep.prot.cc1.5830.0321.624
getDesignLevel0.4070.0050.414
getIndicesConditions0.4300.0060.438
getIndicesOfLinesToRemove0.4370.0120.453
getListNbValuesInLines0.4070.0060.417
getNumberOf0.4460.0130.462
getNumberOfEmptyLines0.4670.0090.479
getPourcentageOfMV0.4690.0140.488
getProcessingInfo0.4290.0050.438
getProteinsStats0.4810.0200.505
getQuantile4Imp0.1120.0040.117
getTextForAggregation0.0000.0010.001
getTextForAnaDiff0.0000.0010.000
getTextForFiltering0.0000.0010.000
getTextForGOAnalysis0.0010.0010.000
getTextForHypothesisTest0.0010.0010.001
getTextForNewDataset0.0020.0010.003
getTextForNormalization0.0000.0010.001
getTextForpeptideImputation0.0000.0010.000
getTextForproteinImputation0.0010.0010.001
globalAdjPval0.5150.0680.586
group_GO5.1680.7906.138
hc_logFC_DensityPlot0.9570.4241.373
hc_mvTypePlot21.2210.4161.638
heatmapD0.8090.0710.889
heatmapForMissingValues0.2070.0260.234
histPValue_HC0.2620.0920.354
impute.pa20.6050.0360.654
inner.aggregate.iter0.5670.0300.601
inner.aggregate.topn0.5230.0190.545
inner.mean0.4950.0180.516
inner.sum0.4960.0230.539
is.subset0.0010.0000.001
limmaCompleteTest1.8470.0871.949
listSheets000
make.contrast0.4720.0070.481
make.design.10.4440.0080.458
make.design.20.4720.0080.483
make.design.30.4520.0070.460
make.design0.4780.0090.490
match.metacell0.5480.0200.576
metacell.def0.0070.0030.010
metacellHisto_HC0.6090.0800.703
metacellPerLinesHistoPerCondition_HC0.7200.1410.876
metacellPerLinesHisto_HC0.8600.3581.260
metacombine0.1960.0160.213
mvImage2.3780.1702.573
my_hc_ExportMenu0.1570.1650.326
my_hc_chart0.1580.1670.327
nonzero0.0250.0010.026
normalizeMethods.dapar0.0010.0010.001
pepa.test0.4920.0150.512
pkgs.require000
plotJitter1.7480.0481.803
plotJitter_rCharts1.6920.0981.802
plotPCA_Eigen0.5880.0470.639
plotPCA_Eigen_hc0.4290.0060.436
plotPCA_Ind0.4430.0100.460
plotPCA_Var0.4600.0060.468
postHocTest0.0000.0010.000
proportionConRev_HC0.0640.0700.144
rbindMSnset0.5770.0460.632
reIntroduceMEC0.5070.0280.542
readExcel000
removeLines0.4630.0230.489
samLRT000
saveParameters0.3930.0050.399
scatterplotEnrichGO_HC4.7440.6085.414
search.metacell.tags0.0080.0020.010
separateAdjPval0.1840.0130.197
splitAdjacencyMat0.4870.0150.506
test.design0.5550.0170.575
testAnovaModels0.1370.0120.149
thresholdpval4fdr0.0000.0010.001
translatedRandomBeta0.0020.0060.008
univ_AnnotDbPkg0.2130.0590.274
violinPlotD0.2600.0210.288
visualizeClusters1.5910.2661.868
vsn0.7410.0250.773
wrapper.CVDistD_HC2.7371.2534.002
wrapper.compareNormalizationD_HC61.39530.22591.358
wrapper.corrMatrixD_HC0.6020.0850.692
wrapper.dapar.impute.mi14.619 1.37517.102
wrapper.heatmapD0.6220.0640.922
wrapper.impute.KNN0.4330.0280.545
wrapper.impute.detQuant0.4490.0340.721
wrapper.impute.fixedValue0.4540.0440.649
wrapper.impute.mle0.4650.0340.680
wrapper.impute.pa0.1640.0250.242
wrapper.impute.pa20.4950.0300.621
wrapper.impute.slsa0.6800.0680.761
wrapper.mvImage0.1920.0230.215
wrapper.normalizeD0.4350.0060.443
wrapper.pca0.1840.0270.216
wrapperCalibrationPlot0.2200.0330.256
wrapperClassic1wayAnova000
wrapperRunClustering2.6310.5073.450
write.excel0.9340.2101.386
writeMSnsetToCSV0.4320.0320.609
writeMSnsetToExcel1.2220.3251.743