Back to Multiple platform build/check report for BioC 3.22:   simplified   long
ABC[D]EFGHIJKLMNOPQRSTUVWXYZ

This page was generated on 2025-11-11 12:03 -0500 (Tue, 11 Nov 2025).

HostnameOSArch (*)R versionInstalled pkgs
nebbiolo2Linux (Ubuntu 24.04.3 LTS)x86_644.5.1 Patched (2025-08-23 r88802) -- "Great Square Root" 4902
kjohnson3macOS 13.7.7 Venturaarm644.5.1 Patched (2025-09-10 r88807) -- "Great Square Root" 4638
Click on any hostname to see more info about the system (e.g. compilers)      (*) as reported by 'uname -p', except on Windows and Mac OS X

Package 523/2361HostnameOS / ArchINSTALLBUILDCHECKBUILD BIN
DAPAR 1.42.0  (landing page)
Samuel Wieczorek
Snapshot Date: 2025-11-10 13:45 -0500 (Mon, 10 Nov 2025)
git_url: https://git.bioconductor.org/packages/DAPAR
git_branch: RELEASE_3_22
git_last_commit: c9303a2
git_last_commit_date: 2025-10-29 10:28:00 -0500 (Wed, 29 Oct 2025)
nebbiolo2Linux (Ubuntu 24.04.3 LTS) / x86_64  OK    OK    OK  UNNEEDED, same version is already published
kjohnson3macOS 13.7.7 Ventura / arm64  OK    OK    OK    OK  UNNEEDED, same version is already published


CHECK results for DAPAR on kjohnson3

To the developers/maintainers of the DAPAR package:
- Allow up to 24 hours (and sometimes 48 hours) for your latest push to git@git.bioconductor.org:packages/DAPAR.git to reflect on this report. See Troubleshooting Build Report for more information.
- Use the following Renviron settings to reproduce errors and warnings.
- If 'R CMD check' started to fail recently on the Linux builder(s) over a missing dependency, add the missing dependency to 'Suggests:' in your DESCRIPTION file. See Renviron.bioc for more information.

raw results


Summary

Package: DAPAR
Version: 1.42.0
Command: /Library/Frameworks/R.framework/Resources/bin/R CMD check --install=check:DAPAR.install-out.txt --library=/Library/Frameworks/R.framework/Resources/library --no-vignettes --timings DAPAR_1.42.0.tar.gz
StartedAt: 2025-11-10 19:36:30 -0500 (Mon, 10 Nov 2025)
EndedAt: 2025-11-10 19:40:49 -0500 (Mon, 10 Nov 2025)
EllapsedTime: 259.0 seconds
RetCode: 0
Status:   OK  
CheckDir: DAPAR.Rcheck
Warnings: 0

Command output

##############################################################################
##############################################################################
###
### Running command:
###
###   /Library/Frameworks/R.framework/Resources/bin/R CMD check --install=check:DAPAR.install-out.txt --library=/Library/Frameworks/R.framework/Resources/library --no-vignettes --timings DAPAR_1.42.0.tar.gz
###
##############################################################################
##############################################################################


* using log directory ‘/Users/biocbuild/bbs-3.22-bioc/meat/DAPAR.Rcheck’
* using R version 4.5.1 Patched (2025-09-10 r88807)
* using platform: aarch64-apple-darwin20
* R was compiled by
    Apple clang version 16.0.0 (clang-1600.0.26.6)
    GNU Fortran (GCC) 14.2.0
* running under: macOS Ventura 13.7.7
* using session charset: UTF-8
* using option ‘--no-vignettes’
* checking for file ‘DAPAR/DESCRIPTION’ ... OK
* checking extension type ... Package
* this is package ‘DAPAR’ version ‘1.42.0’
* package encoding: UTF-8
* checking package namespace information ... OK
* checking package dependencies ... INFO
Vignette dependency required without any vignettes: ‘knitr’
* checking if this is a source package ... OK
* checking if there is a namespace ... OK
* checking for hidden files and directories ... OK
* checking for portable file names ... OK
* checking for sufficient/correct file permissions ... OK
* checking whether package ‘DAPAR’ can be installed ... OK
* checking installed package size ... OK
* checking package directory ... OK
* checking DESCRIPTION meta-information ... OK
* checking top-level files ... OK
* checking for left-over files ... OK
* checking index information ... OK
* checking package subdirectories ... OK
* checking code files for non-ASCII characters ... OK
* checking R files for syntax errors ... OK
* checking whether the package can be loaded ... OK
* checking whether the package can be loaded with stated dependencies ... OK
* checking whether the package can be unloaded cleanly ... OK
* checking whether the namespace can be loaded with stated dependencies ... OK
* checking whether the namespace can be unloaded cleanly ... OK
* checking whether startup messages can be suppressed ... OK
* checking dependencies in R code ... OK
* checking S3 generic/method consistency ... OK
* checking replacement functions ... OK
* checking foreign function calls ... OK
* checking R code for possible problems ... NOTE
Check_Dataset_Validity: no visible global function definition for
  ‘exprs’
OWAnova: no visible global function definition for ‘aov’
aggregateIterParallel: no visible binding for global variable ‘cond’
averageIntensities: no visible binding for global variable ‘condition’
averageIntensities: no visible binding for global variable ‘feature’
averageIntensities: no visible binding for global variable ‘intensity’
createMSnset: no visible global function definition for
  ‘installed.packages’
createMSnset: no visible binding for global variable ‘Prostar.loc’
createMSnset2: no visible global function definition for
  ‘installed.packages’
createMSnset2: no visible binding for global variable ‘Prostar.loc’
diffAnaVolcanoplot_rCharts: no visible binding for global variable ‘x’
diffAnaVolcanoplot_rCharts: no visible binding for global variable ‘y’
diffAnaVolcanoplot_rCharts: no visible binding for global variable ‘g’
display.CC.visNet: no visible binding for global variable
  ‘layout_nicely’
getTextForGOAnalysis: no visible binding for global variable
  ‘textGOParams’
getTextForGOAnalysis: no visible binding for global variable ‘input’
globalAdjPval: no visible global function definition for ‘stack’
heatmapForMissingValues: no visible binding for global variable ‘par’
limmaCompleteTest: no visible binding for global variable ‘A’
limmaCompleteTest: no visible binding for global variable ‘B’
limmaCompleteTest: no visible binding for global variable ‘P.Value’
pepa.test: no visible global function definition for ‘nodes<-’
testAnovaModels : <anonymous>: no visible global function definition
  for ‘TukeyHSD’
visualizeClusters: no visible binding for global variable
  ‘adjusted_pvalues’
visualizeClusters: no visible binding for global variable ‘Condition’
visualizeClusters: no visible binding for global variable ‘Intensity’
visualizeClusters: no visible binding for global variable
  ‘FDR_threshold’
visualizeClusters: no visible binding for global variable ‘feature’
wrapperClassic1wayAnova: no visible binding for global variable
  ‘Pr(>F)1’
wrapperRunClustering: no visible global function definition for ‘str_c’
Undefined global functions or variables:
  A B Condition FDR_threshold Intensity P.Value Pr(>F)1 Prostar.loc
  TukeyHSD adjusted_pvalues aov cond condition exprs feature g input
  installed.packages intensity layout_nicely nodes<- par stack str_c
  textGOParams x y
Consider adding
  importFrom("graphics", "par")
  importFrom("stats", "TukeyHSD", "aov")
  importFrom("utils", "installed.packages", "stack")
to your NAMESPACE file.
* checking Rd files ... OK
* checking Rd metadata ... OK
* checking Rd cross-references ... OK
* checking for missing documentation entries ... OK
* checking for code/documentation mismatches ... OK
* checking Rd \usage sections ... OK
* checking Rd contents ... OK
* checking for unstated dependencies in examples ... OK
* checking examples ... OK
Examples with CPU (user + system) or elapsed time > 5s
                                   user system elapsed
wrapper.compareNormalizationD_HC 16.910 10.671  60.589
wrapper.dapar.impute.mi           5.171  0.709   6.283
* checking for unstated dependencies in ‘tests’ ... OK
* checking tests ...
  Running ‘testthat.R’
 OK
* checking PDF version of manual ... OK
* DONE

Status: 1 NOTE
See
  ‘/Users/biocbuild/bbs-3.22-bioc/meat/DAPAR.Rcheck/00check.log’
for details.


Installation output

DAPAR.Rcheck/00install.out

##############################################################################
##############################################################################
###
### Running command:
###
###   /Library/Frameworks/R.framework/Resources/bin/R CMD INSTALL DAPAR
###
##############################################################################
##############################################################################


* installing to library ‘/Library/Frameworks/R.framework/Versions/4.5-arm64/Resources/library’
* installing *source* package ‘DAPAR’ ...
** this is package ‘DAPAR’ version ‘1.42.0’
** using staged installation
** R
** inst
** byte-compile and prepare package for lazy loading
** help
*** installing help indices
** building package indices
** testing if installed package can be loaded from temporary location
** testing if installed package can be loaded from final location
** testing if installed package keeps a record of temporary installation path
* DONE (DAPAR)

Tests output

DAPAR.Rcheck/tests/testthat.Rout


R version 4.5.1 Patched (2025-09-10 r88807) -- "Great Square Root"
Copyright (C) 2025 The R Foundation for Statistical Computing
Platform: aarch64-apple-darwin20

R is free software and comes with ABSOLUTELY NO WARRANTY.
You are welcome to redistribute it under certain conditions.
Type 'license()' or 'licence()' for distribution details.

R is a collaborative project with many contributors.
Type 'contributors()' for more information and
'citation()' on how to cite R or R packages in publications.

Type 'demo()' for some demos, 'help()' for on-line help, or
'help.start()' for an HTML browser interface to help.
Type 'q()' to quit R.

> library(testthat)
> library(DAPAR)

This is the 'DAPAR' version 1.42.0.

  To get started, visit
    http://www.prostar-proteomics.org/


> 
> test_check("DAPAR")

 Iterations: 

 1 / 1  - Imputation MNAR OK - 
Imputation MCAR in progress - 
3 % - 6 % - 9 % - 12 % - 15 % - 18 % - 21 % - 24 % - 27 % - 30 % - 33 % - 36 % - 39 % - 42 % - 45 % - 48 % - 51 % - 54 % - 57 % - 60 % - 63 % - 66 % - 69 % - 72 % - 75 % - 78 % - 81 % - 84 % - 87 % - 90 % - 93 % - 96 % - 99 % - 
 Iterations: 

 1 / 1  - Imputation MNAR OK - 
Imputation MCAR in progress - 
3 % - 6 % - 9 % - 12 % - 15 % - 18 % - 21 % - 24 % - 27 % - 30 % - 33 % - 36 % - 39 % - 42 % - 45 % - 48 % - 51 % - 54 % - 57 % - 60 % - 63 % - 66 % - 69 % - 72 % - 75 % - 78 % - 81 % - 84 % - 87 % - 90 % - 93 % - 96 % - 99 % - 
 Imputation in condition  1 ...
 In progress: 10 % - 20 % - 30 % - 40 % - 50 % - 60 % - 70 % - 80 % - 90 % - 100 % - 
 Imputation in condition  2 ...
 In progress: 10 % - 20 % - 30 % - 40 % - 50 % - 60 % - 70 % - 80 % - 90 % - 100 % - [ FAIL 0 | WARN 17 | SKIP 0 | PASS 66 ]

[ FAIL 0 | WARN 17 | SKIP 0 | PASS 66 ]
> 
> proc.time()
   user  system elapsed 
 12.987   0.782  14.064 

Example timings

DAPAR.Rcheck/DAPAR-Ex.timings

nameusersystemelapsed
AggregateMetacell0.2290.0070.242
BuildAdjacencyMatrix0.1940.0020.201
BuildColumnToProteinDataset0.2390.0050.245
BuildMetaCell0.6850.0140.706
CVDistD_HC0.7390.0690.833
Children0.0020.0000.002
CountPep0.2180.0030.228
ExtendPalette0.0090.0010.010
GOAnalysisSave000
GetCC1.1090.0151.139
GetColorsForConditions0.1820.0020.185
GetDetailedNbPeptides0.1910.0020.199
GetDetailedNbPeptidesUsed000
GetIndices_BasedOnConditions0.1900.0020.192
GetIndices_MetacellFiltering0.1900.0020.195
GetIndices_WholeLine0.1900.0030.194
GetIndices_WholeMatrix0.1880.0020.191
GetKeyId0.1850.0030.194
GetMatAdj0.1970.0030.203
GetMetacell000
GetMetacellTags0.1870.0030.202
GetNbPeptidesUsed0.1930.0020.195
GetNbTags000
GetSoftAvailables0.0010.0000.000
GetTypeofData0.1880.0030.192
Get_AllComparisons0.1120.0060.120
GlobalQuantileAlignment0.1940.0040.201
GraphPepProt0.2010.0030.207
LH0000
LH0.lm000
LH1000
LH1.lm000
LOESS0.4870.0090.500
MeanCentering0.1960.0100.205
MetaCellFiltering0.2440.0030.251
MetacellFilteringScope000
Metacell_DIA_NN0.2060.0060.221
Metacell_generic0.1750.0080.188
Metacell_maxquant0.1910.0080.210
Metacell_proline0.1720.0050.198
NumericalFiltering0.1980.0020.213
NumericalgetIndicesOfLinesToRemove0.1830.0010.191
OWAnova0.0030.0000.003
QuantileCentering0.2060.0050.213
SetCC1.0330.0041.058
SetMatAdj0.1920.0020.194
Set_POV_MEC_tags0.1830.0020.185
StringBasedFiltering0.1970.0030.199
StringBasedFiltering20.1960.0030.201
SumByColumns0.4710.0170.507
SymFilteringOperators000
UpdateMetacellAfterImputation0.1860.0020.200
aggregateIter0.2290.0030.242
aggregateIterParallel000
aggregateMean0.2060.0030.221
aggregateSum0.2110.0030.222
aggregateTopn0.2020.0030.206
applyAnovasOnProteins0.0590.0010.062
averageIntensities0.2550.0610.375
barplotEnrichGO_HC2.7460.7014.524
barplotGroupGO_HC1.7810.3172.163
boxPlotD_HC0.1030.0260.130
buildGraph0.7300.0180.750
check.conditions0.1780.0010.182
check.design0.1790.0020.183
checkClusterability1.5451.3303.105
classic1wayAnova0.0000.0010.001
compareNormalizationD_HC0.0830.0380.147
compute.selection.table0.3610.1000.489
compute_t_tests0.5600.1190.721
corrMatrixD_HC0.2430.0510.318
createMSnset0.7200.0480.852
createMSnset20.6590.0510.793
dapar_hc_ExportMenu0.0460.0770.232
dapar_hc_chart0.0200.0220.068
deleteLinesFromIndices0.2020.0110.253
densityPlotD_HC1.0500.9922.335
diffAnaComputeAdjustedPValues0.0830.0230.108
diffAnaComputeFDR000
diffAnaGetSignificant0.1130.0320.145
diffAnaSave0.1100.0290.139
diffAnaVolcanoplot0.0840.0110.095
diffAnaVolcanoplot_rCharts0.1550.0510.205
display.CC.visNet0.7860.0270.812
enrich_GO1.8010.2132.021
finalizeAggregation000
findMECBlock0.2000.0060.206
formatHSDResults000
formatLimmaResult0.0740.0090.084
formatPHResults000
formatPHTResults0.0010.0000.000
fudge2LRT000
get.pep.prot.cc0.7440.0090.754
getDesignLevel0.1760.0010.177
getIndicesConditions0.1800.0020.184
getIndicesOfLinesToRemove0.1850.0050.192
getListNbValuesInLines0.1760.0020.179
getNumberOf0.1820.0060.189
getNumberOfEmptyLines0.1850.0040.189
getPourcentageOfMV0.1850.0040.189
getProcessingInfo0.1780.0010.181
getProteinsStats0.1870.0050.192
getQuantile4Imp0.0540.0010.056
getTextForAggregation000
getTextForAnaDiff000
getTextForFiltering000
getTextForGOAnalysis000
getTextForHypothesisTest000
getTextForNewDataset0.0000.0000.001
getTextForNormalization000
getTextForpeptideImputation000
getTextForproteinImputation000
globalAdjPval0.1500.0140.163
group_GO1.7950.2202.021
hc_logFC_DensityPlot0.2170.0730.293
hc_mvTypePlot20.3490.1140.470
heatmapD0.2970.0190.316
heatmapForMissingValues0.0930.0100.104
histPValue_HC0.1550.0350.191
impute.pa20.2010.0060.207
inner.aggregate.iter0.2090.0110.225
inner.aggregate.topn0.1960.0070.205
inner.mean0.1960.0060.206
inner.sum0.2000.0060.208
is.subset000
limmaCompleteTest0.7570.0290.796
listSheets000
make.contrast0.2090.0020.212
make.design.10.2060.0030.209
make.design.20.1970.0030.200
make.design.30.1960.0030.201
make.design0.1960.0030.200
match.metacell0.2220.0080.232
metacell.def0.0030.0020.005
metacellHisto_HC0.2440.0330.281
metacellPerLinesHistoPerCondition_HC0.2880.0640.360
metacellPerLinesHisto_HC0.3290.1470.492
metacombine0.1140.0070.125
mvImage1.1010.1091.373
my_hc_ExportMenu0.0440.0530.143
my_hc_chart0.0410.0450.223
nonzero0.0070.0010.009
normalizeMethods.dapar0.0000.0000.001
pepa.test0.1990.0050.240
pkgs.require0.0000.0000.001
plotJitter0.8190.0180.855
plotJitter_rCharts0.7090.0270.839
plotPCA_Eigen0.2120.0120.242
plotPCA_Eigen_hc0.1910.0020.195
plotPCA_Ind0.1960.0030.202
plotPCA_Var0.1800.0020.182
postHocTest000
proportionConRev_HC0.0180.0290.056
rbindMSnset0.2430.0190.263
reIntroduceMEC0.2250.0150.245
readExcel000
removeLines0.2020.0130.219
samLRT000
saveParameters0.1820.0030.185
scatterplotEnrichGO_HC1.8680.2342.283
search.metacell.tags0.0020.0000.003
separateAdjPval0.0840.0040.093
splitAdjacencyMat0.2000.0060.205
test.design0.2230.0030.227
testAnovaModels0.0660.0050.070
thresholdpval4fdr000
translatedRandomBeta0.0010.0030.004
univ_AnnotDbPkg0.0610.0220.084
violinPlotD0.1120.0080.135
visualizeClusters0.4170.0540.638
vsn0.2930.0130.306
wrapper.CVDistD_HC0.6300.2370.931
wrapper.compareNormalizationD_HC16.91010.67160.589
wrapper.corrMatrixD_HC0.2790.0380.352
wrapper.dapar.impute.mi5.1710.7096.283
wrapper.heatmapD0.2580.0230.294
wrapper.impute.KNN0.2300.0400.295
wrapper.impute.detQuant0.2380.0420.308
wrapper.impute.fixedValue0.2340.0350.302
wrapper.impute.mle0.2190.0270.273
wrapper.impute.pa0.0790.0160.104
wrapper.impute.pa20.2120.0250.256
wrapper.impute.slsa0.3060.0590.415
wrapper.mvImage0.1000.0200.126
wrapper.normalizeD0.1980.0100.213
wrapper.pca0.0920.0200.119
wrapperCalibrationPlot0.1000.0170.120
wrapperClassic1wayAnova000
wrapperRunClustering1.1330.5061.987
write.excel0.3130.0850.426
writeMSnsetToCSV0.1930.0140.249
writeMSnsetToExcel0.5620.2821.044