Back to Multiple platform build/check report for BioC 3.22:   simplified   long
AB[C]DEFGHIJKLMNOPQRSTUVWXYZ

This page was generated on 2025-11-12 11:57 -0500 (Wed, 12 Nov 2025).

HostnameOSArch (*)R versionInstalled pkgs
nebbiolo2Linux (Ubuntu 24.04.3 LTS)x86_644.5.1 Patched (2025-08-23 r88802) -- "Great Square Root" 4902
taishanLinux (openEuler 24.03 LTS)aarch644.5.0 (2025-04-11) -- "How About a Twenty-Six" 4668
Click on any hostname to see more info about the system (e.g. compilers)      (*) as reported by 'uname -p', except on Windows and Mac OS X

All results for package ComplexHeatmap


To the developers/maintainers of the ComplexHeatmap package:
- Allow up to 24 hours (and sometimes 48 hours) for your latest push to git@git.bioconductor.org:packages/ComplexHeatmap.git to reflect on this report. See Troubleshooting Build Report for more information.
- Use the following Renviron settings to reproduce errors and warnings.
- If 'R CMD check' started to fail recently on the Linux builder(s) over a missing dependency, add the missing dependency to 'Suggests:' in your DESCRIPTION file. See Renviron.bioc for more information.

raw results

Package 432/2361HostnameOS / ArchINSTALLBUILDCHECKBUILD BIN
ComplexHeatmap 2.26.0  (landing page)
Zuguang Gu
Snapshot Date: 2025-11-11 13:45 -0500 (Tue, 11 Nov 2025)
git_url: https://git.bioconductor.org/packages/ComplexHeatmap
git_branch: RELEASE_3_22
git_last_commit: 4803c6d
git_last_commit_date: 2025-10-29 10:25:04 -0500 (Wed, 29 Oct 2025)
nebbiolo2Linux (Ubuntu 24.04.3 LTS) / x86_64  OK    OK    OK  UNNEEDED, same version is already published
taishanLinux (openEuler 24.03 LTS) / aarch64  OK    OK    OK  



Results for Bioconductor software packages that depend directly on package ComplexHeatmap

QUICK STATSOS / ArchINSTALLBUILDCHECKBUILD BIN
nebbiolo2Linux (Ubuntu 24.04.3 LTS) / x86_64
0099
0396
02688
taishanLinux (openEuler 24.03 LTS) / aarch64
0198
1395
04883
Package 1/99HostnameOS / ArchINSTALLBUILDCHECKBUILD BIN
airpart 1.18.0  (landing page)
Wancen Mu
git_last_commit: 1715ade
git_last_commit_date: 2025-10-29 11:07:36 -0500
nebbiolo2Linux (Ubuntu 24.04.3 LTS) / x86_64  OK    OK    OK  UNNEEDED, same version is already published
taishanLinux (openEuler 24.03 LTS) / aarch64  OK    OK    OK  
Package 2/99HostnameOS / ArchINSTALLBUILDCHECKBUILD BIN
AMARETTO 1.26.0  (landing page)
Olivier Gevaert
git_last_commit: aa11071
git_last_commit_date: 2025-10-29 10:50:47 -0500
nebbiolo2Linux (Ubuntu 24.04.3 LTS) / x86_64  OK    OK    WARNINGS  UNNEEDED, same version is already published
taishanLinux (openEuler 24.03 LTS) / aarch64  OK    OK    WARNINGS  
Package 3/99HostnameOS / ArchINSTALLBUILDCHECKBUILD BIN
ASURAT 1.14.0  (landing page)
Keita Iida
git_last_commit: 9212396
git_last_commit_date: 2025-10-29 11:15:46 -0500
nebbiolo2Linux (Ubuntu 24.04.3 LTS) / x86_64  OK    OK    OK  UNNEEDED, same version is already published
taishanLinux (openEuler 24.03 LTS) / aarch64  OK    TIMEOUT  skipped
Package 4/99HostnameOS / ArchINSTALLBUILDCHECKBUILD BIN
barbieQ 1.2.0  (landing page)
Liyang Fei
git_last_commit: 713137b
git_last_commit_date: 2025-10-29 11:36:03 -0500
nebbiolo2Linux (Ubuntu 24.04.3 LTS) / x86_64  OK    OK    OK  UNNEEDED, same version is already published
taishanLinux (openEuler 24.03 LTS) / aarch64  OK    OK    OK  
Package 5/99HostnameOS / ArchINSTALLBUILDCHECKBUILD BIN
bettr 1.6.0  (landing page)
Charlotte Soneson
git_last_commit: 46da753
git_last_commit_date: 2025-10-29 11:28:28 -0500
nebbiolo2Linux (Ubuntu 24.04.3 LTS) / x86_64  OK    OK    OK  UNNEEDED, same version is already published
taishanLinux (openEuler 24.03 LTS) / aarch64  OK    OK    OK  
Package 6/99HostnameOS / ArchINSTALLBUILDCHECKBUILD BIN
BindingSiteFinder 2.8.0  (landing page)
Mirko Brüggemann
git_last_commit: 74a4d9c
git_last_commit_date: 2025-10-29 11:10:55 -0500
nebbiolo2Linux (Ubuntu 24.04.3 LTS) / x86_64  OK    OK    OK  UNNEEDED, same version is already published
taishanLinux (openEuler 24.03 LTS) / aarch64  OK    OK    ERROR  
Package 7/99HostnameOS / ArchINSTALLBUILDCHECKBUILD BIN
BioNERO 1.18.0  (landing page)
Fabricio Almeida-Silva
git_last_commit: 33be27e
git_last_commit_date: 2025-10-29 11:07:25 -0500
nebbiolo2Linux (Ubuntu 24.04.3 LTS) / x86_64  OK    OK    OK  UNNEEDED, same version is already published
taishanLinux (openEuler 24.03 LTS) / aarch64  OK    OK    OK  
Package 8/99HostnameOS / ArchINSTALLBUILDCHECKBUILD BIN
blacksheepr 1.24.0  (landing page)
RugglesLab
git_last_commit: 9710e23
git_last_commit_date: 2025-10-29 10:54:55 -0500
nebbiolo2Linux (Ubuntu 24.04.3 LTS) / x86_64  OK    OK    OK  UNNEEDED, same version is already published
taishanLinux (openEuler 24.03 LTS) / aarch64  OK    OK    OK  
Package 9/99HostnameOS / ArchINSTALLBUILDCHECKBUILD BIN
BloodGen3Module 1.18.0  (landing page)
Darawan Rinchai
git_last_commit: 6d48c98
git_last_commit_date: 2025-10-29 11:09:33 -0500
nebbiolo2Linux (Ubuntu 24.04.3 LTS) / x86_64  OK    OK    WARNINGS  UNNEEDED, same version is already published
taishanLinux (openEuler 24.03 LTS) / aarch64  OK    OK    WARNINGS  
Package 10/99HostnameOS / ArchINSTALLBUILDCHECKBUILD BIN
BreastSubtypeR 1.2.0  (landing page)
Qiao Yang
git_last_commit: f1af123
git_last_commit_date: 2025-10-29 11:36:09 -0500
nebbiolo2Linux (Ubuntu 24.04.3 LTS) / x86_64  OK    OK    OK  UNNEEDED, same version is already published
taishanLinux (openEuler 24.03 LTS) / aarch64  OK    OK    OK  
Package 11/99HostnameOS / ArchINSTALLBUILDCHECKBUILD BIN
BulkSignalR 1.2.1  (landing page)
Jean-Philippe Villemin
git_last_commit: 68e85a5
git_last_commit_date: 2025-11-08 17:25:11 -0500
nebbiolo2Linux (Ubuntu 24.04.3 LTS) / x86_64  OK    OK    OK  UNNEEDED, same version is already published
taishanLinux (openEuler 24.03 LTS) / aarch64  OK    OK    OK  
Package 12/99HostnameOS / ArchINSTALLBUILDCHECKBUILD BIN
CATALYST 1.34.0  (landing page)
Helena L. Crowell
git_last_commit: 8ec200e
git_last_commit_date: 2025-10-29 10:38:04 -0500
nebbiolo2Linux (Ubuntu 24.04.3 LTS) / x86_64  OK    OK    OK  UNNEEDED, same version is already published
taishanLinux (openEuler 24.03 LTS) / aarch64  OK    OK    OK  
Package 13/99HostnameOS / ArchINSTALLBUILDCHECKBUILD BIN
CCPlotR 1.8.0  (landing page)
Sarah Ennis
git_last_commit: c97d24c
git_last_commit_date: 2025-10-29 11:25:49 -0500
nebbiolo2Linux (Ubuntu 24.04.3 LTS) / x86_64  OK    OK    OK  UNNEEDED, same version is already published
taishanLinux (openEuler 24.03 LTS) / aarch64  OK    OK    OK  
Package 14/99HostnameOS / ArchINSTALLBUILDCHECKBUILD BIN
celda 1.26.0  (landing page)
Joshua Campbell
git_last_commit: e1acfed
git_last_commit_date: 2025-10-29 10:52:12 -0500
nebbiolo2Linux (Ubuntu 24.04.3 LTS) / x86_64  OK    OK    OK  UNNEEDED, same version is already published
taishanLinux (openEuler 24.03 LTS) / aarch64  OK    OK    WARNINGS  
Package 15/99HostnameOS / ArchINSTALLBUILDCHECKBUILD BIN
CeTF 1.22.0  (landing page)
Carlos Alberto Oliveira de Biagi Junior
git_last_commit: 2408165
git_last_commit_date: 2025-10-29 10:56:07 -0500
nebbiolo2Linux (Ubuntu 24.04.3 LTS) / x86_64  OK    OK    OK  UNNEEDED, same version is already published
taishanLinux (openEuler 24.03 LTS) / aarch64  OK    OK    OK  
Package 16/99HostnameOS / ArchINSTALLBUILDCHECKBUILD BIN
chevreulPlot 1.2.0  (landing page)
Kevin Stachelek
git_last_commit: bc927ef
git_last_commit_date: 2025-10-29 11:34:14 -0500
nebbiolo2Linux (Ubuntu 24.04.3 LTS) / x86_64  OK    OK    OK  UNNEEDED, same version is already published
taishanLinux (openEuler 24.03 LTS) / aarch64  OK    OK    OK  
Package 17/99HostnameOS / ArchINSTALLBUILDCHECKBUILD BIN
chevreulShiny 1.2.0  (landing page)
Kevin Stachelek
git_last_commit: 12398b0
git_last_commit_date: 2025-10-29 11:34:20 -0500
nebbiolo2Linux (Ubuntu 24.04.3 LTS) / x86_64  OK    OK    OK  NO, package depends on 'EnhancedVolcano' which is not available
taishanLinux (openEuler 24.03 LTS) / aarch64  OK    OK    OK  
Package 18/99HostnameOS / ArchINSTALLBUILDCHECKBUILD BIN
ClustAll 1.6.0  (landing page)
Asier Ortega-Legarreta
git_last_commit: 43762e5
git_last_commit_date: 2025-10-29 11:29:16 -0500
nebbiolo2Linux (Ubuntu 24.04.3 LTS) / x86_64  OK    OK    OK  UNNEEDED, same version is already published
taishanLinux (openEuler 24.03 LTS) / aarch64  OK    OK    OK  
Package 19/99HostnameOS / ArchINSTALLBUILDCHECKBUILD BIN
COCOA 2.24.0  (landing page)
John Lawson
git_last_commit: 8165f71
git_last_commit_date: 2025-10-29 10:48:30 -0500
nebbiolo2Linux (Ubuntu 24.04.3 LTS) / x86_64  OK    OK    OK  UNNEEDED, same version is already published
taishanLinux (openEuler 24.03 LTS) / aarch64  OK    OK    OK  
Package 20/99HostnameOS / ArchINSTALLBUILDCHECKBUILD BIN
cola 2.16.0  (landing page)
Zuguang Gu
git_last_commit: 796a58f
git_last_commit_date: 2025-10-29 10:49:39 -0500
nebbiolo2Linux (Ubuntu 24.04.3 LTS) / x86_64  OK    OK    OK  UNNEEDED, same version is already published
taishanLinux (openEuler 24.03 LTS) / aarch64  OK    OK    OK  
Package 21/99HostnameOS / ArchINSTALLBUILDCHECKBUILD BIN
COTAN 2.10.0  (landing page)
Galfrè Silvia Giulia
git_last_commit: 9b1bfa0
git_last_commit_date: 2025-10-29 11:14:37 -0500
nebbiolo2Linux (Ubuntu 24.04.3 LTS) / x86_64  OK    OK    OK  UNNEEDED, same version is already published
taishanLinux (openEuler 24.03 LTS) / aarch64  OK    OK    OK  
Package 22/99HostnameOS / ArchINSTALLBUILDCHECKBUILD BIN
CRISPRball 1.6.0  (landing page)
Jared Andrews
git_last_commit: 8772923
git_last_commit_date: 2025-10-29 11:27:09 -0500
nebbiolo2Linux (Ubuntu 24.04.3 LTS) / x86_64  OK    OK    OK  NO, package depends on 'PCAtools' which is not available
taishanLinux (openEuler 24.03 LTS) / aarch64  OK    OK    OK  
Package 23/99HostnameOS / ArchINSTALLBUILDCHECKBUILD BIN
CTexploreR 1.6.0  (landing page)
Axelle Loriot
git_last_commit: c66423d
git_last_commit_date: 2025-10-29 11:26:51 -0500
nebbiolo2Linux (Ubuntu 24.04.3 LTS) / x86_64  OK    OK    OK  UNNEEDED, same version is already published
taishanLinux (openEuler 24.03 LTS) / aarch64  OK    OK    OK  
Package 24/99HostnameOS / ArchINSTALLBUILDCHECKBUILD BIN
cytoKernel 1.16.0  (landing page)
Tusharkanti Ghosh
git_last_commit: 3fcbac3
git_last_commit_date: 2025-10-29 11:12:20 -0500
nebbiolo2Linux (Ubuntu 24.04.3 LTS) / x86_64  OK    OK    OK  UNNEEDED, same version is already published
taishanLinux (openEuler 24.03 LTS) / aarch64  OK    OK    OK  
Package 25/99HostnameOS / ArchINSTALLBUILDCHECKBUILD BIN
Damsel 1.6.0  (landing page)
Caitlin Page
git_last_commit: a70f6d8
git_last_commit_date: 2025-10-29 11:29:38 -0500
nebbiolo2Linux (Ubuntu 24.04.3 LTS) / x86_64  OK    OK    WARNINGS  UNNEEDED, same version is already published
taishanLinux (openEuler 24.03 LTS) / aarch64  OK    OK    WARNINGS  
Package 26/99HostnameOS / ArchINSTALLBUILDCHECKBUILD BIN
dar 1.6.0  (landing page)
Francesc Catala-Moll
git_last_commit: 0a164df
git_last_commit_date: 2025-10-29 11:27:31 -0500
nebbiolo2Linux (Ubuntu 24.04.3 LTS) / x86_64  OK    OK    OK  UNNEEDED, same version is already published
taishanLinux (openEuler 24.03 LTS) / aarch64  OK    OK    OK  
Package 27/99HostnameOS / ArchINSTALLBUILDCHECKBUILD BIN
DEGreport 1.46.0  (landing page)
Lorena Pantano
git_last_commit: c98a779
git_last_commit_date: 2025-10-29 10:19:57 -0500
nebbiolo2Linux (Ubuntu 24.04.3 LTS) / x86_64  OK    OK    OK  UNNEEDED, same version is already published
taishanLinux (openEuler 24.03 LTS) / aarch64  OK    OK    OK  
Package 28/99HostnameOS / ArchINSTALLBUILDCHECKBUILD BIN
DEP 1.32.0  (landing page)
Arne Smits
git_last_commit: 251eef4
git_last_commit_date: 2025-10-29 10:40:06 -0500
nebbiolo2Linux (Ubuntu 24.04.3 LTS) / x86_64  OK    OK    OK  UNNEEDED, same version is already published
taishanLinux (openEuler 24.03 LTS) / aarch64  OK    OK    OK  
Package 29/99HostnameOS / ArchINSTALLBUILDCHECKBUILD BIN
diffcyt 1.30.0  (landing page)
Lukas M. Weber
git_last_commit: d8003b3
git_last_commit_date: 2025-10-29 10:44:30 -0500
nebbiolo2Linux (Ubuntu 24.04.3 LTS) / x86_64  OK    OK    OK  UNNEEDED, same version is already published
taishanLinux (openEuler 24.03 LTS) / aarch64  OK    OK    OK  
Package 30/99HostnameOS / ArchINSTALLBUILDCHECKBUILD BIN
diffUTR 1.18.0  (landing page)
Pierre-Luc Germain
git_last_commit: 6ffc717
git_last_commit_date: 2025-10-29 11:09:14 -0500
nebbiolo2Linux (Ubuntu 24.04.3 LTS) / x86_64  OK    OK    OK  UNNEEDED, same version is already published
taishanLinux (openEuler 24.03 LTS) / aarch64  OK    OK    OK  
Package 31/99HostnameOS / ArchINSTALLBUILDCHECKBUILD BIN
dinoR 1.6.0  (landing page)
Michaela Schwaiger
git_last_commit: 5d0a090
git_last_commit_date: 2025-10-29 11:28:52 -0500
nebbiolo2Linux (Ubuntu 24.04.3 LTS) / x86_64  OK    OK    OK  UNNEEDED, same version is already published
taishanLinux (openEuler 24.03 LTS) / aarch64  OK    OK    OK  
Package 32/99HostnameOS / ArchINSTALLBUILDCHECKBUILD BIN
dominoSignal 1.4.0  (landing page)
Jacob T Mitchell
git_last_commit: 37df5de
git_last_commit_date: 2025-10-29 11:31:35 -0500
nebbiolo2Linux (Ubuntu 24.04.3 LTS) / x86_64  OK    OK    OK  UNNEEDED, same version is already published
taishanLinux (openEuler 24.03 LTS) / aarch64  OK    OK    OK  
Package 33/99HostnameOS / ArchINSTALLBUILDCHECKBUILD BIN
ELMER 2.34.0  (landing page)
Tiago Chedraoui Silva
git_last_commit: 908554d
git_last_commit_date: 2025-10-29 10:26:17 -0500
nebbiolo2Linux (Ubuntu 24.04.3 LTS) / x86_64  OK    ERROR  skipped
taishanLinux (openEuler 24.03 LTS) / aarch64  OK    ERROR  skipped
Package 34/99HostnameOS / ArchINSTALLBUILDCHECKBUILD BIN
ELViS 1.2.0  (landing page)
Jin-Young Lee
git_last_commit: c2a03f6
git_last_commit_date: 2025-10-29 11:34:26 -0500
nebbiolo2Linux (Ubuntu 24.04.3 LTS) / x86_64  OK    OK    OK  UNNEEDED, same version is already published
taishanLinux (openEuler 24.03 LTS) / aarch64  OK    OK    OK  
Package 35/99HostnameOS / ArchINSTALLBUILDCHECKBUILD BIN
EnrichedHeatmap 1.40.0  (landing page)
Zuguang Gu
git_last_commit: 07a50cf
git_last_commit_date: 2025-10-29 10:27:54 -0500
nebbiolo2Linux (Ubuntu 24.04.3 LTS) / x86_64  OK    OK    OK  UNNEEDED, same version is already published
taishanLinux (openEuler 24.03 LTS) / aarch64  OK    OK    OK  
Package 36/99HostnameOS / ArchINSTALLBUILDCHECKBUILD BIN
epiregulon.extra 1.6.0  (landing page)
Xiaosai Yao
git_last_commit: d60eef8
git_last_commit_date: 2025-10-29 11:30:15 -0500
nebbiolo2Linux (Ubuntu 24.04.3 LTS) / x86_64  OK    OK    OK  UNNEEDED, same version is already published
taishanLinux (openEuler 24.03 LTS) / aarch64  OK    OK    OK  
Package 37/99HostnameOS / ArchINSTALLBUILDCHECKBUILD BIN
fCCAC 1.36.0  (landing page)
Pedro Madrigal
git_last_commit: 17f1036
git_last_commit_date: 2025-10-29 10:35:32 -0500
nebbiolo2Linux (Ubuntu 24.04.3 LTS) / x86_64  OK    OK    OK  UNNEEDED, same version is already published
taishanLinux (openEuler 24.03 LTS) / aarch64  OK    OK    OK  
Package 38/99HostnameOS / ArchINSTALLBUILDCHECKBUILD BIN
FLAMES 2.4.1  (landing page)
Changqing Wang
git_last_commit: 41bbd55
git_last_commit_date: 2025-10-31 01:50:56 -0500
nebbiolo2Linux (Ubuntu 24.04.3 LTS) / x86_64  OK    OK    OK  UNNEEDED, same version is already published
taishanLinux (openEuler 24.03 LTS) / aarch64  ERROR    ERROR  skipped
Package 39/99HostnameOS / ArchINSTALLBUILDCHECKBUILD BIN
gCrisprTools 2.16.0  (landing page)
Russell Bainer
git_last_commit: 7b3b1fd
git_last_commit_date: 2025-10-29 10:34:14 -0500
nebbiolo2Linux (Ubuntu 24.04.3 LTS) / x86_64  OK    OK    OK  UNNEEDED, same version is already published
taishanLinux (openEuler 24.03 LTS) / aarch64  OK    OK    OK  
Package 40/99HostnameOS / ArchINSTALLBUILDCHECKBUILD BIN
GeDi 1.6.0  (landing page)
Annekathrin Nedwed
git_last_commit: 308bc6a
git_last_commit_date: 2025-10-29 11:29:41 -0500
nebbiolo2Linux (Ubuntu 24.04.3 LTS) / x86_64  OK    OK    ERROR  
taishanLinux (openEuler 24.03 LTS) / aarch64  OK    OK    ERROR  
Package 41/99HostnameOS / ArchINSTALLBUILDCHECKBUILD BIN
GeneTonic 3.4.0  (landing page)
Federico Marini
git_last_commit: 21785a1
git_last_commit_date: 2025-10-29 10:56:40 -0500
nebbiolo2Linux (Ubuntu 24.04.3 LTS) / x86_64  OK    OK    ERROR  
taishanLinux (openEuler 24.03 LTS) / aarch64  OK    OK    ERROR  
Package 42/99HostnameOS / ArchINSTALLBUILDCHECKBUILD BIN
GenomicPlot 1.8.0  (landing page)
Shuye Pu
git_last_commit: e9ce4a7
git_last_commit_date: 2025-10-29 11:24:51 -0500
nebbiolo2Linux (Ubuntu 24.04.3 LTS) / x86_64  OK    OK    OK  UNNEEDED, same version is already published
taishanLinux (openEuler 24.03 LTS) / aarch64  OK    OK    OK  
Package 43/99HostnameOS / ArchINSTALLBUILDCHECKBUILD BIN
GenomicSuperSignature 1.18.0  (landing page)
Sehyun Oh
git_last_commit: e2b134e
git_last_commit_date: 2025-10-29 11:09:57 -0500
nebbiolo2Linux (Ubuntu 24.04.3 LTS) / x86_64  OK    ERROR  skipped
taishanLinux (openEuler 24.03 LTS) / aarch64  OK    OK    WARNINGS  
Package 44/99HostnameOS / ArchINSTALLBUILDCHECKBUILD BIN
geyser 1.2.0  (landing page)
David McGaughey
git_last_commit: 5cbf44a
git_last_commit_date: 2025-10-29 11:33:40 -0500
nebbiolo2Linux (Ubuntu 24.04.3 LTS) / x86_64  OK    OK    OK  UNNEEDED, same version is already published
taishanLinux (openEuler 24.03 LTS) / aarch64  OK    OK    OK  
Package 45/99HostnameOS / ArchINSTALLBUILDCHECKBUILD BIN
gINTomics 1.6.0  (landing page)
Angelo Velle
git_last_commit: d433a6d
git_last_commit_date: 2025-10-29 11:30:01 -0500
nebbiolo2Linux (Ubuntu 24.04.3 LTS) / x86_64  OK    OK    OK  NO, package depends on 'OmnipathR' which is not available
taishanLinux (openEuler 24.03 LTS) / aarch64  OK    OK    OK  
Package 46/99HostnameOS / ArchINSTALLBUILDCHECKBUILD BIN
gmoviz 1.22.0  (landing page)
Kathleen Zeglinski
git_last_commit: 64c2454
git_last_commit_date: 2025-10-29 10:57:48 -0500
nebbiolo2Linux (Ubuntu 24.04.3 LTS) / x86_64  OK    OK    OK  UNNEEDED, same version is already published
taishanLinux (openEuler 24.03 LTS) / aarch64  OK    OK    OK  
Package 47/99HostnameOS / ArchINSTALLBUILDCHECKBUILD BIN
goatea 1.0.0  (landing page)
Maurits Unkel
git_last_commit: c7a7b1e
git_last_commit_date: 2025-10-29 11:37:58 -0500
nebbiolo2Linux (Ubuntu 24.04.3 LTS) / x86_64  OK    ERROR  skipped
taishanLinux (openEuler 24.03 LTS) / aarch64  OK    ERROR  skipped
Package 48/99HostnameOS / ArchINSTALLBUILDCHECKBUILD BIN
GRaNIE 1.14.0  (landing page)
Christian Arnold
git_last_commit: 7d55acc
git_last_commit_date: 2025-10-29 11:16:56 -0500
nebbiolo2Linux (Ubuntu 24.04.3 LTS) / x86_64  OK    OK    OK  UNNEEDED, same version is already published
taishanLinux (openEuler 24.03 LTS) / aarch64  OK    OK    OK  
Package 49/99HostnameOS / ArchINSTALLBUILDCHECKBUILD BIN
gVenn 1.0.0  (landing page)
Christophe Tav
git_last_commit: 27b5dfc
git_last_commit_date: 2025-10-29 11:38:01 -0500
nebbiolo2Linux (Ubuntu 24.04.3 LTS) / x86_64  OK    OK    OK  UNNEEDED, same version is already published
taishanLinux (openEuler 24.03 LTS) / aarch64  OK    OK    OK  
Package 50/99HostnameOS / ArchINSTALLBUILDCHECKBUILD BIN
hermes 1.14.0  (landing page)
Daniel Sabanés Bové
git_last_commit: b415d55
git_last_commit_date: 2025-10-29 11:14:07 -0500
nebbiolo2Linux (Ubuntu 24.04.3 LTS) / x86_64  OK    OK    OK  UNNEEDED, same version is already published
taishanLinux (openEuler 24.03 LTS) / aarch64  OK    OK    OK  
Package 51/99HostnameOS / ArchINSTALLBUILDCHECKBUILD BIN
hoodscanR 1.8.0  (landing page)
Ning Liu
git_last_commit: 7fcc1c2
git_last_commit_date: 2025-10-29 11:25:11 -0500
nebbiolo2Linux (Ubuntu 24.04.3 LTS) / x86_64  OK    OK    OK  UNNEEDED, same version is already published
taishanLinux (openEuler 24.03 LTS) / aarch64  OK    OK    OK  
Package 52/99HostnameOS / ArchINSTALLBUILDCHECKBUILD BIN
HybridExpress 1.6.0  (landing page)
Fabricio Almeida-Silva
git_last_commit: b3f2227
git_last_commit_date: 2025-10-29 11:28:44 -0500
nebbiolo2Linux (Ubuntu 24.04.3 LTS) / x86_64  OK    OK    OK  UNNEEDED, same version is already published
taishanLinux (openEuler 24.03 LTS) / aarch64  OK    OK    OK  
Package 53/99HostnameOS / ArchINSTALLBUILDCHECKBUILD BIN
iModMix 1.0.0  (landing page)
Isis Narvaez-Bandera
git_last_commit: f1207f8
git_last_commit_date: 2025-10-29 11:38:57 -0500
nebbiolo2Linux (Ubuntu 24.04.3 LTS) / x86_64  OK    OK    OK  UNNEEDED, same version is already published
taishanLinux (openEuler 24.03 LTS) / aarch64  OK    OK    OK  
Package 54/99HostnameOS / ArchINSTALLBUILDCHECKBUILD BIN
InteractiveComplexHeatmap 1.18.0  (landing page)
Zuguang Gu
git_last_commit: 592d2bb
git_last_commit_date: 2025-10-29 11:05:41 -0500
nebbiolo2Linux (Ubuntu 24.04.3 LTS) / x86_64  OK    OK    OK  UNNEEDED, same version is already published
taishanLinux (openEuler 24.03 LTS) / aarch64  OK    OK    OK  
Package 55/99HostnameOS / ArchINSTALLBUILDCHECKBUILD BIN
InterCellar 2.16.0  (landing page)
Marta Interlandi
git_last_commit: 7306a93
git_last_commit_date: 2025-10-29 11:07:02 -0500
nebbiolo2Linux (Ubuntu 24.04.3 LTS) / x86_64  OK    OK    OK  UNNEEDED, same version is already published
taishanLinux (openEuler 24.03 LTS) / aarch64  OK    OK    OK  
Package 56/99HostnameOS / ArchINSTALLBUILDCHECKBUILD BIN
iSEE 2.22.0  (landing page)
Kevin Rue-Albrecht
git_last_commit: 3931647
git_last_commit_date: 2025-10-29 10:43:55 -0500
nebbiolo2Linux (Ubuntu 24.04.3 LTS) / x86_64  OK    OK    OK  UNNEEDED, same version is already published
taishanLinux (openEuler 24.03 LTS) / aarch64  OK    OK    OK  
Package 57/99HostnameOS / ArchINSTALLBUILDCHECKBUILD BIN
MAPFX 1.6.0  (landing page)
Hsiao-Chi Liao
git_last_commit: ca3ce0f
git_last_commit_date: 2025-10-29 11:30:04 -0500
nebbiolo2Linux (Ubuntu 24.04.3 LTS) / x86_64  OK    OK    OK  UNNEEDED, same version is already published
taishanLinux (openEuler 24.03 LTS) / aarch64  OK    OK    OK  
Package 58/99HostnameOS / ArchINSTALLBUILDCHECKBUILD BIN
markeR 1.0.0  (landing page)
Rita Martins-Silva
git_last_commit: defebad
git_last_commit_date: 2025-10-29 11:38:06 -0500
nebbiolo2Linux (Ubuntu 24.04.3 LTS) / x86_64  OK    OK    OK  UNNEEDED, same version is already published
taishanLinux (openEuler 24.03 LTS) / aarch64  OK    OK    OK  
Package 59/99HostnameOS / ArchINSTALLBUILDCHECKBUILD BIN
MatrixQCvis 1.18.0  (landing page)
Thomas Naake
git_last_commit: b35fe86
git_last_commit_date: 2025-10-29 11:09:24 -0500
nebbiolo2Linux (Ubuntu 24.04.3 LTS) / x86_64  OK    OK    OK  UNNEEDED, same version is already published
taishanLinux (openEuler 24.03 LTS) / aarch64  OK    OK    OK  
Package 60/99HostnameOS / ArchINSTALLBUILDCHECKBUILD BIN
MesKit 1.20.0  (landing page)
Mengni Liu
git_last_commit: 8a34315
git_last_commit_date: 2025-10-29 11:01:00 -0500
nebbiolo2Linux (Ubuntu 24.04.3 LTS) / x86_64  OK    OK    WARNINGS  UNNEEDED, same version is already published
taishanLinux (openEuler 24.03 LTS) / aarch64  OK    OK    WARNINGS  
Package 61/99HostnameOS / ArchINSTALLBUILDCHECKBUILD BIN
mitology 1.2.0  (landing page)
Stefania Pirrotta
git_last_commit: 6e9b360
git_last_commit_date: 2025-10-29 11:36:14 -0500
nebbiolo2Linux (Ubuntu 24.04.3 LTS) / x86_64  OK    OK    OK  UNNEEDED, same version is already published
taishanLinux (openEuler 24.03 LTS) / aarch64  OK    OK    OK  
Package 62/99HostnameOS / ArchINSTALLBUILDCHECKBUILD BIN
MOMA 1.22.0  (landing page)
Sunny Jones
git_last_commit: 4a7d444
git_last_commit_date: 2025-10-29 10:59:02 -0500
nebbiolo2Linux (Ubuntu 24.04.3 LTS) / x86_64  OK    OK    OK  UNNEEDED, same version is already published
taishanLinux (openEuler 24.03 LTS) / aarch64  OK    OK    OK  
Package 63/99HostnameOS / ArchINSTALLBUILDCHECKBUILD BIN
monaLisa 1.16.0  (landing page)
Michael Stadler
git_last_commit: fb7bf5b
git_last_commit_date: 2025-10-29 11:12:31 -0500
nebbiolo2Linux (Ubuntu 24.04.3 LTS) / x86_64  OK    OK    OK  UNNEEDED, same version is already published
taishanLinux (openEuler 24.03 LTS) / aarch64  OK    OK    OK  
Package 64/99HostnameOS / ArchINSTALLBUILDCHECKBUILD BIN
Moonlight2R 1.8.0  (landing page)
Matteo Tiberti
git_last_commit: 7f42b79
git_last_commit_date: 2025-10-29 11:25:19 -0500
nebbiolo2Linux (Ubuntu 24.04.3 LTS) / x86_64  OK    OK    OK  UNNEEDED, same version is already published
taishanLinux (openEuler 24.03 LTS) / aarch64  OK    OK    ERROR  
Package 65/99HostnameOS / ArchINSTALLBUILDCHECKBUILD BIN
MOSClip 1.4.0  (landing page)
Paolo Martini
git_last_commit: b231f21
git_last_commit_date: 2025-10-29 11:32:56 -0500
nebbiolo2Linux (Ubuntu 24.04.3 LTS) / x86_64  OK    OK    OK  UNNEEDED, same version is already published
taishanLinux (openEuler 24.03 LTS) / aarch64  OK    OK    OK  
Package 66/99HostnameOS / ArchINSTALLBUILDCHECKBUILD BIN
MPAC 1.4.0  (landing page)
Peng Liu
git_last_commit: 778e22d
git_last_commit_date: 2025-10-29 11:30:37 -0500
nebbiolo2Linux (Ubuntu 24.04.3 LTS) / x86_64  OK    OK    OK  UNNEEDED, same version is already published
taishanLinux (openEuler 24.03 LTS) / aarch64  OK    OK    OK  
Package 67/99HostnameOS / ArchINSTALLBUILDCHECKBUILD BIN
MultiRNAflow 1.8.0  (landing page)
Rodolphe Loubaton
git_last_commit: 6e77950
git_last_commit_date: 2025-10-29 11:24:54 -0500
nebbiolo2Linux (Ubuntu 24.04.3 LTS) / x86_64  OK    OK    OK  UNNEEDED, same version is already published
taishanLinux (openEuler 24.03 LTS) / aarch64  OK    OK    OK  
Package 68/99HostnameOS / ArchINSTALLBUILDCHECKBUILD BIN
multistateQTL 2.2.0  (landing page)
Amelia Dunstone
git_last_commit: ccf4a9e
git_last_commit_date: 2025-10-29 11:29:43 -0500
nebbiolo2Linux (Ubuntu 24.04.3 LTS) / x86_64  OK    OK    OK  UNNEEDED, same version is already published
taishanLinux (openEuler 24.03 LTS) / aarch64  OK    OK    OK  
Package 69/99HostnameOS / ArchINSTALLBUILDCHECKBUILD BIN
muscat 1.24.0  (landing page)
Helena L. Crowell
git_last_commit: a6749ec
git_last_commit_date: 2025-10-29 10:53:55 -0500
nebbiolo2Linux (Ubuntu 24.04.3 LTS) / x86_64  OK    OK    OK  UNNEEDED, same version is already published
taishanLinux (openEuler 24.03 LTS) / aarch64  OK    OK    OK  
Package 70/99HostnameOS / ArchINSTALLBUILDCHECKBUILD BIN
musicatk 2.4.0  (landing page)
Joshua D. Campbell
git_last_commit: a2d2204
git_last_commit_date: 2025-10-29 11:03:52 -0500
nebbiolo2Linux (Ubuntu 24.04.3 LTS) / x86_64  OK    OK    OK  UNNEEDED, same version is already published
taishanLinux (openEuler 24.03 LTS) / aarch64  OK    OK    OK  
Package 71/99HostnameOS / ArchINSTALLBUILDCHECKBUILD BIN
MWASTools 1.34.0  (landing page)
Andrea Rodriguez-Martinez , Rafael Ayala
git_last_commit: 58721f5
git_last_commit_date: 2025-10-29 10:35:43 -0500
nebbiolo2Linux (Ubuntu 24.04.3 LTS) / x86_64  OK    OK    OK  UNNEEDED, same version is already published
taishanLinux (openEuler 24.03 LTS) / aarch64  OK    OK    OK  
Package 72/99HostnameOS / ArchINSTALLBUILDCHECKBUILD BIN
nipalsMCIA 1.8.0  (landing page)
Maximilian Mattessich
git_last_commit: 5c9ad2e
git_last_commit_date: 2025-10-29 11:25:22 -0500
nebbiolo2Linux (Ubuntu 24.04.3 LTS) / x86_64  OK    OK    OK  UNNEEDED, same version is already published
taishanLinux (openEuler 24.03 LTS) / aarch64  OK    OK    OK  
Package 73/99HostnameOS / ArchINSTALLBUILDCHECKBUILD BIN
pathlinkR 1.6.0  (landing page)
Travis Blimkie
git_last_commit: 4a3af75
git_last_commit_date: 2025-10-29 11:26:48 -0500
nebbiolo2Linux (Ubuntu 24.04.3 LTS) / x86_64  OK    OK    OK  UNNEEDED, same version is already published
taishanLinux (openEuler 24.03 LTS) / aarch64  OK    OK    OK  
Package 74/99HostnameOS / ArchINSTALLBUILDCHECKBUILD BIN
PathoStat 1.36.0  (landing page)
Solaiappan Manimaran
git_last_commit: a14c74c
git_last_commit_date: 2025-10-29 10:34:57 -0500
nebbiolo2Linux (Ubuntu 24.04.3 LTS) / x86_64  OK    OK    OK  UNNEEDED, same version is already published
taishanLinux (openEuler 24.03 LTS) / aarch64  OK    OK    OK  
Package 75/99HostnameOS / ArchINSTALLBUILDCHECKBUILD BIN
PeacoQC 1.20.0  (landing page)
Annelies Emmaneel
git_last_commit: 0408e9f
git_last_commit_date: 2025-10-29 11:00:07 -0500
nebbiolo2Linux (Ubuntu 24.04.3 LTS) / x86_64  OK    OK    OK  UNNEEDED, same version is already published
taishanLinux (openEuler 24.03 LTS) / aarch64  OK    OK    OK  
Package 76/99HostnameOS / ArchINSTALLBUILDCHECKBUILD BIN
pipeComp 1.20.0  (landing page)
Pierre-Luc Germain
git_last_commit: e37c3d3
git_last_commit_date: 2025-10-29 11:00:19 -0500
nebbiolo2Linux (Ubuntu 24.04.3 LTS) / x86_64  OK    OK    OK  UNNEEDED, same version is already published
taishanLinux (openEuler 24.03 LTS) / aarch64  OK    OK    OK  
Package 77/99HostnameOS / ArchINSTALLBUILDCHECKBUILD BIN
POMA 1.20.0  (landing page)
Pol Castellano-Escuder
git_last_commit: 49dcbbe
git_last_commit_date: 2025-10-29 11:01:06 -0500
nebbiolo2Linux (Ubuntu 24.04.3 LTS) / x86_64  OK    OK    OK  UNNEEDED, same version is already published
taishanLinux (openEuler 24.03 LTS) / aarch64  OK    OK    OK  
Package 78/99HostnameOS / ArchINSTALLBUILDCHECKBUILD BIN
profileplyr 1.26.0  (landing page)
Tom Carroll , Doug Barrows
git_last_commit: b8113ee
git_last_commit_date: 2025-10-29 10:51:25 -0500
nebbiolo2Linux (Ubuntu 24.04.3 LTS) / x86_64  OK    OK    OK  NO, package depends on 'soGGi' which is not available
taishanLinux (openEuler 24.03 LTS) / aarch64  OK    OK    OK  
Package 79/99HostnameOS / ArchINSTALLBUILDCHECKBUILD BIN
PRONE 1.4.0  (landing page)
Lis Arend
git_last_commit: 2b31a49
git_last_commit_date: 2025-10-29 11:32:38 -0500
nebbiolo2Linux (Ubuntu 24.04.3 LTS) / x86_64  OK    OK    OK  UNNEEDED, same version is already published
taishanLinux (openEuler 24.03 LTS) / aarch64  OK    OK    OK  
Package 80/99HostnameOS / ArchINSTALLBUILDCHECKBUILD BIN
recoup 1.38.0  (landing page)
Panagiotis Moulos
git_last_commit: 7728d2d
git_last_commit_date: 2025-10-29 10:31:02 -0500
nebbiolo2Linux (Ubuntu 24.04.3 LTS) / x86_64  OK    OK    OK  UNNEEDED, same version is already published
taishanLinux (openEuler 24.03 LTS) / aarch64  OK    OK    OK  
Package 81/99HostnameOS / ArchINSTALLBUILDCHECKBUILD BIN
RFLOMICS 1.2.0  (landing page)
Nadia Bessoltane
git_last_commit: cb2ef8a
git_last_commit_date: 2025-10-29 11:35:35 -0500
nebbiolo2Linux (Ubuntu 24.04.3 LTS) / x86_64  OK    OK    OK  UNNEEDED, same version is already published
taishanLinux (openEuler 24.03 LTS) / aarch64  OK    OK    OK  
Package 82/99HostnameOS / ArchINSTALLBUILDCHECKBUILD BIN
RiboCrypt 1.16.0  (landing page)
Michal Swirski
git_last_commit: e202b8e
git_last_commit_date: 2025-10-29 11:13:40 -0500
nebbiolo2Linux (Ubuntu 24.04.3 LTS) / x86_64  OK    OK    OK  UNNEEDED, same version is already published
taishanLinux (openEuler 24.03 LTS) / aarch64  OK    OK    OK  
Package 83/99HostnameOS / ArchINSTALLBUILDCHECKBUILD BIN
RUCova 1.2.0  (landing page)
Rosario Astaburuaga-García
git_last_commit: 2102db2
git_last_commit_date: 2025-10-29 11:35:49 -0500
nebbiolo2Linux (Ubuntu 24.04.3 LTS) / x86_64  OK    OK    OK  UNNEEDED, same version is already published
taishanLinux (openEuler 24.03 LTS) / aarch64  OK    OK    OK  
Package 84/99HostnameOS / ArchINSTALLBUILDCHECKBUILD BIN
scafari 1.0.0  (landing page)
Sophie Wind
git_last_commit: 31af230
git_last_commit_date: 2025-10-29 11:36:58 -0500
nebbiolo2Linux (Ubuntu 24.04.3 LTS) / x86_64  OK    OK    OK  UNNEEDED, same version is already published
taishanLinux (openEuler 24.03 LTS) / aarch64  OK    OK    OK  
Package 85/99HostnameOS / ArchINSTALLBUILDCHECKBUILD BIN
scRNAseqApp 1.10.0  (landing page)
Jianhong Ou
git_last_commit: 799772d
git_last_commit_date: 2025-10-29 11:20:39 -0500
nebbiolo2Linux (Ubuntu 24.04.3 LTS) / x86_64  OK    OK    OK  UNNEEDED, same version is already published
taishanLinux (openEuler 24.03 LTS) / aarch64  OK    OK    OK  
Package 86/99HostnameOS / ArchINSTALLBUILDCHECKBUILD BIN
sechm 1.18.0  (landing page)
Pierre-Luc Germain
git_last_commit: 635c3e6
git_last_commit_date: 2025-10-29 11:08:11 -0500
nebbiolo2Linux (Ubuntu 24.04.3 LTS) / x86_64  OK    OK    OK  UNNEEDED, same version is already published
taishanLinux (openEuler 24.03 LTS) / aarch64  OK    OK    OK  
Package 87/99HostnameOS / ArchINSTALLBUILDCHECKBUILD BIN
segmenter 1.16.0  (landing page)
Mahmoud Ahmed
git_last_commit: c192571
git_last_commit_date: 2025-10-29 11:10:27 -0500
nebbiolo2Linux (Ubuntu 24.04.3 LTS) / x86_64  OK    OK    OK  UNNEEDED, same version is already published
taishanLinux (openEuler 24.03 LTS) / aarch64  OK    OK    OK  
Package 88/99HostnameOS / ArchINSTALLBUILDCHECKBUILD BIN
shinyDSP 1.2.0  (landing page)
Seung J. Kim
git_last_commit: 867bc12
git_last_commit_date: 2025-10-29 11:35:46 -0500
nebbiolo2Linux (Ubuntu 24.04.3 LTS) / x86_64  OK    OK    OK  UNNEEDED, same version is already published
taishanLinux (openEuler 24.03 LTS) / aarch64  OK    OK    OK  
Package 89/99HostnameOS / ArchINSTALLBUILDCHECKBUILD BIN
signifinder 1.12.0  (landing page)
Stefania Pirrotta
git_last_commit: 4cc4ec4
git_last_commit_date: 2025-10-29 11:19:34 -0500
nebbiolo2Linux (Ubuntu 24.04.3 LTS) / x86_64  OK    OK    OK  UNNEEDED, same version is already published
taishanLinux (openEuler 24.03 LTS) / aarch64  OK    OK    OK  
Package 90/99HostnameOS / ArchINSTALLBUILDCHECKBUILD BIN
simona 1.8.0  (landing page)
Zuguang Gu
git_last_commit: e220e94
git_last_commit_date: 2025-10-29 11:25:30 -0500
nebbiolo2Linux (Ubuntu 24.04.3 LTS) / x86_64  OK    OK    OK  UNNEEDED, same version is already published
taishanLinux (openEuler 24.03 LTS) / aarch64  OK    OK    OK  
Package 91/99HostnameOS / ArchINSTALLBUILDCHECKBUILD BIN
simplifyEnrichment 2.4.0  (landing page)
Zuguang Gu
git_last_commit: 366f2df
git_last_commit_date: 2025-10-29 10:59:50 -0500
nebbiolo2Linux (Ubuntu 24.04.3 LTS) / x86_64  OK    OK    OK  UNNEEDED, same version is already published
taishanLinux (openEuler 24.03 LTS) / aarch64  OK    OK    OK  
Package 92/99HostnameOS / ArchINSTALLBUILDCHECKBUILD BIN
singleCellTK 2.20.0  (landing page)
Joshua David Campbell
git_last_commit: e2bff7b
git_last_commit_date: 2025-10-29 11:29:49 -0500
nebbiolo2Linux (Ubuntu 24.04.3 LTS) / x86_64  OK    OK    OK  UNNEEDED, same version is already published
taishanLinux (openEuler 24.03 LTS) / aarch64  OK    OK    OK  
Package 93/99HostnameOS / ArchINSTALLBUILDCHECKBUILD BIN
sparrow 1.16.0  (landing page)
Steve Lianoglou
git_last_commit: fc1b95c
git_last_commit_date: 2025-10-29 11:12:41 -0500
nebbiolo2Linux (Ubuntu 24.04.3 LTS) / x86_64  OK    OK    OK  UNNEEDED, same version is already published
taishanLinux (openEuler 24.03 LTS) / aarch64  OK    OK    OK  
Package 94/99HostnameOS / ArchINSTALLBUILDCHECKBUILD BIN
SPONGE 1.32.0  (landing page)
Markus List
git_last_commit: f1371d0
git_last_commit_date: 2025-10-29 10:40:24 -0500
nebbiolo2Linux (Ubuntu 24.04.3 LTS) / x86_64  OK    OK    WARNINGS  UNNEEDED, same version is already published
taishanLinux (openEuler 24.03 LTS) / aarch64  OK    OK    WARNINGS  
Package 95/99HostnameOS / ArchINSTALLBUILDCHECKBUILD BIN
TBSignatureProfiler 1.22.0  (landing page)
Kiloni Quiles
git_last_commit: 376376a
git_last_commit_date: 2025-10-29 10:58:59 -0500
nebbiolo2Linux (Ubuntu 24.04.3 LTS) / x86_64  OK    OK    OK  UNNEEDED, same version is already published
taishanLinux (openEuler 24.03 LTS) / aarch64  OK    OK    OK  
Package 96/99HostnameOS / ArchINSTALLBUILDCHECKBUILD BIN
TMSig 1.4.0  (landing page)
Tyler Sagendorf
git_last_commit: c174939
git_last_commit_date: 2025-10-29 11:33:04 -0500
nebbiolo2Linux (Ubuntu 24.04.3 LTS) / x86_64  OK    OK    OK  UNNEEDED, same version is already published
taishanLinux (openEuler 24.03 LTS) / aarch64  OK    OK    OK  
Package 97/99HostnameOS / ArchINSTALLBUILDCHECKBUILD BIN
ViSEAGO 1.24.0  (landing page)
Aurelien Brionne
git_last_commit: 9020dee
git_last_commit_date: 2025-10-29 10:53:03 -0500
nebbiolo2Linux (Ubuntu 24.04.3 LTS) / x86_64  OK    OK    WARNINGS  UNNEEDED, same version is already published
taishanLinux (openEuler 24.03 LTS) / aarch64  OK    OK    WARNINGS  
Package 98/99HostnameOS / ArchINSTALLBUILDCHECKBUILD BIN
Xeva 1.26.0  (landing page)
Benjamin Haibe-Kains
git_last_commit: 1097e32
git_last_commit_date: 2025-10-29 10:50:21 -0500
nebbiolo2Linux (Ubuntu 24.04.3 LTS) / x86_64  OK    OK    OK  UNNEEDED, same version is already published
taishanLinux (openEuler 24.03 LTS) / aarch64  OK    OK    OK  
Package 99/99HostnameOS / ArchINSTALLBUILDCHECKBUILD BIN
YAPSA 1.36.0  (landing page)
Zuguang Gu
git_last_commit: 568357f
git_last_commit_date: 2025-10-29 10:34:03 -0500
nebbiolo2Linux (Ubuntu 24.04.3 LTS) / x86_64  OK    OK    OK  UNNEEDED, same version is already published
taishanLinux (openEuler 24.03 LTS) / aarch64  OK    OK    OK