Back to Multiple platform build/check report for BioC 3.21:   simplified   long
AB[C]DEFGHIJKLMNOPQRSTUVWXYZ

This page was generated on 2025-10-02 11:37 -0400 (Thu, 02 Oct 2025).

HostnameOSArch (*)R versionInstalled pkgs
nebbiolo1Linux (Ubuntu 24.04.3 LTS)x86_644.5.1 (2025-06-13) -- "Great Square Root" 4831
merida1macOS 12.7.5 Montereyx86_644.5.1 RC (2025-06-05 r88288) -- "Great Square Root" 4612
kjohnson1macOS 13.6.6 Venturaarm644.5.1 Patched (2025-06-14 r88325) -- "Great Square Root" 4553
kunpeng2Linux (openEuler 24.03 LTS)aarch64R Under development (unstable) (2025-02-19 r87757) -- "Unsuffered Consequences" 4584
Click on any hostname to see more info about the system (e.g. compilers)      (*) as reported by 'uname -p', except on Windows and Mac OS X

Package 417/2341HostnameOS / ArchINSTALLBUILDCHECKBUILD BIN
cola 2.14.0  (landing page)
Zuguang Gu
Snapshot Date: 2025-09-29 13:40 -0400 (Mon, 29 Sep 2025)
git_url: https://git.bioconductor.org/packages/cola
git_branch: RELEASE_3_21
git_last_commit: 545c0fe
git_last_commit_date: 2025-04-15 11:40:31 -0400 (Tue, 15 Apr 2025)
nebbiolo1Linux (Ubuntu 24.04.3 LTS) / x86_64  OK    OK    OK  UNNEEDED, same version is already published
merida1macOS 12.7.5 Monterey / x86_64  OK    OK    OK    OK  UNNEEDED, same version is already published
kjohnson1macOS 13.6.6 Ventura / arm64  OK    OK    OK    OK  UNNEEDED, same version is already published
kunpeng2Linux (openEuler 24.03 LTS) / aarch64  OK    OK    OK  


CHECK results for cola on nebbiolo1

To the developers/maintainers of the cola package:
- Allow up to 24 hours (and sometimes 48 hours) for your latest push to git@git.bioconductor.org:packages/cola.git to reflect on this report. See Troubleshooting Build Report for more information.
- Use the following Renviron settings to reproduce errors and warnings.
- If 'R CMD check' started to fail recently on the Linux builder(s) over a missing dependency, add the missing dependency to 'Suggests:' in your DESCRIPTION file. See Renviron.bioc for more information.

raw results


Summary

Package: cola
Version: 2.14.0
Command: /home/biocbuild/bbs-3.21-bioc/R/bin/R CMD check --install=check:cola.install-out.txt --library=/home/biocbuild/bbs-3.21-bioc/R/site-library --timings cola_2.14.0.tar.gz
StartedAt: 2025-10-01 22:00:00 -0400 (Wed, 01 Oct 2025)
EndedAt: 2025-10-01 22:02:56 -0400 (Wed, 01 Oct 2025)
EllapsedTime: 175.1 seconds
RetCode: 0
Status:   OK  
CheckDir: cola.Rcheck
Warnings: 0

Command output

##############################################################################
##############################################################################
###
### Running command:
###
###   /home/biocbuild/bbs-3.21-bioc/R/bin/R CMD check --install=check:cola.install-out.txt --library=/home/biocbuild/bbs-3.21-bioc/R/site-library --timings cola_2.14.0.tar.gz
###
##############################################################################
##############################################################################


* using log directory ‘/home/biocbuild/bbs-3.21-bioc/meat/cola.Rcheck’
* using R version 4.5.1 (2025-06-13)
* using platform: x86_64-pc-linux-gnu
* R was compiled by
    gcc (Ubuntu 13.3.0-6ubuntu2~24.04) 13.3.0
    GNU Fortran (Ubuntu 13.3.0-6ubuntu2~24.04) 13.3.0
* running under: Ubuntu 24.04.3 LTS
* using session charset: UTF-8
* checking for file ‘cola/DESCRIPTION’ ... OK
* checking extension type ... Package
* this is package ‘cola’ version ‘2.14.0’
* checking package namespace information ... OK
* checking package dependencies ... INFO
Imports includes 27 non-default packages.
Importing from so many packages makes the package vulnerable to any of
them becoming unavailable.  Move as many as possible to Suggests and
use conditionally.
* checking if this is a source package ... OK
* checking if there is a namespace ... OK
* checking for hidden files and directories ... OK
* checking for portable file names ... OK
* checking for sufficient/correct file permissions ... OK
* checking whether package ‘cola’ can be installed ... OK
* used C++ compiler: ‘g++ (Ubuntu 13.3.0-6ubuntu2~24.04) 13.3.0’
* checking installed package size ... INFO
  installed size is  6.1Mb
  sub-directories of 1Mb or more:
    data   3.3Mb
    libs   1.1Mb
* checking package directory ... OK
* checking ‘build’ directory ... OK
* checking DESCRIPTION meta-information ... NOTE
License stub is invalid DCF.
* checking top-level files ... OK
* checking for left-over files ... OK
* checking index information ... OK
* checking package subdirectories ... OK
* checking code files for non-ASCII characters ... OK
* checking R files for syntax errors ... OK
* checking whether the package can be loaded ... OK
* checking whether the package can be loaded with stated dependencies ... OK
* checking whether the package can be unloaded cleanly ... OK
* checking whether the namespace can be loaded with stated dependencies ... OK
* checking whether the namespace can be unloaded cleanly ... OK
* checking loading without being on the library search path ... OK
* checking whether startup messages can be suppressed ... OK
* checking dependencies in R code ... OK
* checking S3 generic/method consistency ... OK
* checking replacement functions ... OK
* checking foreign function calls ... OK
* checking R code for possible problems ... OK
* checking Rd files ... OK
* checking Rd metadata ... OK
* checking Rd cross-references ... NOTE
Non-topic package-anchored link(s) in Rd file 'collect_classes-ConsensusPartitionList-method.Rd':
  ‘[ComplexHeatmap:draw-HeatmapList-method]{draw,HeatmapList-method}’

See section 'Cross-references' in the 'Writing R Extensions' manual.

Found the following Rd file(s) with Rd \link{} targets missing package
anchors:
  predict_classes-ConsensusPartition-method.Rd: colorRamp2
  predict_classes-matrix-method.Rd: colorRamp2
Please provide package anchors for all Rd \link{} targets not in the
package itself and the base packages.
* checking for missing documentation entries ... OK
* checking for code/documentation mismatches ... OK
* checking Rd \usage sections ... OK
* checking Rd contents ... OK
* checking for unstated dependencies in examples ... OK
* checking contents of ‘data’ directory ... OK
* checking data for non-ASCII characters ... OK
* checking data for ASCII and uncompressed saves ... OK
* checking line endings in C/C++/Fortran sources/headers ... OK
* checking compiled code ... NOTE
Note: information on .o files is not available
* checking files in ‘vignettes’ ... OK
* checking examples ... OK
Examples with CPU (user + system) or elapsed time > 5s
                                           user system elapsed
consensus_partition                      19.107  0.319  19.426
get_signatures-ConsensusPartition-method  5.027  0.055   5.083
* checking for unstated dependencies in ‘tests’ ... OK
* checking tests ...
  Running ‘test-all.R’
 OK
* checking for unstated dependencies in vignettes ... OK
* checking package vignettes ... OK
* checking re-building of vignette outputs ... OK
* checking PDF version of manual ... OK
* DONE

Status: 3 NOTEs
See
  ‘/home/biocbuild/bbs-3.21-bioc/meat/cola.Rcheck/00check.log’
for details.


Installation output

cola.Rcheck/00install.out

##############################################################################
##############################################################################
###
### Running command:
###
###   /home/biocbuild/bbs-3.21-bioc/R/bin/R CMD INSTALL cola
###
##############################################################################
##############################################################################


* installing to library ‘/home/biocbuild/bbs-3.21-bioc/R/site-library’
* installing *source* package ‘cola’ ...
** this is package ‘cola’ version ‘2.14.0’
** using staged installation
** libs
using C++ compiler: ‘g++ (Ubuntu 13.3.0-6ubuntu2~24.04) 13.3.0’
g++ -std=gnu++17 -I"/home/biocbuild/bbs-3.21-bioc/R/include" -DNDEBUG  -I'/home/biocbuild/bbs-3.21-bioc/R/site-library/Rcpp/include' -I/usr/local/include    -fpic  -g -O2  -Wall -Werror=format-security  -c RcppExports.cpp -o RcppExports.o
g++ -std=gnu++17 -I"/home/biocbuild/bbs-3.21-bioc/R/include" -DNDEBUG  -I'/home/biocbuild/bbs-3.21-bioc/R/site-library/Rcpp/include' -I/usr/local/include    -fpic  -g -O2  -Wall -Werror=format-security  -c atc.cpp -o atc.o
g++ -std=gnu++17 -I"/home/biocbuild/bbs-3.21-bioc/R/include" -DNDEBUG  -I'/home/biocbuild/bbs-3.21-bioc/R/site-library/Rcpp/include' -I/usr/local/include    -fpic  -g -O2  -Wall -Werror=format-security  -c cal_consensus_mat.cpp -o cal_consensus_mat.o
g++ -std=gnu++17 -I"/home/biocbuild/bbs-3.21-bioc/R/include" -DNDEBUG  -I'/home/biocbuild/bbs-3.21-bioc/R/site-library/Rcpp/include' -I/usr/local/include    -fpic  -g -O2  -Wall -Werror=format-security  -c pdist.cpp -o pdist.o
g++ -std=gnu++17 -shared -L/home/biocbuild/bbs-3.21-bioc/R/lib -L/usr/local/lib -o cola.so RcppExports.o atc.o cal_consensus_mat.o pdist.o -L/home/biocbuild/bbs-3.21-bioc/R/lib -lR
installing to /home/biocbuild/bbs-3.21-bioc/R/site-library/00LOCK-cola/00new/cola/libs
** R
** data
** inst
** byte-compile and prepare package for lazy loading
** help
*** installing help indices
** building package indices
** installing vignettes
** testing if installed package can be loaded from temporary location
** checking absolute paths in shared objects and dynamic libraries
** testing if installed package can be loaded from final location
** testing if installed package keeps a record of temporary installation path
* DONE (cola)

Tests output

cola.Rcheck/tests/test-all.Rout


R version 4.5.1 (2025-06-13) -- "Great Square Root"
Copyright (C) 2025 The R Foundation for Statistical Computing
Platform: x86_64-pc-linux-gnu

R is free software and comes with ABSOLUTELY NO WARRANTY.
You are welcome to redistribute it under certain conditions.
Type 'license()' or 'licence()' for distribution details.

R is a collaborative project with many contributors.
Type 'contributors()' for more information and
'citation()' on how to cite R or R packages in publications.

Type 'demo()' for some demos, 'help()' for on-line help, or
'help.start()' for an HTML browser interface to help.
Type 'q()' to quit R.

> library(testthat)
> suppressWarnings(suppressPackageStartupMessages(library(cola)))
> 
> test_check("cola")
[ FAIL 0 | WARN 0 | SKIP 0 | PASS 18 ]
> 
> 
> proc.time()
   user  system elapsed 
  4.031   0.291   4.310 

Example timings

cola.Rcheck/cola-Ex.timings

nameusersystemelapsed
ATC0.0250.0020.027
ATC_approx0.0000.0000.001
ConsensusPartition-class0.0000.0010.000
ConsensusPartitionList-class0.0000.0000.001
DownSamplingConsensusPartition-class000
Extract.ConsensusPartitionList0.4390.0130.452
Extract.HierarchicalPartition0.2460.0100.257
ExtractExtract.ConsensusPartitionList0.1670.0050.172
ExtractExtract.HierarchicalPartition000
FCC0.1720.0070.179
HierarchicalPartition-class000
PAC0.4380.0080.445
aPAC0.1440.0170.161
adjust_matrix0.0050.0030.008
adjust_outlier0.0000.0000.001
all_leaves-HierarchicalPartition-method0.1260.0060.132
all_nodes-HierarchicalPartition-method0.1320.0120.144
all_partition_methods0.0000.0010.001
all_top_value_methods000
cola0.0500.0020.052
cola_opt0.0240.0020.026
cola_report-ConsensusPartition-method000
cola_report-ConsensusPartitionList-method0.0010.0000.001
cola_report-HierarchicalPartition-method000
cola_report-dispatch0.0000.0010.000
cola_rl0.0770.0030.081
collect_classes-ConsensusPartition-method1.9310.1112.043
collect_classes-ConsensusPartitionList-method2.8890.0792.971
collect_classes-HierarchicalPartition-method1.6200.0621.682
collect_classes-dispatch000
collect_plots-ConsensusPartition-method000
collect_plots-ConsensusPartitionList-method0.0000.0010.000
collect_plots-dispatch0.0000.0000.001
collect_stats-ConsensusPartition-method000
collect_stats-ConsensusPartitionList-method0.4370.0230.460
collect_stats-dispatch000
colnames-ConsensusPartition-method000
colnames-ConsensusPartitionList-method0.0000.0000.001
colnames-DownSamplingConsensusPartition-method0.0000.0010.000
colnames-HierarchicalPartition-method000
colnames-dispatch000
compare_partitions-ConsensusPartition-method0.0000.0010.000
compare_signatures-ConsensusPartition-method000
compare_signatures-HierarchicalPartition-method4.3330.2094.543
compare_signatures-dispatch0.0000.0010.000
concordance0.1430.0110.153
config_ATC0.0000.0010.001
consensus_heatmap-ConsensusPartition-method0.5310.0060.538
consensus_partition19.107 0.31919.426
consensus_partition_by_down_sampling0.0000.0010.000
correspond_between_rankings0.0520.0010.054
correspond_between_two_rankings0.0250.0010.026
david_enrichment0.0000.0000.001
dim.ConsensusPartition000
dim.ConsensusPartitionList000
dim.DownSamplingConsensusPartition0.0000.0000.001
dim.HierarchicalPartition0.0000.0010.000
dimension_reduction-ConsensusPartition-method0.6200.0220.643
dimension_reduction-DownSamplingConsensusPartition-method1.0520.0061.059
dimension_reduction-HierarchicalPartition-method0.5390.0060.545
dimension_reduction-dispatch0.0010.0000.000
dimension_reduction-matrix-method0.0000.0000.001
find_best_km000
functional_enrichment-ANY-method000
functional_enrichment-ConsensusPartition-method0.0000.0000.001
functional_enrichment-ConsensusPartitionList-method000
functional_enrichment-HierarchicalPartition-method000
functional_enrichment-dispatch0.0000.0000.001
get_anno-ConsensusPartition-method000
get_anno-ConsensusPartitionList-method0.0010.0000.000
get_anno-DownSamplingConsensusPartition-method0.0820.0010.084
get_anno-HierarchicalPartition-method0.0000.0010.000
get_anno-dispatch000
get_anno_col-ConsensusPartition-method000
get_anno_col-ConsensusPartitionList-method0.0000.0010.000
get_anno_col-HierarchicalPartition-method0.0000.0000.001
get_anno_col-dispatch000
get_children_nodes-HierarchicalPartition-method000
get_classes-ConsensusPartition-method0.1350.0170.152
get_classes-ConsensusPartitionList-method0.1450.0100.155
get_classes-DownSamplingConsensusPartition-method0.0800.0070.087
get_classes-HierarchicalPartition-method0.1350.0060.140
get_classes-dispatch000
get_consensus-ConsensusPartition-method0.1440.0360.181
get_matrix-ConsensusPartition-method0.3310.6090.940
get_matrix-ConsensusPartitionList-method0.3090.6160.926
get_matrix-DownSamplingConsensusPartition-method000
get_matrix-HierarchicalPartition-method0.0000.0000.001
get_matrix-dispatch000
get_membership-ConsensusPartition-method0.1530.0270.180
get_membership-ConsensusPartitionList-method0.1330.0150.147
get_membership-dispatch000
get_param-ConsensusPartition-method0.1590.0140.174
get_signatures-ConsensusPartition-method5.0270.0555.083
get_signatures-DownSamplingConsensusPartition-method000
get_signatures-HierarchicalPartition-method000
get_signatures-dispatch000
get_stats-ConsensusPartition-method0.1450.0060.151
get_stats-ConsensusPartitionList-method0.1410.0070.147
get_stats-dispatch000
golub_cola0.1630.0070.170
golub_cola_ds0.1060.0010.108
golub_cola_rh0.1630.0050.168
hierarchical_partition0.0000.0010.000
is_best_k-ConsensusPartition-method0.1410.0050.146
is_best_k-ConsensusPartitionList-method0.1440.0060.150
is_best_k-dispatch000
is_leaf_node-HierarchicalPartition-method0.1250.0030.129
is_stable_k-ConsensusPartition-method0.1480.0100.157
is_stable_k-ConsensusPartitionList-method0.1420.0120.153
is_stable_k-dispatch000
knee_finder20.0320.0000.032
knitr_add_tab_item0.0000.0000.001
knitr_insert_tabs000
map_to_entrez_id000
max_depth-HierarchicalPartition-method0.1250.0050.130
membership_heatmap-ConsensusPartition-method0.4500.0060.456
merge_node-HierarchicalPartition-method000
merge_node_param0.0000.0000.001
ncol-ConsensusPartition-method000
ncol-ConsensusPartitionList-method000
ncol-DownSamplingConsensusPartition-method0.0000.0000.001
ncol-HierarchicalPartition-method000
ncol-dispatch000
node_info-HierarchicalPartition-method0.0000.0000.001
node_level-HierarchicalPartition-method000
nrow-ConsensusPartition-method000
nrow-ConsensusPartitionList-method000
nrow-HierarchicalPartition-method000
nrow-dispatch0.0000.0010.000
plot_ecdf-ConsensusPartition-method0.1440.0110.155
predict_classes-ConsensusPartition-method0.0000.0000.001
predict_classes-dispatch000
predict_classes-matrix-method000
print.hc_table_suggest_best_k0.0000.0000.001
recalc_stats000
register_NMF000
register_SOM0.0000.0000.001
register_partition_methods0.6700.0010.672
register_top_value_methods0.0010.0000.002
relabel_class0.0090.0010.010
remove_partition_methods000
remove_top_value_methods0.0000.0000.001
rownames-ConsensusPartition-method000
rownames-ConsensusPartitionList-method000
rownames-HierarchicalPartition-method0.0000.0000.001
rownames-dispatch000
run_all_consensus_partition_methods0.0000.0010.000
select_partition_number-ConsensusPartition-method0.1530.0080.161
show-ConsensusPartition-method000
show-ConsensusPartitionList-method0.0000.0010.000
show-DownSamplingConsensusPartition-method0.1090.0010.110
show-HierarchicalPartition-method0.1630.0060.168
show-dispatch000
split_node-HierarchicalPartition-method0.0000.0000.001
suggest_best_k-ConsensusPartition-method0.1410.0060.147
suggest_best_k-ConsensusPartitionList-method0.1460.0080.155
suggest_best_k-HierarchicalPartition-method0.1300.0060.136
suggest_best_k-dispatch0.0010.0000.000
test_between_factors0.0080.0000.008
test_to_known_factors-ConsensusPartition-method0.1550.0100.166
test_to_known_factors-ConsensusPartitionList-method0.2560.0110.267
test_to_known_factors-DownSamplingConsensusPartition-method0.1070.0000.106
test_to_known_factors-HierarchicalPartition-method0.1380.0050.144
test_to_known_factors-dispatch000
top_elements_overlap0.2050.0010.206
top_rows_heatmap-ConsensusPartition-method000
top_rows_heatmap-ConsensusPartitionList-method000
top_rows_heatmap-HierarchicalPartition-method000
top_rows_heatmap-dispatch000
top_rows_heatmap-matrix-method2.8290.1292.941
top_rows_overlap-ConsensusPartitionList-method0.7580.0130.771
top_rows_overlap-HierarchicalPartition-method0.4830.0100.493
top_rows_overlap-dispatch000
top_rows_overlap-matrix-method0.1250.0000.126