| Back to Multiple platform build/check report for BioC 3.22: simplified long |
|
This page was generated on 2025-11-11 12:03 -0500 (Tue, 11 Nov 2025).
| Hostname | OS | Arch (*) | R version | Installed pkgs |
|---|---|---|---|---|
| nebbiolo2 | Linux (Ubuntu 24.04.3 LTS) | x86_64 | 4.5.1 Patched (2025-08-23 r88802) -- "Great Square Root" | 4902 |
| kjohnson3 | macOS 13.7.7 Ventura | arm64 | 4.5.1 Patched (2025-09-10 r88807) -- "Great Square Root" | 4638 |
| Click on any hostname to see more info about the system (e.g. compilers) (*) as reported by 'uname -p', except on Windows and Mac OS X | ||||
| Package 289/2361 | Hostname | OS / Arch | INSTALL | BUILD | CHECK | BUILD BIN | ||||||||
| CatsCradle 1.4.1 (landing page) Michael Shapiro
| nebbiolo2 | Linux (Ubuntu 24.04.3 LTS) / x86_64 | OK | OK | OK | |||||||||
| kjohnson3 | macOS 13.7.7 Ventura / arm64 | OK | OK | OK | OK | |||||||||
|
To the developers/maintainers of the CatsCradle package: - Allow up to 24 hours (and sometimes 48 hours) for your latest push to git@git.bioconductor.org:packages/CatsCradle.git to reflect on this report. See Troubleshooting Build Report for more information. - Use the following Renviron settings to reproduce errors and warnings. - If 'R CMD check' started to fail recently on the Linux builder(s) over a missing dependency, add the missing dependency to 'Suggests:' in your DESCRIPTION file. See Renviron.bioc for more information. |
| Package: CatsCradle |
| Version: 1.4.1 |
| Command: /Library/Frameworks/R.framework/Resources/bin/R CMD check --install=check:CatsCradle.install-out.txt --library=/Library/Frameworks/R.framework/Resources/library --no-vignettes --timings CatsCradle_1.4.1.tar.gz |
| StartedAt: 2025-11-10 19:07:12 -0500 (Mon, 10 Nov 2025) |
| EndedAt: 2025-11-10 19:11:03 -0500 (Mon, 10 Nov 2025) |
| EllapsedTime: 230.8 seconds |
| RetCode: 0 |
| Status: OK |
| CheckDir: CatsCradle.Rcheck |
| Warnings: 0 |
##############################################################################
##############################################################################
###
### Running command:
###
### /Library/Frameworks/R.framework/Resources/bin/R CMD check --install=check:CatsCradle.install-out.txt --library=/Library/Frameworks/R.framework/Resources/library --no-vignettes --timings CatsCradle_1.4.1.tar.gz
###
##############################################################################
##############################################################################
* using log directory ‘/Users/biocbuild/bbs-3.22-bioc/meat/CatsCradle.Rcheck’
* using R version 4.5.1 Patched (2025-09-10 r88807)
* using platform: aarch64-apple-darwin20
* R was compiled by
Apple clang version 16.0.0 (clang-1600.0.26.6)
GNU Fortran (GCC) 14.2.0
* running under: macOS Ventura 13.7.7
* using session charset: UTF-8
* using option ‘--no-vignettes’
* checking for file ‘CatsCradle/DESCRIPTION’ ... OK
* this is package ‘CatsCradle’ version ‘1.4.1’
* package encoding: UTF-8
* checking package namespace information ... OK
* checking package dependencies ... INFO
Imports includes 21 non-default packages.
Importing from so many packages makes the package vulnerable to any of
them becoming unavailable. Move as many as possible to Suggests and
use conditionally.
* checking if this is a source package ... OK
* checking if there is a namespace ... OK
* checking for hidden files and directories ... OK
* checking for portable file names ... OK
* checking for sufficient/correct file permissions ... OK
* checking whether package ‘CatsCradle’ can be installed ... OK
* checking installed package size ... OK
* checking package directory ... OK
* checking ‘build’ directory ... OK
* checking DESCRIPTION meta-information ... OK
* checking top-level files ... OK
* checking for left-over files ... OK
* checking index information ... OK
* checking package subdirectories ... OK
* checking code files for non-ASCII characters ... OK
* checking R files for syntax errors ... OK
* checking whether the package can be loaded ... OK
* checking whether the package can be loaded with stated dependencies ... OK
* checking whether the package can be unloaded cleanly ... OK
* checking whether the namespace can be loaded with stated dependencies ... OK
* checking whether the namespace can be unloaded cleanly ... OK
* checking dependencies in R code ... OK
* checking S3 generic/method consistency ... OK
* checking replacement functions ... OK
* checking foreign function calls ... OK
* checking R code for possible problems ... NOTE
edgeLengthPlot: no visible binding for global variable ‘cellTypePair’
edgeLengthPlot: no visible binding for global variable ‘cutoff’
make.getExample : getExample: no visible binding for global variable
‘seuratGenes’
make.getExample : getExample: no visible binding for global variable
‘seuratCells’
make.getExample : getExample: no visible binding for global variable
‘xeniumCells’
make.getExample : getExample: no visible binding for global variable
‘moransI’
make.getExample : getExample: no visible binding for global variable
‘moransILigandReceptor’
make.getExample : getExample: no visible binding for global variable
‘humanLRN’
make.getExample : getExample: no visible binding for global variable
‘mouseLRN’
meanGeneClusterOnCellUMAP: no visible binding for global variable
‘UMAP_1’
meanGeneClusterOnCellUMAP: no visible binding for global variable
‘UMAP_2’
plotLRDotplot: no visible binding for global variable ‘sender’
plotLRDotplot: no visible binding for global variable ‘negLog10PValue’
plotLRDotplot: no visible binding for global variable ‘receiver’
Undefined global functions or variables:
UMAP_1 UMAP_2 cellTypePair cutoff humanLRN moransI
moransILigandReceptor mouseLRN negLog10PValue receiver sender
seuratCells seuratGenes xeniumCells
* checking Rd files ... OK
* checking Rd metadata ... OK
* checking Rd cross-references ... OK
* checking for missing documentation entries ... OK
* checking for code/documentation mismatches ... OK
* checking Rd \usage sections ... OK
* checking Rd contents ... OK
* checking for unstated dependencies in examples ... OK
* checking contents of ‘data’ directory ... OK
* checking data for non-ASCII characters ... OK
* checking data for ASCII and uncompressed saves ... OK
* checking files in ‘vignettes’ ... OK
* checking examples ... OK
Examples with CPU (user + system) or elapsed time > 5s
user system elapsed
annotateGeneAsVector 18.023 0.179 18.263
computeNBHDVsCTObject 9.291 0.064 9.449
randomiseNodeIndices 6.935 0.138 7.251
getObjectSubsetClusteringPValue 6.015 0.352 6.390
transposeObject 5.009 0.056 5.166
aggregateGeneExpression 4.863 0.145 5.002
* checking for unstated dependencies in vignettes ... OK
* checking package vignettes ... OK
* checking running R code from vignettes ... SKIPPED
* checking re-building of vignette outputs ... SKIPPED
* checking PDF version of manual ... OK
* DONE
Status: 1 NOTE
See
‘/Users/biocbuild/bbs-3.22-bioc/meat/CatsCradle.Rcheck/00check.log’
for details.
CatsCradle.Rcheck/00install.out
############################################################################## ############################################################################## ### ### Running command: ### ### /Library/Frameworks/R.framework/Resources/bin/R CMD INSTALL CatsCradle ### ############################################################################## ############################################################################## * installing to library ‘/Library/Frameworks/R.framework/Versions/4.5-arm64/Resources/library’ * installing *source* package ‘CatsCradle’ ... ** this is package ‘CatsCradle’ version ‘1.4.1’ ** using staged installation ** R ** data ** inst ** byte-compile and prepare package for lazy loading ** help *** installing help indices ** building package indices ** installing vignettes ** testing if installed package can be loaded from temporary location ** testing if installed package can be loaded from final location ** testing if installed package keeps a record of temporary installation path * DONE (CatsCradle)
CatsCradle.Rcheck/CatsCradle-Ex.timings
| name | user | system | elapsed | |
| aggregateGeneExpression | 4.863 | 0.145 | 5.002 | |
| annotateGeneAsVector | 18.023 | 0.179 | 18.263 | |
| annotateGenesByGeneSet | 0.709 | 0.098 | 0.826 | |
| cellTypesPerCellTypeGraphFromCellMatrix | 0.100 | 0.030 | 0.148 | |
| collapseExtendedNBHDs | 0.930 | 0.021 | 0.968 | |
| combinatorialSpheres | 2.633 | 0.024 | 2.668 | |
| computeCellTypesPerCellTypeMatrix | 0.046 | 0.006 | 0.053 | |
| computeEdgeGraph | 0.081 | 0.006 | 0.075 | |
| computeEdgeObject | 0.298 | 0.027 | 0.332 | |
| computeGraphEmbedding | 4.789 | 0.070 | 4.925 | |
| computeNBHDByCTMatrix | 0.042 | 0.003 | 0.045 | |
| computeNBHDVsCTObject | 9.291 | 0.064 | 9.449 | |
| computeNeighbourEnrichment | 0.050 | 0.005 | 0.056 | |
| computeNeighboursDelaunay | 0.037 | 0.003 | 0.040 | |
| computeNeighboursEuclidean | 0.258 | 0.036 | 0.300 | |
| cullEdges | 0.193 | 0.019 | 0.212 | |
| desymmetriseNN | 2.561 | 0.035 | 2.606 | |
| directedHausdorfDistance | 0.000 | 0.000 | 0.001 | |
| edgeCutoffsByClustering | 0.119 | 0.015 | 0.136 | |
| edgeCutoffsByPercentile | 0.107 | 0.012 | 0.118 | |
| edgeCutoffsByWatershed | 0.151 | 0.018 | 0.169 | |
| edgeCutoffsByZScore | 0.103 | 0.005 | 0.108 | |
| edgeLengthPlot | 0.129 | 0.005 | 0.134 | |
| edgeLengthsAndCellTypePairs | 0.101 | 0.005 | 0.106 | |
| exampleObjects | 0 | 0 | 0 | |
| geneSetsVsGeneClustersPValueMatrix | 2.653 | 0.051 | 2.727 | |
| getAverageExpressionDF | 2.527 | 0.039 | 2.573 | |
| getAverageExpressionMatrix | 2.512 | 0.040 | 2.553 | |
| getClusterOrder | 2.468 | 0.052 | 2.589 | |
| getExtendedNBHDs | 0.445 | 0.028 | 0.410 | |
| getFeatureZScores | 0.080 | 0.004 | 0.085 | |
| getGeneClusterAveragesPerCell | 2.493 | 0.040 | 2.551 | |
| getGeneNeighbors | 2.442 | 0.028 | 2.479 | |
| getLigandReceptorNetwork | 0.009 | 0.002 | 0.010 | |
| getLigandReceptorPairsInPanel | 0.038 | 0.003 | 0.040 | |
| getNearbyGenes | 2.588 | 0.033 | 2.642 | |
| getNearestNeighbourLists | 2.472 | 0.039 | 2.550 | |
| getObjectSubsetClusteringPValue | 6.015 | 0.352 | 6.390 | |
| getObjectSubsetClusteringStatistics | 2.610 | 0.062 | 2.678 | |
| make.getExample | 0.037 | 0.003 | 0.041 | |
| makeLRInteractionHeatmap | 0.083 | 0.006 | 0.090 | |
| makeSummedLRInteractionHeatmap | 0.071 | 0.004 | 0.076 | |
| meanGeneClusterOnCellUMAP | 2.438 | 0.046 | 2.486 | |
| meanZPerCluster | 2.461 | 0.021 | 2.484 | |
| meanZPerClusterOnUMAP | 2.447 | 0.024 | 2.502 | |
| medianComplementDistance | 0 | 0 | 0 | |
| medianComplementPValue | 2.558 | 0.050 | 2.610 | |
| nbhdsAsEdgesToNbhdsAsList | 0.372 | 0.086 | 0.469 | |
| neighbourhoodDiameter | 0.347 | 0.067 | 0.414 | |
| performLigandReceptorAnalysis | 0.432 | 0.365 | 0.821 | |
| performLigandReceptorAnalysisPermutation | 0.422 | 0.392 | 0.817 | |
| plotLRDotplot | 0.537 | 0.039 | 0.577 | |
| predictAnnotation | 3.847 | 0.252 | 4.123 | |
| predictAnnotationAllGenes | 3.470 | 0.176 | 3.665 | |
| predictGeneAnnotationImpl | 3.144 | 0.124 | 3.306 | |
| randomiseNodeIndices | 6.935 | 0.138 | 7.251 | |
| runGeometricClusteringTrials | 2.771 | 0.063 | 2.859 | |
| runMoransI | 0.438 | 0.099 | 0.541 | |
| sankeyFromMatrix | 0.002 | 0.001 | 0.001 | |
| symmetriseNN | 2.518 | 0.054 | 2.576 | |
| symmetryCheckNN | 2.546 | 0.019 | 2.595 | |
| tagRowAndColNames | 2.514 | 0.019 | 2.618 | |
| transposeObject | 5.009 | 0.056 | 5.166 | |