Back to Multiple platform build/check report for BioC 3.22:   simplified   long
AB[C]DEFGHIJKLMNOPQRSTUVWXYZ

This page was generated on 2025-10-31 12:05 -0400 (Fri, 31 Oct 2025).

HostnameOSArch (*)R versionInstalled pkgs
nebbiolo2Linux (Ubuntu 24.04.3 LTS)x86_644.5.1 Patched (2025-08-23 r88802) -- "Great Square Root" 4901
lconwaymacOS 12.7.6 Montereyx86_644.5.1 Patched (2025-09-10 r88807) -- "Great Square Root" 4691
kjohnson3macOS 13.7.7 Venturaarm644.5.1 Patched (2025-09-10 r88807) -- "Great Square Root" 4637
Click on any hostname to see more info about the system (e.g. compilers)      (*) as reported by 'uname -p', except on Windows and Mac OS X

Package 273/2361HostnameOS / ArchINSTALLBUILDCHECKBUILD BIN
CAGEr 2.16.0  (landing page)
Charles Plessy
Snapshot Date: 2025-10-30 13:45 -0400 (Thu, 30 Oct 2025)
git_url: https://git.bioconductor.org/packages/CAGEr
git_branch: RELEASE_3_22
git_last_commit: b717389
git_last_commit_date: 2025-10-29 10:13:45 -0400 (Wed, 29 Oct 2025)
nebbiolo2Linux (Ubuntu 24.04.3 LTS) / x86_64  OK    OK    OK  UNNEEDED, same version is already published
lconwaymacOS 12.7.6 Monterey / x86_64  OK    OK    OK    OK  UNNEEDED, same version is already published
kjohnson3macOS 13.7.7 Ventura / arm64  OK    OK    OK    OK  UNNEEDED, same version is already published


CHECK results for CAGEr on kjohnson3

To the developers/maintainers of the CAGEr package:
- Allow up to 24 hours (and sometimes 48 hours) for your latest push to git@git.bioconductor.org:packages/CAGEr.git to reflect on this report. See Troubleshooting Build Report for more information.
- Use the following Renviron settings to reproduce errors and warnings.
- If 'R CMD check' started to fail recently on the Linux builder(s) over a missing dependency, add the missing dependency to 'Suggests:' in your DESCRIPTION file. See Renviron.bioc for more information.

raw results


Summary

Package: CAGEr
Version: 2.16.0
Command: /Library/Frameworks/R.framework/Resources/bin/R CMD check --install=check:CAGEr.install-out.txt --library=/Library/Frameworks/R.framework/Resources/library --no-vignettes --timings CAGEr_2.16.0.tar.gz
StartedAt: 2025-10-30 18:49:33 -0400 (Thu, 30 Oct 2025)
EndedAt: 2025-10-30 18:53:15 -0400 (Thu, 30 Oct 2025)
EllapsedTime: 222.7 seconds
RetCode: 0
Status:   OK  
CheckDir: CAGEr.Rcheck
Warnings: 0

Command output

##############################################################################
##############################################################################
###
### Running command:
###
###   /Library/Frameworks/R.framework/Resources/bin/R CMD check --install=check:CAGEr.install-out.txt --library=/Library/Frameworks/R.framework/Resources/library --no-vignettes --timings CAGEr_2.16.0.tar.gz
###
##############################################################################
##############################################################################


* using log directory ‘/Users/biocbuild/bbs-3.22-bioc/meat/CAGEr.Rcheck’
* using R version 4.5.1 Patched (2025-09-10 r88807)
* using platform: aarch64-apple-darwin20
* R was compiled by
    Apple clang version 16.0.0 (clang-1600.0.26.6)
    GNU Fortran (GCC) 14.2.0
* running under: macOS Ventura 13.7.7
* using session charset: UTF-8
* using option ‘--no-vignettes’
* checking for file ‘CAGEr/DESCRIPTION’ ... OK
* this is package ‘CAGEr’ version ‘2.16.0’
* package encoding: UTF-8
* checking package namespace information ... OK
* checking package dependencies ... INFO
Imports includes 30 non-default packages.
Importing from so many packages makes the package vulnerable to any of
them becoming unavailable.  Move as many as possible to Suggests and
use conditionally.
* checking if this is a source package ... OK
* checking if there is a namespace ... OK
* checking for hidden files and directories ... OK
* checking for portable file names ... OK
* checking for sufficient/correct file permissions ... OK
* checking whether package ‘CAGEr’ can be installed ... OK
* checking installed package size ... OK
* checking package directory ... OK
* checking ‘build’ directory ... OK
* checking DESCRIPTION meta-information ... OK
* checking top-level files ... OK
* checking for left-over files ... OK
* checking index information ... OK
* checking package subdirectories ... OK
* checking code files for non-ASCII characters ... OK
* checking R files for syntax errors ... OK
* checking whether the package can be loaded ... OK
* checking whether the package can be loaded with stated dependencies ... OK
* checking whether the package can be unloaded cleanly ... OK
* checking whether the namespace can be loaded with stated dependencies ... OK
* checking whether the namespace can be unloaded cleanly ... OK
* checking dependencies in R code ... OK
* checking S3 generic/method consistency ... OK
* checking replacement functions ... OK
* checking foreign function calls ... OK
* checking R code for possible problems ... OK
* checking Rd files ... OK
* checking Rd metadata ... OK
* checking Rd cross-references ... OK
* checking for missing documentation entries ... OK
* checking for code/documentation mismatches ... OK
* checking Rd \usage sections ... OK
* checking Rd contents ... OK
* checking for unstated dependencies in examples ... OK
* checking contents of ‘data’ directory ... OK
* checking data for non-ASCII characters ... OK
* checking LazyData ... OK
* checking data for ASCII and uncompressed saves ... OK
* checking files in ‘vignettes’ ... OK
* checking examples ... OK
Examples with CPU (user + system) or elapsed time > 5s
                       user system elapsed
paraclu              12.215  0.018  12.274
exportToTrack        10.375  0.053  10.436
scoreShift            7.099  0.078   7.199
aggregateTagClusters  6.090  0.060   6.166
* checking for unstated dependencies in vignettes ... OK
* checking package vignettes ... OK
* checking running R code from vignettes ... SKIPPED
* checking re-building of vignette outputs ... SKIPPED
* checking PDF version of manual ... OK
* DONE

Status: OK


Installation output

CAGEr.Rcheck/00install.out

##############################################################################
##############################################################################
###
### Running command:
###
###   /Library/Frameworks/R.framework/Resources/bin/R CMD INSTALL CAGEr
###
##############################################################################
##############################################################################


* installing to library ‘/Library/Frameworks/R.framework/Versions/4.5-arm64/Resources/library’
* installing *source* package ‘CAGEr’ ...
** this is package ‘CAGEr’ version ‘2.16.0’
** using staged installation
** R
** data
*** moving datasets to lazyload DB
** inst
** byte-compile and prepare package for lazy loading
** help
*** installing help indices
** building package indices
** installing vignettes
** testing if installed package can be loaded from temporary location
** testing if installed package can be loaded from final location
** testing if installed package keeps a record of temporary installation path
* DONE (CAGEr)

Tests output


Example timings

CAGEr.Rcheck/CAGEr-Ex.timings

nameusersystemelapsed
CAGEexp-class1.8110.2612.097
CAGEr_Multicore1.6340.0131.647
CTSS-class0.0720.0000.073
CTSScoordinates0.0230.0020.025
CTSSnormalizedTpm0.2130.0030.216
CTSStagCount0.1980.0160.215
CTSStoGenes0.1590.0100.171
CustomConsensusClusters1.3800.0061.388
GeneExpDESeq20.1620.0050.167
GeneExpSE0.0010.0000.001
QuantileWidthFunctions0.0430.0010.043
TSSlogo0.7960.0110.811
aggregateTagClusters6.0900.0606.166
annotateCTSS3.5040.0113.519
byCtss0.0060.0000.007
consensusClusters0.0440.0010.044
consensusClustersDESeq20.5420.0010.543
consensusClustersTpm0.0020.0000.002
cumulativeCTSSdistribution1.1740.0241.199
distclu2.6900.0102.707
dot-ctss_summary_for_clusters0.2570.0010.257
exampleCAGEexp000
exportToTrack10.375 0.05310.436
expressionClasses0.5250.0010.526
filteredCTSSidx0.0030.0000.003
flagLowExpCTSS0.0110.0000.011
genomeName0.0000.0000.001
getCTSS0.3470.0060.353
getExpressionProfiles1.6200.0081.644
getShiftingPromoters0.5350.0020.536
hanabi0.0740.0050.079
hanabiPlot0.0860.0060.094
import.CAGEscanMolecule000
import.CTSS0.0240.0010.025
import.bam000
import.bedCTSS000
import.bedScore000
import.bedmolecule000
import.bigwig0.1320.0060.138
importPublicData0.0000.0000.001
inputFiles0.0010.0000.000
inputFilesType000
librarySizes000
mapStats0.0160.0010.016
mergeCAGEsets0.7370.0110.754
mergeSamples0.1850.0020.187
moleculesGR2CTSS0.0390.0000.039
normalizeTagCount0.1860.0030.189
paraclu12.215 0.01812.274
parseCAGEscanBlocksToGrangeTSS0.0070.0000.007
plotAnnot1.0550.0151.078
plotCorrelation0.0740.0020.075
plotExpressionProfiles2.6260.0952.725
plotInterquantileWidth0.7610.0060.781
plotReverseCumulatives0.8650.0090.875
quantilePositions3.7440.0183.768
quickEnhancers000
ranges2annot0.1030.0000.103
ranges2genes0.0180.0000.018
ranges2names0.0180.0000.019
resetCAGEexp0.0940.0010.094
rowSums.RleDataFrame0.0070.0000.007
rowsum.RleDataFrame0.0070.0000.008
sampleLabels0.0010.0010.001
scoreShift7.0990.0787.199
seqNameTotalsSE0.0010.0000.002
setColors0.1300.0020.132
strandInvaders0.2450.0290.275
summariseChrExpr0.1820.0080.190
tagClusters0.1270.0070.134