| Back to Multiple platform build/check report for BioC 3.21: simplified long |
|
This page was generated on 2025-10-16 11:41 -0400 (Thu, 16 Oct 2025).
| Hostname | OS | Arch (*) | R version | Installed pkgs |
|---|---|---|---|---|
| nebbiolo1 | Linux (Ubuntu 24.04.3 LTS) | x86_64 | 4.5.1 (2025-06-13) -- "Great Square Root" | 4833 |
| merida1 | macOS 12.7.6 Monterey | x86_64 | 4.5.1 RC (2025-06-05 r88288) -- "Great Square Root" | 4614 |
| kjohnson1 | macOS 13.7.5 Ventura | arm64 | 4.5.1 Patched (2025-06-14 r88325) -- "Great Square Root" | 4555 |
| kunpeng2 | Linux (openEuler 24.03 LTS) | aarch64 | R Under development (unstable) (2025-02-19 r87757) -- "Unsuffered Consequences" | 4586 |
| Click on any hostname to see more info about the system (e.g. compilers) (*) as reported by 'uname -p', except on Windows and Mac OS X | ||||
| Package 255/2341 | Hostname | OS / Arch | INSTALL | BUILD | CHECK | BUILD BIN | ||||||||
| BulkSignalR 1.0.5 (landing page) Jean-Philippe Villemin
| nebbiolo1 | Linux (Ubuntu 24.04.3 LTS) / x86_64 | OK | OK | OK | |||||||||
| merida1 | macOS 12.7.6 Monterey / x86_64 | OK | OK | OK | OK | |||||||||
| kjohnson1 | macOS 13.7.5 Ventura / arm64 | OK | OK | OK | OK | |||||||||
| kunpeng2 | Linux (openEuler 24.03 LTS) / aarch64 | OK | OK | OK | ||||||||||
|
To the developers/maintainers of the BulkSignalR package: - Allow up to 24 hours (and sometimes 48 hours) for your latest push to git@git.bioconductor.org:packages/BulkSignalR.git to reflect on this report. See Troubleshooting Build Report for more information. - Use the following Renviron settings to reproduce errors and warnings. - If 'R CMD check' started to fail recently on the Linux builder(s) over a missing dependency, add the missing dependency to 'Suggests:' in your DESCRIPTION file. See Renviron.bioc for more information. - See Martin Grigorov's blog post for how to debug Linux ARM64 related issues on a x86_64 host. |
| Package: BulkSignalR |
| Version: 1.0.5 |
| Command: /home/biocbuild/R/R/bin/R CMD check --install=check:BulkSignalR.install-out.txt --library=/home/biocbuild/R/R/site-library --no-vignettes --timings BulkSignalR_1.0.5.tar.gz |
| StartedAt: 2025-10-14 07:04:46 -0000 (Tue, 14 Oct 2025) |
| EndedAt: 2025-10-14 07:14:35 -0000 (Tue, 14 Oct 2025) |
| EllapsedTime: 589.3 seconds |
| RetCode: 0 |
| Status: OK |
| CheckDir: BulkSignalR.Rcheck |
| Warnings: 0 |
##############################################################################
##############################################################################
###
### Running command:
###
### /home/biocbuild/R/R/bin/R CMD check --install=check:BulkSignalR.install-out.txt --library=/home/biocbuild/R/R/site-library --no-vignettes --timings BulkSignalR_1.0.5.tar.gz
###
##############################################################################
##############################################################################
* using log directory ‘/home/biocbuild/bbs-3.21-bioc/meat/BulkSignalR.Rcheck’
* using R Under development (unstable) (2025-02-19 r87757)
* using platform: aarch64-unknown-linux-gnu
* R was compiled by
aarch64-unknown-linux-gnu-gcc (GCC) 14.2.0
GNU Fortran (GCC) 14.2.0
* running under: openEuler 24.03 (LTS-SP1)
* using session charset: UTF-8
* using option ‘--no-vignettes’
* checking for file ‘BulkSignalR/DESCRIPTION’ ... OK
* checking extension type ... Package
* this is package ‘BulkSignalR’ version ‘1.0.5’
* package encoding: UTF-8
* checking package namespace information ... OK
* checking package dependencies ... INFO
Imports includes 26 non-default packages.
Importing from so many packages makes the package vulnerable to any of
them becoming unavailable. Move as many as possible to Suggests and
use conditionally.
* checking if this is a source package ... OK
* checking if there is a namespace ... OK
* checking for hidden files and directories ... OK
* checking for portable file names ... OK
* checking for sufficient/correct file permissions ... OK
* checking whether package ‘BulkSignalR’ can be installed ... OK
* checking installed package size ... OK
* checking package directory ... OK
* checking ‘build’ directory ... OK
* checking DESCRIPTION meta-information ... OK
* checking top-level files ... OK
* checking for left-over files ... OK
* checking index information ... OK
* checking package subdirectories ... OK
* checking code files for non-ASCII characters ... OK
* checking R files for syntax errors ... OK
* checking whether the package can be loaded ... OK
* checking whether the package can be loaded with stated dependencies ... OK
* checking whether the package can be unloaded cleanly ... OK
* checking whether the namespace can be loaded with stated dependencies ... OK
* checking whether the namespace can be unloaded cleanly ... OK
* checking loading without being on the library search path ... OK
* checking whether startup messages can be suppressed ... OK
* checking dependencies in R code ... OK
* checking S3 generic/method consistency ... OK
* checking replacement functions ... OK
* checking foreign function calls ... OK
* checking R code for possible problems ... OK
* checking Rd files ... OK
* checking Rd metadata ... OK
* checking Rd cross-references ... OK
* checking for missing documentation entries ... OK
* checking for code/documentation mismatches ... OK
* checking Rd \usage sections ... OK
* checking Rd contents ... OK
* checking for unstated dependencies in examples ... OK
* checking contents of ‘data’ directory ... OK
* checking data for non-ASCII characters ... OK
* checking data for ASCII and uncompressed saves ... OK
* checking files in ‘vignettes’ ... OK
* checking examples ... OK
Examples with CPU (user + system) or elapsed time > 5s
user system elapsed
simpleHeatmap 8.686 0.407 9.114
spatialAssociationPlot 5.733 0.116 5.864
cacheClear 4.679 0.072 20.302
* checking for unstated dependencies in ‘tests’ ... OK
* checking tests ...
Running ‘testthat.R’
OK
* checking for unstated dependencies in vignettes ... OK
* checking package vignettes ... OK
* checking running R code from vignettes ... SKIPPED
* checking re-building of vignette outputs ... SKIPPED
* checking PDF version of manual ... OK
* DONE
Status: OK
BulkSignalR.Rcheck/00install.out
############################################################################## ############################################################################## ### ### Running command: ### ### /home/biocbuild/R/R/bin/R CMD INSTALL BulkSignalR ### ############################################################################## ############################################################################## * installing to library ‘/home/biocbuild/R/R-devel_2025-02-19/site-library’ * installing *source* package ‘BulkSignalR’ ... ** this is package ‘BulkSignalR’ version ‘1.0.5’ ** using staged installation ** R ** data ** inst ** byte-compile and prepare package for lazy loading ** help *** installing help indices *** copying figures ** building package indices ** installing vignettes ** testing if installed package can be loaded from temporary location ** testing if installed package can be loaded from final location ** testing if installed package keeps a record of temporary installation path * DONE (BulkSignalR)
BulkSignalR.Rcheck/tests/testthat.Rout
R Under development (unstable) (2025-02-19 r87757) -- "Unsuffered Consequences"
Copyright (C) 2025 The R Foundation for Statistical Computing
Platform: aarch64-unknown-linux-gnu
R is free software and comes with ABSOLUTELY NO WARRANTY.
You are welcome to redistribute it under certain conditions.
Type 'license()' or 'licence()' for distribution details.
R is a collaborative project with many contributors.
Type 'contributors()' for more information and
'citation()' on how to cite R or R packages in publications.
Type 'demo()' for some demos, 'help()' for on-line help, or
'help.start()' for an HTML browser interface to help.
Type 'q()' to quit R.
> library(testthat)
> library(BulkSignalR)
Local "resources" are up to date.
> test_check("BulkSignalR")
[ FAIL 0 | WARN 0 | SKIP 0 | PASS 1 ]
>
> proc.time()
user system elapsed
18.950 1.076 21.922
BulkSignalR.Rcheck/BulkSignalR-Ex.timings
| name | user | system | elapsed | |
| BSRClusterComp-class | 0.003 | 0.000 | 0.003 | |
| BSRClusterComp | 0.37 | 0.02 | 0.39 | |
| BSRDataModel-class | 0.061 | 0.008 | 0.069 | |
| BSRDataModel | 0.214 | 0.000 | 0.215 | |
| BSRDataModelComp-class | 0.007 | 0.000 | 0.006 | |
| BSRDataModelComp | 0.201 | 0.000 | 0.201 | |
| BSRInference-class | 0.005 | 0.000 | 0.006 | |
| BSRInference | 4.467 | 0.116 | 4.593 | |
| BSRInferenceComp-class | 0.009 | 0.000 | 0.010 | |
| BSRInferenceComp | 1.790 | 0.084 | 1.879 | |
| BSRSignature-class | 0.002 | 0.000 | 0.003 | |
| BSRSignature | 0.044 | 0.000 | 0.045 | |
| BSRSignatureComp-class | 0.004 | 0.000 | 0.005 | |
| BSRSignatureComp | 0.019 | 0.000 | 0.020 | |
| LRinter | 0.002 | 0.000 | 0.002 | |
| LRinterScore | 0.004 | 0.000 | 0.005 | |
| LRinterShort | 0.001 | 0.004 | 0.005 | |
| addClusterComp | 0.368 | 0.004 | 0.373 | |
| alluvialPlot | 0.825 | 0.008 | 0.835 | |
| assignCellTypesToInteractions | 0.979 | 0.000 | 0.982 | |
| bubblePlotPathwaysLR | 0.728 | 0.000 | 0.730 | |
| cacheClear | 4.679 | 0.072 | 20.302 | |
| cacheInfo | 0.140 | 0.008 | 0.148 | |
| cacheVersion | 0.459 | 0.016 | 1.121 | |
| cellTypeFrequency | 1.067 | 0.012 | 1.082 | |
| cellularNetwork | 0.929 | 0.064 | 0.996 | |
| cellularNetworkTable | 0.973 | 0.059 | 1.035 | |
| chordDiagramLR | 1.926 | 0.064 | 1.996 | |
| coerce | 0.002 | 0.000 | 0.002 | |
| colClusterA | 0.001 | 0.000 | 0.000 | |
| colClusterB | 0 | 0 | 0 | |
| comparison | 0 | 0 | 0 | |
| comparisonName | 0.001 | 0.000 | 0.000 | |
| convertToHuman | 0.219 | 0.044 | 2.327 | |
| createResources | 0.415 | 0.027 | 1.575 | |
| differentialStats | 0.001 | 0.000 | 0.001 | |
| findOrthoGenes | 0.171 | 0.008 | 0.580 | |
| generateSpatialPlots | 2.743 | 0.132 | 2.881 | |
| getLRIntracellNetwork | 3.181 | 0.076 | 3.264 | |
| getLRNetwork | 0.055 | 0.000 | 0.056 | |
| getPathwayStats | 0.019 | 0.004 | 0.023 | |
| getResource | 0.360 | 0.012 | 0.373 | |
| inferenceParameters | 0.001 | 0.000 | 0.000 | |
| initialOrganism | 0.002 | 0.000 | 0.002 | |
| initialOrthologs | 0.002 | 0.000 | 0.002 | |
| learnParameters | 3.834 | 0.115 | 3.959 | |
| ligands | 0.001 | 0.000 | 0.000 | |
| logTransformed | 0.002 | 0.000 | 0.001 | |
| maxLigandSpatialCounts | 0.072 | 0.004 | 0.077 | |
| mu | 0 | 0 | 0 | |
| ncounts | 0.001 | 0.000 | 0.002 | |
| normalization | 0.002 | 0.000 | 0.002 | |
| parameters | 0.001 | 0.000 | 0.002 | |
| pathways | 0 | 0 | 0 | |
| receptors | 0.000 | 0.000 | 0.001 | |
| reduceToBestPathway | 0.134 | 0.004 | 0.138 | |
| reduceToLigand | 0.059 | 0.000 | 0.059 | |
| reduceToPathway | 0.148 | 0.004 | 0.153 | |
| reduceToReceptor | 0.025 | 0.000 | 0.025 | |
| relateToGeneSet | 0.103 | 0.000 | 0.103 | |
| removeClusterComp | 0.385 | 0.004 | 0.390 | |
| rescoreInference | 0.043 | 0.000 | 0.044 | |
| resetLRdb | 0.015 | 0.004 | 0.019 | |
| resetNetwork | 0.010 | 0.000 | 0.009 | |
| resetPathways | 0.347 | 0.016 | 0.364 | |
| resetToInitialOrganism | 0.199 | 0.020 | 0.220 | |
| scoreLRGeneSignatures | 1.689 | 0.148 | 1.843 | |
| scoreSignatures | 0.413 | 0.008 | 0.421 | |
| separatedLRPlot | 2.666 | 0.016 | 2.687 | |
| signatureHeatmaps | 0.021 | 0.000 | 0.021 | |
| simpleHeatmap | 8.686 | 0.407 | 9.114 | |
| smoothSpatialCounts | 0.072 | 0.000 | 0.071 | |
| sourceComparisonName | 0 | 0 | 0 | |
| spatialAssociation | 0.055 | 0.004 | 0.059 | |
| spatialAssociationPlot | 5.733 | 0.116 | 5.864 | |
| spatialDiversityPlot | 1.516 | 0.028 | 1.548 | |
| spatialIndexPlot | 2.211 | 0.000 | 2.217 | |
| spatialPlot | 1.783 | 0.023 | 1.811 | |
| summarizedCellularNetwork | 0.965 | 0.008 | 0.976 | |
| tgCorr | 0.000 | 0.000 | 0.001 | |
| tgExpr | 0 | 0 | 0 | |
| tgGenes | 0 | 0 | 0 | |
| tgLogFC | 0.001 | 0.000 | 0.000 | |
| tgPval | 0 | 0 | 0 | |
| updateInference | 0.100 | 0.004 | 0.105 | |