Back to Multiple platform build/check report for BioC 3.22:   simplified   long
A[B]CDEFGHIJKLMNOPQRSTUVWXYZ

This page was generated on 2025-11-20 12:04 -0500 (Thu, 20 Nov 2025).

HostnameOSArch (*)R versionInstalled pkgs
nebbiolo2Linux (Ubuntu 24.04.3 LTS)x86_644.5.2 (2025-10-31) -- "[Not] Part in a Rumble" 4615
merida1macOS 12.7.6 Montereyx86_644.5.2 Patched (2025-11-05 r88990) -- "[Not] Part in a Rumble" 4610
kjohnson1macOS 13.7.5 Venturaarm644.5.2 Patched (2025-11-04 r88984) -- "[Not] Part in a Rumble" 4598
taishanLinux (openEuler 24.03 LTS)aarch644.5.0 (2025-04-11) -- "How About a Twenty-Six" 4668
Click on any hostname to see more info about the system (e.g. compilers)      (*) as reported by 'uname -p', except on Windows and Mac OS X

Package 260/2361HostnameOS / ArchINSTALLBUILDCHECKBUILD BIN
BulkSignalR 1.2.1  (landing page)
Jean-Philippe Villemin
Snapshot Date: 2025-11-17 13:45 -0500 (Mon, 17 Nov 2025)
git_url: https://git.bioconductor.org/packages/BulkSignalR
git_branch: RELEASE_3_22
git_last_commit: 68e85a5
git_last_commit_date: 2025-11-08 17:25:11 -0500 (Sat, 08 Nov 2025)
nebbiolo2Linux (Ubuntu 24.04.3 LTS) / x86_64  OK    OK    OK  UNNEEDED, same version is already published
merida1macOS 12.7.6 Monterey / x86_64  OK    OK    OK    OK  YES
kjohnson1macOS 13.7.5 Ventura / arm64  OK    OK    OK    OK  UNNEEDED, same version is already published
taishanLinux (openEuler 24.03 LTS) / aarch64  OK    OK    OK  


CHECK results for BulkSignalR on merida1

To the developers/maintainers of the BulkSignalR package:
- Allow up to 24 hours (and sometimes 48 hours) for your latest push to git@git.bioconductor.org:packages/BulkSignalR.git to reflect on this report. See Troubleshooting Build Report for more information.
- Use the following Renviron settings to reproduce errors and warnings.
- If 'R CMD check' started to fail recently on the Linux builder(s) over a missing dependency, add the missing dependency to 'Suggests:' in your DESCRIPTION file. See Renviron.bioc for more information.

raw results


Summary

Package: BulkSignalR
Version: 1.2.1
Command: /Library/Frameworks/R.framework/Resources/bin/R CMD check --install=check:BulkSignalR.install-out.txt --library=/Library/Frameworks/R.framework/Resources/library --no-vignettes --timings BulkSignalR_1.2.1.tar.gz
StartedAt: 2025-11-18 04:41:27 -0500 (Tue, 18 Nov 2025)
EndedAt: 2025-11-18 04:56:26 -0500 (Tue, 18 Nov 2025)
EllapsedTime: 898.8 seconds
RetCode: 0
Status:   OK  
CheckDir: BulkSignalR.Rcheck
Warnings: 0

Command output

##############################################################################
##############################################################################
###
### Running command:
###
###   /Library/Frameworks/R.framework/Resources/bin/R CMD check --install=check:BulkSignalR.install-out.txt --library=/Library/Frameworks/R.framework/Resources/library --no-vignettes --timings BulkSignalR_1.2.1.tar.gz
###
##############################################################################
##############################################################################


* using log directory ‘/Users/biocbuild/bbs-3.22-bioc/meat/BulkSignalR.Rcheck’
* using R version 4.5.2 Patched (2025-11-05 r88990)
* using platform: x86_64-apple-darwin20
* R was compiled by
    Apple clang version 14.0.0 (clang-1400.0.29.202)
    GNU Fortran (GCC) 14.2.0
* running under: macOS Monterey 12.7.6
* using session charset: UTF-8
* using option ‘--no-vignettes’
* checking for file ‘BulkSignalR/DESCRIPTION’ ... OK
* checking extension type ... Package
* this is package ‘BulkSignalR’ version ‘1.2.1’
* package encoding: UTF-8
* checking package namespace information ... OK
* checking package dependencies ... INFO
Imports includes 26 non-default packages.
Importing from so many packages makes the package vulnerable to any of
them becoming unavailable.  Move as many as possible to Suggests and
use conditionally.
* checking if this is a source package ... OK
* checking if there is a namespace ... OK
* checking for hidden files and directories ... OK
* checking for portable file names ... OK
* checking for sufficient/correct file permissions ... OK
* checking whether package ‘BulkSignalR’ can be installed ... OK
* checking installed package size ... OK
* checking package directory ... OK
* checking ‘build’ directory ... OK
* checking DESCRIPTION meta-information ... OK
* checking top-level files ... OK
* checking for left-over files ... OK
* checking index information ... OK
* checking package subdirectories ... OK
* checking code files for non-ASCII characters ... OK
* checking R files for syntax errors ... OK
* checking whether the package can be loaded ... OK
* checking whether the package can be loaded with stated dependencies ... OK
* checking whether the package can be unloaded cleanly ... OK
* checking whether the namespace can be loaded with stated dependencies ... OK
* checking whether the namespace can be unloaded cleanly ... OK
* checking whether startup messages can be suppressed ... OK
* checking dependencies in R code ... OK
* checking S3 generic/method consistency ... OK
* checking replacement functions ... OK
* checking foreign function calls ... OK
* checking R code for possible problems ... OK
* checking Rd files ... OK
* checking Rd metadata ... OK
* checking Rd cross-references ... OK
* checking for missing documentation entries ... OK
* checking for code/documentation mismatches ... OK
* checking Rd \usage sections ... OK
* checking Rd contents ... OK
* checking for unstated dependencies in examples ... OK
* checking contents of ‘data’ directory ... OK
* checking data for non-ASCII characters ... OK
* checking data for ASCII and uncompressed saves ... OK
* checking files in ‘vignettes’ ... OK
* checking examples ... OK
Examples with CPU (user + system) or elapsed time > 5s
                         user system elapsed
simpleHeatmap          11.387  0.643  12.643
spatialAssociationPlot  9.590  0.116   9.820
BSRInference            6.481  0.197   6.722
learnParameters         5.614  0.030   5.685
cacheClear              5.133  0.327   9.754
convertToHuman          0.398  0.020  54.124
findOrthoGenes          0.331  0.006  17.311
* checking for unstated dependencies in ‘tests’ ... OK
* checking tests ...
  Running ‘testthat.R’
 OK
* checking for unstated dependencies in vignettes ... OK
* checking package vignettes ... OK
* checking running R code from vignettes ... SKIPPED
* checking re-building of vignette outputs ... SKIPPED
* checking PDF version of manual ... OK
* DONE

Status: OK


Installation output

BulkSignalR.Rcheck/00install.out

##############################################################################
##############################################################################
###
### Running command:
###
###   /Library/Frameworks/R.framework/Resources/bin/R CMD INSTALL BulkSignalR
###
##############################################################################
##############################################################################


* installing to library ‘/Library/Frameworks/R.framework/Versions/4.5-x86_64/Resources/library’
* installing *source* package ‘BulkSignalR’ ...
** this is package ‘BulkSignalR’ version ‘1.2.1’
** using staged installation
** R
** data
** inst
** byte-compile and prepare package for lazy loading
** help
*** installing help indices
*** copying figures
** building package indices
** installing vignettes
** testing if installed package can be loaded from temporary location
ℹ /Users/biocbuild/Library/Caches/org.R-project.R/R/BulkSignalR is corrupted. It will be deleted and downloaded again.

ℹ "GO-BP" added to cache with success.

ℹ "Reactome" added to cache with success.

ℹ "Network" added to cache with success.

ℹ "LRdb" added to cache with success.
** testing if installed package can be loaded from final location
** testing if installed package keeps a record of temporary installation path
* DONE (BulkSignalR)

Tests output

BulkSignalR.Rcheck/tests/testthat.Rout


R version 4.5.2 Patched (2025-11-05 r88990) -- "[Not] Part in a Rumble"
Copyright (C) 2025 The R Foundation for Statistical Computing
Platform: x86_64-apple-darwin20

R is free software and comes with ABSOLUTELY NO WARRANTY.
You are welcome to redistribute it under certain conditions.
Type 'license()' or 'licence()' for distribution details.

R is a collaborative project with many contributors.
Type 'contributors()' for more information and
'citation()' on how to cite R or R packages in publications.

Type 'demo()' for some demos, 'help()' for on-line help, or
'help.start()' for an HTML browser interface to help.
Type 'q()' to quit R.

> library(testthat)
> library(BulkSignalR)
Local "resources" are up to date.

> test_check("BulkSignalR")
[ FAIL 0 | WARN 0 | SKIP 0 | PASS 1 ]
> 
> proc.time()
   user  system elapsed 
 28.340   1.597  37.923 

Example timings

BulkSignalR.Rcheck/BulkSignalR-Ex.timings

nameusersystemelapsed
BSRClusterComp-class0.0040.0010.005
BSRClusterComp0.5050.0260.537
BSRDataModel-class0.0590.0080.067
BSRDataModel0.3100.0060.319
BSRDataModelComp-class0.0100.0010.011
BSRDataModelComp0.2850.0060.294
BSRInference-class0.0090.0010.009
BSRInference6.4810.1976.722
BSRInferenceComp-class0.0160.0010.016
BSRInferenceComp2.7700.1263.177
BSRSignature-class0.0040.0010.005
BSRSignature0.0890.0060.104
BSRSignatureComp-class0.0090.0010.010
BSRSignatureComp0.0340.0050.040
LRinter0.0040.0010.005
LRinterScore0.0080.0050.013
LRinterShort0.0070.0050.012
addClusterComp0.4160.0220.454
alluvialPlot1.3070.0321.414
assignCellTypesToInteractions1.7440.0491.850
bubblePlotPathwaysLR1.2170.0131.247
cacheClear5.1330.3279.754
cacheInfo0.1760.0090.185
cacheVersion0.4730.0440.943
cellTypeFrequency1.8020.0511.938
cellularNetwork1.6210.0321.801
cellularNetworkTable1.6190.0291.873
chordDiagramLR3.1560.0683.791
coerce0.0030.0010.004
colClusterA0.0000.0010.001
colClusterB0.0000.0000.001
comparison0.0000.0000.002
comparisonName0.0010.0000.002
convertToHuman 0.398 0.02054.124
createResources0.4840.0531.359
differentialStats0.0020.0010.002
findOrthoGenes 0.331 0.00617.311
generateSpatialPlots4.6280.0744.728
getLRIntracellNetwork3.6400.1993.863
getLRNetwork0.0860.0060.092
getPathwayStats0.0340.0050.039
getResource0.5220.0240.551
inferenceParameters0.0000.0010.001
initialOrganism0.0030.0010.003
initialOrthologs0.0020.0010.003
learnParameters5.6140.0305.685
ligands0.0000.0000.001
logTransformed0.0030.0000.003
maxLigandSpatialCounts0.1070.0080.119
mu0.0010.0000.001
ncounts0.0030.0000.003
normalization0.0030.0010.004
parameters0.0030.0000.003
pathways0.0000.0010.000
receptors0.0010.0000.001
reduceToBestPathway0.2590.0170.278
reduceToLigand0.1020.0120.115
reduceToPathway0.2060.0120.221
reduceToReceptor0.0380.0110.049
relateToGeneSet0.1670.0130.182
removeClusterComp0.4180.0120.433
rescoreInference0.0570.0160.074
resetLRdb0.0540.0010.055
resetNetwork0.0160.0010.017
resetPathways0.5390.0230.571
resetToInitialOrganism0.3210.0080.335
scoreLRGeneSignatures2.1140.0602.202
scoreSignatures0.7200.0150.742
separatedLRPlot4.4240.0754.659
signatureHeatmaps0.0330.0120.052
simpleHeatmap11.387 0.64312.643
smoothSpatialCounts0.1170.0120.131
sourceComparisonName0.0000.0000.001
spatialAssociation0.1100.0250.135
spatialAssociationPlot9.5900.1169.820
spatialDiversityPlot2.5620.0522.678
spatialIndexPlot3.8130.0693.918
spatialPlot3.0900.0593.175
summarizedCellularNetwork1.6550.0361.707
tgCorr0.0000.0010.001
tgExpr0.0010.0000.001
tgGenes0.0010.0010.001
tgLogFC0.0000.0010.001
tgPval0.0010.0000.001
updateInference0.1710.0180.190