Back to Multiple platform build/check report for BioC 3.21:   simplified   long
A[B]CDEFGHIJKLMNOPQRSTUVWXYZ

This page was generated on 2025-10-16 11:41 -0400 (Thu, 16 Oct 2025).

HostnameOSArch (*)R versionInstalled pkgs
nebbiolo1Linux (Ubuntu 24.04.3 LTS)x86_644.5.1 (2025-06-13) -- "Great Square Root" 4833
merida1macOS 12.7.6 Montereyx86_644.5.1 RC (2025-06-05 r88288) -- "Great Square Root" 4614
kjohnson1macOS 13.7.5 Venturaarm644.5.1 Patched (2025-06-14 r88325) -- "Great Square Root" 4555
kunpeng2Linux (openEuler 24.03 LTS)aarch64R Under development (unstable) (2025-02-19 r87757) -- "Unsuffered Consequences" 4586
Click on any hostname to see more info about the system (e.g. compilers)      (*) as reported by 'uname -p', except on Windows and Mac OS X

Package 195/2341HostnameOS / ArchINSTALLBUILDCHECKBUILD BIN
BiocPkgTools 1.26.4  (landing page)
Sean Davis
Snapshot Date: 2025-10-13 13:40 -0400 (Mon, 13 Oct 2025)
git_url: https://git.bioconductor.org/packages/BiocPkgTools
git_branch: RELEASE_3_21
git_last_commit: d5a2d37
git_last_commit_date: 2025-09-10 15:22:18 -0400 (Wed, 10 Sep 2025)
nebbiolo1Linux (Ubuntu 24.04.3 LTS) / x86_64  OK    OK    OK  UNNEEDED, same version is already published
merida1macOS 12.7.6 Monterey / x86_64  OK    OK    OK    OK  UNNEEDED, same version is already published
kjohnson1macOS 13.7.5 Ventura / arm64  OK    OK    OK    OK  UNNEEDED, same version is already published
kunpeng2Linux (openEuler 24.03 LTS) / aarch64  OK    OK    OK  


CHECK results for BiocPkgTools on kunpeng2

To the developers/maintainers of the BiocPkgTools package:
- Allow up to 24 hours (and sometimes 48 hours) for your latest push to git@git.bioconductor.org:packages/BiocPkgTools.git to reflect on this report. See Troubleshooting Build Report for more information.
- Use the following Renviron settings to reproduce errors and warnings.
- If 'R CMD check' started to fail recently on the Linux builder(s) over a missing dependency, add the missing dependency to 'Suggests:' in your DESCRIPTION file. See Renviron.bioc for more information.
- See Martin Grigorov's blog post for how to debug Linux ARM64 related issues on a x86_64 host.

raw results


Summary

Package: BiocPkgTools
Version: 1.26.4
Command: /home/biocbuild/R/R/bin/R CMD check --install=check:BiocPkgTools.install-out.txt --library=/home/biocbuild/R/R/site-library --no-vignettes --timings BiocPkgTools_1.26.4.tar.gz
StartedAt: 2025-10-14 06:43:27 -0000 (Tue, 14 Oct 2025)
EndedAt: 2025-10-14 07:04:29 -0000 (Tue, 14 Oct 2025)
EllapsedTime: 1261.8 seconds
RetCode: 0
Status:   OK  
CheckDir: BiocPkgTools.Rcheck
Warnings: 0

Command output

##############################################################################
##############################################################################
###
### Running command:
###
###   /home/biocbuild/R/R/bin/R CMD check --install=check:BiocPkgTools.install-out.txt --library=/home/biocbuild/R/R/site-library --no-vignettes --timings BiocPkgTools_1.26.4.tar.gz
###
##############################################################################
##############################################################################


* using log directory ‘/home/biocbuild/bbs-3.21-bioc/meat/BiocPkgTools.Rcheck’
* using R Under development (unstable) (2025-02-19 r87757)
* using platform: aarch64-unknown-linux-gnu
* R was compiled by
    aarch64-unknown-linux-gnu-gcc (GCC) 14.2.0
    GNU Fortran (GCC) 14.2.0
* running under: openEuler 24.03 (LTS-SP1)
* using session charset: UTF-8
* using option ‘--no-vignettes’
* checking for file ‘BiocPkgTools/DESCRIPTION’ ... OK
* checking extension type ... Package
* this is package ‘BiocPkgTools’ version ‘1.26.4’
* package encoding: UTF-8
* checking package namespace information ... OK
* checking package dependencies ... INFO
Imports includes 25 non-default packages.
Importing from so many packages makes the package vulnerable to any of
them becoming unavailable.  Move as many as possible to Suggests and
use conditionally.
* checking if this is a source package ... OK
* checking if there is a namespace ... OK
* checking for hidden files and directories ... OK
* checking for portable file names ... OK
* checking for sufficient/correct file permissions ... OK
* checking whether package ‘BiocPkgTools’ can be installed ... OK
* checking installed package size ... OK
* checking package directory ... OK
* checking ‘build’ directory ... OK
* checking DESCRIPTION meta-information ... NOTE
License stub is invalid DCF.
* checking top-level files ... OK
* checking for left-over files ... OK
* checking index information ... OK
* checking package subdirectories ... OK
* checking code files for non-ASCII characters ... OK
* checking R files for syntax errors ... OK
* checking whether the package can be loaded ... OK
* checking whether the package can be loaded with stated dependencies ... OK
* checking whether the package can be unloaded cleanly ... OK
* checking whether the namespace can be loaded with stated dependencies ... OK
* checking whether the namespace can be unloaded cleanly ... OK
* checking loading without being on the library search path ... OK
* checking dependencies in R code ... NOTE
Unexported objects imported by ':::' calls:
  ‘BiocManager:::.repositories’ ‘BiocManager:::.repositories_bioc’
  ‘BiocManager:::.repository_container_version’
  ‘BiocManager:::.version_bioc’
  See the note in ?`:::` about the use of this operator.
* checking S3 generic/method consistency ... OK
* checking replacement functions ... OK
* checking foreign function calls ... OK
* checking R code for possible problems ... OK
* checking Rd files ... OK
* checking Rd metadata ... OK
* checking Rd cross-references ... OK
* checking for missing documentation entries ... OK
* checking for code/documentation mismatches ... OK
* checking Rd \usage sections ... OK
* checking Rd contents ... OK
* checking for unstated dependencies in examples ... OK
* checking files in ‘vignettes’ ... OK
* checking examples ... OK
Examples with CPU (user + system) or elapsed time > 5s
                              user  system elapsed
biocDownloadStats            3.332 181.249 631.576
pkgCombDependencyGain       16.365   0.963  27.617
biocBuildReport              8.446   4.930  30.971
class-dependencies           9.357   0.380   9.768
pkgDepMetrics                9.390   0.335  20.240
inducedSubgraphByPkgs        4.799   0.026   9.928
get_bioc_data                4.418   0.202 120.314
firstInBioc                  3.948   0.089 118.933
biocMaintained               3.454   0.193   9.781
buildPkgDependencyDataFrame  3.330   0.169  19.388
anacondaDownloadStats        2.616   0.238   9.982
biocRevDepEmail              2.615   0.139  13.091
githubURLParts               2.240   0.333   5.205
pkgDownloadRank              1.955   0.085   9.438
buildPkgDependencyIgraph     1.673   0.259   5.892
githubDetails                1.841   0.059   5.803
getBiocVignette              1.415   0.244   6.332
* checking for unstated dependencies in ‘tests’ ... OK
* checking tests ...
  Running ‘testthat.R’
 OK
* checking for unstated dependencies in vignettes ... OK
* checking package vignettes ... OK
* checking running R code from vignettes ... SKIPPED
* checking re-building of vignette outputs ... SKIPPED
* checking PDF version of manual ... OK
* DONE

Status: 2 NOTEs
See
  ‘/home/biocbuild/bbs-3.21-bioc/meat/BiocPkgTools.Rcheck/00check.log’
for details.


Installation output

BiocPkgTools.Rcheck/00install.out

##############################################################################
##############################################################################
###
### Running command:
###
###   /home/biocbuild/R/R/bin/R CMD INSTALL BiocPkgTools
###
##############################################################################
##############################################################################


* installing to library ‘/home/biocbuild/R/R-devel_2025-02-19/site-library’
* installing *source* package ‘BiocPkgTools’ ...
** this is package ‘BiocPkgTools’ version ‘1.26.4’
** using staged installation
** R
** inst
** byte-compile and prepare package for lazy loading
** help
*** installing help indices
** building package indices
** installing vignettes
** testing if installed package can be loaded from temporary location
** testing if installed package can be loaded from final location
** testing if installed package keeps a record of temporary installation path
* DONE (BiocPkgTools)

Tests output

BiocPkgTools.Rcheck/tests/testthat.Rout


R Under development (unstable) (2025-02-19 r87757) -- "Unsuffered Consequences"
Copyright (C) 2025 The R Foundation for Statistical Computing
Platform: aarch64-unknown-linux-gnu

R is free software and comes with ABSOLUTELY NO WARRANTY.
You are welcome to redistribute it under certain conditions.
Type 'license()' or 'licence()' for distribution details.

R is a collaborative project with many contributors.
Type 'contributors()' for more information and
'citation()' on how to cite R or R packages in publications.

Type 'demo()' for some demos, 'help()' for on-line help, or
'help.start()' for an HTML browser interface to help.
Type 'q()' to quit R.

> library(testthat)
> library(BiocPkgTools)
Loading required package: htmlwidgets
> 
> test_check("BiocPkgTools")
trying URL 'https://bioconductor.org/packages/3.21/bioc/vignettes/a4/inst/doc/a4vignette.pdf'
Content type 'application/pdf' length 1397541 bytes (1.3 MB)
==================================================
downloaded 1.3 MB

[ FAIL 0 | WARN 2 | SKIP 0 | PASS 27 ]

[ FAIL 0 | WARN 2 | SKIP 0 | PASS 27 ]
> 
> proc.time()
   user  system elapsed 
 34.815   5.894  59.970 

Example timings

BiocPkgTools.Rcheck/BiocPkgTools-Ex.timings

nameusersystemelapsed
activitySince0.0010.0000.000
anacondaDownloadStats2.6160.2389.982
biocBuildReport 8.446 4.93030.971
biocDownloadStats 3.332181.249631.576
biocMaintained3.4540.1939.781
biocPkgList1.5370.1394.279
biocPkgRanges0.0010.0000.000
biocRevDepEmail 2.615 0.13913.091
buildPkgDependencyDataFrame 3.330 0.16919.388
buildPkgDependencyIgraph1.6730.2595.892
class-dependencies9.3570.3809.768
firstInBioc 3.948 0.089118.933
generateBiocPkgDOI000
getBiocVignette1.4150.2446.332
getPkgYearsInBioc0.0010.0000.001
get_bioc_data 4.418 0.202120.314
get_cre_orcids0.0150.0000.015
githubDetails1.8410.0595.803
githubURLParts2.2400.3335.205
inducedSubgraphByPkgs4.7990.0269.928
latestPkgStats000
orcid_table0.0000.0000.001
pkgBiocDeps1.7870.0411.833
pkgBiocRevDeps2.6070.0682.682
pkgCombDependencyGain16.365 0.96327.617
pkgDepImports0.2540.0000.256
pkgDepMetrics 9.390 0.33520.240
pkgDownloadRank1.9550.0859.438
pkgDownloadStats0.0510.0100.565
problemPage0.0000.0010.000
repositoryStats1.1320.1811.317
subgraphByDegree1.3970.0573.873