Back to Multiple platform build/check report for BioC 3.21:   simplified   long
A[B]CDEFGHIJKLMNOPQRSTUVWXYZ

This page was generated on 2025-10-16 11:37 -0400 (Thu, 16 Oct 2025).

HostnameOSArch (*)R versionInstalled pkgs
nebbiolo1Linux (Ubuntu 24.04.3 LTS)x86_644.5.1 (2025-06-13) -- "Great Square Root" 4833
merida1macOS 12.7.6 Montereyx86_644.5.1 RC (2025-06-05 r88288) -- "Great Square Root" 4614
kjohnson1macOS 13.7.5 Venturaarm644.5.1 Patched (2025-06-14 r88325) -- "Great Square Root" 4555
kunpeng2Linux (openEuler 24.03 LTS)aarch64R Under development (unstable) (2025-02-19 r87757) -- "Unsuffered Consequences" 4586
Click on any hostname to see more info about the system (e.g. compilers)      (*) as reported by 'uname -p', except on Windows and Mac OS X

Package 195/2341HostnameOS / ArchINSTALLBUILDCHECKBUILD BIN
BiocPkgTools 1.26.4  (landing page)
Sean Davis
Snapshot Date: 2025-10-13 13:40 -0400 (Mon, 13 Oct 2025)
git_url: https://git.bioconductor.org/packages/BiocPkgTools
git_branch: RELEASE_3_21
git_last_commit: d5a2d37
git_last_commit_date: 2025-09-10 15:22:18 -0400 (Wed, 10 Sep 2025)
nebbiolo1Linux (Ubuntu 24.04.3 LTS) / x86_64  OK    OK    OK  UNNEEDED, same version is already published
merida1macOS 12.7.6 Monterey / x86_64  OK    OK    OK    OK  UNNEEDED, same version is already published
kjohnson1macOS 13.7.5 Ventura / arm64  OK    OK    OK    OK  UNNEEDED, same version is already published
kunpeng2Linux (openEuler 24.03 LTS) / aarch64  OK    OK    OK  


CHECK results for BiocPkgTools on nebbiolo1

To the developers/maintainers of the BiocPkgTools package:
- Allow up to 24 hours (and sometimes 48 hours) for your latest push to git@git.bioconductor.org:packages/BiocPkgTools.git to reflect on this report. See Troubleshooting Build Report for more information.
- Use the following Renviron settings to reproduce errors and warnings.
- If 'R CMD check' started to fail recently on the Linux builder(s) over a missing dependency, add the missing dependency to 'Suggests:' in your DESCRIPTION file. See Renviron.bioc for more information.

raw results


Summary

Package: BiocPkgTools
Version: 1.26.4
Command: /home/biocbuild/bbs-3.21-bioc/R/bin/R CMD check --install=check:BiocPkgTools.install-out.txt --library=/home/biocbuild/bbs-3.21-bioc/R/site-library --timings BiocPkgTools_1.26.4.tar.gz
StartedAt: 2025-10-15 21:11:44 -0400 (Wed, 15 Oct 2025)
EndedAt: 2025-10-15 21:25:00 -0400 (Wed, 15 Oct 2025)
EllapsedTime: 795.1 seconds
RetCode: 0
Status:   OK  
CheckDir: BiocPkgTools.Rcheck
Warnings: 0

Command output

##############################################################################
##############################################################################
###
### Running command:
###
###   /home/biocbuild/bbs-3.21-bioc/R/bin/R CMD check --install=check:BiocPkgTools.install-out.txt --library=/home/biocbuild/bbs-3.21-bioc/R/site-library --timings BiocPkgTools_1.26.4.tar.gz
###
##############################################################################
##############################################################################


* using log directory ‘/home/biocbuild/bbs-3.21-bioc/meat/BiocPkgTools.Rcheck’
* using R version 4.5.1 (2025-06-13)
* using platform: x86_64-pc-linux-gnu
* R was compiled by
    gcc (Ubuntu 13.3.0-6ubuntu2~24.04) 13.3.0
    GNU Fortran (Ubuntu 13.3.0-6ubuntu2~24.04) 13.3.0
* running under: Ubuntu 24.04.3 LTS
* using session charset: UTF-8
* checking for file ‘BiocPkgTools/DESCRIPTION’ ... OK
* checking extension type ... Package
* this is package ‘BiocPkgTools’ version ‘1.26.4’
* package encoding: UTF-8
* checking package namespace information ... OK
* checking package dependencies ... INFO
Imports includes 25 non-default packages.
Importing from so many packages makes the package vulnerable to any of
them becoming unavailable.  Move as many as possible to Suggests and
use conditionally.
* checking if this is a source package ... OK
* checking if there is a namespace ... OK
* checking for hidden files and directories ... OK
* checking for portable file names ... OK
* checking for sufficient/correct file permissions ... OK
* checking whether package ‘BiocPkgTools’ can be installed ... OK
* checking installed package size ... OK
* checking package directory ... OK
* checking ‘build’ directory ... OK
* checking DESCRIPTION meta-information ... NOTE
License stub is invalid DCF.
* checking top-level files ... OK
* checking for left-over files ... OK
* checking index information ... OK
* checking package subdirectories ... OK
* checking code files for non-ASCII characters ... OK
* checking R files for syntax errors ... OK
* checking whether the package can be loaded ... OK
* checking whether the package can be loaded with stated dependencies ... OK
* checking whether the package can be unloaded cleanly ... OK
* checking whether the namespace can be loaded with stated dependencies ... OK
* checking whether the namespace can be unloaded cleanly ... OK
* checking loading without being on the library search path ... OK
* checking dependencies in R code ... NOTE
Unexported objects imported by ':::' calls:
  ‘BiocManager:::.repositories’ ‘BiocManager:::.repositories_bioc’
  ‘BiocManager:::.repository_container_version’
  ‘BiocManager:::.version_bioc’
  See the note in ?`:::` about the use of this operator.
* checking S3 generic/method consistency ... OK
* checking replacement functions ... OK
* checking foreign function calls ... OK
* checking R code for possible problems ... OK
* checking Rd files ... OK
* checking Rd metadata ... OK
* checking Rd cross-references ... OK
* checking for missing documentation entries ... OK
* checking for code/documentation mismatches ... OK
* checking Rd \usage sections ... OK
* checking Rd contents ... OK
* checking for unstated dependencies in examples ... OK
* checking files in ‘vignettes’ ... OK
* checking examples ... OK
Examples with CPU (user + system) or elapsed time > 5s
                        user system elapsed
biocBuildReport       10.774  5.223  13.458
pkgCombDependencyGain 12.551  0.720  21.988
pkgDepMetrics          7.203  0.815  16.304
class-dependencies     6.361  0.288   6.651
get_bioc_data          3.902  0.255 112.406
firstInBioc            3.225  0.245 110.722
biocDownloadStats      2.908  0.270 112.457
* checking for unstated dependencies in ‘tests’ ... OK
* checking tests ...
  Running ‘testthat.R’
 OK
* checking for unstated dependencies in vignettes ... OK
* checking package vignettes ... OK
* checking re-building of vignette outputs ... OK
* checking PDF version of manual ... OK
* DONE

Status: 2 NOTEs
See
  ‘/home/biocbuild/bbs-3.21-bioc/meat/BiocPkgTools.Rcheck/00check.log’
for details.


Installation output

BiocPkgTools.Rcheck/00install.out

##############################################################################
##############################################################################
###
### Running command:
###
###   /home/biocbuild/bbs-3.21-bioc/R/bin/R CMD INSTALL BiocPkgTools
###
##############################################################################
##############################################################################


* installing to library ‘/home/biocbuild/bbs-3.21-bioc/R/site-library’
* installing *source* package ‘BiocPkgTools’ ...
** this is package ‘BiocPkgTools’ version ‘1.26.4’
** using staged installation
** R
** inst
** byte-compile and prepare package for lazy loading
** help
*** installing help indices
** building package indices
** installing vignettes
** testing if installed package can be loaded from temporary location
** testing if installed package can be loaded from final location
** testing if installed package keeps a record of temporary installation path
* DONE (BiocPkgTools)

Tests output

BiocPkgTools.Rcheck/tests/testthat.Rout


R version 4.5.1 (2025-06-13) -- "Great Square Root"
Copyright (C) 2025 The R Foundation for Statistical Computing
Platform: x86_64-pc-linux-gnu

R is free software and comes with ABSOLUTELY NO WARRANTY.
You are welcome to redistribute it under certain conditions.
Type 'license()' or 'licence()' for distribution details.

R is a collaborative project with many contributors.
Type 'contributors()' for more information and
'citation()' on how to cite R or R packages in publications.

Type 'demo()' for some demos, 'help()' for on-line help, or
'help.start()' for an HTML browser interface to help.
Type 'q()' to quit R.

> library(testthat)
> library(BiocPkgTools)
Loading required package: htmlwidgets
> 
> test_check("BiocPkgTools")
trying URL 'https://bioconductor.org/packages/3.21/bioc/vignettes/a4/inst/doc/a4vignette.pdf'
Content type 'application/pdf' length 1397541 bytes (1.3 MB)
==================================================
downloaded 1.3 MB

[ FAIL 0 | WARN 2 | SKIP 0 | PASS 27 ]

[ FAIL 0 | WARN 2 | SKIP 0 | PASS 27 ]
> 
> proc.time()
   user  system elapsed 
 28.186   4.501  31.708 

Example timings

BiocPkgTools.Rcheck/BiocPkgTools-Ex.timings

nameusersystemelapsed
activitySince000
anacondaDownloadStats2.4930.0723.113
biocBuildReport10.774 5.22313.458
biocDownloadStats 2.908 0.270112.457
biocMaintained2.8680.1743.592
biocPkgList1.5020.0551.674
biocPkgRanges000
biocRevDepEmail2.4360.0893.176
buildPkgDependencyDataFrame2.5330.0662.822
buildPkgDependencyIgraph1.2770.0451.433
class-dependencies6.3610.2886.651
firstInBioc 3.225 0.245110.722
generateBiocPkgDOI000
getBiocVignette1.1830.0601.427
getPkgYearsInBioc000
get_bioc_data 3.902 0.255112.406
get_cre_orcids0.0100.0010.010
githubDetails1.4780.1391.840
githubURLParts1.1760.0491.334
inducedSubgraphByPkgs4.2760.2594.773
latestPkgStats000
orcid_table0.0000.0000.001
pkgBiocDeps1.1960.0321.228
pkgBiocRevDeps1.7630.0161.779
pkgCombDependencyGain12.551 0.72021.988
pkgDepImports0.1630.0130.177
pkgDepMetrics 7.203 0.81516.304
pkgDownloadRank1.7010.2012.196
pkgDownloadStats1.0760.2311.421
problemPage0.0000.0000.001
repositoryStats0.0620.0000.062
subgraphByDegree1.1670.0321.377